{"text_format":"3","workbook":"xlsx","n_sheets":18,"sheets":["Elements","Enumeration Lists","Terms","Instructions","Navigation","GenInfo","PL ID","PL CAL","PL","14-OperatingRevenue","15-OtherIncome","16-Expenditure","17-AddlDetInStat","Notes-PL","HTML","GoodsTuple","RawMaterialTuple","ITCTuple"],"not_rendered":{"images":16,"macros":1,"defined_names":253},"read":"whole","date_system":"1900"}

{"sheet":"Elements","index":0,"n_rows":3189,"n_cols":11,"rows_kept":3189,"hidden":true,"merged":[[0,0,0,10]]}
["XBRL - INDIAN GAAP TAXONOMY - FINAL BUSINESS RULES - AS REVISED BY MCA"]
["Element Name","#","Prefix","Abstract","Data Type","Balance Type","Period Type","Substitution Group","Nillable","Enumerations","Business Rules"]
["SourcesofFunds",1,"in-gaap","false","monetary","credit","instant","item","true",""]
["ShareholdersFunds",2,"in-gaap","false","monetary","credit","instant","item","true",""]
["MinorityInterestsNet",3,"in-gaap","false","monetary","credit","instant","item","true",""]
["NetDeferredTaxLiability",4,"in-gaap","false","monetary","credit","instant","item","true",""]
["LoanFunds",5,"in-gaap","false","monetary","credit","instant","item","true","","It is a mandatory field. Total loan funds should be greater than equal to zero. "]
["ApplicationofFunds",6,"in-gaap","false","monetary","debit","instant","item","true",""]
["GoodwillonConsolidation",7,"in-gaap","false","monetary","debit","instant","item","true",""]
["GoodwillConsolidationSubsidiaries",8,"in-gaap","false","monetary","debit","instant","item","true",""]
["GoodwillInvestmentsAssociates",9,"in-gaap","false","monetary","debit","instant","item","true",""]
["GoodwillInvestmentsJointVentures",10,"in-gaap","false","monetary","debit","instant","item","true",""]
["FixedAssets",11,"in-gaap","false","monetary","debit","instant","item","true",""]
["ExpenditurePendingAllocationNet",12,"in-gaap","false","monetary","debit","instant","item","true",""]
["ShareFixedAssetsJointVenturesNet",13,"in-gaap","false","monetary","debit","instant","item","true",""]
["NetDeferredTaxAsset",14,"in-gaap","false","monetary","debit","instant","item","true",""]
["FinanceLeaseReceivablesLongTerm",15,"in-gaap","false","monetary","debit","instant","item","true",""]
["NetCurrentAssets",16,"in-gaap","false","monetary","debit","instant","item","true","","This is a mandatory field."]
["MiscellaneousExpenditureNotWrittenoff",17,"in-gaap","false","monetary","debit","instant","item","true","","This is a mandatory field."]
["PreliminaryExpenditureNotWrittenoff",18,"in-gaap","false","monetary","debit","instant","item","true",""]
["DiscountIssueSharesDebenturesNotWrittenoff",19,"in-gaap","false","monetary","debit","instant","item","true",""]
["DiscountIssueSharesNotWrittenoff",20,"in-gaap","false","monetary","debit","instant","item","true",""]
["DiscountIssueDebenturesNotWrittenoff",21,"in-gaap","false","monetary","debit","instant","item","true",""]
["SharesDebenturesIssueExpensesNotWrittenoff",22,"in-gaap","false","monetary","debit","instant","item","true",""]
["SharesIssueExpensesNotWrittenoff",23,"in-gaap","false","monetary","debit","instant","item","true",""]
["DebenturesIssueExpensesNotWrittenoff",24,"in-gaap","false","monetary","debit","instant","item","true",""]
["FinancingChargesNotWrittenoff",25,"in-gaap","false","monetary","debit","instant","item","true",""]
["DeferredRevenueExpenditureNotWrittenoff",26,"in-gaap","false","monetary","debit","instant","item","true",""]
["DevelopmentExpenditureNotWrittenoff",27,"in-gaap","false","monetary","debit","instant","item","true",""]
["TechnicalKnowhowFeesNotWrittenoff",28,"in-gaap","false","monetary","debit","instant","item","true",""]
["VoluntaryRetirementSchemeNotWrittenoff",29,"in-gaap","false","monetary","debit","instant","item","true",""]
["OtherMiscellaneousExpenditureNotWrittenoff",30,"in-gaap","false","monetary","debit","instant","item","true",""]
["ProfitLossDebitBalance",31,"in-gaap","false","monetary","debit","instant","item","true",""]
["TotalLiabilities",32,"in-gaap","false","monetary","credit","instant","item","true",""]
["OtherLiabilities",33,"in-gaap","false","monetary","credit","instant","item","true",""]
["TotalAssets",34,"in-gaap","false","monetary","debit","instant","item","true",""]
["OtherAssets",35,"in-gaap","false","monetary","debit","instant","item","true",""]
["PaidupShareCapital",36,"in-gaap","false","monetary","credit","instant","item","true","","It is a mandatory field.\nShould be less than or equal to Subscribed Share Capital. \nShould be >= 1 lakh in case of Private company (other than Sec. 25 co.) having share capital\nShould be >= 5 lakh in case of Public company (other than Sec. 25 co.) having share capital\nShould be > 0  in case of Section 25 company having share capital.\nShould be equal to zero in case of company not having share capital\nStatus of the company (Pvt/Public/Section 25) to be checked as on date of balance sheet i.e. Date of end of reporting period\n"]
["PaidupEquityShareCapital",37,"in-gaap","false","monetary","credit","instant","item","true","","Should be greater than equal to zero. Should be less than or equal to Subscribed up Equity Share Capital"]
["CallsArrears",38,"in-gaap","false","monetary","debit","instant","item","true",""]
["CallsUnpaidbyDirectors",39,"in-gaap","false","monetary","debit","instant","item","true",""]
["CallsUnpaidbyOthers",40,"in-gaap","false","monetary","debit","instant","item","true",""]
["ForfeitedShares",41,"in-gaap","false","monetary","debit","instant","item","true",""]
["ForfeitedSharesReissued",42,"in-gaap","false","monetary","credit","instant","item","true",""]
["PaidupPreferenceShareCapital",43,"in-gaap","false","monetary","credit","instant","item","true","","Should be greater than equal to zero. Should be less than or equal to Subscribed Preference Share Capital"]
["ShareApplicationMoneyPendingAllotment",44,"in-gaap","false","monetary","credit","instant","item","true",""]
["EquityShareCapitalPendingAllotment",45,"in-gaap","false","monetary","credit","instant","item","true",""]
["PreferenceShareCapitalPendingAllotment",46,"in-gaap","false","monetary","credit","instant","item","true",""]
["SecuritiesPremiumPendingAllotment",47,"in-gaap","false","monetary","credit","instant","item","true",""]
["EquityShareWarrants",48,"in-gaap","false","monetary","credit","instant","item","true",""]
["ReservesSurplus",49,"in-gaap","false","monetary","credit","instant","item","true","","It is a mandatory field."]
["CapitalReserveConsolidation",50,"in-gaap","false","monetary","credit","instant","item","true",""]
["CapitalReserve",51,"in-gaap","false","monetary","credit","instant","item","true",""]
["EmployeeStockOptionReserve",52,"in-gaap","false","monetary","credit","instant","item","true",""]
["SubsidyIncentiveReserve",53,"in-gaap","false","monetary","credit","instant","item","true",""]
["RestructuringReserve",54,"in-gaap","false","monetary","credit","instant","item","true",""]
["AmalgamationReserve",55,"in-gaap","false","monetary","credit","instant","item","true",""]
["BondRedemptionReserve",56,"in-gaap","false","monetary","credit","instant","item","true",""]
["CapitalRedemptionReserve",57,"in-gaap","false","monetary","credit","instant","item","true",""]
["DebentureRedemptionReserve",58,"in-gaap","false","monetary","credit","instant","item","true",""]
["SinkingFundReserve",59,"in-gaap","false","monetary","credit","instant","item","true",""]
["SecuritiesPremium",60,"in-gaap","false","monetary","credit","instant","item","true",""]
["RevaluationReserve",61,"in-gaap","false","monetary","credit","instant","item","true",""]
["ForeignExchangeEarningsReserve",62,"in-gaap","false","monetary","credit","instant","item","true",""]
["ForeignCurrencyTranslationReserve",63,"in-gaap","false","monetary","credit","instant","item","true",""]
["ContingencyReserve",64,"in-gaap","false","monetary","credit","instant","item","true",""]
["SpecialReserve",65,"in-gaap","false","monetary","credit","instant","item","true",""]
["HedgingReserve",66,"in-gaap","false","monetary","credit","instant","item","true",""]
["GeneralReserve",67,"in-gaap","false","monetary","credit","instant","item","true",""]
["ProfitLossAccount",68,"in-gaap","false","monetary","credit","instant","item","true",""]
["ShareReservesJointVentures",69,"in-gaap","false","monetary","credit","instant","item","true",""]
["OtherReserves",70,"in-gaap","false","monetary","credit","instant","item","true",""]
["AuthorisedShareCapital",71,"in-gaap","false","monetary","credit","instant","item","true","","It is a mandatory field.\nShould be greater than equal to zero."]
["AuthorisedEquityShareCapital",72,"in-gaap","false","monetary","credit","instant","item","true","","Should be greater than equal to zero."]
["AuthorisedPreferenceShareCapital",73,"in-gaap","false","monetary","credit","instant","item","true","","Should be greater than equal to zero."]
["IssuedShareCapital",74,"in-gaap","false","monetary","credit","instant","item","true","","It is a mandatory field.\nShould be greater than equal to zero. Should be less than or equal to Authorised Share Capital"]
["EquityShareCapitalIssued",75,"in-gaap","false","monetary","credit","instant","item","true","","Should be greater than equal to zero. Should be less than or equal to Authorised Equity Share Capital"]
["PreferenceShareCapitalIssued",76,"in-gaap","false","monetary","credit","instant","item","true","","Should be greater than equal to zero. Should be less than or equal to Authorised Preference Share Capital"]
["SubscribedShareCapital",77,"in-gaap","false","monetary","credit","instant","item","true","","It is a mandatory field.\nShould be greater than equal to zero. Should be less than or equal to Issued Share Capital"]
["EquityShareCapitalSubscribed",78,"in-gaap","false","monetary","credit","instant","item","true","","Should be greater than equal to zero. Should be less than or equal to Issued Equity Share Capital"]
["PreferenceShareCapitalSubscribed",79,"in-gaap","false","monetary","credit","instant","item","true","","Should be greater than equal to zero. Should be less than or equal to Issued Preference Share Capital"]
["ChangesReservesSurplus",80,"in-gaap","false","monetary","","duration","item","true",""]
["ChangesCapitalReserveConsolidation",81,"in-gaap","false","monetary","","duration","item","true",""]
["AdditionsCapitalReserveConsolidation",82,"in-gaap","false","monetary","credit","duration","item","true",""]
["DeductionsCapitalReserveConsolidation",83,"in-gaap","false","monetary","debit","duration","item","true",""]
["ChangesCapitalReserve",84,"in-gaap","false","monetary","","duration","item","true",""]
["AdditionsCapitalReserve",85,"in-gaap","false","monetary","credit","duration","item","true",""]
["DeductionsCapitalReserve",86,"in-gaap","false","monetary","debit","duration","item","true",""]
["ChangesEmployeeStockOptionReserve",87,"in-gaap","false","monetary","","duration","item","true",""]
["AdditionsEmployeeStockOptionReserve",88,"in-gaap","false","monetary","credit","duration","item","true",""]
["DeductionsEmployeeStockOptionReserve",89,"in-gaap","false","monetary","debit","duration","item","true",""]
["ChangesSubsidyIncentiveReserve",90,"in-gaap","false","monetary","","duration","item","true",""]
["AdditionsSubsidyIncentiveReserve",91,"in-gaap","false","monetary","credit","duration","item","true",""]
["DeductionsSubsidyIncentiveReserve",92,"in-gaap","false","monetary","debit","duration","item","true",""]
["ChangesRestructuringReserve",93,"in-gaap","false","monetary","","duration","item","true",""]
["AdditionsRestructuringReserve",94,"in-gaap","false","monetary","credit","duration","item","true",""]
["DeductionsRestructuringReserve",95,"in-gaap","false","monetary","debit","duration","item","true",""]
["ChangesAmalgamationReserve",96,"in-gaap","false","monetary","","duration","item","true",""]
["AdditionsAmalgamationReserve",97,"in-gaap","false","monetary","credit","duration","item","true",""]
["DeductionsAmalgamationReserve",98,"in-gaap","false","monetary","debit","duration","item","true",""]
["ChangesBondRedemptionReserve",99,"in-gaap","false","monetary","","duration","item","true",""]
["AdditionsBondRedemptionReserve",100,"in-gaap","false","monetary","credit","duration","item","true",""]
["DeductionsBondRedemptionReserve",101,"in-gaap","false","monetary","debit","duration","item","true",""]
["ChangesCapitalRedemptionReserve",102,"in-gaap","false","monetary","","duration","item","true",""]
["AdditionsCapitalRedemptionReserve",103,"in-gaap","false","monetary","credit","duration","item","true",""]
["DeductionsCapitalRedemptionReserve",104,"in-gaap","false","monetary","debit","duration","item","true",""]
["ChangesDebentureRedemptionReserve",105,"in-gaap","false","monetary","","duration","item","true",""]
["AdditionsDebentureRedemptionReserve",106,"in-gaap","false","monetary","credit","duration","item","true",""]
["DeductionsDebentureRedemptionReserve",107,"in-gaap","false","monetary","debit","duration","item","true",""]
["ChangesSinkingFund",108,"in-gaap","false","monetary","","duration","item","true",""]
["AdditionsSinkingFund",109,"in-gaap","false","monetary","credit","duration","item","true",""]
["DeductionsSinkingFund",110,"in-gaap","false","monetary","debit","duration","item","true",""]
["ChangesSecuritiesPremium",111,"in-gaap","false","monetary","","duration","item","true",""]
["AdditionsSecuritiesPremium",112,"in-gaap","false","monetary","credit","duration","item","true",""]
["SecuritiesPremiumAdjustedBonusShares",113,"in-gaap","false","monetary","debit","duration","item","true",""]
["SecuritiesPremiumAdjustedWritingoffPreliminaryExpenses",114,"in-gaap","false","monetary","debit","duration","item","true",""]
["SecuritiesPremiumAdjustedWritingoffDiscountExpensesIssueSharesDebentures",115,"in-gaap","false","monetary","debit","duration","item","true",""]
["SecuritiesPremiumAdjustedPremiumPayableRedemptionPreferenceSharesDebentures",116,"in-gaap","false","monetary","debit","duration","item","true",""]
["OtherDeductionsSecuritiesPremium",117,"in-gaap","false","monetary","debit","duration","item","true",""]
["ChangesRevaluationReserve",118,"in-gaap","false","monetary","","duration","item","true",""]
["AdditionsRevaluationReserve",119,"in-gaap","false","monetary","credit","duration","item","true",""]
["DeductionsRevaluationReserve",120,"in-gaap","false","monetary","debit","duration","item","true",""]
["ChangesForeignExchangeEarningsReserve",121,"in-gaap","false","monetary","","duration","item","true",""]
["AdditionsForeignExchangeEarningsReserve",122,"in-gaap","false","monetary","credit","duration","item","true",""]
["DeductionsForeignExchangeEarningsReserve",123,"in-gaap","false","monetary","debit","duration","item","true",""]
["ChangesForeignCurrencyTranslationReserve",124,"in-gaap","false","monetary","","duration","item","true",""]
["AdditionsForeignCurrencyTranslationReserve",125,"in-gaap","false","monetary","credit","duration","item","true",""]
["DeductionsForeignCurrencyTranslationReserve",126,"in-gaap","false","monetary","debit","duration","item","true",""]
["ChangesContingencyReserve",127,"in-gaap","false","monetary","","duration","item","true",""]
["AdditionsContingencyReserve",128,"in-gaap","false","monetary","credit","duration","item","true",""]
["DeductionsContingencyReserve",129,"in-gaap","false","monetary","debit","duration","item","true",""]
["ChangesSpecialReserve",130,"in-gaap","false","monetary","","duration","item","true",""]
["AdditionsSpecialReserve",131,"in-gaap","false","monetary","credit","duration","item","true",""]
["DeductionsSpecialReserve",132,"in-gaap","false","monetary","debit","duration","item","true",""]
["ChangesHedgingReserve",133,"in-gaap","false","monetary","","duration","item","true",""]
["AdditionsHedgingReserve",134,"in-gaap","false","monetary","credit","duration","item","true",""]
["DeductionsHedgingReserve",135,"in-gaap","false","monetary","debit","duration","item","true",""]
["ChangesGeneralReserve",136,"in-gaap","false","monetary","","duration","item","true",""]
["AdditionsGeneralReserve",137,"in-gaap","false","monetary","credit","duration","item","true",""]
["DeductionsGeneralReserve",138,"in-gaap","false","monetary","debit","duration","item","true",""]
["ChangesProfitLossAccount",139,"in-gaap","false","monetary","","duration","item","true",""]
["AdditionsProfitLossAccount",140,"in-gaap","false","monetary","credit","duration","item","true",""]
["DeductionsProfitLossAccount",141,"in-gaap","false","monetary","debit","duration","item","true",""]
["ChangesOtherReserves",142,"in-gaap","false","monetary","","duration","item","true",""]
["AdditionsOtherReserves",143,"in-gaap","false","monetary","credit","duration","item","true",""]
["DeductionsOtherReserves",144,"in-gaap","false","monetary","debit","duration","item","true",""]
["SecuredLoans",145,"in-gaap","false","monetary","credit","instant","item","true",""]
["DebenturesSecured",146,"in-gaap","false","monetary","credit","instant","item","true",""]
["FullyConvertibleDebenturesSecured",147,"in-gaap","false","monetary","credit","instant","item","true",""]
["PartlyConvertibleDebenturesSecured",148,"in-gaap","false","monetary","credit","instant","item","true",""]
["NonconvertibleDebenturesSecured",149,"in-gaap","false","monetary","credit","instant","item","true",""]
["DebtsBondsOtherInstrumentsSecured",150,"in-gaap","false","monetary","credit","instant","item","true",""]
["RupeeTermLoansSecured",151,"in-gaap","false","monetary","credit","instant","item","true",""]
["RupeeTermLoansBanksSecured",152,"in-gaap","false","monetary","credit","instant","item","true",""]
["RupeeTermLoansFinancialInstitutionsSecured",153,"in-gaap","false","monetary","credit","instant","item","true",""]
["RupeeTermLoansOthersSecured",154,"in-gaap","false","monetary","credit","instant","item","true",""]
["ForeignCurrencyLoansSecured",155,"in-gaap","false","monetary","credit","instant","item","true",""]
["ForeignCurrencyLoansBanksSecured",156,"in-gaap","false","monetary","credit","instant","item","true",""]
["ForeignCurrencyLoansFinancialInstitutionsSecured",157,"in-gaap","false","monetary","credit","instant","item","true",""]
["ForeignCurrencyLoansOthersSecured",158,"in-gaap","false","monetary","credit","instant","item","true",""]
["OtherExternalCommercialBorrowingsSecured",159,"in-gaap","false","monetary","credit","instant","item","true",""]
["WorkingCapitalLoansSecured",160,"in-gaap","false","monetary","credit","instant","item","true",""]
["WorkingCapitalLoansBanksSecured",161,"in-gaap","false","monetary","credit","instant","item","true",""]
["WorkingCapitalLoansFinancialInstitutionsSecured",162,"in-gaap","false","monetary","credit","instant","item","true",""]
["WorkingCapitalLoansOthersSecured",163,"in-gaap","false","monetary","credit","instant","item","true",""]
["LoansSubsidiariesSecured",164,"in-gaap","false","monetary","credit","instant","item","true","","If this is greater than zero for the current period; then atleast one subsidiary details should be entered. "]
["LoansDirectorsSecured",165,"in-gaap","false","monetary","credit","instant","item","true",""]
["LoansManagersSecured",166,"in-gaap","false","monetary","credit","instant","item","true","","If this is greater than zero for the current period; then atleast one manager details should be entered."]
["LoanstakenforFixedAssetsSecured",167,"in-gaap","false","monetary","credit","instant","item","true",""]
["LoanstakenforVehiclesSecured",168,"in-gaap","false","monetary","credit","instant","item","true",""]
["LoanstakenforOtherFixedAssetsSecured",169,"in-gaap","false","monetary","credit","instant","item","true",""]
["DepositsSecured",170,"in-gaap","false","monetary","credit","instant","item","true",""]
["DepositsRelatedPartiesSecured",171,"in-gaap","false","monetary","credit","instant","item","true",""]
["HirePurchaseInstallmentPayableSecured",172,"in-gaap","false","monetary","credit","instant","item","true",""]
["DeferredSalesTaxLoanSecured",173,"in-gaap","false","monetary","credit","instant","item","true",""]
["OtherDebtSecured",174,"in-gaap","false","monetary","credit","instant","item","true",""]
["InterestAccruedDueSecuredLoans",175,"in-gaap","false","monetary","credit","instant","item","true",""]
["InterestAccruedDueOtherDebtSecured",176,"in-gaap","false","monetary","credit","instant","item","true",""]
["InterestAccruedDueDebenturesSecured",177,"in-gaap","false","monetary","credit","instant","item","true",""]
["ShareSecuredLoansJointVentures",178,"in-gaap","false","monetary","credit","instant","item","true",""]
["UnsecuredLoans",179,"in-gaap","false","monetary","credit","instant","item","true",""]
["DebenturesUnsecured",180,"in-gaap","false","monetary","credit","instant","item","true",""]
["FullyConvertibleDebenturesUnsecured",181,"in-gaap","false","monetary","credit","instant","item","true",""]
["PartlyConvertibleDebenturesUnsecured",182,"in-gaap","false","monetary","credit","instant","item","true",""]
["NonconvertibleDebenturesUnsecured",183,"in-gaap","false","monetary","credit","instant","item","true",""]
["DebtsBondsOtherInstrumentsUnsecured",184,"in-gaap","false","monetary","credit","instant","item","true",""]
["RupeeTermLoansUnsecured",185,"in-gaap","false","monetary","credit","instant","item","true",""]
["RupeeTermLoansBanksUnsecured",186,"in-gaap","false","monetary","credit","instant","item","true",""]
["RupeeTermLoansFinancialInstitutionsUnsecured",187,"in-gaap","false","monetary","credit","instant","item","true",""]
["RupeeTermLoansOthersUnsecured",188,"in-gaap","false","monetary","credit","instant","item","true",""]
["ForeignCurrencyLoansUnsecured",189,"in-gaap","false","monetary","credit","instant","item","true",""]
["ForeignCurrencyLoansBanksUnsecured",190,"in-gaap","false","monetary","credit","instant","item","true",""]
["ForeignCurrencyLoansFinancialInstitutionsUnsecured",191,"in-gaap","false","monetary","credit","instant","item","true",""]
["ForeignCurrencyLoansOthersUnsecured",192,"in-gaap","false","monetary","credit","instant","item","true",""]
["OtherExternalCommercialBorrowingsUnsecured",193,"in-gaap","false","monetary","credit","instant","item","true",""]
["WorkingCapitalLoansUnsecured",194,"in-gaap","false","monetary","credit","instant","item","true",""]
["WorkingCapitalLoansBanksUnsecured",195,"in-gaap","false","monetary","credit","instant","item","true",""]
["WorkingCapitalLoansFinancialInstitutionsUnsecured",196,"in-gaap","false","monetary","credit","instant","item","true",""]
["WorkingCapitalLoansOthersUnsecured",197,"in-gaap","false","monetary","credit","instant","item","true",""]
["LoansSubsidiariesUnsecured",198,"in-gaap","false","monetary","credit","instant","item","true","","If this is greater than zero for the current period; then atleast one subsidiary details should be entered."]
["LoansDirectorsUnsecured",199,"in-gaap","false","monetary","credit","instant","item","true",""]
["LoansManagersUnsecured",200,"in-gaap","false","monetary","credit","instant","item","true","","If this is greater than zero for the current period; then atleast one manager details should be entered."]
["LoanstakenforFixedAssetsUnsecured",201,"in-gaap","false","monetary","credit","instant","item","true",""]
["LoanstakenforVehiclesUnsecured",202,"in-gaap","false","monetary","credit","instant","item","true",""]
["LoanstakenforOtherFixedAssetsUnsecured",203,"in-gaap","false","monetary","credit","instant","item","true",""]
["PublicDepositsUnsecured",204,"in-gaap","false","monetary","credit","instant","item","true","","This is a mandatory field. Should be greater than or equal to zero"]
["FixedDepositsUnsecured",205,"in-gaap","false","monetary","credit","instant","item","true",""]
["DepositsRelatedPartiesUnsecured",206,"in-gaap","false","monetary","credit","instant","item","true",""]
["HirePurchaseInstallmentPayableUnsecured",207,"in-gaap","false","monetary","credit","instant","item","true",""]
["DeferredSalesTaxLoanUnsecured",208,"in-gaap","false","monetary","credit","instant","item","true",""]
["OtherDebtUnsecured",209,"in-gaap","false","monetary","credit","instant","item","true",""]
["InterestAccruedDueUnsecuredLoans",210,"in-gaap","false","monetary","credit","instant","item","true",""]
["InterestAccruedDueDebenturesUnsecured",211,"in-gaap","false","monetary","credit","instant","item","true",""]
["InterestAccruedDueOtherDebtUnsecured",212,"in-gaap","false","monetary","credit","instant","item","true",""]
["ShareUnsecuredLoansJointVentures",213,"in-gaap","false","monetary","credit","instant","item","true",""]
["FinanceLeaseObligationLongTermSecured",214,"in-gaap","false","monetary","credit","instant","item","true",""]
["FinanceLeaseObligationLongTermUnsecured",215,"in-gaap","false","monetary","credit","instant","item","true",""]
["NetBlock",216,"in-gaap","false","monetary","debit","instant","item","true","","It is a mandatory field. Should be greater than equal to zero. "]
["TangibleAssetsNet",217,"in-gaap","false","monetary","debit","instant","item","true","","Should be greater than or equal to zero. "]
["LandLandImprovementsNet",218,"in-gaap","false","monetary","debit","instant","item","true","","Should be greater than or equal to zero. "]
["LandNet",219,"in-gaap","false","monetary","debit","instant","item","true","","Should be greater than or equal to zero. "]
["LeaseHoldLandNet",220,"in-gaap","false","monetary","debit","instant","item","true","","Should be greater than or equal to zero. "]
["FreeHoldLandNet",221,"in-gaap","false","monetary","debit","instant","item","true","","Should be greater than or equal to zero. "]
["LandImprovementsNet",222,"in-gaap","false","monetary","debit","instant","item","true",""]
["BuildingBuildingImprovementsNet",223,"in-gaap","false","monetary","debit","instant","item","true","","Should be greater than or equal to zero. "]
["BuildingNet",224,"in-gaap","false","monetary","debit","instant","item","true","","Should be greater than or equal to zero. "]
["ResidentialBuildingNet",225,"in-gaap","false","monetary","debit","instant","item","true","","Should be greater than or equal to zero. "]
["OfficeBuildingNet",226,"in-gaap","false","monetary","debit","instant","item","true","","Should be greater than or equal to zero. "]
["FactoryBuildingNet",227,"in-gaap","false","monetary","debit","instant","item","true","","Should be greater than or equal to zero. "]
["OtherBuildingNet",228,"in-gaap","false","monetary","debit","instant","item","true",""]
["BuildingImprovementsNet",229,"in-gaap","false","monetary","debit","instant","item","true",""]
["PlantMachineryNet",230,"in-gaap","false","monetary","debit","instant","item","true","","Should be greater than or equal to zero. "]
["EquipmentsNet",231,"in-gaap","false","monetary","debit","instant","item","true","","Should be greater than or equal to zero. "]
["OfficeEquipmentsNet",232,"in-gaap","false","monetary","debit","instant","item","true","","Should be greater than or equal to zero. "]
["FactoryEquipmentsNet",233,"in-gaap","false","monetary","debit","instant","item","true","","Should be greater than or equal to zero. "]
["ComputerEquipmentsNet",234,"in-gaap","false","monetary","debit","instant","item","true","","Should be greater than or equal to zero. "]
["OtherEquipmentsNet",235,"in-gaap","false","monetary","debit","instant","item","true",""]
["FurnitureFixturesNet",236,"in-gaap","false","monetary","debit","instant","item","true","","Should be greater than or equal to zero. "]
["VehiclesNet",237,"in-gaap","false","monetary","debit","instant","item","true","","Should be greater than or equal to zero. "]
["ShipsVesselsNet",238,"in-gaap","false","monetary","debit","instant","item","true","","Should be greater than or equal to zero. "]
["AircraftsHelicoptersNet",239,"in-gaap","false","monetary","debit","instant","item","true","","Should be greater than or equal to zero. "]
["MotorVehiclesNet",240,"in-gaap","false","monetary","debit","instant","item","true","","Should be greater than or equal to zero. "]
["LeaseholdPropertiesNet",241,"in-gaap","false","monetary","debit","instant","item","true","","Should be greater than or equal to zero. "]
["LeaseholdImprovementsNet",242,"in-gaap","false","monetary","debit","instant","item","true","","Should be greater than or equal to zero. "]
["LeaseholdBuildingNet",243,"in-gaap","false","monetary","debit","instant","item","true","","Should be greater than or equal to zero. "]
["LeaseholdPlantMachineryNet",244,"in-gaap","false","monetary","debit","instant","item","true","","Should be greater than or equal to zero. "]
["LeaseholdEquipmentsNet",245,"in-gaap","false","monetary","debit","instant","item","true","","Should be greater than or equal to zero. "]
["LeaseholdVehiclesNet",246,"in-gaap","false","monetary","debit","instant","item","true","","Should be greater than or equal to zero. "]
["LeaseholdOtherAssetsNet",247,"in-gaap","false","monetary","debit","instant","item","true","","Should be greater than or equal to zero. "]
["LivestockNet",248,"in-gaap","false","monetary","debit","instant","item","true","","Should be greater than or equal to zero. "]
["BridgesRoadsPortsCulvertsNet",249,"in-gaap","false","monetary","debit","instant","item","true","","Should be greater than or equal to zero. "]
["RailwaySidingsNet",250,"in-gaap","false","monetary","debit","instant","item","true","","Should be greater than or equal to zero. "]
["BooksPeriodicalsNet",251,"in-gaap","false","monetary","debit","instant","item","true","","Should be greater than or equal to zero. "]
["PlantationsNet",252,"in-gaap","false","monetary","debit","instant","item","true","","Should be greater than or equal to zero. "]
["MinesQuarriesNet",253,"in-gaap","false","monetary","debit","instant","item","true","","Should be greater than or equal to zero. "]
["OtherFixedAssetsNet",254,"in-gaap","false","monetary","debit","instant","item","true","","Should be greater than or equal to zero. "]
["IntangibleAssetsNet",255,"in-gaap","false","monetary","debit","instant","item","true","","Should be greater than or equal to zero. "]
["AcquiredGoodwillNet",256,"in-gaap","false","monetary","debit","instant","item","true","","Should be greater than or equal to zero. "]
["KnowhowNet",257,"in-gaap","false","monetary","debit","instant","item","true","","Should be greater than or equal to zero. "]
["ComputerSoftwareNet",258,"in-gaap","false","monetary","debit","instant","item","true","","Should be greater than or equal to zero. "]
["PatentsTrademarksDesignNet",259,"in-gaap","false","monetary","debit","instant","item","true","","Should be greater than or equal to zero. "]
["CommercialContractualRightsNet",260,"in-gaap","false","monetary","debit","instant","item","true","","Should be greater than or equal to zero. "]
["LicensesNet",261,"in-gaap","false","monetary","debit","instant","item","true","","Should be greater than or equal to zero. "]
["DevelopmentCostNet",262,"in-gaap","false","monetary","debit","instant","item","true","","Should be greater than or equal to zero. "]
["OtherIntangibleAssetsNet",263,"in-gaap","false","monetary","debit","instant","item","true","","Should be greater than or equal to zero. "]
["AssetsFinancialLeaseNet",264,"in-gaap","false","monetary","debit","instant","item","true","","Should be greater than or equal to zero. "]
["GrossBlock",265,"in-gaap","false","monetary","debit","instant","item","true",""]
["TangibleAssetsGross",266,"in-gaap","false","monetary","debit","instant","item","true",""]
["LandLandImprovementsGross",267,"in-gaap","false","monetary","debit","instant","item","true",""]
["LandGross",268,"in-gaap","false","monetary","debit","instant","item","true",""]
["LeaseHoldLandGross",269,"in-gaap","false","monetary","debit","instant","item","true",""]
["FreeHoldLandGross",270,"in-gaap","false","monetary","debit","instant","item","true",""]
["LandImprovementsGross",271,"in-gaap","false","monetary","debit","instant","item","true",""]
["BuildingBuildingImprovementsGross",272,"in-gaap","false","monetary","debit","instant","item","true",""]
["BuildingGross",273,"in-gaap","false","monetary","debit","instant","item","true",""]
["ResidentialBuildingGross",274,"in-gaap","false","monetary","debit","instant","item","true",""]
["OfficeBuildingGross",275,"in-gaap","false","monetary","debit","instant","item","true",""]
["FactoryBuildingGross",276,"in-gaap","false","monetary","debit","instant","item","true",""]
["OtherBuildingGross",277,"in-gaap","false","monetary","debit","instant","item","true",""]
["BuildingImprovementsGross",278,"in-gaap","false","monetary","debit","instant","item","true",""]
["PlantMachineryGross",279,"in-gaap","false","monetary","debit","instant","item","true",""]
["EquipmentsGross",280,"in-gaap","false","monetary","debit","instant","item","true",""]
["OfficeEquipmentsGross",281,"in-gaap","false","monetary","debit","instant","item","true",""]
["FactoryEquipmentsGross",282,"in-gaap","false","monetary","debit","instant","item","true",""]
["ComputerEquipmentsGross",283,"in-gaap","false","monetary","debit","instant","item","true",""]
["OtherEquipmentsGross",284,"in-gaap","false","monetary","debit","instant","item","true",""]
["FurnitureFixturesGross",285,"in-gaap","false","monetary","debit","instant","item","true",""]
["VehiclesGross",286,"in-gaap","false","monetary","debit","instant","item","true",""]
["ShipsVesselsGross",287,"in-gaap","false","monetary","debit","instant","item","true",""]
["AircraftsHelicoptersGross",288,"in-gaap","false","monetary","debit","instant","item","true",""]
["MotorVehiclesGross",289,"in-gaap","false","monetary","debit","instant","item","true",""]
["LeaseholdPropertiesGross",290,"in-gaap","false","monetary","debit","instant","item","true",""]
["LeaseholdImprovementsGross",291,"in-gaap","false","monetary","debit","instant","item","true",""]
["LeaseholdBuildingGross",292,"in-gaap","false","monetary","debit","instant","item","true",""]
["LeaseholdPlantMachineryGross",293,"in-gaap","false","monetary","debit","instant","item","true",""]
["LeaseholdEquipmentsGross",294,"in-gaap","false","monetary","debit","instant","item","true",""]
["LeaseholdVehiclesGross",295,"in-gaap","false","monetary","debit","instant","item","true",""]
["LeaseholdOtherAssetsGross",296,"in-gaap","false","monetary","debit","instant","item","true",""]
["LivestockGross",297,"in-gaap","false","monetary","debit","instant","item","true",""]
["BridgesRoadsPortsCulvertsGross",298,"in-gaap","false","monetary","debit","instant","item","true",""]
["RailwaySidingsGross",299,"in-gaap","false","monetary","debit","instant","item","true",""]
["BooksPeriodicalsGross",300,"in-gaap","false","monetary","debit","instant","item","true",""]
["PlantationsGross",301,"in-gaap","false","monetary","debit","instant","item","true",""]
["MinesQuarriesGross",302,"in-gaap","false","monetary","debit","instant","item","true",""]
["OtherFixedAssetsGross",303,"in-gaap","false","monetary","debit","instant","item","true",""]
["IntangibleAssetsGross",304,"in-gaap","false","monetary","debit","instant","item","true",""]
["AcquiredGoodwillGross",305,"in-gaap","false","monetary","debit","instant","item","true",""]
["KnowhowGross",306,"in-gaap","false","monetary","debit","instant","item","true",""]
["ComputerSoftwareGross",307,"in-gaap","false","monetary","debit","instant","item","true",""]
["PatentsTrademarksDesignGross",308,"in-gaap","false","monetary","debit","instant","item","true",""]
["CommercialContractualRightsGross",309,"in-gaap","false","monetary","debit","instant","item","true",""]
["LicensesGross",310,"in-gaap","false","monetary","debit","instant","item","true",""]
["DevelopmentCostGross",311,"in-gaap","false","monetary","debit","instant","item","true",""]
["OtherIntangibleAssetsGross",312,"in-gaap","false","monetary","debit","instant","item","true",""]
["AssetsFinancialLeaseGross",313,"in-gaap","false","monetary","debit","instant","item","true",""]
["AccumulatedDepreciationAmortisationImpairment",314,"in-gaap","false","monetary","credit","instant","item","true",""]
["AccumulatedDepreciationAmortisation",315,"in-gaap","false","monetary","credit","instant","item","true",""]
["AccumulatedDepreciationTangibleAssets",316,"in-gaap","false","monetary","credit","instant","item","true","","Mandatory if Corresponding Gross value is entered. "]
["AccumulatedDepreciationLandLandImprovements",317,"in-gaap","false","monetary","credit","instant","item","true",""]
["AccumulatedDepreciationLandImprovements",318,"in-gaap","false","monetary","credit","instant","item","true",""]
["AccumulatedDepreciationBuildingBuildingImprovements",319,"in-gaap","false","monetary","credit","instant","item","true","","Mandatory if Corresponding Gross value is entered. "]
["AccumulatedDepreciationBuilding",320,"in-gaap","false","monetary","credit","instant","item","true","","Mandatory if Corresponding Gross value is entered. "]
["AccumulatedDepreciationResidentialBuilding",321,"in-gaap","false","monetary","credit","instant","item","true","","Mandatory if Corresponding Gross value is entered. "]
["AccumulatedDepreciationOfficeBuilding",322,"in-gaap","false","monetary","credit","instant","item","true","","Mandatory if Corresponding Gross value is entered. "]
["AccumulatedDepreciationFactoryBuilding",323,"in-gaap","false","monetary","credit","instant","item","true","","Mandatory if Corresponding Gross value is entered. "]
["AccumulatedDepreciationOtherBuilding",324,"in-gaap","false","monetary","credit","instant","item","true","","Mandatory if Corresponding Gross value is entered. "]
["AccumulatedDepreciationBuildingImprovements",325,"in-gaap","false","monetary","credit","instant","item","true","","Mandatory if Corresponding Gross value is entered. "]
["AccumulatedDepreciationPlantMachinery",326,"in-gaap","false","monetary","credit","instant","item","true","","Mandatory if Corresponding Gross value is entered. "]
["AccumulatedDepreciationEquipments",327,"in-gaap","false","monetary","credit","instant","item","true","","Mandatory if Corresponding Gross value is entered. "]
["AccumulatedDepreciationOfficeEquipments",328,"in-gaap","false","monetary","credit","instant","item","true","","Mandatory if Corresponding Gross value is entered. "]
["AccumulatedDepreciationFactoryEquipments",329,"in-gaap","false","monetary","credit","instant","item","true","","Mandatory if Corresponding Gross value is entered. "]
["AccumulatedDepreciationComputerEquipments",330,"in-gaap","false","monetary","credit","instant","item","true","","Mandatory if Corresponding Gross value is entered. "]
["AccumulatedDepreciationOtherEquipments",331,"in-gaap","false","monetary","credit","instant","item","true","","Mandatory if Corresponding Gross value is entered. "]
["AccumulatedDepreciationFurnitureFixtures",332,"in-gaap","false","monetary","credit","instant","item","true","","Mandatory if Corresponding Gross value is entered. "]
["AccumulatedDepreciationVehicles",333,"in-gaap","false","monetary","credit","instant","item","true","","Mandatory if Corresponding Gross value is entered. "]
["AccumulatedDepreciationShipsVessels",334,"in-gaap","false","monetary","credit","instant","item","true","","Mandatory if Corresponding Gross value is entered. "]
["AccumulatedDepreciationAircraftsHelicopters",335,"in-gaap","false","monetary","credit","instant","item","true","","Mandatory if Corresponding Gross value is entered. "]
["AccumulatedDepreciationMotorVehicles",336,"in-gaap","false","monetary","credit","instant","item","true","","Mandatory if Corresponding Gross value is entered. "]
["AccumulatedDepreciationLeaseholdProperties",337,"in-gaap","false","monetary","credit","instant","item","true","","Mandatory if Corresponding Gross value is entered. "]
["AccumulatedDepreciationLeaseholdImprovements",338,"in-gaap","false","monetary","credit","instant","item","true","","Mandatory if Corresponding Gross value is entered. "]
["AccumulatedDepreciationLeaseholdBuilding",339,"in-gaap","false","monetary","credit","instant","item","true","","Mandatory if Corresponding Gross value is entered. "]
["AccumulatedDepreciationLeaseholdPlantMachinery",340,"in-gaap","false","monetary","credit","instant","item","true","","Mandatory if Corresponding Gross value is entered. "]
["AccumulatedDepreciationLeaseholdEquipments",341,"in-gaap","false","monetary","credit","instant","item","true","","Mandatory if Corresponding Gross value is entered. "]
["AccumulatedDepreciationLeaseholdVehicles",342,"in-gaap","false","monetary","credit","instant","item","true","","Mandatory if Corresponding Gross value is entered. "]
["AccumulatedDepreciationLeaseholdOtherAssets",343,"in-gaap","false","monetary","credit","instant","item","true","","Mandatory if Corresponding Gross value is entered. "]
["AccumulatedDepreciationBridgesRoadsPortsCulverts",344,"in-gaap","false","monetary","credit","instant","item","true","","Mandatory if Corresponding Gross value is entered. "]
["AccumulatedDepreciationRailwaySidings",345,"in-gaap","false","monetary","credit","instant","item","true","","Mandatory if Corresponding Gross value is entered. "]
["AccumulatedDepreciationBooksPeriodicals",346,"in-gaap","false","monetary","credit","instant","item","true","","Mandatory if Corresponding Gross value is entered. "]
["AccumulatedDepreciationPlantations",347,"in-gaap","false","monetary","credit","instant","item","true","","Mandatory if Corresponding Gross value is entered. "]
["AccumulatedDepreciationMinesQuarries",348,"in-gaap","false","monetary","credit","instant","item","true","","Mandatory if Corresponding Gross value is entered. "]
["AccumulatedDepreciationOtherFixedAssets",349,"in-gaap","false","monetary","credit","instant","item","true","","Mandatory if Corresponding Gross value is entered. "]
["AccumulatedAmortisationIntangibleAssets",350,"in-gaap","false","monetary","credit","instant","item","true","","Mandatory if Corresponding Gross value is entered. "]
["AccumulatedAmortisationAcquiredGoodwill",351,"in-gaap","false","monetary","credit","instant","item","true","","Mandatory if Corresponding Gross value is entered. "]
["AccumulatedAmortisationKnowhow",352,"in-gaap","false","monetary","credit","instant","item","true","","Mandatory if Corresponding Gross value is entered. "]
["AccumulatedAmortisationComputerSoftware",353,"in-gaap","false","monetary","credit","instant","item","true","","Mandatory if Corresponding Gross value is entered. "]
["AccumulatedAmortisationPatentsTrademarksDesign",354,"in-gaap","false","monetary","credit","instant","item","true","","Mandatory if Corresponding Gross value is entered. "]
["AccumulatedAmortisationCommercialContractualRights",355,"in-gaap","false","monetary","credit","instant","item","true","","Mandatory if Corresponding Gross value is entered. "]
["AccumulatedAmortisationLicenses",356,"in-gaap","false","monetary","credit","instant","item","true","","Mandatory if Corresponding Gross value is entered. "]
["AccumulatedAmortisationDevelopmentCost",357,"in-gaap","false","monetary","credit","instant","item","true","","Mandatory if Corresponding Gross value is entered. "]
["AccumulatedAmortisationOtherIntangibleAssets",358,"in-gaap","false","monetary","credit","instant","item","true","","Mandatory if Corresponding Gross value is entered. "]
["AccumulatedDepreciationAmortisationAssetsFinancialLease",359,"in-gaap","false","monetary","credit","instant","item","true","","Mandatory if Corresponding Gross value is entered. "]
["AccumulatedImpairment",360,"in-gaap","false","monetary","credit","instant","item","true",""]
["AccumulatedImpairmentTangibleAssets",361,"in-gaap","false","monetary","credit","instant","item","true",""]
["AccumulatedImpairmentLandLandImprovement",362,"in-gaap","false","monetary","credit","instant","item","true",""]
["AccumulatedImpairmentLand",363,"in-gaap","false","monetary","credit","instant","item","true",""]
["AccumulatedImpairmentLeaseHoldLand",364,"in-gaap","false","monetary","credit","instant","item","true",""]
["AccumulatedImpairmentFreeHoldLand",365,"in-gaap","false","monetary","credit","instant","item","true",""]
["AccumulatedImpairmentLandImprovements",366,"in-gaap","false","monetary","credit","instant","item","true",""]
["AccumulatedImpairmentBuildingBuildingImprovements",367,"in-gaap","false","monetary","credit","instant","item","true",""]
["AccumulatedImpairmentBuilding",368,"in-gaap","false","monetary","credit","instant","item","true",""]
["AccumulatedImpairmentResidentialBuilding",369,"in-gaap","false","monetary","credit","instant","item","true",""]
["AccumulatedImpairmentOfficeBuilding",370,"in-gaap","false","monetary","credit","instant","item","true",""]
["AccumulatedImpairmentFactoryBuilding",371,"in-gaap","false","monetary","credit","instant","item","true",""]
["AccumulatedImpairmentOtherBuilding",372,"in-gaap","false","monetary","credit","instant","item","true",""]
["AccumulatedImpairmentBuildingImprovements",373,"in-gaap","false","monetary","credit","instant","item","true",""]
["AccumulatedImpairmentPlantMachinery",374,"in-gaap","false","monetary","credit","instant","item","true",""]
["AccumulatedImpairmentEquipments",375,"in-gaap","false","monetary","credit","instant","item","true",""]
["AccumulatedImpairmentOfficeEquipments",376,"in-gaap","false","monetary","credit","instant","item","true",""]
["AccumulatedImpairmentFactoryEquipments",377,"in-gaap","false","monetary","credit","instant","item","true",""]
["AccumulatedImpairmentComputerEquipments",378,"in-gaap","false","monetary","credit","instant","item","true",""]
["AccumulatedImpairmentOtherEquipments",379,"in-gaap","false","monetary","credit","instant","item","true",""]
["AccumulatedImpairmentFurnitureFixtures",380,"in-gaap","false","monetary","credit","instant","item","true",""]
["AccumulatedImpairmentVehicles",381,"in-gaap","false","monetary","credit","instant","item","true",""]
["AccumulatedImpairmentShipsVessels",382,"in-gaap","false","monetary","credit","instant","item","true",""]
["AccumulatedImpairmentAircraftsHelicopters",383,"in-gaap","false","monetary","credit","instant","item","true",""]
["AccumulatedImpairmentMotorVehicles",384,"in-gaap","false","monetary","credit","instant","item","true",""]
["AccumulatedImpairmentLeaseholdProperties",385,"in-gaap","false","monetary","credit","instant","item","true",""]
["AccumulatedImpairmentLeaseholdImprovements",386,"in-gaap","false","monetary","credit","instant","item","true",""]
["AccumulatedImpairmentLeaseholdBuilding",387,"in-gaap","false","monetary","credit","instant","item","true",""]
["AccumulatedImpairmentLeaseholdPlantMachinery",388,"in-gaap","false","monetary","credit","instant","item","true",""]
["AccumulatedImpairmentLeaseholdEquipments",389,"in-gaap","false","monetary","credit","instant","item","true",""]
["AccumulatedImpairmentLeaseholdVehicles",390,"in-gaap","false","monetary","credit","instant","item","true",""]
["AccumulatedImpairmentLeaseholdOtherAssets",391,"in-gaap","false","monetary","credit","instant","item","true",""]
["AccumulatedImpairmentLivestock",392,"in-gaap","false","monetary","credit","instant","item","true",""]
["AccumulatedImpairmentBridgesRoadsPortsCulverts",393,"in-gaap","false","monetary","credit","instant","item","true",""]
["AccumulatedImpairmentRailwaySidings",394,"in-gaap","false","monetary","credit","instant","item","true",""]
["AccumulatedImpairmentBooksPeriodicals",395,"in-gaap","false","monetary","credit","instant","item","true",""]
["AccumulatedImpairmentPlantations",396,"in-gaap","false","monetary","credit","instant","item","true",""]
["AccumulatedImpairmentMinesQuarries",397,"in-gaap","false","monetary","credit","instant","item","true",""]
["AccumulatedImpairmentOtherFixedAssets",398,"in-gaap","false","monetary","credit","instant","item","true",""]
["AccumulatedImpairmentIntangibleAssets",399,"in-gaap","false","monetary","credit","instant","item","true",""]
["AccumulatedImpairmentAcquiredGoodwill",400,"in-gaap","false","monetary","credit","instant","item","true",""]
["AccumulatedImpairmentKnowhow",401,"in-gaap","false","monetary","credit","instant","item","true",""]
["AccumulatedImpairmentComputerSoftware",402,"in-gaap","false","monetary","credit","instant","item","true",""]
["AccumulatedImpairmentPatentsTrademarksDesign",403,"in-gaap","false","monetary","credit","instant","item","true",""]
["AccumulatedImpairmentCommercialContractualRights",404,"in-gaap","false","monetary","credit","instant","item","true",""]
["AccumulatedImpairmentLicenses",405,"in-gaap","false","monetary","credit","instant","item","true",""]
["AccumulatedImpairmentDevelopmentCost",406,"in-gaap","false","monetary","credit","instant","item","true",""]
["AccumulatedImpairmentOtherIntangibleAssets",407,"in-gaap","false","monetary","credit","instant","item","true",""]
["AccumulatedImpairmentAssetsFinancialLease",408,"in-gaap","false","monetary","credit","instant","item","true",""]
["CapitalWorkinProgressNet",409,"in-gaap","false","monetary","debit","instant","item","true",""]
["TangibleAssetsWorkinProgressNet",410,"in-gaap","false","monetary","debit","instant","item","true",""]
["IntangibleAssetsWorkinProgressNet",411,"in-gaap","false","monetary","debit","instant","item","true",""]
["CapitalAdvancesNet",412,"in-gaap","false","monetary","debit","instant","item","true",""]
["CapitalGoodsTransitNet",413,"in-gaap","false","monetary","debit","instant","item","true",""]
["OtherCapitalWorkinProgressNet",414,"in-gaap","false","monetary","debit","instant","item","true",""]
["InvestmentsNet",415,"in-gaap","false","monetary","debit","instant","item","true","","This is a mandatory field. Total Investments should be greater than equal to zero. "]
["CurrentLongTermInvestments",416,"in-gaap","false","monetary","debit","instant","item","true",""]
["CurrentInvestments",417,"in-gaap","false","monetary","debit","instant","item","true",""]
["GovernmentSecuritiesLocalAuthoritiesCurrent",418,"in-gaap","false","monetary","debit","instant","item","true",""]
["GovernmentSecuritiesLocalAuthoritiesCurrentQuoted",419,"in-gaap","false","monetary","debit","instant","item","true",""]
["GovernmentSecuritiesLocalAuthoritiesCurrentQuotedTrade",420,"in-gaap","false","monetary","debit","instant","item","true",""]
["GovernmentSecuritiesLocalAuthoritiesCurrentQuotedNontrade",421,"in-gaap","false","monetary","debit","instant","item","true",""]
["GovernmentSecuritiesLocalAuthoritiesCurrentUnquoted",422,"in-gaap","false","monetary","debit","instant","item","true",""]
["GovernmentSecuritiesLocalAuthoritiesCurrentUnquotedTrade",423,"in-gaap","false","monetary","debit","instant","item","true",""]
["GovernmentSecuritiesLocalAuthoritiesCurrentUnquotedNontrade",424,"in-gaap","false","monetary","debit","instant","item","true",""]
["DebtSecuritiesCurrent",425,"in-gaap","false","monetary","debit","instant","item","true",""]
["DebtSecuritiesCurrentQuoted",426,"in-gaap","false","monetary","debit","instant","item","true",""]
["DebtSecuritiesCurrentQuotedTrade",427,"in-gaap","false","monetary","debit","instant","item","true",""]
["DebtSecuritiesCurrentQuotedNontrade",428,"in-gaap","false","monetary","debit","instant","item","true",""]
["DebtSecuritiesCurrentUnquoted",429,"in-gaap","false","monetary","debit","instant","item","true",""]
["DebtSecuritiesCurrentUnquotedTrade",430,"in-gaap","false","monetary","debit","instant","item","true",""]
["DebtSecuritiesCurrentUnquotedNontrade",431,"in-gaap","false","monetary","debit","instant","item","true",""]
["EquitySecuritiesCurrent",432,"in-gaap","false","monetary","debit","instant","item","true",""]
["EquitySecuritiesCurrentQuoted",433,"in-gaap","false","monetary","debit","instant","item","true",""]
["EquitySecuritiesCurrentQuotedTrade",434,"in-gaap","false","monetary","debit","instant","item","true",""]
["EquitySecuritiesCurrentQuotedNontrade",435,"in-gaap","false","monetary","debit","instant","item","true",""]
["EquitySecuritiesCurrentUnquoted",436,"in-gaap","false","monetary","debit","instant","item","true",""]
["EquitySecuritiesCurrentUnquotedTrade",437,"in-gaap","false","monetary","debit","instant","item","true",""]
["EquitySecuritiesCurrentUnquotedNontrade",438,"in-gaap","false","monetary","debit","instant","item","true",""]
["MutualFundsCurrent",439,"in-gaap","false","monetary","debit","instant","item","true",""]
["MutualFundsCurrentTrade",440,"in-gaap","false","monetary","debit","instant","item","true",""]
["MutualFundsCurrentNontrade",441,"in-gaap","false","monetary","debit","instant","item","true",""]
["OtherInvestmentsCurrent",442,"in-gaap","false","monetary","debit","instant","item","true",""]
["OtherInvestmentsCurrentQuoted",443,"in-gaap","false","monetary","debit","instant","item","true",""]
["OtherInvestmentsCurrentQuotedTrade",444,"in-gaap","false","monetary","debit","instant","item","true",""]
["OtherInvestmentsCurrentQuotedNontrade",445,"in-gaap","false","monetary","debit","instant","item","true",""]
["OtherInvestmentsCurrentUnquoted",446,"in-gaap","false","monetary","debit","instant","item","true",""]
["OtherInvestmentsCurrentUnquotedTrade",447,"in-gaap","false","monetary","debit","instant","item","true",""]
["OtherInvestmentsCurrentUnquotedNontrade",448,"in-gaap","false","monetary","debit","instant","item","true",""]
["LongTermInvestments",449,"in-gaap","false","monetary","debit","instant","item","true",""]
["GovernmentSecuritiesLocalAuthoritiesLongTerm",450,"in-gaap","false","monetary","debit","instant","item","true",""]
["GovernmentSecuritiesLocalAuthoritiesLongTermQuoted",451,"in-gaap","false","monetary","debit","instant","item","true",""]
["GovernmentSecuritiesLocalAuthoritiesLongTermQuotedTrade",452,"in-gaap","false","monetary","debit","instant","item","true",""]
["GovernmentSecuritiesLocalAuthoritiesLongTermQuotedNontrade",453,"in-gaap","false","monetary","debit","instant","item","true",""]
["GovernmentSecuritiesLocalAuthoritiesLongTermUnquoted",454,"in-gaap","false","monetary","debit","instant","item","true",""]
["GovernmentSecuritiesLocalAuthoritiesLongTermUnquotedTrade",455,"in-gaap","false","monetary","debit","instant","item","true",""]
["GovernmentSecuritiesLocalAuthoritiesLongTermUnquotedNontrade",456,"in-gaap","false","monetary","debit","instant","item","true",""]
["DebtSecuritiesLongTerm",457,"in-gaap","false","monetary","debit","instant","item","true",""]
["DebtSecuritiesLongTermQuoted",458,"in-gaap","false","monetary","debit","instant","item","true",""]
["DebtSecuritiesLongTermQuotedTrade",459,"in-gaap","false","monetary","debit","instant","item","true",""]
["DebtSecuritiesLongTermQuotedNontrade",460,"in-gaap","false","monetary","debit","instant","item","true",""]
["DebtSecuritiesLongTermUnquoted",461,"in-gaap","false","monetary","debit","instant","item","true",""]
["DebtSecuritiesLongTermUnquotedTrade",462,"in-gaap","false","monetary","debit","instant","item","true",""]
["DebtSecuritiesLongTermUnquotedNontrade",463,"in-gaap","false","monetary","debit","instant","item","true",""]
["EquitySecuritiesLongTerm",464,"in-gaap","false","monetary","debit","instant","item","true",""]
["EquitySecuritiesLongTermQuoted",465,"in-gaap","false","monetary","debit","instant","item","true",""]
["EquitySecuritiesLongTermQuotedTrade",466,"in-gaap","false","monetary","debit","instant","item","true",""]
["EquitySecuritiesLongTermQuotedNontrade",467,"in-gaap","false","monetary","debit","instant","item","true",""]
["EquitySecuritiesLongTermUnquoted",468,"in-gaap","false","monetary","debit","instant","item","true",""]
["EquitySecuritiesLongTermUnquotedTrade",469,"in-gaap","false","monetary","debit","instant","item","true",""]
["EquitySecuritiesLongTermUnquotedNontrade",470,"in-gaap","false","monetary","debit","instant","item","true",""]
["MutualFundsLongTerm",471,"in-gaap","false","monetary","debit","instant","item","true",""]
["MutualFundsLongTermTrade",472,"in-gaap","false","monetary","debit","instant","item","true",""]
["MutualFundsLongTermNontrade",473,"in-gaap","false","monetary","debit","instant","item","true",""]
["OtherInvestmentsLongTerm",474,"in-gaap","false","monetary","debit","instant","item","true",""]
["OtherInvestmentsLongTermQuoted",475,"in-gaap","false","monetary","debit","instant","item","true",""]
["OtherInvestmentsLongTermQuotedTrade",476,"in-gaap","false","monetary","debit","instant","item","true",""]
["OtherInvestmentsLongTermQuotedNontrade",477,"in-gaap","false","monetary","debit","instant","item","true",""]
["OtherInvestmentsLongTermUnquoted",478,"in-gaap","false","monetary","debit","instant","item","true",""]
["OtherInvestmentsLongTermUnquotedTrade",479,"in-gaap","false","monetary","debit","instant","item","true",""]
["OtherInvestmentsLongTermUnquotedNontrade",480,"in-gaap","false","monetary","debit","instant","item","true",""]
["InvestmentProperty",481,"in-gaap","false","monetary","debit","instant","item","true",""]
["InvestmentAssociates",482,"in-gaap","false","monetary","debit","instant","item","true","","If this is greater than zero for the current period; then atleast one associate details should be entered."]
["InvestmentJointVentures",483,"in-gaap","false","monetary","debit","instant","item","true","","If this is greater than zero for the current period; then atleast one joint venture details should be entered."]
["InvestmentSubsidiaries",484,"in-gaap","false","monetary","debit","instant","item","true","","If this is greater than zero for the current period; then atleast one subsidiary details should be entered."]
["InvestmentsinCapitalPartnershipFirms",485,"in-gaap","false","monetary","debit","instant","item","true",""]
["ShareInvestmentsJointVentures",486,"in-gaap","false","monetary","debit","instant","item","true",""]
["ProvisionLongTermInvestments",487,"in-gaap","false","monetary","credit","instant","item","true",""]
["ProvisionCurrentInvestments",488,"in-gaap","false","monetary","credit","instant","item","true",""]
["CurrentAssetsLoansAdvances",489,"in-gaap","false","monetary","debit","instant","item","true","","This is a mandatory field."]
["CurrentAssets",490,"in-gaap","false","monetary","debit","instant","item","true",""]
["SundryDebtors",491,"in-gaap","false","monetary","debit","instant","item","true","","This is a mandatory field. Total Sundry debtors should be greater than equal to zero. "]
["SundryDebtorsGross",492,"in-gaap","false","monetary","debit","instant","item","true",""]
["DebtorsExceedingSixMonths",493,"in-gaap","false","monetary","debit","instant","item","true","","This is a mandatory field."]
["DebtorsExceedingSixMonthsSecured",494,"in-gaap","false","monetary","debit","instant","item","true",""]
["DebtorsconsideredGoodExceedingSixMonthsUnsecured",495,"in-gaap","false","monetary","debit","instant","item","true",""]
["DebtorsconsideredDoubtfulExceedingSixMonthsUnsecured",496,"in-gaap","false","monetary","debit","instant","item","true",""]
["DebtorswithinSixMonths",497,"in-gaap","false","monetary","debit","instant","item","true","","This is a mandatory field."]
["DebtorswithinSixMonthsSecured",498,"in-gaap","false","monetary","debit","instant","item","true",""]
["DebtorsconsideredGoodwithinSixMonthsUnsecured",499,"in-gaap","false","monetary","debit","instant","item","true",""]
["DebtorsconsideredDoubtfulwithinSixMonthsUnsecured",500,"in-gaap","false","monetary","debit","instant","item","true",""]
["ProvisionDoubtfulDebts",501,"in-gaap","false","monetary","credit","instant","item","true","","This is a mandatory field."]
["FinanceLeaseReceivablesCurrent",502,"in-gaap","false","monetary","debit","instant","item","true",""]
["OtherTradeReceivables",503,"in-gaap","false","monetary","debit","instant","item","true",""]
["ShareDebtorsJointVenture",504,"in-gaap","false","monetary","debit","instant","item","true",""]
["Inventories",505,"in-gaap","false","monetary","debit","instant","item","true","","It is a mandatory field."]
["InventoriesRawMaterials",506,"in-gaap","false","monetary","debit","instant","item","true",""]
["InventoriesStoresSpares",507,"in-gaap","false","monetary","debit","instant","item","true",""]
["InventoriesLooseTools",508,"in-gaap","false","monetary","debit","instant","item","true",""]
["InventoriesWorkinProgress",509,"in-gaap","false","monetary","debit","instant","item","true",""]
["InventoriesContractsWorkinProgress",510,"in-gaap","false","monetary","debit","instant","item","true",""]
["InventoriesFinishedGoods",511,"in-gaap","false","monetary","debit","instant","item","true",""]
["InventoriesFinishedGoodsTraded",512,"in-gaap","false","monetary","debit","instant","item","true",""]
["InventoriesFinishedGoodsManufactured",513,"in-gaap","false","monetary","debit","instant","item","true",""]
["InventoriesTransit",514,"in-gaap","false","monetary","debit","instant","item","true",""]
["InventoriesWasteScrap",515,"in-gaap","false","monetary","debit","instant","item","true",""]
["InventoriesPackingMaterials",516,"in-gaap","false","monetary","debit","instant","item","true",""]
["InventoriesIntangibleAssets",517,"in-gaap","false","monetary","debit","instant","item","true",""]
["InventoriesLicense",518,"in-gaap","false","monetary","debit","instant","item","true",""]
["InventoriesRights",519,"in-gaap","false","monetary","debit","instant","item","true",""]
["InventoriesOtherIntangibleAssets",520,"in-gaap","false","monetary","debit","instant","item","true",""]
["InventoriesOther",521,"in-gaap","false","monetary","debit","instant","item","true",""]
["ShareInventoriesJointVenture",522,"in-gaap","false","monetary","debit","instant","item","true",""]
["ProvisionObsolescence",523,"in-gaap","false","monetary","credit","instant","item","true",""]
["CashBankBalance",524,"in-gaap","false","monetary","debit","instant","item","true","","It is a mandatory field."]
["CashBalanceHand",525,"in-gaap","false","monetary","debit","instant","item","true","","Should be greater than or equal to zero. "]
["CashHand",526,"in-gaap","false","monetary","debit","instant","item","true","","Should be greater than or equal to zero. "]
["ChequesHand",527,"in-gaap","false","monetary","debit","instant","item","true","","Should be greater than or equal to zero. "]
["BankBalances",528,"in-gaap","false","monetary","debit","instant","item","true",""]
["BalanceScheduledBanks",529,"in-gaap","false","monetary","debit","instant","item","true",""]
["BalanceScheduledBanksCurrentAccount",530,"in-gaap","false","monetary","debit","instant","item","true",""]
["BalanceScheduledBanksDepositAccount",531,"in-gaap","false","monetary","debit","instant","item","true",""]
["BalanceScheduledBanksCallAccount",532,"in-gaap","false","monetary","debit","instant","item","true",""]
["BalanceScheduledBanksUnclaimedAmountAccount",533,"in-gaap","false","monetary","debit","instant","item","true",""]
["BalanceScheduledBanksOtherAccount",534,"in-gaap","false","monetary","debit","instant","item","true",""]
["BalanceOtherBanks",535,"in-gaap","false","monetary","debit","instant","item","true",""]
["BalanceOtherBanksCurrentAccount",536,"in-gaap","false","monetary","debit","instant","item","true",""]
["BalanceOtherBanksDepositAccount",537,"in-gaap","false","monetary","debit","instant","item","true",""]
["BalanceOtherBanksCallAccount",538,"in-gaap","false","monetary","debit","instant","item","true",""]
["BalanceOtherBanksOtherAccount",539,"in-gaap","false","monetary","debit","instant","item","true",""]
["BalanceRestrictedAccount",540,"in-gaap","false","monetary","debit","instant","item","true",""]
["OtherCashBankBalance",541,"in-gaap","false","monetary","debit","instant","item","true",""]
["OtherCurrentAssets",542,"in-gaap","false","monetary","debit","instant","item","true",""]
["DividendReceivable",543,"in-gaap","false","monetary","debit","instant","item","true",""]
["DividendReceivableSubsidiaries",544,"in-gaap","false","monetary","debit","instant","item","true",""]
["DividendReceivableOthers",545,"in-gaap","false","monetary","debit","instant","item","true",""]
["TaxesReceivable",546,"in-gaap","false","monetary","debit","instant","item","true",""]
["IncomeTaxReceivable",547,"in-gaap","false","monetary","debit","instant","item","true",""]
["WealthTaxReceivable",548,"in-gaap","false","monetary","debit","instant","item","true",""]
["SalesTaxReceivable",549,"in-gaap","false","monetary","debit","instant","item","true",""]
["OtherTaxReceivable",550,"in-gaap","false","monetary","debit","instant","item","true",""]
["ExportIncentivesReceivables",551,"in-gaap","false","monetary","debit","instant","item","true",""]
["OtherReceivables",552,"in-gaap","false","monetary","debit","instant","item","true",""]
["InterestIncomeAccruedbutNotDue",553,"in-gaap","false","monetary","debit","instant","item","true",""]
["AssetsHeldupDisposal",554,"in-gaap","false","monetary","debit","instant","item","true",""]
["DerivativeAssets",555,"in-gaap","false","monetary","debit","instant","item","true",""]
["UnbilledRevenue",556,"in-gaap","false","monetary","debit","instant","item","true",""]
["CurrentAssetsOther",557,"in-gaap","false","monetary","debit","instant","item","true",""]
["ShareOtherCurrentAssetsJointVentures",558,"in-gaap","false","monetary","debit","instant","item","true",""]
["LoansAdvances",559,"in-gaap","false","monetary","debit","instant","item","true","","This is a mandatory field."]
["SecuredLoansAdvances",560,"in-gaap","false","monetary","debit","instant","item","true",""]
["SecuredLoansAdvancesgivenSubsidiaries",561,"in-gaap","false","monetary","debit","instant","item","true","","If this is greater than zero for the current period; then atleast one subsidiary details should be entered."]
["SecuredLoansAdvancesgivenAssociates",562,"in-gaap","false","monetary","debit","instant","item","true","","If this is greater than zero for the current period; then atleast one associate details should be entered."]
["SecuredLoansAdvancesgivenDirectors",563,"in-gaap","false","monetary","debit","instant","item","true",""]
["SecuredLoansAdvancesgivenOtherRelatedparties",564,"in-gaap","false","monetary","debit","instant","item","true",""]
["SecuredLoansAdvancesgivenSuppliers",565,"in-gaap","false","monetary","debit","instant","item","true",""]
["SecuredLoansAdvancesgivenEmployees",566,"in-gaap","false","monetary","debit","instant","item","true",""]
["SecuredLoansAdvancesValuebeReceived",567,"in-gaap","false","monetary","debit","instant","item","true",""]
["UnsecuredLoansAdvances",568,"in-gaap","false","monetary","debit","instant","item","true",""]
["UnsecuredLoansAdvancesgivenSubsidiaries",569,"in-gaap","false","monetary","debit","instant","item","true","","If this is greater than zero for the current period; then atleast one subsidiary details should be entered."]
["UnsecuredLoansAdvancesgivenAssociates",570,"in-gaap","false","monetary","debit","instant","item","true","","If this is greater than zero for the current period; then atleast one associate details should be entered."]
["UnsecuredLoansAdvancesgivenDirectors",571,"in-gaap","false","monetary","debit","instant","item","true",""]
["UnsecuredLoansAdvancesgivenOtherRelatedparties",572,"in-gaap","false","monetary","debit","instant","item","true",""]
["UnsecuredLoansAdvancesgivenSuppliers",573,"in-gaap","false","monetary","debit","instant","item","true",""]
["UnsecuredLoansAdvancesgivenEmployees",574,"in-gaap","false","monetary","debit","instant","item","true",""]
["UnsecuredLoansAdvancesValuebeReceived",575,"in-gaap","false","monetary","debit","instant","item","true",""]
["AdvanceTaxPaid",576,"in-gaap","false","monetary","debit","instant","item","true",""]
["AdvanceIncomeTaxPaid",577,"in-gaap","false","monetary","debit","instant","item","true",""]
["AdvanceWealthTaxPaid",578,"in-gaap","false","monetary","debit","instant","item","true",""]
["AdvanceSalesTaxPaid",579,"in-gaap","false","monetary","debit","instant","item","true",""]
["TaxDeductedatSource",580,"in-gaap","false","monetary","debit","instant","item","true",""]
["OtherAdvanceTaxes",581,"in-gaap","false","monetary","debit","instant","item","true",""]
["DepositAssets",582,"in-gaap","false","monetary","debit","instant","item","true",""]
["IntercorporateDeposits",583,"in-gaap","false","monetary","debit","instant","item","true",""]
["DepositswithStatutoryAuthorities",584,"in-gaap","false","monetary","debit","instant","item","true",""]
["OtherDepositAssets",585,"in-gaap","false","monetary","debit","instant","item","true",""]
["PrepaidExpenses",586,"in-gaap","false","monetary","debit","instant","item","true",""]
["NotesReceivable",587,"in-gaap","false","monetary","debit","instant","item","true",""]
["ClaimsRecoverable",588,"in-gaap","false","monetary","debit","instant","item","true",""]
["OtherLoansAdvances",589,"in-gaap","false","monetary","debit","instant","item","true",""]
["ProvisionForDoubtfulLoansAndAdvances",590,"in-gaap","false","monetary","credit","instant","item","true",""]
["ShareLoansAdvancesJointVentures",591,"in-gaap","false","monetary","debit","instant","item","true","","Should be greater than equal to zero."]
["CurrentLiabilitiesProvisions",592,"in-gaap","false","monetary","credit","instant","item","true","","This is a mandatory field.  Should be greater than equal to zero."]
["CurrentLiabilities",593,"in-gaap","false","monetary","credit","instant","item","true","","This is a mandatory field."]
["SundryCreditors",594,"in-gaap","false","monetary","credit","instant","item","true","","This is a mandatory field.  Should be greater than equal to zero."]
["CreditorsDueSmallMicroEnterprises",595,"in-gaap","false","monetary","credit","instant","item","true","","This is a mandatory field."]
["CreditorsDueothers",596,"in-gaap","false","monetary","credit","instant","item","true","","This is a mandatory field."]
["AmountDueRelatedParties",597,"in-gaap","false","monetary","credit","instant","item","true",""]
["AmountDueSubsidiaries",598,"in-gaap","false","monetary","credit","instant","item","true","","If this is greater than zero for the current period; then atleast one subsidiary details should be entered."]
["AmountDueAssociates",599,"in-gaap","false","monetary","credit","instant","item","true","","If this is greater than zero for the current period; then atleast one associate details should be entered."]
["AmountDueDirectors",600,"in-gaap","false","monetary","credit","instant","item","true",""]
["AmountDueOtherRelatedParty",601,"in-gaap","false","monetary","credit","instant","item","true",""]
["ShortTermBorrowings",602,"in-gaap","false","monetary","credit","instant","item","true",""]
["BankOverdraft",603,"in-gaap","false","monetary","credit","instant","item","true",""]
["CashCredit",604,"in-gaap","false","monetary","credit","instant","item","true",""]
["OtherShortTermBorrowings",605,"in-gaap","false","monetary","credit","instant","item","true",""]
["UnclaimedAmounts",606,"in-gaap","false","monetary","credit","instant","item","true",""]
["UnclaimedDividend",607,"in-gaap","false","monetary","credit","instant","item","true",""]
["UnclaimedShareApplicationRefundMoney",608,"in-gaap","false","monetary","credit","instant","item","true",""]
["UnclaimedMaturedDebentures",609,"in-gaap","false","monetary","credit","instant","item","true",""]
["UnclaimedMaturedDeposits",610,"in-gaap","false","monetary","credit","instant","item","true",""]
["InterestUnclaimedAmount",611,"in-gaap","false","monetary","credit","instant","item","true",""]
["OtherUnclaimedAmount",612,"in-gaap","false","monetary","credit","instant","item","true",""]
["CustomerOtherAdvances",613,"in-gaap","false","monetary","credit","instant","item","true",""]
["AdvanceReceivedagainstContracts",614,"in-gaap","false","monetary","credit","instant","item","true",""]
["AdvanceReceivedagainstCustomers",615,"in-gaap","false","monetary","credit","instant","item","true",""]
["OtherAdvanceReceived",616,"in-gaap","false","monetary","credit","instant","item","true",""]
["BillsPayableAcceptances",617,"in-gaap","false","monetary","credit","instant","item","true",""]
["RetentionMoneyPayable",618,"in-gaap","false","monetary","credit","instant","item","true",""]
["AccruedExpensesPayable",619,"in-gaap","false","monetary","credit","instant","item","true",""]
["InterestAccruedbutNotDue",620,"in-gaap","false","monetary","credit","instant","item","true",""]
["InterestAccruedbutNotDueSecuredLoans",621,"in-gaap","false","monetary","credit","instant","item","true",""]
["InterestAccruedbutNotDueUnsecuredLoans",622,"in-gaap","false","monetary","credit","instant","item","true",""]
["ShortTermEmployeeRelatedLiabilities",623,"in-gaap","false","monetary","credit","instant","item","true",""]
["AccruedSalaryPayable",624,"in-gaap","false","monetary","credit","instant","item","true",""]
["AccruedPayrollLiabilitiesOther",625,"in-gaap","false","monetary","credit","instant","item","true",""]
["TaxesPayable",626,"in-gaap","false","monetary","credit","instant","item","true",""]
["TaxesPayableCurrentTax",627,"in-gaap","false","monetary","credit","instant","item","true",""]
["TaxesPayableWealthTax",628,"in-gaap","false","monetary","credit","instant","item","true",""]
["TaxesPayableSalesTax",629,"in-gaap","false","monetary","credit","instant","item","true",""]
["TaxesPayableOtherTax",630,"in-gaap","false","monetary","credit","instant","item","true",""]
["OtherAccruedExpenses",631,"in-gaap","false","monetary","credit","instant","item","true",""]
["DepositLiabilities",632,"in-gaap","false","monetary","credit","instant","item","true",""]
["PublicDepositPayableCurrent",633,"in-gaap","false","monetary","credit","instant","item","true","","This is a mandatory field."]
["SecurityDepositPayableCurrent",634,"in-gaap","false","monetary","credit","instant","item","true",""]
["CustomerDepositPayableCurrent",635,"in-gaap","false","monetary","credit","instant","item","true",""]
["OtherDepositPayableCurrent",636,"in-gaap","false","monetary","credit","instant","item","true",""]
["DeferredRevenueCurrent",637,"in-gaap","false","monetary","credit","instant","item","true",""]
["FinanceLeaseObligationCurrent",638,"in-gaap","false","monetary","credit","instant","item","true",""]
["ShareJointVenturesCurrentLiabilities",639,"in-gaap","false","monetary","credit","instant","item","true",""]
["Provisions",640,"in-gaap","false","monetary","credit","instant","item","true","","This is a mandatory field."]
["ProvisionsDividendDividendTax",641,"in-gaap","false","monetary","credit","instant","item","true",""]
["ProvisionsDividend",642,"in-gaap","false","monetary","credit","instant","item","true",""]
["ProvisionDividendEquityShares",643,"in-gaap","false","monetary","credit","instant","item","true",""]
["ProvisionDividendPreferenceShares",644,"in-gaap","false","monetary","credit","instant","item","true",""]
["ProvisionDividendDistributionTax",645,"in-gaap","false","monetary","credit","instant","item","true",""]
["ProvisionDividendDistributionTaxEquityShares",646,"in-gaap","false","monetary","credit","instant","item","true",""]
["ProvisionDividendDistributionTaxPreferenceShares",647,"in-gaap","false","monetary","credit","instant","item","true",""]
["ProvisionEmployeesRelatedLiabilities",648,"in-gaap","false","monetary","credit","instant","item","true",""]
["ProvisionGratuity",649,"in-gaap","false","monetary","credit","instant","item","true",""]
["ProvisionLeaveEncashment",650,"in-gaap","false","monetary","credit","instant","item","true",""]
["ProvisionPension",651,"in-gaap","false","monetary","credit","instant","item","true",""]
["ProvisionProvidentFundScheme",652,"in-gaap","false","monetary","credit","instant","item","true",""]
["ProvisionEmployeeInsuranceScheme",653,"in-gaap","false","monetary","credit","instant","item","true",""]
["ProvisionOtherEmployeeRelatedLiabilities",654,"in-gaap","false","monetary","credit","instant","item","true",""]
["TaxProvision",655,"in-gaap","false","monetary","credit","instant","item","true",""]
["CurrentTaxProvision",656,"in-gaap","false","monetary","credit","instant","item","true",""]
["WealthTaxProvision",657,"in-gaap","false","monetary","credit","instant","item","true",""]
["OtherTaxProvision",658,"in-gaap","false","monetary","credit","instant","item","true",""]
["ProvisionRestructuringCharges",659,"in-gaap","false","monetary","credit","instant","item","true",""]
["ProvisionContingencies",660,"in-gaap","false","monetary","credit","instant","item","true",""]
["ProvisionWarrantyOtherRelatedExpense",661,"in-gaap","false","monetary","credit","instant","item","true",""]
["ProvisionStatutoryLiabilities",662,"in-gaap","false","monetary","credit","instant","item","true",""]
["ShareJointVentureProvisions",663,"in-gaap","false","monetary","credit","instant","item","true",""]
["OtherProvisions",664,"in-gaap","false","monetary","credit","instant","item","true",""]
["SourcesApplicationFundsAbstract",665,"in-gaap","true","string","","duration","item","true",""]
["SourcesofFundsAbstract",666,"in-gaap","true","string","","duration","item","true",""]
["ShareholdersFundsAbstract",667,"in-gaap","true","string","","duration","item","true",""]
["AuthorisedShareCapitalAbstract",668,"in-gaap","true","string","","duration","item","true",""]
["IssuedSubscribedShareCapitalAbstract",669,"in-gaap","true","string","","duration","item","true",""]
["IssuedShareCapitalAbstract",670,"in-gaap","true","string","","duration","item","true",""]
["SubscribedShareCapitalAbstract",671,"in-gaap","true","string","","duration","item","true",""]
["ShareCapitalAbstract",672,"in-gaap","true","string","","duration","item","true",""]
["PaidupShareCapitalAbstract",673,"in-gaap","true","string","","duration","item","true",""]
["CallsArrearsAbstract",674,"in-gaap","true","string","","duration","item","true",""]
["ShareApplicationMoneyPendingAllotmentAbstract",675,"in-gaap","true","string","","duration","item","true",""]
["ReservesSurplusAbstract",676,"in-gaap","true","string","","duration","item","true",""]
["CapitalReserveConsolidationAbstract",677,"in-gaap","true","string","","duration","item","true",""]
["ChangesCapitalReserveConsolidationAbstract",678,"in-gaap","true","string","","duration","item","true",""]
["CapitalReserveAbstract",679,"in-gaap","true","string","","duration","item","true",""]
["ChangesCapitalReserveAbstract",680,"in-gaap","true","string","","duration","item","true",""]
["EmployeeStockOptionReserveAbstract",681,"in-gaap","true","string","","duration","item","true",""]
["ChangesEmployeeStockOptionReserveAbstract",682,"in-gaap","true","string","","duration","item","true",""]
["SubsidyIncentiveReserveAbstract",683,"in-gaap","true","string","","duration","item","true",""]
["ChangesSubsidyIncentiveReserveAbstract",684,"in-gaap","true","string","","duration","item","true",""]
["RestructuringReserveAbstract",685,"in-gaap","true","string","","duration","item","true",""]
["ChangesRestructuringReserveAbstract",686,"in-gaap","true","string","","duration","item","true",""]
["AmalgamationReserveAbstract",687,"in-gaap","true","string","","duration","item","true",""]
["ChangesAmalgamationReserveAbstract",688,"in-gaap","true","string","","duration","item","true",""]
["BondRedemptionReserveAbstract",689,"in-gaap","true","string","","duration","item","true",""]
["ChangesBondRedemptionReserveAbstract",690,"in-gaap","true","string","","duration","item","true",""]
["CapitalRedemptionReserveAbstract",691,"in-gaap","true","string","","duration","item","true",""]
["ChangesCapitalRedemptionReserveAbstract",692,"in-gaap","true","string","","duration","item","true",""]
["DebentureRedemptionReserveAbstract",693,"in-gaap","true","string","","duration","item","true",""]
["ChangesDebentureRedemptionReserveAbstract",694,"in-gaap","true","string","","duration","item","true",""]
["SinkingFundReserveAbstract",695,"in-gaap","true","string","","duration","item","true",""]
["ChangesSinkingFundAbstract",696,"in-gaap","true","string","","duration","item","true",""]
["SecuritiesPremiumAbstract",697,"in-gaap","true","string","","duration","item","true",""]
["ChangesSecuritiesPremiumAbstract",698,"in-gaap","true","string","","duration","item","true",""]
["RevaluationReserveAbstract",699,"in-gaap","true","string","","duration","item","true",""]
["ChangesRevaluationReserveAbstract",700,"in-gaap","true","string","","duration","item","true",""]
["ForeignExchangeEarningsReserveAbstract",701,"in-gaap","true","string","","duration","item","true",""]
["ChangesForeignExchangeEarningsReserveAbstract",702,"in-gaap","true","string","","duration","item","true",""]
["ForeignCurrencyTranslationReserveAbstract",703,"in-gaap","true","string","","duration","item","true",""]
["ChangesForeignCurrencyTranslationReserveAbstract",704,"in-gaap","true","string","","duration","item","true",""]
["ContingencyReserveAbstract",705,"in-gaap","true","string","","duration","item","true",""]
["ChangesContingencyReserveAbstract",706,"in-gaap","true","string","","duration","item","true",""]
["SpecialReserveAbstract",707,"in-gaap","true","string","","duration","item","true",""]
["ChangesSpecialReserveAbstract",708,"in-gaap","true","string","","duration","item","true",""]
["HedgingReserveAbstract",709,"in-gaap","true","string","","duration","item","true",""]
["ChangesHedgingReserveAbstract",710,"in-gaap","true","string","","duration","item","true",""]
["GeneralReserveAbstract",711,"in-gaap","true","string","","duration","item","true",""]
["ChangesGeneralReserveAbstract",712,"in-gaap","true","string","","duration","item","true",""]
["ProfitLossAccountAbstract",713,"in-gaap","true","string","","duration","item","true",""]
["ChangesProfitLossAccountAbstract",714,"in-gaap","true","string","","duration","item","true",""]
["OtherReservesAbstract",715,"in-gaap","true","string","","duration","item","true",""]
["ChangesOtherReservesAbstract",716,"in-gaap","true","string","","duration","item","true",""]
["LoanFundsAbstract",717,"in-gaap","true","string","","duration","item","true",""]
["SecuredLoansAbstract",718,"in-gaap","true","string","","duration","item","true",""]
["DebenturesSecuredAbstract",719,"in-gaap","true","string","","duration","item","true",""]
["RupeeTermLoansSecuredAbstract",720,"in-gaap","true","string","","duration","item","true",""]
["ForeignCurrencyLoansSecuredAbstract",721,"in-gaap","true","string","","duration","item","true",""]
["WorkingCapitalLoansSecuredAbstract",722,"in-gaap","true","string","","duration","item","true",""]
["LoanstakenforFixedAssetsSecuredAbstract",723,"in-gaap","true","string","","duration","item","true",""]
["InterestAccruedDueSecuredLoansAbstract",724,"in-gaap","true","string","","duration","item","true",""]
["UnsecuredLoansAbstract",725,"in-gaap","true","string","","duration","item","true",""]
["DebenturesUnsecuredAbstract",726,"in-gaap","true","string","","duration","item","true",""]
["RupeeTermLoansUnsecuredAbstract",727,"in-gaap","true","string","","duration","item","true",""]
["ForeignCurrencyLoansUnsecuredAbstract",728,"in-gaap","true","string","","duration","item","true",""]
["WorkingCapitalLoansUnsecuredAbstract",729,"in-gaap","true","string","","duration","item","true",""]
["LoanstakenforFixedAssetsUnsecuredAbstract",730,"in-gaap","true","string","","duration","item","true",""]
["InterestAccruedDueUnsecuredLoansAbstract",731,"in-gaap","true","string","","duration","item","true",""]
["ApplicationofFundsAbstract",732,"in-gaap","true","string","","duration","item","true",""]
["GoodwillonConsolidationAbstract",733,"in-gaap","true","string","","duration","item","true",""]
["FixedAssetsAbstract",734,"in-gaap","true","string","","duration","item","true",""]
["ClassesofAssetsAbstract",735,"in-gaap","true","string","","duration","item","true",""]
["LandLandImprovementsNetAbstract",736,"in-gaap","true","string","","duration","item","true",""]
["LandNetAbstract",737,"in-gaap","true","string","","duration","item","true",""]
["FreeHoldLandNetAbstract",738,"in-gaap","true","string","","duration","item","true",""]
["LeaseHoldLandNetAbstract",739,"in-gaap","true","string","","duration","item","true",""]
["LandImprovementsNetAbstract",740,"in-gaap","true","string","","duration","item","true",""]
["BuildingBuildingImprovementsNetAbstract",741,"in-gaap","true","string","","duration","item","true",""]
["BuildingNetAbstract",742,"in-gaap","true","string","","duration","item","true",""]
["ResidentialBuildingNetAbstract",743,"in-gaap","true","string","","duration","item","true",""]
["OfficeBuildingNetAbstract",744,"in-gaap","true","string","","duration","item","true",""]
["FactoryBuildingNetAbstract",745,"in-gaap","true","string","","duration","item","true",""]
["OtherBuildingNetAbstract",746,"in-gaap","true","string","","duration","item","true",""]
["BuildingImprovementsNetAbstract",747,"in-gaap","true","string","","duration","item","true",""]
["PlantMachineryNetAbstract",748,"in-gaap","true","string","","duration","item","true",""]
["EquipmentsNetAbstract",749,"in-gaap","true","string","","duration","item","true",""]
["OfficeEquipmentsNetAbstract",750,"in-gaap","true","string","","duration","item","true",""]
["FactoryEquipmentsNetAbstract",751,"in-gaap","true","string","","duration","item","true",""]
["ComputerEquipmentsNetAbstract",752,"in-gaap","true","string","","duration","item","true",""]
["OtherEquipmentsNetAbstract",753,"in-gaap","true","string","","duration","item","true",""]
["FurnitureFixturesNetAbstract",754,"in-gaap","true","string","","duration","item","true",""]
["VehiclesNetAbstract",755,"in-gaap","true","string","","duration","item","true",""]
["ShipsVesselsNetAbstract",756,"in-gaap","true","string","","duration","item","true",""]
["AircraftsHelicoptersNetAbstract",757,"in-gaap","true","string","","duration","item","true",""]
["MotorVehiclesNetAbstract",758,"in-gaap","true","string","","duration","item","true",""]
["LeaseholdPropertiesNetAbstract",759,"in-gaap","true","string","","duration","item","true",""]
["LeaseholdImprovementsNetAbstract",760,"in-gaap","true","string","","duration","item","true",""]
["LeaseholdBuildingNetAbstract",761,"in-gaap","true","string","","duration","item","true",""]
["LeaseholdPlantMachineryNetAbstract",762,"in-gaap","true","string","","duration","item","true",""]
["LeaseholdEquipmentsNetAbstract",763,"in-gaap","true","string","","duration","item","true",""]
["LeaseholdVehiclesNetAbstract",764,"in-gaap","true","string","","duration","item","true",""]
["LeaseholdOtherAssetsNetAbstract",765,"in-gaap","true","string","","duration","item","true",""]
["LivestockNetAbstract",766,"in-gaap","true","string","","duration","item","true",""]
["BridgesRoadsPortsCulvertsNetAbstract",767,"in-gaap","true","string","","duration","item","true",""]
["RailwaySidingsNetAbstract",768,"in-gaap","true","string","","duration","item","true",""]
["BooksPeriodicalsNetAbstract",769,"in-gaap","true","string","","duration","item","true",""]
["PlantationsNetAbstract",770,"in-gaap","true","string","","duration","item","true",""]
["MinesQuarriesNetAbstract",771,"in-gaap","true","string","","duration","item","true",""]
["OtherFixedAssetsNetAbstract",772,"in-gaap","true","string","","duration","item","true",""]
["AcquiredGoodwillNetAbstract",773,"in-gaap","true","string","","duration","item","true",""]
["KnowhowNetAbstract",774,"in-gaap","true","string","","duration","item","true",""]
["ComputerSoftwareNetAbstract",775,"in-gaap","true","string","","duration","item","true",""]
["PatentsTrademarksDesignNetAbstract",776,"in-gaap","true","string","","duration","item","true",""]
["CommercialContractualRightsNetAbstract",777,"in-gaap","true","string","","duration","item","true",""]
["LicensesNetAbstract",778,"in-gaap","true","string","","duration","item","true",""]
["DevelopmentCostNetAbstract",779,"in-gaap","true","string","","duration","item","true",""]
["OtherIntangibleAssetsNetAbstract",780,"in-gaap","true","string","","duration","item","true",""]
["AssetsFinancialLeaseNetAbstract",781,"in-gaap","true","string","","duration","item","true",""]
["TangibleAssetsNetAbstract",782,"in-gaap","true","string","","duration","item","true",""]
["IntangibleAssetsNetAbstract",783,"in-gaap","true","string","","duration","item","true",""]
["NetBlockAbstract",784,"in-gaap","true","string","","duration","item","true",""]
["GrossBlockAbstract",785,"in-gaap","true","string","","duration","item","true",""]
["TangibleAssetsGrossAbstract",786,"in-gaap","true","string","","duration","item","true",""]
["IntangibleAssetsGrossAbstract",787,"in-gaap","true","string","","duration","item","true",""]
["LandLandImprovementsGrossAbstract",788,"in-gaap","true","string","","duration","item","true",""]
["LandGrossAbstract",789,"in-gaap","true","string","","duration","item","true",""]
["BuildingBuildingImprovementsGrossAbstract",790,"in-gaap","true","string","","duration","item","true",""]
["BuildingGrossAbstract",791,"in-gaap","true","string","","duration","item","true",""]
["EquipmentsGrossAbstract",792,"in-gaap","true","string","","duration","item","true",""]
["VehiclesGrossAbstract",793,"in-gaap","true","string","","duration","item","true",""]
["LeaseholdPropertiesGrossAbstract",794,"in-gaap","true","string","","duration","item","true",""]
["AccumulatedDepreciationAmortisationAbstract",795,"in-gaap","true","string","","duration","item","true",""]
["AccumulatedDepreciationOnTangibleAssetsAbstract",796,"in-gaap","true","string","","duration","item","true",""]
["AccumulatedAmortisationOnIntangibleAbstract",797,"in-gaap","true","string","","duration","item","true",""]
["AccumulatedImpairmentAbstract",798,"in-gaap","true","string","","duration","item","true",""]
["AccumulatedImpairmentOnTangibleAssetsAbstract",799,"in-gaap","true","string","","duration","item","true",""]
["AccumulatedImpairmentOnIntangibleAssetsAbstract",800,"in-gaap","true","string","","duration","item","true",""]
["AccumulatedDepreciationLandLandImprovementsAbstract",801,"in-gaap","true","string","","duration","item","true",""]
["AccumulatedDepreciationBuildingBuildingImprovementsAbstract",802,"in-gaap","true","string","","duration","item","true",""]
["AccumulatedDepreciationBuildingAbstract",803,"in-gaap","true","string","","duration","item","true",""]
["AccumulatedDepreciationEquipmentsAbstract",804,"in-gaap","true","string","","duration","item","true",""]
["AccumulatedDepreciationVehiclesAbstract",805,"in-gaap","true","string","","duration","item","true",""]
["AccumulatedDepreciationLeaseholdPropertiesAbstract",806,"in-gaap","true","string","","duration","item","true",""]
["AccumulatedImpairmentLandLandImprovementsAbstract",807,"in-gaap","true","string","","duration","item","true",""]
["AccumulatedImpairmentLandAbstract",808,"in-gaap","true","string","","duration","item","true",""]
["AccumulatedImpairmentBuildingBuildingImprovementsAbstract",809,"in-gaap","true","string","","duration","item","true",""]
["AccumulatedImpairmentBuildingAbstract",810,"in-gaap","true","string","","duration","item","true",""]
["AccumulatedImpairmentEquipmentsAbstract",811,"in-gaap","true","string","","duration","item","true",""]
["AccumulatedImpairmentVehiclesAbstract",812,"in-gaap","true","string","","duration","item","true",""]
["AccumulatedImpairmentLeaseholdPropertiesAbstract",813,"in-gaap","true","string","","duration","item","true",""]
["CapitalWorkinProgressNetAbstract",814,"in-gaap","true","string","","duration","item","true",""]
["InvestmentsNetAbstract",815,"in-gaap","true","string","","duration","item","true",""]
["CurrentLongTermInvestmentsAbstract",816,"in-gaap","true","string","","duration","item","true",""]
["LongTermInvestmentsAbstract",817,"in-gaap","true","string","","duration","item","true",""]
["GovernmentSecuritiesLocalAuthoritiesLongTermAbstract",818,"in-gaap","true","string","","duration","item","true",""]
["GovernmentSecuritiesLocalAuthoritiesLongTermQuotedAbstract",819,"in-gaap","true","string","","duration","item","true",""]
["GovernmentSecuritiesLocalAuthoritiesLongTermUnquotedAbstract",820,"in-gaap","true","string","","duration","item","true",""]
["DebtSecuritiesLongTermAbstract",821,"in-gaap","true","string","","duration","item","true",""]
["DebtSecuritiesLongTermQuotedAbstract",822,"in-gaap","true","string","","duration","item","true",""]
["DebtSecuritiesLongTermUnquotedAbstract",823,"in-gaap","true","string","","duration","item","true",""]
["EquitySecuritiesLongTermAbstract",824,"in-gaap","true","string","","duration","item","true",""]
["EquitySecuritiesLongTermQuotedAbstract",825,"in-gaap","true","string","","duration","item","true",""]
["EquitySecuritiesLongTermUnquotedAbstract",826,"in-gaap","true","string","","duration","item","true",""]
["MutualFundsLongTermAbstract",827,"in-gaap","true","string","","duration","item","true",""]
["OtherInvestmentsLongTermAbstract",828,"in-gaap","true","string","","duration","item","true",""]
["OtherInvestmentsLongTermQuotedAbstract",829,"in-gaap","true","string","","duration","item","true",""]
["OtherInvestmentsLongTermUnquotedAbstract",830,"in-gaap","true","string","","duration","item","true",""]
["CurrentInvestmentsAbstract",831,"in-gaap","true","string","","duration","item","true",""]
["GovernmentSecuritiesLocalAuthoritiesCurrentAbstract",832,"in-gaap","true","string","","duration","item","true",""]
["GovernmentSecuritiesLocalAuthoritiesCurrentQuotedAbstract",833,"in-gaap","true","string","","duration","item","true",""]
["GovernmentSecuritiesLocalAuthoritiesCurrentUnquotedAbstract",834,"in-gaap","true","string","","duration","item","true",""]
["DebtSecuritiesCurrentAbstract",835,"in-gaap","true","string","","duration","item","true",""]
["DebtSecuritiesCurrentQuotedAbstract",836,"in-gaap","true","string","","duration","item","true",""]
["DebtSecuritiesCurrentUnquotedAbstract",837,"in-gaap","true","string","","duration","item","true",""]
["EquitySecuritiesCurrentAbstract",838,"in-gaap","true","string","","duration","item","true",""]
["EquitySecuritiesCurrentQuotedAbstract",839,"in-gaap","true","string","","duration","item","true",""]
["EquitySecuritiesCurrentUnquotedAbstract",840,"in-gaap","true","string","","duration","item","true",""]
["MutualFundsCurrentAbstract",841,"in-gaap","true","string","","duration","item","true",""]
["OtherInvestmentsCurrentAbstract",842,"in-gaap","true","string","","duration","item","true",""]
["OtherInvestmentsCurrentQuotedAbstract",843,"in-gaap","true","string","","duration","item","true",""]
["OtherInvestmentsCurrentUnquotedAbstract",844,"in-gaap","true","string","","duration","item","true",""]
["NetCurrentAssetsAbstract",845,"in-gaap","true","string","","duration","item","true",""]
["CurrentAssetsLoansAdvancesAbstract",846,"in-gaap","true","string","","duration","item","true",""]
["CurrentAssetsAbstract",847,"in-gaap","true","string","","duration","item","true",""]
["SundryDebtorsAbstract",848,"in-gaap","true","string","","duration","item","true",""]
["SundryDebtorsGrossAbstract",849,"in-gaap","true","string","","duration","item","true",""]
["DebtorsExceedingSixMonthsAbstract",850,"in-gaap","true","string","","duration","item","true",""]
["DebtorswithinSixMonthsAbstract",851,"in-gaap","true","string","","duration","item","true",""]
["InventoriesAbstract",852,"in-gaap","true","string","","duration","item","true",""]
["InventoriesFinishedGoodsAbstract",853,"in-gaap","true","string","","duration","item","true",""]
["InventoriesIntangibleAssetsAbstract",854,"in-gaap","true","string","","duration","item","true",""]
["CashBankBalanceAbstract",855,"in-gaap","true","string","","duration","item","true",""]
["CashBalanceHandAbstract",856,"in-gaap","true","string","","duration","item","true",""]
["BankBalancesAbstract",857,"in-gaap","true","string","","duration","item","true",""]
["BalanceScheduledBanksAbstract",858,"in-gaap","true","string","","duration","item","true",""]
["BalanceOtherBanksAbstract",859,"in-gaap","true","string","","duration","item","true",""]
["OtherCurrentAssetsAbstract",860,"in-gaap","true","string","","duration","item","true",""]
["DividendReceivableAbstract",861,"in-gaap","true","string","","duration","item","true",""]
["TaxesReceivableAbstract",862,"in-gaap","true","string","","duration","item","true",""]
["LoansAdvancesAbstract",863,"in-gaap","true","string","","duration","item","true",""]
["SecuredLoansAdvancesAbstract",864,"in-gaap","true","string","","duration","item","true",""]
["UnsecuredLoansAdvancesAbstract",865,"in-gaap","true","string","","duration","item","true",""]
["AdvanceTaxPaidAbstract",866,"in-gaap","true","string","","duration","item","true",""]
["DepositAssetsAbstract",867,"in-gaap","true","string","","duration","item","true",""]
["CurrentLiabilitiesProvisionsAbstract",868,"in-gaap","true","string","","duration","item","true",""]
["CurrentLiabilitiesAbstract",869,"in-gaap","true","string","","duration","item","true",""]
["SundryCreditorsAbstract",870,"in-gaap","true","string","","duration","item","true",""]
["AmountDueRelatedPartiesAbstract",871,"in-gaap","true","string","","duration","item","true",""]
["ShortTermBorrowingsAbstract",872,"in-gaap","true","string","","duration","item","true",""]
["UnclaimedAmountsAbstract",873,"in-gaap","true","string","","duration","item","true",""]
["CustomerOtherAdvancesAbstract",874,"in-gaap","true","string","","duration","item","true",""]
["AccruedExpensesPayableAbstract",875,"in-gaap","true","string","","duration","item","true",""]
["InterestAccruedbutNotDueAbstract",876,"in-gaap","true","string","","duration","item","true",""]
["ShortTermEmployeeRelatedLiabilitiesAbstract",877,"in-gaap","true","string","","duration","item","true",""]
["TaxesPayableAbstract",878,"in-gaap","true","string","","duration","item","true",""]
["DepositLiabilitiesAbstract",879,"in-gaap","true","string","","duration","item","true",""]
["ProvisionsAbstract",880,"in-gaap","true","string","","duration","item","true",""]
["ProvisionsDividendDividendTaxAbstract",881,"in-gaap","true","string","","duration","item","true",""]
["ProvisionsDividendAbstract",882,"in-gaap","true","string","","duration","item","true",""]
["ProvisionDividendDistributionTaxAbstract",883,"in-gaap","true","string","","duration","item","true",""]
["ProvisionEmployeesRelatedLiabilitiesAbstract",884,"in-gaap","true","string","","duration","item","true",""]
["TaxProvisionAbstract",885,"in-gaap","true","string","","duration","item","true",""]
["MiscellaneousExpenditureNotWrittenoffAbstract",886,"in-gaap","true","string","","duration","item","true",""]
["DiscountIssueSharesDebenturesNotWrittenoffAbstract",887,"in-gaap","true","string","","duration","item","true",""]
["SharesDebenturesIssueExpensesNotWrittenoffAbstract",888,"in-gaap","true","string","","duration","item","true",""]
["TotalAssetsAbstract",889,"in-gaap","true","string","","duration","item","true",""]
["TotalLiabilitiesAbstract",890,"in-gaap","true","string","","duration","item","true",""]
["TotalAssetsTotalLiabilitiesAbstract",891,"in-gaap","true","string","","duration","item","true",""]
["SummaryofAssetsAbstract",892,"in-gaap","true","string","","duration","item","true",""]
["UnutilisedMoneyInvestments",893,"in-gaap","false","monetary","debit","instant","item","true",""]
["OtherCurrentLiabilities",894,"in-gaap","false","monetary","credit","instant","item","true",""]
["DeferredTaxLiability",895,"in-gaap","false","monetary","credit","instant","item","true",""]
["DeferredTaxAsset",896,"in-gaap","false","monetary","debit","instant","item","true",""]
["ProfitReissueofForfeitedShares",897,"in-gaap","false","monetary","credit","duration","item","true",""]
["NetProfitLoss",898,"in-gaap","false","monetary","credit","duration","item","true","","This is a mandatory field."]
["NetProfitLossbeforeMinorityInterestShareJointVenture",899,"in-gaap","false","monetary","credit","duration","item","true",""]
["NetProfitLossbeforeTax",900,"in-gaap","false","monetary","credit","duration","item","true","","This is a mandatory field."]
["NetProfitLossContinuingOperations",901,"in-gaap","false","monetary","credit","duration","item","true",""]
["TotalIncome",902,"in-gaap","false","monetary","credit","duration","item","true","","This is a mandatory field."]
["TotalExpenditure",903,"in-gaap","false","monetary","debit","duration","item","true","","This is a mandatory field."]
["ManufacturingOtherOperatingExpenses",904,"in-gaap","false","monetary","debit","duration","item","true",""]
["RestructuringCharges",905,"in-gaap","false","monetary","debit","duration","item","true",""]
["ReversalRestructuringCharges",906,"in-gaap","false","monetary","credit","duration","item","true",""]
["ExceptionalIncomeExpenseNet",907,"in-gaap","false","monetary","credit","duration","item","true",""]
["ExceptionalIncome",908,"in-gaap","false","monetary","credit","duration","item","true",""]
["ExceptionalExpenses",909,"in-gaap","false","monetary","debit","duration","item","true",""]
["IncomeLossDiscontinuingOperations",910,"in-gaap","false","monetary","","duration","item","true",""]
["RevenuesRelatedDiscontinuingOperations",911,"in-gaap","false","monetary","credit","duration","item","true",""]
["ExpensesRelatedDiscontinuingOperations",912,"in-gaap","false","monetary","debit","duration","item","true",""]
["IncomeLossDisposalSaleDiscontinuingOperations",913,"in-gaap","false","monetary","","duration","item","true",""]
["ProvisionTaxation",914,"in-gaap","false","monetary","debit","duration","item","true","","This is a mandatory field."]
["ProvisionCurrentTax",915,"in-gaap","false","monetary","debit","duration","item","true","","This is a mandatory field."]
["ProvisionDeferredTax",916,"in-gaap","false","monetary","debit","duration","item","true","","This is a mandatory field."]
["ProvisionWealthTax",917,"in-gaap","false","monetary","debit","duration","item","true",""]
["MATCreditEntitlement",918,"in-gaap","false","monetary","credit","duration","item","true",""]
["ProvisionTaxEarlierYears",919,"in-gaap","false","monetary","debit","duration","item","true",""]
["OtherAdjustmentsTax",920,"in-gaap","false","monetary","debit","duration","item","true",""]
["TaxEffectDiscontinuingOperations",921,"in-gaap","false","monetary","","duration","item","true",""]
["ExtraordinaryItemsNetTax",922,"in-gaap","false","monetary","debit","duration","item","true",""]
["LossAttachmentPropertyExtraordinary",923,"in-gaap","false","monetary","debit","duration","item","true",""]
["LossNaturalCalamityExtraordinary",924,"in-gaap","false","monetary","debit","duration","item","true",""]
["ReversalGovernmentGrantsExtraordinary",925,"in-gaap","false","monetary","debit","duration","item","true",""]
["OtherItemsExtraordinary",926,"in-gaap","false","monetary","","duration","item","true",""]
["PriorPeriodItemsNetTax",927,"in-gaap","false","monetary","","duration","item","true",""]
["PriorPeriodIncome",928,"in-gaap","false","monetary","credit","duration","item","true",""]
["PriorPeriodExpenses",929,"in-gaap","false","monetary","debit","duration","item","true",""]
["ShareEarningsAssociatesJointVentures",930,"in-gaap","false","monetary","credit","duration","item","true",""]
["ShareEarningsAssociates",931,"in-gaap","false","monetary","credit","duration","item","true",""]
["ShareEarningsJointVentures",932,"in-gaap","false","monetary","credit","duration","item","true",""]
["ShareMinorityInterestProfitLoss",933,"in-gaap","false","monetary","debit","duration","item","true",""]
["AdjustmentsRelatedMergerAcquisitions",934,"in-gaap","false","monetary","","duration","item","true",""]
["BasicEarningsPerShare",935,"in-gaap","false","num:perShare","","duration","item","true",""]
["BasicEarningsPerSharebeforeExtraordinaryItems",936,"in-gaap","false","num:perShare","","duration","item","true",""]
["ExtraordinaryAdjustmentBasicEarningsPerShare",937,"in-gaap","false","num:perShare","","duration","item","true",""]
["DilutedEarningsPerShare",938,"in-gaap","false","num:perShare","","duration","item","true",""]
["DilutedEarningsPerSharebeforeExtraordinaryItems",939,"in-gaap","false","num:perShare","","duration","item","true",""]
["ExtraordinaryAdjustmentDilutedEarningsPerShare",940,"in-gaap","false","num:perShare","","duration","item","true",""]
["GrossProfit",941,"in-gaap","false","monetary","credit","duration","item","true","","This is a mandatory field."]
["CostGoodsServices",942,"in-gaap","false","monetary","debit","duration","item","true",""]
["OperatingRevenueNet",943,"in-gaap","false","monetary","credit","duration","item","true","","This is a mandatory field."]
["OperatingRevenueGross",944,"in-gaap","false","monetary","credit","duration","item","true","","This is a mandatory field."]
["RevenueSaleGoodsGross",945,"in-gaap","false","monetary","credit","duration","item","true",""]
["RevenueSaleManufacturedGoods",946,"in-gaap","false","monetary","credit","duration","item","true",""]
["RevenueSaleTradedGoods",947,"in-gaap","false","monetary","credit","duration","item","true",""]
["RevenueSaleOtherGoods",948,"in-gaap","false","monetary","credit","duration","item","true",""]
["RevenueServicesGross",949,"in-gaap","false","monetary","credit","duration","item","true",""]
["RevenueCommunicationServices",950,"in-gaap","false","monetary","credit","duration","item","true",""]
["RevenueLogisticsTransportServices",951,"in-gaap","false","monetary","credit","duration","item","true",""]
["RevenueRoadwayOperations",952,"in-gaap","false","monetary","credit","duration","item","true",""]
["RevenueWaterwayOperations",953,"in-gaap","false","monetary","credit","duration","item","true",""]
["RevenueAirwayOperations",954,"in-gaap","false","monetary","credit","duration","item","true",""]
["RevenueCourierServices",955,"in-gaap","false","monetary","credit","duration","item","true",""]
["RevenueInfrastructureServices",956,"in-gaap","false","monetary","credit","duration","item","true",""]
["RevenueInformationTechnologyServices",957,"in-gaap","false","monetary","credit","duration","item","true",""]
["RevenueSoftwareDevelopment",958,"in-gaap","false","monetary","credit","duration","item","true",""]
["RevenueHardwareMaintenance",959,"in-gaap","false","monetary","credit","duration","item","true",""]
["RevenueInformationTechnologyConsultancy",960,"in-gaap","false","monetary","credit","duration","item","true",""]
["RevenueHotels",961,"in-gaap","false","monetary","credit","duration","item","true",""]
["RevenueHospitalsHealthcareClinics",962,"in-gaap","false","monetary","credit","duration","item","true",""]
["RevenueEntertainment",963,"in-gaap","false","monetary","credit","duration","item","true",""]
["RevenueRepairsMaintenance",964,"in-gaap","false","monetary","credit","duration","item","true",""]
["RevenueEducationalActivities",965,"in-gaap","false","monetary","credit","duration","item","true",""]
["RevenueMembershipSubscriptionsFees",966,"in-gaap","false","monetary","credit","duration","item","true",""]
["RevenueAdmissionFees",967,"in-gaap","false","monetary","credit","duration","item","true",""]
["RevenueErectioningCommissioning",968,"in-gaap","false","monetary","credit","duration","item","true",""]
["RevenueAgencies",969,"in-gaap","false","monetary","credit","duration","item","true",""]
["RevenueAdvertisingPublicity",970,"in-gaap","false","monetary","credit","duration","item","true",""]
["RevenueValueAddedServices",971,"in-gaap","false","monetary","credit","duration","item","true",""]
["RevenueRealEstatePropertyDevelopment",972,"in-gaap","false","monetary","credit","duration","item","true",""]
["RevenueOtherServices",973,"in-gaap","false","monetary","credit","duration","item","true",""]
["RevenueContract",974,"in-gaap","false","monetary","credit","duration","item","true",""]
["RevenueLeaseRentals",975,"in-gaap","false","monetary","credit","duration","item","true",""]
["RevenueHireCharges",976,"in-gaap","false","monetary","credit","duration","item","true",""]
["RevenueJobWork",977,"in-gaap","false","monetary","credit","duration","item","true",""]
["RevenueIntangibleAssets",978,"in-gaap","false","monetary","credit","duration","item","true",""]
["RevenueRoyalties",979,"in-gaap","false","monetary","credit","duration","item","true",""]
["RevenueTechnicalKnowhow",980,"in-gaap","false","monetary","credit","duration","item","true",""]
["RevenueFranchise",981,"in-gaap","false","monetary","credit","duration","item","true",""]
["RevenueLicences",982,"in-gaap","false","monetary","credit","duration","item","true",""]
["RevenueContractualRights",983,"in-gaap","false","monetary","credit","duration","item","true",""]
["OtherOperatingRevenues",984,"in-gaap","false","monetary","credit","duration","item","true",""]
["DutiesTaxesCollected",985,"in-gaap","false","monetary","debit","duration","item","true",""]
["ExciseDutyCollected",986,"in-gaap","false","monetary","debit","duration","item","true",""]
["ServiceTaxCollected",987,"in-gaap","false","monetary","debit","duration","item","true",""]
["OtherDutiesTaxesCollected",988,"in-gaap","false","monetary","debit","duration","item","true",""]
["InterdivisionTransfers",989,"in-gaap","false","monetary","debit","duration","item","true",""]
["BrokerageDiscountsRebates",990,"in-gaap","false","monetary","debit","duration","item","true",""]
["SalesReturns",991,"in-gaap","false","monetary","debit","duration","item","true",""]
["OtherAllowancesDeductionsSales",992,"in-gaap","false","monetary","debit","duration","item","true",""]
["ShareOperatingRevenueJointVentures",993,"in-gaap","false","monetary","credit","duration","item","true",""]
["OtherIncome",994,"in-gaap","false","monetary","credit","duration","item","true","","This is a mandatory field."]
["ReceiptGovernmentGrantsSubsidies",995,"in-gaap","false","monetary","credit","duration","item","true",""]
["ReceiptExportIncentives",996,"in-gaap","false","monetary","credit","duration","item","true",""]
["ReceiptImportEntitlements",997,"in-gaap","false","monetary","credit","duration","item","true",""]
["ReceiptInsuranceClaims",998,"in-gaap","false","monetary","credit","duration","item","true",""]
["ReceiptIncomeInvestments",999,"in-gaap","false","monetary","credit","duration","item","true",""]
["ReceiptIncomeLongTermInvestments",1000,"in-gaap","false","monetary","credit","duration","item","true",""]
["ReceiptInterestLongTermInvestments",1001,"in-gaap","false","monetary","credit","duration","item","true",""]
["ReceiptInterestLongTermBankDeposits",1002,"in-gaap","false","monetary","credit","duration","item","true",""]
["ReceiptInterestLongTermIntercorporateDeposits",1003,"in-gaap","false","monetary","credit","duration","item","true",""]
["ReceiptInterestLongTermDebtSecurities",1004,"in-gaap","false","monetary","credit","duration","item","true",""]
["ReceiptInterestLongTermGovernmentSecurities",1005,"in-gaap","false","monetary","credit","duration","item","true",""]
["ReceiptInterestOtherLongTermInvestments",1006,"in-gaap","false","monetary","credit","duration","item","true",""]
["ReceiptDividendLongTermInvestments",1007,"in-gaap","false","monetary","credit","duration","item","true",""]
["ReceiptDividendLongTermEquitySecurities",1008,"in-gaap","false","monetary","credit","duration","item","true",""]
["ReceiptDividendLongTermMutualFunds",1009,"in-gaap","false","monetary","credit","duration","item","true",""]
["ReceiptDividendOtherLongTermInvestments",1010,"in-gaap","false","monetary","credit","duration","item","true",""]
["ReceiptIncomeCurrentInvestments",1011,"in-gaap","false","monetary","credit","duration","item","true",""]
["ReceiptInterestCurrentInvestments",1012,"in-gaap","false","monetary","credit","duration","item","true",""]
["ReceiptInterestCurrentBankDeposits",1013,"in-gaap","false","monetary","credit","duration","item","true",""]
["ReceiptInterestCurrentIntercorporateDeposits",1014,"in-gaap","false","monetary","credit","duration","item","true",""]
["ReceiptInterestCurrentDebtSecurities",1015,"in-gaap","false","monetary","credit","duration","item","true",""]
["ReceiptInterestCurrentGovernmentSecurities",1016,"in-gaap","false","monetary","credit","duration","item","true",""]
["ReceiptInterestOtherCurrentInvestments",1017,"in-gaap","false","monetary","credit","duration","item","true",""]
["ReceiptsDividendCurrentInvestments",1018,"in-gaap","false","monetary","credit","duration","item","true",""]
["ReceiptDividendCurrentEquitySecurities",1019,"in-gaap","false","monetary","credit","duration","item","true",""]
["ReceiptDividendCurrentMutualFunds",1020,"in-gaap","false","monetary","credit","duration","item","true",""]
["ReceiptDividendOtherCurrentInvestments",1021,"in-gaap","false","monetary","credit","duration","item","true",""]
["ReceiptRentInvestmentProperties",1022,"in-gaap","false","monetary","credit","duration","item","true",""]
["ReceiptIncomeSubsidiaries",1023,"in-gaap","false","monetary","credit","duration","item","true",""]
["ReceiptInterestIncomeTaxRefund",1024,"in-gaap","false","monetary","credit","duration","item","true",""]
["ReceiptsBrokerageCommission",1025,"in-gaap","false","monetary","credit","duration","item","true",""]
["SalesTaxBenefit",1026,"in-gaap","false","monetary","credit","duration","item","true",""]
["ForeignExchangeDifferenceIncome",1027,"in-gaap","false","monetary","credit","duration","item","true",""]
["ProfitSaleRedemptionInvestments",1028,"in-gaap","false","monetary","credit","duration","item","true",""]
["ProfitSaleRedemptionLongTermInvestments",1029,"in-gaap","false","monetary","credit","duration","item","true",""]
["ProfitSaleRedemptionCurrentInvestments",1030,"in-gaap","false","monetary","credit","duration","item","true",""]
["ProfitSaleDisposalFixedAssets",1031,"in-gaap","false","monetary","credit","duration","item","true",""]
["ProfitSaleDisposalTangibleFixedAssets",1032,"in-gaap","false","monetary","credit","duration","item","true",""]
["ProfitSaleDisposalIntangibleFixedAssets",1033,"in-gaap","false","monetary","credit","duration","item","true",""]
["ReceiptsJobWork",1034,"in-gaap","false","monetary","credit","duration","item","true",""]
["ReceiptsHireCharges",1035,"in-gaap","false","monetary","credit","duration","item","true",""]
["ReceiptsIntangibleAssets",1036,"in-gaap","false","monetary","credit","duration","item","true",""]
["ReceiptsTechnicalKnowhow",1037,"in-gaap","false","monetary","credit","duration","item","true",""]
["ReceiptsFranchise",1038,"in-gaap","false","monetary","credit","duration","item","true",""]
["ReceiptsLicences",1039,"in-gaap","false","monetary","credit","duration","item","true",""]
["ReceiptsContractualRights",1040,"in-gaap","false","monetary","credit","duration","item","true",""]
["ReceiptsRoyalties",1041,"in-gaap","false","monetary","credit","duration","item","true",""]
["ReceiptsRepairsMaintenance",1042,"in-gaap","false","monetary","credit","duration","item","true",""]
["ReceiptsMembershipSubscriptionsFees",1043,"in-gaap","false","monetary","credit","duration","item","true",""]
["ReceiptsErectioningCommissioning",1044,"in-gaap","false","monetary","credit","duration","item","true",""]
["OtherReceipts",1045,"in-gaap","false","monetary","credit","duration","item","true",""]
["TaxDeductedatSourcesOtherIncome",1046,"in-gaap","false","monetary","debit","duration","item","true",""]
["OtherAllowancesDeductionOtherIncome",1047,"in-gaap","false","monetary","debit","duration","item","true",""]
["ShareOtherIncomeJointVentures",1048,"in-gaap","false","monetary","credit","duration","item","true",""]
["ConsumptionMaterialsChangesInventories",1049,"in-gaap","false","monetary","debit","duration","item","true","","This is a mandatory field."]
["ConsumptionRawOtherMaterials",1050,"in-gaap","false","monetary","debit","duration","item","true",""]
["ConsumptionRawMaterials",1051,"in-gaap","false","monetary","debit","duration","item","true","","This is a mandatory field."]
["ConsumptionPackingMaterials",1052,"in-gaap","false","monetary","debit","duration","item","true",""]
["ConsumptionStoresSpares",1053,"in-gaap","false","monetary","debit","duration","item","true","","This is a mandatory field."]
["ConsumptionOtherMaterials",1054,"in-gaap","false","monetary","debit","duration","item","true",""]
["CapitalisationRawOtherMaterials",1055,"in-gaap","false","monetary","credit","duration","item","true",""]
["CostTradedGoods",1056,"in-gaap","false","monetary","debit","duration","item","true","","This is a mandatory field."]
["IncreaseDecreaseInventories",1057,"in-gaap","false","monetary","debit","duration","item","true",""]
["IncreaseDecreaseFinishedGoods",1058,"in-gaap","false","monetary","debit","duration","item","true","","This is a mandatory field."]
["IncreaseDecreaseWorkinProgress",1059,"in-gaap","false","monetary","debit","duration","item","true","","This is a mandatory field."]
["IncreaseDecreaseOtherInventories",1060,"in-gaap","false","monetary","debit","duration","item","true",""]
["IncreaseDecreaseExciseDutyInventories",1061,"in-gaap","false","monetary","debit","duration","item","true",""]
["ShareMaterialsStocksJointVentures",1062,"in-gaap","false","monetary","debit","duration","item","true",""]
["ContractCost",1063,"in-gaap","false","monetary","debit","duration","item","true",""]
["SiteLabourSupervisionCostContracts",1064,"in-gaap","false","monetary","debit","duration","item","true",""]
["MaterialCostContract",1065,"in-gaap","false","monetary","debit","duration","item","true",""]
["DepreciationAssetsContracts",1066,"in-gaap","false","monetary","debit","duration","item","true",""]
["CostTransportationAssetsContracts",1067,"in-gaap","false","monetary","debit","duration","item","true",""]
["HireChargesAssetsContracts",1068,"in-gaap","false","monetary","debit","duration","item","true",""]
["CostDesignTechnicalAssistanceContracts",1069,"in-gaap","false","monetary","debit","duration","item","true",""]
["WarrantycostContracts",1070,"in-gaap","false","monetary","debit","duration","item","true",""]
["OtherClaimsContracts",1071,"in-gaap","false","monetary","debit","duration","item","true",""]
["SaleMaterialScrapOtherAssetsContracts",1072,"in-gaap","false","monetary","credit","duration","item","true",""]
["OverheadCostsApportionedContracts",1073,"in-gaap","false","monetary","debit","duration","item","true",""]
["InsurancecostApportionedContract",1074,"in-gaap","false","monetary","debit","duration","item","true",""]
["DesignTechnicalAssistanceApportionedContracts",1075,"in-gaap","false","monetary","debit","duration","item","true",""]
["OtherOverheadsApportionedContracts",1076,"in-gaap","false","monetary","debit","duration","item","true",""]
["ManufacturingServiceCosts",1077,"in-gaap","false","monetary","debit","duration","item","true","","This is a mandatory field."]
["CostPowerFuel",1078,"in-gaap","false","monetary","debit","duration","item","true","","This is a mandatory field."]
["CostRepairsMaintenance",1079,"in-gaap","false","monetary","debit","duration","item","true","","This is a mandatory field."]
["CostRepairsMaintenanceFactoryBuilding",1080,"in-gaap","false","monetary","debit","duration","item","true",""]
["CostRepairsMaintenancePlantMachinery",1081,"in-gaap","false","monetary","debit","duration","item","true",""]
["CostRepairsMaintenanceOtherAssets",1082,"in-gaap","false","monetary","debit","duration","item","true",""]
["CostInformationTechnology",1083,"in-gaap","false","monetary","debit","duration","item","true",""]
["CostSoftware",1084,"in-gaap","false","monetary","debit","duration","item","true",""]
["CostHardware",1085,"in-gaap","false","monetary","debit","duration","item","true",""]
["CostCommunicationConnectivity",1086,"in-gaap","false","monetary","debit","duration","item","true",""]
["CostInsurance",1087,"in-gaap","false","monetary","debit","duration","item","true","","This is a mandatory field."]
["CostTransportation",1088,"in-gaap","false","monetary","debit","duration","item","true",""]
["CostFreight",1089,"in-gaap","false","monetary","debit","duration","item","true",""]
["CostOctroi",1090,"in-gaap","false","monetary","debit","duration","item","true",""]
["CostLoadingUnloading",1091,"in-gaap","false","monetary","debit","duration","item","true",""]
["CostOtherTransporting",1092,"in-gaap","false","monetary","debit","duration","item","true",""]
["CostLeaseRentals",1093,"in-gaap","false","monetary","debit","duration","item","true",""]
["CostEffluentDisposal",1094,"in-gaap","false","monetary","debit","duration","item","true",""]
["CostSiteRestorationReclamation",1095,"in-gaap","false","monetary","debit","duration","item","true",""]
["CostWarehousing",1096,"in-gaap","false","monetary","debit","duration","item","true",""]
["CostTaxesOtherLeviesByGovernmentLocalAuthorities",1097,"in-gaap","false","monetary","debit","duration","item","true",""]
["CentralExciseDuty",1098,"in-gaap","false","monetary","debit","duration","item","true",""]
["PurchaseTax",1099,"in-gaap","false","monetary","debit","duration","item","true",""]
["OtherCessTaxes",1100,"in-gaap","false","monetary","debit","duration","item","true",""]
["CostWaterCharges",1101,"in-gaap","false","monetary","debit","duration","item","true",""]
["CostReimbursableExpenses",1102,"in-gaap","false","monetary","debit","duration","item","true",""]
["CostTechnicalServices",1103,"in-gaap","false","monetary","debit","duration","item","true",""]
["OtherManufacturingServiceCosts",1104,"in-gaap","false","monetary","debit","duration","item","true",""]
["AllowancesManufacturingServiceCost",1105,"in-gaap","false","monetary","credit","duration","item","true",""]
["CapitalisationManufacturingServiceCost",1106,"in-gaap","false","monetary","credit","duration","item","true",""]
["ShareManufacturingServiceCostJointVentures",1107,"in-gaap","false","monetary","debit","duration","item","true",""]
["EmployeeRelatedExpenses",1108,"in-gaap","false","monetary","debit","duration","item","true","","This is a mandatory field."]
["EmployeesRemunerationBenefits",1109,"in-gaap","false","monetary","debit","duration","item","true","","This is a mandatory field."]
["SalaryWagesBonus",1110,"in-gaap","false","monetary","debit","duration","item","true","","This is a mandatory field."]
["CommissionEmployees",1111,"in-gaap","false","monetary","debit","duration","item","true",""]
["EmployeeStockCompensationExpenses",1112,"in-gaap","false","monetary","debit","duration","item","true",""]
["EmployeeMedicalInsuranceExpenses",1113,"in-gaap","false","monetary","debit","duration","item","true",""]
["LeaveEncashmentExpenses",1114,"in-gaap","false","monetary","debit","duration","item","true",""]
["RetirementBenefits",1115,"in-gaap","false","monetary","debit","duration","item","true",""]
["Gratuity",1116,"in-gaap","false","monetary","debit","duration","item","true",""]
["PensionSchemes",1117,"in-gaap","false","monetary","debit","duration","item","true",""]
["ProvidentFund",1118,"in-gaap","false","monetary","debit","duration","item","true",""]
["VoluntaryRetirementCompensation",1119,"in-gaap","false","monetary","debit","duration","item","true",""]
["OtherRetirementBenefits",1120,"in-gaap","false","monetary","debit","duration","item","true",""]
["StaffWelfareExpenses",1121,"in-gaap","false","monetary","debit","duration","item","true",""]
["TrainingRecruitmentExpenses",1122,"in-gaap","false","monetary","debit","duration","item","true",""]
["OtherEmployeeRelatedExpenses",1123,"in-gaap","false","monetary","debit","duration","item","true",""]
["CapitalisationEmployeeExpenses",1124,"in-gaap","false","monetary","credit","duration","item","true",""]
["ShareEmployeeRelatedExpensesJointVentures",1125,"in-gaap","false","monetary","debit","duration","item","true",""]
["AdministrativeSellingOtherExpenses",1126,"in-gaap","false","monetary","debit","duration","item","true","","This is a mandatory field."]
["AdministrativeGeneralExpenses",1127,"in-gaap","false","monetary","debit","duration","item","true","","This is a mandatory field."]
["SubscriptionsMembershipFees",1128,"in-gaap","false","monetary","debit","duration","item","true",""]
["ElectricityExpenses",1129,"in-gaap","false","monetary","debit","duration","item","true",""]
["TelephonePostage",1130,"in-gaap","false","monetary","debit","duration","item","true",""]
["PrintingStationery",1131,"in-gaap","false","monetary","debit","duration","item","true",""]
["InformationTechnologyExpenses",1132,"in-gaap","false","monetary","debit","duration","item","true",""]
["TravellingConveyance",1133,"in-gaap","false","monetary","debit","duration","item","true",""]
["CateringCanteenExpenses",1134,"in-gaap","false","monetary","debit","duration","item","true",""]
["EntertainmentExpenses",1135,"in-gaap","false","monetary","debit","duration","item","true",""]
["LegalProfessionalCharges",1136,"in-gaap","false","monetary","debit","duration","item","true",""]
["InsuranceExpenses",1137,"in-gaap","false","monetary","debit","duration","item","true",""]
["RepairsMaintenanceExpenses",1138,"in-gaap","false","monetary","debit","duration","item","true",""]
["VehicleRunningExpenses",1139,"in-gaap","false","monetary","debit","duration","item","true",""]
["RentRatesTaxes",1140,"in-gaap","false","monetary","debit","duration","item","true","","This is a mandatory field."]
["SafetySecurityExpenses",1141,"in-gaap","false","monetary","debit","duration","item","true",""]
["AuditorsRemuneration",1142,"in-gaap","false","monetary","debit","duration","item","true","","This is a mandatory field."]
["AuditFees",1143,"in-gaap","false","monetary","debit","duration","item","true","","This is a mandatory field."]
["ConsultancyFeesAuditors",1144,"in-gaap","false","monetary","debit","duration","item","true","","This is a mandatory field."]
["LegalConsultancyFees",1145,"in-gaap","false","monetary","debit","duration","item","true",""]
["TaxConsultancyFees",1146,"in-gaap","false","monetary","debit","duration","item","true",""]
["ManagementConsultancyFees",1147,"in-gaap","false","monetary","debit","duration","item","true",""]
["OtherConsultancyFees",1148,"in-gaap","false","monetary","debit","duration","item","true",""]
["CertificationFees",1149,"in-gaap","false","monetary","debit","duration","item","true",""]
["ReimbursementAuditorsExpenses",1150,"in-gaap","false","monetary","debit","duration","item","true",""]
["DirectorsSittingFees",1151,"in-gaap","false","monetary","debit","duration","item","true","","This is a mandatory field."]
["RemunerationToDirectors",1152,"in-gaap","false","monetary","debit","duration","item","true",""]
["SalaryToDirectors",1153,"in-gaap","false","monetary","debit","duration","item","true",""]
["CommissionToDirectors",1154,"in-gaap","false","monetary","debit","duration","item","true",""]
["OtherBenefitsToDirectors",1155,"in-gaap","false","monetary","debit","duration","item","true",""]
["DonationsSubscriptions",1156,"in-gaap","false","monetary","debit","duration","item","true",""]
["BooksPeriodicals",1157,"in-gaap","false","monetary","debit","duration","item","true",""]
["SeminarsConferenceExpenses",1158,"in-gaap","false","monetary","debit","duration","item","true",""]
["RegistrationFilingFees",1159,"in-gaap","false","monetary","debit","duration","item","true",""]
["CustodialFees",1160,"in-gaap","false","monetary","debit","duration","item","true",""]
["BankCharges",1161,"in-gaap","false","monetary","debit","duration","item","true",""]
["GuestHouseExpenses",1162,"in-gaap","false","monetary","debit","duration","item","true",""]
["OtherAdministrativeGeneralExpenses",1163,"in-gaap","false","monetary","debit","duration","item","true",""]
["SellingDistributionExpenses",1164,"in-gaap","false","monetary","debit","duration","item","true","","This is a mandatory field."]
["AdvertisingPromotionalExpenses",1165,"in-gaap","false","monetary","debit","duration","item","true",""]
["AfterSalesServiceExpenses",1166,"in-gaap","false","monetary","debit","duration","item","true",""]
["WarrantyClaimExpenses",1167,"in-gaap","false","monetary","debit","duration","item","true",""]
["CommissionPaidSoleSellingAgents",1168,"in-gaap","false","monetary","debit","duration","item","true",""]
["CommissionPaidOtherSellingAgents",1169,"in-gaap","false","monetary","debit","duration","item","true",""]
["TransportationDistributionExpenses",1170,"in-gaap","false","monetary","debit","duration","item","true",""]
["SecondaryPackingExpenses",1171,"in-gaap","false","monetary","debit","duration","item","true",""]
["OtherSellingDistributionExpenses",1172,"in-gaap","false","monetary","debit","duration","item","true",""]
["NetProvisionsCharged",1173,"in-gaap","false","monetary","debit","duration","item","true",""]
["ProvisionBadDoubtfulDebtsAdvancesCreated",1174,"in-gaap","false","monetary","debit","duration","item","true",""]
["ExcessProvisionsBadDoubtfulDebtsAdvancesWrittenback",1175,"in-gaap","false","monetary","credit","duration","item","true",""]
["ProvisionDiminutionValueInvestmentsCreated",1176,"in-gaap","false","monetary","debit","duration","item","true",""]
["ProvisionDiminutionValueCurrentInvestmentsCreated",1177,"in-gaap","false","monetary","debit","duration","item","true",""]
["ProvisionDiminutionValueLongTermInvestmentsCreated",1178,"in-gaap","false","monetary","debit","duration","item","true",""]
["ExcessProvisionDiminutioninValueInvestmentWrittenback",1179,"in-gaap","false","monetary","credit","duration","item","true",""]
["ProvisionContingenciesCreated",1180,"in-gaap","false","monetary","debit","duration","item","true",""]
["ProvisionWarrantyClaimsCreated",1181,"in-gaap","false","monetary","debit","duration","item","true",""]
["ProvisionStatutoryLiabilitiesCreated",1182,"in-gaap","false","monetary","debit","duration","item","true",""]
["ProvisionRestructuringCreated",1183,"in-gaap","false","monetary","debit","duration","item","true",""]
["OtherProvisionsCreated",1184,"in-gaap","false","monetary","debit","duration","item","true",""]
["OtherExcessProvisionsWrittenback",1185,"in-gaap","false","monetary","credit","duration","item","true",""]
["WriteoffAssetsLiabilities",1186,"in-gaap","false","monetary","debit","duration","item","true",""]
["MiscellaneousExpenditureWrittenoff",1187,"in-gaap","false","monetary","debit","duration","item","true",""]
["DeferredRevenueExpenditureWrittenoff",1188,"in-gaap","false","monetary","debit","duration","item","true",""]
["PreliminaryExpensesWrittenoff",1189,"in-gaap","false","monetary","debit","duration","item","true",""]
["SharesDebenturesIssueWrittenoff",1190,"in-gaap","false","monetary","debit","duration","item","true",""]
["ShareIssueExpensesWrittenoff",1191,"in-gaap","false","monetary","debit","duration","item","true",""]
["DebentureIssueExpensesWrittenoff",1192,"in-gaap","false","monetary","debit","duration","item","true",""]
["DiscountIssueSharesDebenturesWrittenoff",1193,"in-gaap","false","monetary","debit","duration","item","true",""]
["DiscountIssueSharesWrittenoff",1194,"in-gaap","false","monetary","debit","duration","item","true",""]
["DiscountIssueDebenturesWrittenoff",1195,"in-gaap","false","monetary","debit","duration","item","true",""]
["FinancingChargesWrittenoff",1196,"in-gaap","false","monetary","debit","duration","item","true",""]
["VoluntaryRetirementCompensationWrittenoff",1197,"in-gaap","false","monetary","debit","duration","item","true",""]
["TechnicalKnowhowWrittenoff",1198,"in-gaap","false","monetary","debit","duration","item","true",""]
["OtherMiscellaneousExpenditureWrittenoff",1199,"in-gaap","false","monetary","debit","duration","item","true",""]
["FixedAssetsWrittenoff",1200,"in-gaap","false","monetary","debit","duration","item","true",""]
["InventoriesWrittenoff",1201,"in-gaap","false","monetary","debit","duration","item","true",""]
["InvestmentsWrittenoff",1202,"in-gaap","false","monetary","debit","duration","item","true",""]
["BadDebtsAdvancesWrittenoff",1203,"in-gaap","false","monetary","debit","duration","item","true","","This is a mandatory field."]
["OtherAssetsWrittenoff",1204,"in-gaap","false","monetary","debit","duration","item","true",""]
["LiabilitiesWrittenoff",1205,"in-gaap","false","monetary","credit","duration","item","true",""]
["ForeignExchangeDifferenceExpense",1206,"in-gaap","false","monetary","debit","duration","item","true",""]
["LossSaleRedemptionInvestments",1207,"in-gaap","false","monetary","debit","duration","item","true",""]
["LossSaleLongTermInvestments",1208,"in-gaap","false","monetary","debit","duration","item","true",""]
["LossSaleCurrentInvestments",1209,"in-gaap","false","monetary","debit","duration","item","true",""]
["LossSaleDisposalFixedAssets",1210,"in-gaap","false","monetary","debit","duration","item","true",""]
["LossSaleDisposalTangibleFixedAssets",1211,"in-gaap","false","monetary","debit","duration","item","true",""]
["LossSaleDisposalIntangibleFixedAssets",1212,"in-gaap","false","monetary","debit","duration","item","true",""]
["OtherExpenditure",1213,"in-gaap","false","monetary","debit","duration","item","true",""]
["AllowancesAdministrationSellingExpenses",1214,"in-gaap","false","monetary","credit","duration","item","true",""]
["CapitalisationAdministrationSellingExpenses",1215,"in-gaap","false","monetary","credit","duration","item","true",""]
["ShareAdministrationSellingExpensesJointVentures",1216,"in-gaap","false","monetary","debit","duration","item","true",""]
["ResearchDevelopmentExpenditure",1217,"in-gaap","false","monetary","debit","duration","item","true",""]
["CostMaterialResearchDevelopment",1218,"in-gaap","false","monetary","debit","duration","item","true",""]
["CostLabourResearchDevelopment",1219,"in-gaap","false","monetary","debit","duration","item","true",""]
["CostTestingTrialResearchDevelopment",1220,"in-gaap","false","monetary","debit","duration","item","true",""]
["AdministrationGeneralExpensesResearchDevelopment",1221,"in-gaap","false","monetary","debit","duration","item","true",""]
["DepreciationAmortisationResearchDevelopment",1222,"in-gaap","false","monetary","debit","duration","item","true",""]
["OtherAdjustmentsResearchDevelopment",1223,"in-gaap","false","monetary","debit","duration","item","true",""]
["CapitalisationResearchDevelopmentExpenditure",1224,"in-gaap","false","monetary","credit","duration","item","true",""]
["DepreciationAmortisationImpairment",1225,"in-gaap","false","monetary","debit","duration","item","true",""]
["DepreciationAmortisationExpenses",1226,"in-gaap","false","monetary","debit","duration","item","true",""]
["DepreciationTangibleAssets",1227,"in-gaap","false","monetary","debit","duration","item","true",""]
["AmortisationIntangibleAssets",1228,"in-gaap","false","monetary","debit","duration","item","true",""]
["DepreciationAdjustedAgainstRevaluationReserve",1229,"in-gaap","false","monetary","credit","duration","item","true",""]
["DepreciationAmortisationWrittenback",1230,"in-gaap","false","monetary","credit","duration","item","true",""]
["ImpairmentFixedAssets",1231,"in-gaap","false","monetary","debit","duration","item","true",""]
["ImpairmentTangibleFixedAssets",1232,"in-gaap","false","monetary","debit","duration","item","true",""]
["ImpairmentIntangibleFixedAssets",1233,"in-gaap","false","monetary","debit","duration","item","true",""]
["ReversalImpairmentFixedAssets",1234,"in-gaap","false","monetary","credit","duration","item","true",""]
["ReversalImpairmentTangibleFixedAssets",1235,"in-gaap","false","monetary","credit","duration","item","true",""]
["ReversalImpairmentIntangibleFixedAssets",1236,"in-gaap","false","monetary","credit","duration","item","true",""]
["OtherWritedownAssets",1237,"in-gaap","false","monetary","debit","duration","item","true",""]
["ReversalOtherWritedownAssets",1238,"in-gaap","false","monetary","credit","duration","item","true",""]
["ShareDepreciationAmortisationImpairmentJointVentures",1239,"in-gaap","false","monetary","debit","duration","item","true",""]
["InterestFinancialCharges",1240,"in-gaap","false","monetary","debit","duration","item","true","","This is a mandatory field."]
["InterestExpenseBorrowings",1241,"in-gaap","false","monetary","debit","duration","item","true",""]
["InterestExpenseLongTermLoans",1242,"in-gaap","false","monetary","debit","duration","item","true",""]
["InterestExpenseLongTermLoansBanks",1243,"in-gaap","false","monetary","debit","duration","item","true",""]
["InterestExpenseLongTermLoansOthers",1244,"in-gaap","false","monetary","debit","duration","item","true",""]
["InterestExpenseShortTermLoans",1245,"in-gaap","false","monetary","debit","duration","item","true",""]
["InterestExpenseShortTermLoansBanks",1246,"in-gaap","false","monetary","debit","duration","item","true",""]
["InterestExpenseShortTermLoansOthers",1247,"in-gaap","false","monetary","debit","duration","item","true",""]
["InterestExpenseDeposits",1248,"in-gaap","false","monetary","debit","duration","item","true",""]
["InterestExpenseDebtSecurities",1249,"in-gaap","false","monetary","debit","duration","item","true",""]
["InterestExpenseOtherBorrowings",1250,"in-gaap","false","monetary","debit","duration","item","true",""]
["InterestLeaseFinancing",1251,"in-gaap","false","monetary","debit","duration","item","true",""]
["OtherInterestCharges",1252,"in-gaap","false","monetary","debit","duration","item","true",""]
["DiscountingCharges",1253,"in-gaap","false","monetary","debit","duration","item","true",""]
["GuaranteeCommission",1254,"in-gaap","false","monetary","debit","duration","item","true",""]
["OtherFinancingCharges",1255,"in-gaap","false","monetary","debit","duration","item","true",""]
["ExchangeDifferenceInterestFinancialCharges",1256,"in-gaap","false","monetary","debit","duration","item","true",""]
["CapitalisationInterestFinancialExpenses",1257,"in-gaap","false","monetary","credit","duration","item","true",""]
["CapitalisationSpecificInterestFinancialExpenses",1258,"in-gaap","false","monetary","credit","duration","item","true",""]
["CapitalisationGeneralInterestFinancialExpenses",1259,"in-gaap","false","monetary","credit","duration","item","true",""]
["ShareInterestFinancialChargesJointVentures",1260,"in-gaap","false","monetary","debit","duration","item","true",""]
["Appropriations",1261,"in-gaap","false","monetary","debit","duration","item","true",""]
["AppropriationsReserves",1262,"in-gaap","false","monetary","debit","duration","item","true",""]
["AppropriationsGeneralReserve",1263,"in-gaap","false","monetary","debit","duration","item","true",""]
["AppropriationsStatutoryReserve",1264,"in-gaap","false","monetary","debit","duration","item","true",""]
["AppropriationsCapitalReserve",1265,"in-gaap","false","monetary","debit","duration","item","true",""]
["AppropriationsCapitalRedemptionReserve",1266,"in-gaap","false","monetary","debit","duration","item","true",""]
["AppropriationsDebentureRedemptionReserve",1267,"in-gaap","false","monetary","debit","duration","item","true",""]
["AppropriationsOtherReserves",1268,"in-gaap","false","monetary","debit","duration","item","true",""]
["AppropriationsEquityDividend",1269,"in-gaap","false","monetary","debit","duration","item","true",""]
["AppropriationsInterimDividend",1270,"in-gaap","false","monetary","debit","duration","item","true",""]
["AppropriationsFinalDividend",1271,"in-gaap","false","monetary","debit","duration","item","true",""]
["AppropriationsPreferredDividend",1272,"in-gaap","false","monetary","debit","duration","item","true",""]
["AppropriationsSpecialDividend",1273,"in-gaap","false","monetary","debit","duration","item","true",""]
["AppropriationsDividendDistributionTax",1274,"in-gaap","false","monetary","debit","duration","item","true",""]
["AppropriationsEquityDividendDistributionTax",1275,"in-gaap","false","monetary","debit","duration","item","true",""]
["AppropriationsPreferenceDividendDistributionTax",1276,"in-gaap","false","monetary","debit","duration","item","true",""]
["AmountsTransferredReserves",1277,"in-gaap","false","monetary","credit","duration","item","true",""]
["AmountTransferredfromGeneralReserve",1278,"in-gaap","false","monetary","credit","duration","item","true",""]
["AmountTransferredfromCapitalReserves",1279,"in-gaap","false","monetary","credit","duration","item","true",""]
["AmountTransferredSpecialSource",1280,"in-gaap","false","monetary","credit","duration","item","true",""]
["AmountsTransferredfromOtherReserves",1281,"in-gaap","false","monetary","credit","duration","item","true",""]
["DomesticTurnoverGoodsGross",1282,"in-gaap","false","monetary","credit","duration","item","true",""]
["DomesticSaleManufacturedGoods",1283,"in-gaap","false","monetary","credit","duration","item","true",""]
["DomesticSaleTradedGoods",1284,"in-gaap","false","monetary","credit","duration","item","true",""]
["ExportTurnoverGoodsGross",1285,"in-gaap","false","monetary","credit","duration","item","true",""]
["ExportSaleManufacturedGoods",1286,"in-gaap","false","monetary","credit","duration","item","true",""]
["ExportsaleTradedgoods",1287,"in-gaap","false","monetary","credit","duration","item","true",""]
["DomesticRevenueServices",1288,"in-gaap","false","monetary","credit","duration","item","true",""]
["ExportRevenueServices",1289,"in-gaap","false","monetary","credit","duration","item","true",""]
["RevenueDomesticContracts",1290,"in-gaap","false","monetary","credit","duration","item","true",""]
["RevenueForeignContracts",1291,"in-gaap","false","monetary","credit","duration","item","true",""]
["ProfitLossDiscontinuingOperationsNet",1292,"in-gaap","false","monetary","debit","duration","item","true",""]
["ProfitLossDiscontinuingOperationsGross",1293,"in-gaap","false","monetary","","duration","item","true",""]
["TaxEffectIncomeLossDiscontinuingOperations",1294,"in-gaap","false","monetary","","duration","item","true",""]
["TaxEffectSaleDisposalDiscontinuingOperations",1295,"in-gaap","false","monetary","","duration","item","true",""]
["ReceiptIncomeInvestmentsTrade",1296,"in-gaap","false","monetary","credit","duration","item","true",""]
["ReceiptIncomeInvestmentsNontrade",1297,"in-gaap","false","monetary","credit","duration","item","true",""]
["CapitalisationExpenses",1298,"in-gaap","false","monetary","credit","duration","item","true",""]
["AverageNumberSharesforDilutedEarningsPerShare",1299,"in-gaap","false","shares","","duration","item","true","","Should be greater than or equal to zero"]
["AverageNumberSharesforBasicEarningsPerShare",1300,"in-gaap","false","shares","","duration","item","true","","Should be greater than or equal to zero"]
["AdjustmentAverageNumberShares",1301,"in-gaap","false","shares","","duration","item","true","","Should be greater than or equal to zero"]
["StockRawMaterials",1302,"in-gaap","false","monetary","debit","instant","item","true",""]
["PurchaseRawMaterialsDuringYear",1303,"in-gaap","false","monetary","debit","duration","item","true",""]
["IncidentalExpensesPurchaseRawMaterial",1304,"in-gaap","false","monetary","debit","duration","item","true",""]
["TransferSaleRawMaterials",1305,"in-gaap","false","monetary","credit","duration","item","true",""]
["ReturnRawMaterialsPurchased",1306,"in-gaap","false","monetary","credit","duration","item","true",""]
["AdjustmentsRawMaterials",1307,"in-gaap","false","monetary","","duration","item","true",""]
["StockPackingMaterials",1308,"in-gaap","false","monetary","debit","instant","item","true",""]
["PurchasePackingMaterialsDuringYear",1309,"in-gaap","false","monetary","debit","duration","item","true",""]
["StockStoresSpares",1310,"in-gaap","false","monetary","debit","instant","item","true",""]
["PurchaseStoresSparesDuringYear",1311,"in-gaap","false","monetary","debit","duration","item","true",""]
["StockOtherMaterials",1312,"in-gaap","false","monetary","debit","instant","item","true",""]
["PurchaseOtherMaterialsDuringYear",1313,"in-gaap","false","monetary","debit","duration","item","true",""]
["StockTradedGoods",1314,"in-gaap","false","monetary","debit","instant","item","true",""]
["PurchaseTradedGoodsDuringYear",1315,"in-gaap","false","monetary","debit","duration","item","true",""]
["StockFinishedGoods",1316,"in-gaap","false","monetary","debit","instant","item","true",""]
["StockWorkinProgress",1317,"in-gaap","false","monetary","debit","instant","item","true",""]
["StockOtherInventories",1318,"in-gaap","false","monetary","debit","instant","item","true",""]
["AmountAvailableAppropriations",1319,"in-gaap","false","monetary","credit","duration","item","true",""]
["ProfitLossBalance",1320,"in-gaap","false","monetary","credit","instant","item","true","","This is a mandatory field."]
["ExcessProvisionsWrittenBack",1321,"in-gaap","false","monetary","credit","duration","item","true",""]
["IncomeStatementMainAbstract",1322,"in-gaap","true","string","","duration","item","true","","Income Statement Main shall be applicable in case Type of Income Statement is selected as Main. The mandatory fields within this will be validated if this type of income statement is applicable."]
["TotalIncomeAbstract",1323,"in-gaap","true","string","","duration","item","true",""]
["OperatingRevenueNetAbstract",1324,"in-gaap","true","string","","duration","item","true",""]
["OperatingRevenueGrossAbstract",1325,"in-gaap","true","string","","duration","item","true",""]
["RevenueSaleGoodsGrossAbstract",1326,"in-gaap","true","string","","duration","item","true",""]
["RevenueServicesGrossAbstract",1327,"in-gaap","true","string","","duration","item","true",""]
["RevenueLogisticsTransportServicesAbstract",1328,"in-gaap","true","string","","duration","item","true",""]
["RevenueInformationTechnologyServicesAbstract",1329,"in-gaap","true","string","","duration","item","true",""]
["RevenueIntangibleAssetsAbstract",1330,"in-gaap","true","string","","duration","item","true",""]
["DutiesTaxesCollectedAbstract",1331,"in-gaap","true","string","","duration","item","true",""]
["OtherIncomeAbstract",1332,"in-gaap","true","string","","duration","item","true",""]
["ReceiptIncomeInvestmentsAbstract",1333,"in-gaap","true","string","","duration","item","true",""]
["ReceiptIncomeLongTermInvestmentsAbstract",1334,"in-gaap","true","string","","duration","item","true",""]
["ReceiptInterestLongTermInvestmentsAbstract",1335,"in-gaap","true","string","","duration","item","true",""]
["ReceiptDividendLongTermInvestmentsAbstract",1336,"in-gaap","true","string","","duration","item","true",""]
["ReceiptIncomeCurrentInvestmentsAbstract",1337,"in-gaap","true","string","","duration","item","true",""]
["ReceiptInterestCurrentInvestmentsAbstract",1338,"in-gaap","true","string","","duration","item","true",""]
["ReceiptsDividendCurrentInvestmentsAbstract",1339,"in-gaap","true","string","","duration","item","true",""]
["ProfitSaleRedemptionInvestmentsAbstract",1340,"in-gaap","true","string","","duration","item","true",""]
["ProfitSaleDisposalFixedAssetsAbstract",1341,"in-gaap","true","string","","duration","item","true",""]
["ReceiptsIntangibleAssetsAbstract",1342,"in-gaap","true","string","","duration","item","true",""]
["TotalExpenditureAbstract",1343,"in-gaap","true","string","","duration","item","true",""]
["ConsumptionMaterialsChangesInventoriesAbstract",1344,"in-gaap","true","string","","duration","item","true",""]
["ConsumptionRawOtherMaterialsAbstract",1345,"in-gaap","true","string","","duration","item","true",""]
["ConsumptionRawMaterialsAbstract",1346,"in-gaap","true","string","","duration","item","true",""]
["ConsumptionPackingMaterialsAbstract",1347,"in-gaap","true","string","","duration","item","true",""]
["ConsumptionStoresSparesAbstract",1348,"in-gaap","true","string","","duration","item","true",""]
["ConsumptionOtherMaterialsAbstract",1349,"in-gaap","true","string","","duration","item","true",""]
["CostTradedGoodsAbstract",1350,"in-gaap","true","string","","duration","item","true",""]
["IncreaseDecreaseInventoriesAbstract",1351,"in-gaap","true","string","","duration","item","true",""]
["IncreaseDecreaseFinishedGoodsAbstract",1352,"in-gaap","true","string","","duration","item","true",""]
["IncreaseDecreaseWorkinProgressAbstract",1353,"in-gaap","true","string","","duration","item","true",""]
["IncreaseDecreaseOtherInventoriesAbstract",1354,"in-gaap","true","string","","duration","item","true",""]
["ContractCostAbstract",1355,"in-gaap","true","string","","duration","item","true",""]
["OverheadCostsApportionedContractsAbstract",1356,"in-gaap","true","string","","duration","item","true",""]
["ManufacturingOtherOperatingExpensesAbstract",1357,"in-gaap","true","string","","duration","item","true",""]
["ManufacturingServiceCostsAbstract",1358,"in-gaap","true","string","","duration","item","true",""]
["CostRepairsMaintenanceAbstract",1359,"in-gaap","true","string","","duration","item","true",""]
["CostInformationTechnologyAbstract",1360,"in-gaap","true","string","","duration","item","true",""]
["CostTransportationAbstract",1361,"in-gaap","true","string","","duration","item","true",""]
["CostTaxesOtherLeviesByGovernmentLocalAuthoritiesAbstract",1362,"in-gaap","true","string","","duration","item","true",""]
["EmployeeRelatedExpensesAbstract",1363,"in-gaap","true","string","","duration","item","true",""]
["EmployeesRemunerationBenefitsAbstract",1364,"in-gaap","true","string","","duration","item","true",""]
["RetirementBenefitsAbstract",1365,"in-gaap","true","string","","duration","item","true",""]
["AdministrativeSellingOtherExpensesAbstract",1366,"in-gaap","true","string","","duration","item","true",""]
["AdministrativeGeneralExpensesAbstract",1367,"in-gaap","true","string","","duration","item","true",""]
["AuditorsRemunerationAbstract",1368,"in-gaap","true","string","","duration","item","true",""]
["ConsultancyFeesAuditorsAbstract",1369,"in-gaap","true","string","","duration","item","true",""]
["RemunerationToDirectorsAbstract",1370,"in-gaap","true","string","","duration","item","true",""]
["SellingDistributionExpensesAbstract",1371,"in-gaap","true","string","","duration","item","true",""]
["NetProvisionsChargedAbstract",1372,"in-gaap","true","string","","duration","item","true",""]
["WriteoffAssetsLiabilitiesAbstract",1373,"in-gaap","true","string","","duration","item","true",""]
["MiscellaneousExpenditureWrittenoffAbstract",1374,"in-gaap","true","string","","duration","item","true",""]
["SharesDebenturesIssueWrittenoffAbstract",1375,"in-gaap","true","string","","duration","item","true",""]
["DiscountIssueSharesDebenturesWrittenoffAbstract",1376,"in-gaap","true","string","","duration","item","true",""]
["LossSaleRedemptionInvestmentsAbstract",1377,"in-gaap","true","string","","duration","item","true",""]
["LossSaleDisposalFixedAssetsAbstract",1378,"in-gaap","true","string","","duration","item","true",""]
["ResearchDevelopmentExpenditureAbstract",1379,"in-gaap","true","string","","duration","item","true",""]
["DepreciationAmortisationImpairmentAbstract",1380,"in-gaap","true","string","","duration","item","true",""]
["DepreciationAmortisationExpensesAbstract",1381,"in-gaap","true","string","","duration","item","true",""]
["ImpairmentFixedAssetsAbstract",1382,"in-gaap","true","string","","duration","item","true",""]
["ReversalImpairmentFixedAssetsAbstract",1383,"in-gaap","true","string","","duration","item","true",""]
["InterestFinancialChargesAbstract",1384,"in-gaap","true","string","","duration","item","true",""]
["InterestExpenseBorrowingsAbstract",1385,"in-gaap","true","string","","duration","item","true",""]
["InterestExpenseLongTermLoansAbstract",1386,"in-gaap","true","string","","duration","item","true",""]
["InterestExpenseShortTermLoansAbstract",1387,"in-gaap","true","string","","duration","item","true",""]
["CapitalisationInterestFinancialExpensesAbstract",1388,"in-gaap","true","string","","duration","item","true",""]
["ExceptionalItemsNetAbstract",1389,"in-gaap","true","string","","duration","item","true",""]
["IncomeLossDiscontinuingOperationsAbstract",1390,"in-gaap","true","string","","duration","item","true",""]
["ProvisionTaxationAbstract",1391,"in-gaap","true","string","","duration","item","true",""]
["ExtraordinaryItemsNetTaxAbstract",1392,"in-gaap","true","string","","duration","item","true",""]
["PriorPeriodItemsNetTaxAbstract",1393,"in-gaap","true","string","","duration","item","true",""]
["ShareEarningsAssociatesJointVenturesAbstract",1394,"in-gaap","true","string","","duration","item","true",""]
["AmountsTransferredReservesAbstract",1395,"in-gaap","true","string","","duration","item","true",""]
["AppropriationsAbstract",1396,"in-gaap","true","string","","duration","item","true",""]
["AppropriationsReservesAbstract",1397,"in-gaap","true","string","","duration","item","true",""]
["AppropriationsEquityDividendAbstract",1398,"in-gaap","true","string","","duration","item","true",""]
["AppropriationsDividendDistributionTaxAbstract",1399,"in-gaap","true","string","","duration","item","true",""]
["DilutedEarningsPerShareAbstract",1400,"in-gaap","true","string","","duration","item","true",""]
["AverageNumberSharesForEarningsPerShareAbstract",1401,"in-gaap","true","string","","duration","item","true",""]
["IncomeStatementAlternativeAbstract",1402,"in-gaap","true","string","","duration","item","true","","Income Statement Alternative shall be applicable in case Type of Income Statement is selected as Alternative. The mandatory fields within this will be validated if this type of income statement is applicable."]
["GrossProfitAbstract",1403,"in-gaap","true","string","","duration","item","true",""]
["CostGoodsServicesAbstract",1404,"in-gaap","true","string","","duration","item","true",""]
["TaxEffectDiscontinuingOperationsAbstract",1405,"in-gaap","true","string","","duration","item","true",""]
["DomesticTurnoverGoodsGrossAbstract",1406,"in-gaap","true","string","","duration","item","true",""]
["ExportTurnoverGoodsGrossAbstract",1407,"in-gaap","true","string","","duration","item","true",""]
["RevenueContractAbstract",1408,"in-gaap","true","string","","duration","item","true",""]
["ProfitLossDiscontinuingOperationsNetAbstract",1409,"in-gaap","true","string","","duration","item","true",""]
["ProfitLossDiscontinuingOperationsGrossAbstract",1410,"in-gaap","true","string","","duration","item","true",""]
["CapitalisationExpensesAbstract",1411,"in-gaap","true","string","","duration","item","true",""]
["NetIncreaseDecreaseCashCashEquivalents",1412,"in-gaap","false","monetary","","duration","item","true",""]
["NetCashFlowfromUsedinOperatingActivities",1413,"in-gaap","false","monetary","","duration","item","true",""]
["CashfromGeneratedOperations",1414,"in-gaap","false","monetary","","duration","item","true",""]
["OperatingProfitLossbeforeChangesWorkingCapital",1415,"in-gaap","false","monetary","","duration","item","true",""]
["NetProfitLossbeforeTaxExtraordinaryItems",1416,"in-gaap","false","monetary","credit","duration","item","true",""]
["AdjustmentsProfitLossOperations",1417,"in-gaap","false","monetary","","duration","item","true",""]
["AdjustmentDepreciationDepletionAmortisation",1418,"in-gaap","false","monetary","debit","duration","item","true",""]
["AdjustmentDepreciation",1419,"in-gaap","false","monetary","debit","duration","item","true",""]
["AdjustmentAmortisation",1420,"in-gaap","false","monetary","debit","duration","item","true",""]
["AdjustmentDepletion",1421,"in-gaap","false","monetary","debit","duration","item","true",""]
["AdjustmentImpairmentLoss",1422,"in-gaap","false","monetary","debit","duration","item","true",""]
["AdjustmentWriteoffAssetsLiabilities",1423,"in-gaap","false","monetary","","duration","item","true",""]
["AdjustmentWriteoffFixedAssets",1424,"in-gaap","false","monetary","debit","duration","item","true",""]
["AdjustmentWriteoffInvestment",1425,"in-gaap","false","monetary","debit","duration","item","true",""]
["AdjustmentWriteoffInventory",1426,"in-gaap","false","monetary","debit","duration","item","true",""]
["AdjustmentWriteoffBadDebts",1427,"in-gaap","false","monetary","debit","duration","item","true",""]
["AdjustmentWriteoffAdvances",1428,"in-gaap","false","monetary","debit","duration","item","true",""]
["AdjustmentWriteoffMiscellaneousExpenditure",1429,"in-gaap","false","monetary","debit","duration","item","true",""]
["AdjustmentWriteoffOtherAssets",1430,"in-gaap","false","monetary","debit","duration","item","true",""]
["AdjustmentLiabilitiesWrittenoff",1431,"in-gaap","false","monetary","credit","duration","item","true",""]
["AdjustmentProvisionsNet",1432,"in-gaap","false","monetary","","duration","item","true",""]
["AdjustmentProvisionDoubtfulDebtsAdvances",1433,"in-gaap","false","monetary","debit","duration","item","true",""]
["AdjustmentProvisionDoubtfulDebtsAdvancesWrittenback",1434,"in-gaap","false","monetary","credit","duration","item","true",""]
["AdjustmentProvisionDiminutionValueInvestments",1435,"in-gaap","false","monetary","debit","duration","item","true",""]
["AdjustmentProvisionDiminutionValueInvestmentsWrittenback",1436,"in-gaap","false","monetary","credit","duration","item","true",""]
["AdjustmentProvisionEmployeeBenefits",1437,"in-gaap","false","monetary","debit","duration","item","true",""]
["AdjustmentProvisionWarrantyExpenses",1438,"in-gaap","false","monetary","debit","duration","item","true",""]
["AdjustmentProvisionIncomeTax",1439,"in-gaap","false","monetary","debit","duration","item","true",""]
["AdjustmentOtherProvisionsContingencies",1440,"in-gaap","false","monetary","debit","duration","item","true",""]
["AdjustmentOtherProvisionsContingenciesWrittenback",1441,"in-gaap","false","monetary","credit","duration","item","true",""]
["AdjustmentEmployeeCompensation",1442,"in-gaap","false","monetary","debit","duration","item","true",""]
["AdjustmentEmployeeStockOptionPlan",1443,"in-gaap","false","monetary","debit","duration","item","true",""]
["AdjustmentEmployeeSeparationCompensation",1444,"in-gaap","false","monetary","debit","duration","item","true",""]
["AdjustmentOtherEmployeeCompensation",1445,"in-gaap","false","monetary","debit","duration","item","true",""]
["AdjustmentGainLossSaleDisposalFixedAssets",1446,"in-gaap","false","monetary","","duration","item","true",""]
["AdjustmentGainLossSaleRedemptionInvestments",1447,"in-gaap","false","monetary","","duration","item","true",""]
["AdjustmentGainLossSaleDisposalBusinessUndertaking",1448,"in-gaap","false","monetary","","duration","item","true",""]
["AdjustmentGainLossForeignExchangeFluctuations",1449,"in-gaap","false","monetary","","duration","item","true",""]
["AdjustmentGainLossDerivativeTransactions",1450,"in-gaap","false","monetary","","duration","item","true",""]
["AdjustmentShareJointVentureInterests",1451,"in-gaap","false","monetary","","duration","item","true",""]
["AdjustmentShareAssociates",1452,"in-gaap","false","monetary","","duration","item","true",""]
["AdjustmentShareDebtIssueExpenses",1453,"in-gaap","false","monetary","debit","duration","item","true",""]
["AdjustmentInterestExpense",1454,"in-gaap","false","monetary","debit","duration","item","true",""]
["AdjustmentInterestDividendIncome",1455,"in-gaap","false","monetary","credit","duration","item","true",""]
["AdjustmentInterestReceived",1456,"in-gaap","false","monetary","credit","duration","item","true",""]
["AdjustmentInterestLongTermInvestments",1457,"in-gaap","false","monetary","credit","duration","item","true",""]
["AdjustmentInterestCurrentInvestments",1458,"in-gaap","false","monetary","credit","duration","item","true",""]
["AdjustmentInterestIncomeTaxRefund",1459,"in-gaap","false","monetary","credit","duration","item","true",""]
["AdjustmentDividendReceived",1460,"in-gaap","false","monetary","credit","duration","item","true",""]
["AdjustmentDividendReceivedSubsidiaries",1461,"in-gaap","false","monetary","credit","duration","item","true",""]
["AdjustmentDividendReceivedOtherInvestments",1462,"in-gaap","false","monetary","credit","duration","item","true",""]
["AdjustmentBadDebtsRecovered",1463,"in-gaap","false","monetary","credit","duration","item","true",""]
["AdjustmentIncomeLossDiscontinuingOperations",1464,"in-gaap","false","monetary","","duration","item","true",""]
["OtherNonoperatingNoncashAdjustments",1465,"in-gaap","false","monetary","","duration","item","true",""]
["ChangesWorkingCapital",1466,"in-gaap","false","monetary","","duration","item","true",""]
["ChangesCurrentAssetsLoansAdvances",1467,"in-gaap","false","monetary","","duration","item","true",""]
["ChangesInventories",1468,"in-gaap","false","monetary","","duration","item","true",""]
["ChangesSundryDebtors",1469,"in-gaap","false","monetary","","duration","item","true",""]
["ChangesOtherCurrentAssets",1470,"in-gaap","false","monetary","","duration","item","true",""]
["ChangesLoansAdvances",1471,"in-gaap","false","monetary","","duration","item","true",""]
["ChangesAssetsHeldDisposal",1472,"in-gaap","false","monetary","","duration","item","true",""]
["ChangesAdvanceTax",1473,"in-gaap","false","monetary","","duration","item","true",""]
["ChangesPrepaidExpenses",1474,"in-gaap","false","monetary","","duration","item","true",""]
["ChangesAmountReceivableRelatedParties",1475,"in-gaap","false","monetary","","duration","item","true",""]
["ChangesCurrentLiabilitiesProvisions",1476,"in-gaap","false","monetary","","duration","item","true",""]
["ChangesTradeOtherPayables",1477,"in-gaap","false","monetary","","duration","item","true",""]
["ChangesTradePayables",1478,"in-gaap","false","monetary","","duration","item","true",""]
["ChangesOtherPayables",1479,"in-gaap","false","monetary","","duration","item","true",""]
["ChangesAdvancesReceived",1480,"in-gaap","false","monetary","","duration","item","true",""]
["ChangesIncomeTaxPayable",1481,"in-gaap","false","monetary","","duration","item","true",""]
["ChangesAmountsDueRelatedParties",1482,"in-gaap","false","monetary","","duration","item","true",""]
["ChangesOtherLiabilities",1483,"in-gaap","false","monetary","","duration","item","true",""]
["ChangesProvisions",1484,"in-gaap","false","monetary","","duration","item","true",""]
["DirectTaxesPaidRefunded",1485,"in-gaap","false","monetary","","duration","item","true",""]
["AdjustmentPriorPeriodExtraordinaryItems",1486,"in-gaap","false","monetary","","duration","item","true",""]
["AdjustmentGainLossSaleDisposalFixedAssetExtraordinary",1487,"in-gaap","false","monetary","","duration","item","true",""]
["AdjustmentGainLossSaleRedemptionInvestmentExtraordinary",1488,"in-gaap","false","monetary","","duration","item","true",""]
["AdjustmentGainLossForeignExchangeExtraordinary",1489,"in-gaap","false","monetary","","duration","item","true",""]
["AdjustmentEmployeeExpensesBenefitsExtraordinary",1490,"in-gaap","false","monetary","","duration","item","true",""]
["AdjustmentRestructuringCosts",1491,"in-gaap","false","monetary","","duration","item","true",""]
["AdjustmentLossAccountNaturalCalamity",1492,"in-gaap","false","monetary","","duration","item","true",""]
["AdjustmentOtherExtraordinaryItems",1493,"in-gaap","false","monetary","","duration","item","true",""]
["NetCashFlowUsedinInvestingActivities",1494,"in-gaap","false","monetary","","duration","item","true",""]
["PurchaseDevelopmentFixedAssets",1495,"in-gaap","false","monetary","credit","duration","item","true",""]
["PurchaseTangibleFixedAssets",1496,"in-gaap","false","monetary","credit","duration","item","true",""]
["PurchaseIntangibleFixedAssets",1497,"in-gaap","false","monetary","credit","duration","item","true",""]
["PaymentsDevelopmentFixedAssets",1498,"in-gaap","false","monetary","credit","duration","item","true",""]
["PurchaseOtherAssets",1499,"in-gaap","false","monetary","credit","duration","item","true",""]
["PurchaseInvestmentProperty",1500,"in-gaap","false","monetary","credit","duration","item","true",""]
["PurchaseInterestSubsidiariesJointVenturesAssociates",1501,"in-gaap","false","monetary","credit","duration","item","true",""]
["PurchaseSubsidiaries",1502,"in-gaap","false","monetary","credit","duration","item","true",""]
["PurchaseJointVentures",1503,"in-gaap","false","monetary","credit","duration","item","true",""]
["PurchaseAssociates",1504,"in-gaap","false","monetary","credit","duration","item","true",""]
["PurchaseGovernmentSecurities",1505,"in-gaap","false","monetary","credit","duration","item","true",""]
["PurchaseEquitySecurities",1506,"in-gaap","false","monetary","credit","duration","item","true",""]
["PurchaseofDebtSecurities",1507,"in-gaap","false","monetary","credit","duration","item","true",""]
["PaymentsInvestingDerivatives",1508,"in-gaap","false","monetary","credit","duration","item","true",""]
["PaymentsInvestingIntercorporateDeposits",1509,"in-gaap","false","monetary","credit","duration","item","true",""]
["PaymentsInvestingBankDeposits",1510,"in-gaap","false","monetary","credit","duration","item","true",""]
["PaymentApplicationMoneyInvestments",1511,"in-gaap","false","monetary","credit","duration","item","true",""]
["PurchaseOtherInvestments",1512,"in-gaap","false","monetary","credit","duration","item","true",""]
["PaymentsAcquireBusiness",1513,"in-gaap","false","monetary","credit","duration","item","true",""]
["LoansAdvancestoSubsidiaries",1514,"in-gaap","false","monetary","credit","duration","item","true",""]
["LoanstoSubsidiaries",1515,"in-gaap","false","monetary","credit","duration","item","true",""]
["AdvancestoSubsidiaries",1516,"in-gaap","false","monetary","credit","duration","item","true",""]
["LoansAdvancestoOthers",1517,"in-gaap","false","monetary","credit","duration","item","true",""]
["LoanstoOthers",1518,"in-gaap","false","monetary","credit","duration","item","true",""]
["AdvancestoOthers",1519,"in-gaap","false","monetary","credit","duration","item","true",""]
["ProceedsSaleDisposalFixedAssets",1520,"in-gaap","false","monetary","debit","duration","item","true",""]
["ProceedsSaleDisposalTangibleFixedAssets",1521,"in-gaap","false","monetary","debit","duration","item","true",""]
["ProceedsSaleDisposalIntangibleFixedAssets",1522,"in-gaap","false","monetary","debit","duration","item","true",""]
["ProceedsDisposalCapitalWorkProgress",1523,"in-gaap","false","monetary","debit","duration","item","true",""]
["ProceedsDisposalOtherAssets",1524,"in-gaap","false","monetary","debit","duration","item","true",""]
["ProceedsSaleDisposalInvestmentProperty",1525,"in-gaap","false","monetary","debit","duration","item","true",""]
["ProceedsDisposalSubsidiariesJointVenturesAssociates",1526,"in-gaap","false","monetary","debit","duration","item","true",""]
["ProceedsDisposalSubsidiaries",1527,"in-gaap","false","monetary","debit","duration","item","true",""]
["ProceedsDisposalJointVentures",1528,"in-gaap","false","monetary","debit","duration","item","true",""]
["ProceedsDisposalAssociates",1529,"in-gaap","false","monetary","debit","duration","item","true",""]
["ProceedsSaleRedemptionInvestmentsGovernmentSecurities",1530,"in-gaap","false","monetary","debit","duration","item","true",""]
["ProceedsSaleRedemptionInvestmentsEquitySecurities",1531,"in-gaap","false","monetary","debit","duration","item","true",""]
["ProceedsSaleRedemptionInvestmentsDebtSecurities",1532,"in-gaap","false","monetary","debit","duration","item","true",""]
["ProceedsInvestmentsDerivatives",1533,"in-gaap","false","monetary","debit","duration","item","true",""]
["ProceedsSaleRedemptionInvestmentsIntercorporateDeposits",1534,"in-gaap","false","monetary","debit","duration","item","true",""]
["ProceedsSaleRedemptionInvestmentsBankDeposits",1535,"in-gaap","false","monetary","debit","duration","item","true",""]
["ProceedsRefundAdvancePaidonInvestments",1536,"in-gaap","false","monetary","debit","duration","item","true",""]
["ProceedsDisposalOtherInvestments",1537,"in-gaap","false","monetary","debit","duration","item","true",""]
["ProceedsSaleBusiness",1538,"in-gaap","false","monetary","debit","duration","item","true",""]
["ProceedsRepaymentLoansAdvancestoSubsidiaries",1539,"in-gaap","false","monetary","debit","duration","item","true",""]
["ProceedsRepaymentLoanstoSubsidiaries",1540,"in-gaap","false","monetary","debit","duration","item","true",""]
["ProceedsRepaymentAdvancestoSubsidiaries",1541,"in-gaap","false","monetary","debit","duration","item","true",""]
["ProceedsRepaymentLoansAdvancestoOthers",1542,"in-gaap","false","monetary","debit","duration","item","true",""]
["ProceedsRepaymentLoanstoOthers",1543,"in-gaap","false","monetary","debit","duration","item","true",""]
["ProceedsRepaymentAdvancestoOthers",1544,"in-gaap","false","monetary","debit","duration","item","true",""]
["ProceedsInterestDividendInvestments",1545,"in-gaap","false","monetary","debit","duration","item","true",""]
["ProceedsInterestInvestments",1546,"in-gaap","false","monetary","debit","duration","item","true",""]
["ProceedsInterestGovernmentSecurities",1547,"in-gaap","false","monetary","debit","duration","item","true",""]
["ProceedsInterestDebtSecurities",1548,"in-gaap","false","monetary","debit","duration","item","true",""]
["ProceedsInterestIntercorporateDeposits",1549,"in-gaap","false","monetary","debit","duration","item","true",""]
["ProceedsInterestBankDeposits",1550,"in-gaap","false","monetary","debit","duration","item","true",""]
["ProceedsOtherInterest",1551,"in-gaap","false","monetary","debit","duration","item","true",""]
["ProceedsDividendInvestments",1552,"in-gaap","false","monetary","debit","duration","item","true",""]
["ProceedsDividendsMutualFunds",1553,"in-gaap","false","monetary","debit","duration","item","true",""]
["ProceedsDividendsSubsidiaries",1554,"in-gaap","false","monetary","debit","duration","item","true",""]
["ProceedsDividendsOtherInvestments",1555,"in-gaap","false","monetary","debit","duration","item","true",""]
["IncreaseDecreaseDiscontinuingOperations",1556,"in-gaap","false","monetary","","duration","item","true",""]
["ExtraordinaryItemsInvestingActivities",1557,"in-gaap","false","monetary","","duration","item","true",""]
["OtherInvestingActivitiesNet",1558,"in-gaap","false","monetary","","duration","item","true",""]
["NetCashFlowfromUsedinFinancingActivities",1559,"in-gaap","false","monetary","","duration","item","true",""]
["ProceedsIssueShareCapital",1560,"in-gaap","false","monetary","debit","duration","item","true",""]
["ProceedsIssueEquityShareCapital",1561,"in-gaap","false","monetary","debit","duration","item","true",""]
["ProceedsIssuePreferenceShareCapital",1562,"in-gaap","false","monetary","debit","duration","item","true",""]
["ProceedsOtherEquityChanges",1563,"in-gaap","false","monetary","debit","duration","item","true",""]
["ProceedsFinancialLiabilities",1564,"in-gaap","false","monetary","debit","duration","item","true",""]
["ProceedsLongTermBorrowings",1565,"in-gaap","false","monetary","debit","duration","item","true",""]
["ProceedsShortTermBorrowings",1566,"in-gaap","false","monetary","debit","duration","item","true",""]
["ProceedsLoansAdvancesRelatedParties",1567,"in-gaap","false","monetary","debit","duration","item","true",""]
["PaymentsBuybackRedemptionShareCapital",1568,"in-gaap","false","monetary","credit","duration","item","true",""]
["PaymentsBuybackEquityShareCapital",1569,"in-gaap","false","monetary","credit","duration","item","true",""]
["PaymentsRedemptionPreferenceShareCapital",1570,"in-gaap","false","monetary","credit","duration","item","true",""]
["PaymentsOtherEquityChanges",1571,"in-gaap","false","monetary","credit","duration","item","true",""]
["RepaymentsFinancialLiabilities",1572,"in-gaap","false","monetary","credit","duration","item","true",""]
["RepaymentsLongTermBorrowings",1573,"in-gaap","false","monetary","credit","duration","item","true",""]
["RepaymentsShortTermBorrowings",1574,"in-gaap","false","monetary","credit","duration","item","true",""]
["RepaymentsLoansAdvancesRelatedParties",1575,"in-gaap","false","monetary","credit","duration","item","true",""]
["ShareDebtIssueExpenses",1576,"in-gaap","false","monetary","credit","duration","item","true",""]
["ShareIssueExpenses",1577,"in-gaap","false","monetary","credit","duration","item","true",""]
["DebtIssueExpenses",1578,"in-gaap","false","monetary","credit","duration","item","true",""]
["InterestFinancialExpensesPaid",1579,"in-gaap","false","monetary","credit","duration","item","true",""]
["InterestExpenseLongTermLoansPaid",1580,"in-gaap","false","monetary","credit","duration","item","true",""]
["InterestExpenseShortTermLoansPaid",1581,"in-gaap","false","monetary","credit","duration","item","true",""]
["InterestExpenseDebtSecuritiesPaid",1582,"in-gaap","false","monetary","credit","duration","item","true",""]
["InterestExpenseIntercorporateDepositsPaid",1583,"in-gaap","false","monetary","credit","duration","item","true",""]
["InterestExpenseBankBorrowingsPaid",1584,"in-gaap","false","monetary","credit","duration","item","true",""]
["InterestExpensesOtherPaid",1585,"in-gaap","false","monetary","credit","duration","item","true",""]
["DividendDividendDistributionTaxPaid",1586,"in-gaap","false","monetary","credit","duration","item","true",""]
["DividendPaid",1587,"in-gaap","false","monetary","credit","duration","item","true",""]
["DividendEquitySharesPaid",1588,"in-gaap","false","monetary","credit","duration","item","true",""]
["DividendPreferenceSharesPaid",1589,"in-gaap","false","monetary","credit","duration","item","true",""]
["DividendDistributionTaxPaid",1590,"in-gaap","false","monetary","credit","duration","item","true",""]
["DividendDistributionTaxEquitySharesPaid",1591,"in-gaap","false","monetary","credit","duration","item","true",""]
["DividendDistributionTaxPreferenceSharesPaid",1592,"in-gaap","false","monetary","credit","duration","item","true",""]
["AmountsTransferredInvestorEducationProtectionFund",1593,"in-gaap","false","monetary","credit","duration","item","true",""]
["NetChangeReserves",1594,"in-gaap","false","monetary","","duration","item","true",""]
["NetChangeSubsidy",1595,"in-gaap","false","monetary","","duration","item","true",""]
["NetChangeDiscontinuingOperations",1596,"in-gaap","false","monetary","","duration","item","true",""]
["ExtraordinaryItemsFinancingActivities",1597,"in-gaap","false","monetary","","duration","item","true",""]
["OtherFinancingActivitiesNet",1598,"in-gaap","false","monetary","","duration","item","true",""]
["EffectForeignExchangeCashCashEquivalents",1599,"in-gaap","false","monetary","","duration","item","true",""]
["CashCashEquivalents",1600,"in-gaap","false","monetary","debit","instant","item","true",""]
["NetIncreaseDecreaseCashCashEquivalentsAbstract",1601,"in-gaap","true","string","","duration","item","true",""]
["NetCashFlowfromUsedinOperatingActivitiesAbstract",1602,"in-gaap","true","string","","duration","item","true",""]
["AdjustmentsProfitLossOperationsAbstract",1603,"in-gaap","true","string","","duration","item","true",""]
["AdjustmentDepreciationDepletionAmortisationAbstract",1604,"in-gaap","true","string","","duration","item","true",""]
["AdjustmentWriteoffAssetsLiabilitiesAbstract",1605,"in-gaap","true","string","","duration","item","true",""]
["AdjustmentProvisionsNetAbstract",1606,"in-gaap","true","string","","duration","item","true",""]
["AdjustmentEmployeeCompensationAbstract",1607,"in-gaap","true","string","","duration","item","true",""]
["AdjustmentInterestDividendIncomeAbstract",1608,"in-gaap","true","string","","duration","item","true",""]
["AdjustmentInterestReceivedAbstract",1609,"in-gaap","true","string","","duration","item","true",""]
["AdjustmentDividendReceivedAbstract",1610,"in-gaap","true","string","","duration","item","true",""]
["ChangesWorkingCapitalAbstract",1611,"in-gaap","true","string","","duration","item","true",""]
["ChangesCurrentAssetsLoansAdvancesAbstract",1612,"in-gaap","true","string","","duration","item","true",""]
["ChangesCurrentLiabilitiesProvisionsAbstract",1613,"in-gaap","true","string","","duration","item","true",""]
["ChangesTradeOtherPayablesAbstract",1614,"in-gaap","true","string","","duration","item","true",""]
["AdjustmentPriorPeriodExtraordinaryItemsAbstract",1615,"in-gaap","true","string","","duration","item","true",""]
["NetCashFlowUsedinInvestingActivitiesAbstract",1616,"in-gaap","true","string","","duration","item","true",""]
["PurchaseDevelopmentFixedAssetsAbstract",1617,"in-gaap","true","string","","duration","item","true",""]
["PurchaseInterestSubsidiariesJointVenturesAssociatesAbstract",1618,"in-gaap","true","string","","duration","item","true",""]
["LoansAdvancestoSubsidiariesAbstract",1619,"in-gaap","true","string","","duration","item","true",""]
["LoansAdvancestoOthersAbstract",1620,"in-gaap","true","string","","duration","item","true",""]
["ProceedsSaleDisposalFixedAssetsAbstract",1621,"in-gaap","true","string","","duration","item","true",""]
["ProceedsDisposalSubsidiariesJointVenturesAssociatesAbstract",1622,"in-gaap","true","string","","duration","item","true",""]
["ProceedsRepaymentLoansAdvancestoSubsidiariesAbstract",1623,"in-gaap","true","string","","duration","item","true",""]
["ProceedsRepaymentLoansAdvancestoOthersAbstract",1624,"in-gaap","true","string","","duration","item","true",""]
["ProceedsInterestDividendInvestmentsAbstract",1625,"in-gaap","true","string","","duration","item","true",""]
["ProceedsInterestInvestmentsAbstract",1626,"in-gaap","true","string","","duration","item","true",""]
["ProceedsDividendInvestmentsAbstract",1627,"in-gaap","true","string","","duration","item","true",""]
["NetCashFlowfromUsedinFinancingActivitiesAbstract",1628,"in-gaap","true","string","","duration","item","true",""]
["ProceedsIssueShareCapitalAbstract",1629,"in-gaap","true","string","","duration","item","true",""]
["ProceedsFinancialLiabilitiesAbstract",1630,"in-gaap","true","string","","duration","item","true",""]
["PaymentsBuybackRedemptionShareCapitalAbstract",1631,"in-gaap","true","string","","duration","item","true",""]
["RepaymentsFinancialLiabilitiesAbstract",1632,"in-gaap","true","string","","duration","item","true",""]
["ShareDebtIssueExpensesAbstract",1633,"in-gaap","true","string","","duration","item","true",""]
["InterestFinancialExpensesPaidAbstract",1634,"in-gaap","true","string","","duration","item","true",""]
["DividendDividendDistributionTaxPaidAbstract",1635,"in-gaap","true","string","","duration","item","true",""]
["DividendPaidAbstract",1636,"in-gaap","true","string","","duration","item","true",""]
["DividendDistributionTaxPaidAbstract",1637,"in-gaap","true","string","","duration","item","true",""]
["CashFlowsfromUsedinOtherOperatingActivitiesTotalAbstract",1638,"in-gaap","true","string","","duration","item","true",""]
["CashFlowStatementAbstract",1639,"in-gaap","true","string","","duration","item","true",""]
["ReceiptsfromCustomers",1640,"in-gaap","false","monetary","debit","duration","item","true",""]
["ReceiptsfromGovernmentGrants",1641,"in-gaap","false","monetary","debit","duration","item","true",""]
["PaymentstoSuppliers",1642,"in-gaap","false","monetary","credit","duration","item","true",""]
["PaymentstoEmployees",1643,"in-gaap","false","monetary","credit","duration","item","true",""]
["PaymentsforResearchDevelopmentExpenditures",1644,"in-gaap","false","monetary","credit","duration","item","true",""]
["PaymentsBehalfofEmployees",1645,"in-gaap","false","monetary","credit","duration","item","true",""]
["PaymentsRestructuringExpenditures",1646,"in-gaap","false","monetary","credit","duration","item","true",""]
["PaymentsReceivedRemittedValueAddedTaxes",1647,"in-gaap","false","monetary","credit","duration","item","true",""]
["OtherCashReceiptsPayments",1648,"in-gaap","false","monetary","debit","duration","item","true",""]
["CashFlowsfromUsedinOtherOperatingActivitiesTotal",1649,"in-gaap","false","monetary","debit","duration","item","true",""]
["ProceedsDividendsReceivedClassifiedasOperating",1650,"in-gaap","false","monetary","debit","duration","item","true",""]
["PaymentsDividendsClassifiedasOperating",1651,"in-gaap","false","monetary","credit","duration","item","true",""]
["ProceedsInterestReceivedClassifiedasOperating",1652,"in-gaap","false","monetary","debit","duration","item","true",""]
["PaymentsInterestClassifiedasOperating",1653,"in-gaap","false","monetary","credit","duration","item","true",""]
["ProceedsIncomeTaxesRefunded",1654,"in-gaap","false","monetary","debit","duration","item","true",""]
["PaymentsIncomeTaxes",1655,"in-gaap","false","monetary","credit","duration","item","true",""]
["OtherInflowsOutflowsfromOtherOperatingActivities",1656,"in-gaap","false","monetary","debit","duration","item","true",""]
["DisclosureOfBasisOfPresentationExplanatory",1657,"in-gaap","false","nonnum:textBlock","","duration","item","true",""]
["AccountingConventions",1658,"in-gaap","false","string","","duration","item","true",""]
["BasisandPresentationofFinancialStatementsDisclosure",1659,"in-gaap","false","string","","duration","item","true",""]
["MaterialityConceptinPresentationofFinancialStatements",1660,"in-gaap","false","string","","duration","item","true",""]
["FundamentalAccountingPrinciplesDepartureDisclosure",1661,"in-gaap","false","string","","duration","item","true",""]
["AccountingPrincipleOfGoingConcernDepartureDisclosure",1662,"in-gaap","false","string","","duration","item","true",""]
["AccountingPrincipleOfConsistencyDepartureDisclosure",1663,"in-gaap","false","string","","duration","item","true",""]
["DisclosureofDepartureFromAccountingPrincipleofAccrual",1664,"in-gaap","false","string","","duration","item","true",""]
["ConsistentApplicationofPoliciesCertification",1665,"in-gaap","false","string","","duration","item","true",""]
["CompaniesActComplianceCertification",1666,"in-gaap","false","string","","duration","item","true",""]
["AccountingStandardsComplianceCertification",1667,"in-gaap","false","string","","duration","item","true",""]
["IncomeStatementPolicies",1668,"in-gaap","false","string","","duration","item","true",""]
["RevenueRecognitionPolicies",1669,"in-gaap","false","string","","duration","item","true",""]
["RevenueRecognitionPolicySaleofGoods",1670,"in-gaap","false","string","","duration","item","true",""]
["RevenueRecognitionPolicyRenderingofServices",1671,"in-gaap","false","string","","duration","item","true",""]
["RevenueRecognitionPolicyInterestIncome",1672,"in-gaap","false","string","","duration","item","true",""]
["RevenueRecognitionPolicyRoyalty",1673,"in-gaap","false","string","","duration","item","true",""]
["RevenueRecognitionPolicyDividend",1674,"in-gaap","false","string","","duration","item","true",""]
["RevenueRecognitionPolicyCommission",1675,"in-gaap","false","string","","duration","item","true",""]
["RevenueRecognitionPolicyIncentivesandCredits",1676,"in-gaap","false","string","","duration","item","true",""]
["RevenueRecognitionPolicySaleofScrap",1677,"in-gaap","false","string","","duration","item","true",""]
["RevenueRecognitionPolicyOtherFeesandCommission",1678,"in-gaap","false","string","","duration","item","true",""]
["RevenueRecognitionPolicySaleofAssets",1679,"in-gaap","false","string","","duration","item","true",""]
["RevenueRecognitionPolicyConstructionContracts",1680,"in-gaap","false","string","","duration","item","true",""]
["RevenueComputationMethod",1681,"in-gaap","false","string","","duration","item","true",""]
["StageofCompletioninLongTermContractsDeterminingMethod",1682,"in-gaap","false","string","","duration","item","true",""]
["PostponedRevenueRecognitionCircumstancesDisclosure",1683,"in-gaap","false","string","","duration","item","true",""]
["EmployeeBenefitsPolicies",1684,"in-gaap","false","string","","duration","item","true",""]
["ShortTermBenefitObligationsPolicy",1685,"in-gaap","false","string","","duration","item","true",""]
["EmployeeStockCompensationCostPolicy",1686,"in-gaap","false","string","","duration","item","true",""]
["TerminationRetirementBenefitPlanPolicies",1687,"in-gaap","false","string","","duration","item","true",""]
["DefinedContributionPlanPolicies",1688,"in-gaap","false","string","","duration","item","true",""]
["ProvidentFundPensionFundPolicy",1689,"in-gaap","false","string","","duration","item","true",""]
["SuperannuationFundOtherDefinedContributionPlanPolicies",1690,"in-gaap","false","string","","duration","item","true",""]
["DefinedBenefitPlanPolicies",1691,"in-gaap","false","string","","duration","item","true",""]
["LeaveEntitlementEncashmentPolicy",1692,"in-gaap","false","string","","duration","item","true",""]
["GratuityFundOtherDefinedBenefitPlanPolicy",1693,"in-gaap","false","string","","duration","item","true",""]
["DisclosuresPoliciesonVoluntaryRetirementScheme",1694,"in-gaap","false","string","","duration","item","true",""]
["OtherTerminationRetirementBenefits",1695,"in-gaap","false","string","","duration","item","true",""]
["ResearchAndDevelopmentExpenditurePolicy",1696,"in-gaap","false","string","","duration","item","true",""]
["RevenueExpenditureRecognitionPolicy",1697,"in-gaap","false","string","","duration","item","true",""]
["CapitalExpenditureRecognitionPolicy",1698,"in-gaap","false","string","","duration","item","true",""]
["InterestExpenditurePolicies",1699,"in-gaap","false","string","","duration","item","true",""]
["RecognitionandDeterminationBasisofInterestExpensePolicy",1700,"in-gaap","false","string","","duration","item","true",""]
["EffectiveRateandAmountofInterestDeterminingMethod",1701,"in-gaap","false","string","","duration","item","true",""]
["ProvisionsContingenciesRelatedPolicy",1702,"in-gaap","false","string","","duration","item","true",""]
["BasisforRecognitionandCreationOfProvisionsPolicy",1703,"in-gaap","false","string","","duration","item","true",""]
["BasisofProductWarrantiesProvisionCreated",1704,"in-gaap","false","string","","duration","item","true",""]
["BasisofBadAndDoubtfulDebtProvisionCreated",1705,"in-gaap","false","string","","duration","item","true",""]
["BasisofOtherProvisions",1706,"in-gaap","false","string","","duration","item","true",""]
["DefermentofExpenditurePolicy",1707,"in-gaap","false","string","","duration","item","true",""]
["DefermentOfVoluntaryCompensationPolicy",1708,"in-gaap","false","string","","duration","item","true",""]
["DefermentOfExpensesIncurredForRaisingFundsPolicy",1709,"in-gaap","false","string","","duration","item","true",""]
["DefermentOfPreliminaryExpensesPolicy",1710,"in-gaap","false","string","","duration","item","true",""]
["DefermentOfOtherExpenditurePolicy",1711,"in-gaap","false","string","","duration","item","true",""]
["IncomeTaxPolicy",1712,"in-gaap","false","string","","duration","item","true",""]
["CurrentTaxPolicy",1713,"in-gaap","false","string","","duration","item","true",""]
["DeferredTaxPolicy",1714,"in-gaap","false","string","","duration","item","true",""]
["FringeBenefitTaxPolicy",1715,"in-gaap","false","string","","duration","item","true",""]
["DividendPolicy",1716,"in-gaap","false","string","","duration","item","true",""]
["TypeOfSecurityDisclosure",1717,"in-gaap","false","string","","duration","item","true",""]
["TypeOfDividendDisclosure",1718,"in-gaap","false","string","","duration","item","true",""]
["ProposedDividendDisclosureStatement",1719,"in-gaap","false","string","","duration","item","true",""]
["AssetsandLiabilitiesRelatedPolicies",1720,"in-gaap","false","string","","duration","item","true",""]
["FixedAssetPolicies",1721,"in-gaap","false","string","","duration","item","true",""]
["TangibleAssetsPolicy",1722,"in-gaap","false","string","","duration","item","true",""]
["MeasurementandValuationBasisLand",1723,"in-gaap","false","string","","duration","item","true",""]
["MeasurementandValuationBasisBuilding",1724,"in-gaap","false","string","","duration","item","true",""]
["MeasurementandValuationBasisPlantMachineryEquipment",1725,"in-gaap","false","string","","duration","item","true",""]
["MeasurementandValuationBasisComputersEquipments",1726,"in-gaap","false","string","","duration","item","true",""]
["MeasurementandValuationBasisFurnituresFixtures",1727,"in-gaap","false","string","","duration","item","true",""]
["MeasurementandValuationBasisVehicles",1728,"in-gaap","false","string","","duration","item","true",""]
["MeasurementandValuationBasisLeaseholdImprovements",1729,"in-gaap","false","string","","duration","item","true",""]
["MeasurementandValuationBasisOtherTangibleAssets",1730,"in-gaap","false","string","","duration","item","true",""]
["IntangibleAssetsPolicies",1731,"in-gaap","false","string","","duration","item","true",""]
["RecognitionandMeasurementOfGoodwill",1732,"in-gaap","false","string","","duration","item","true",""]
["RecognitionandMeasurementofPatentsTrademarksOtherRights",1733,"in-gaap","false","string","","duration","item","true",""]
["RecognitionandMeasurementSoftware",1734,"in-gaap","false","string","","duration","item","true",""]
["RecognitionandMeasurementOtherIntangibleAssets",1735,"in-gaap","false","string","","duration","item","true",""]
["RevaluationOfAssetsDisclosures",1736,"in-gaap","false","string","","duration","item","true",""]
["MeasurementandValuationBasisofRevaluedAssets",1737,"in-gaap","false","string","","duration","item","true",""]
["RevaluedAmountComputationAmount",1738,"in-gaap","false","string","","duration","item","true",""]
["NatureofIndicesUsedToComputeRevaluedAmount",1739,"in-gaap","false","string","","duration","item","true",""]
["EffectiveDatesRevaluationClassofPropertyPlantEquipment",1740,"in-gaap","false","string","","duration","item","true",""]
["ExplanationofInclusionofIndependentValuerUsedtoRevalueClassofPropertyPlantEquipment",1741,"in-gaap","false","string","","duration","item","true",""]
["BasisofCapitalisationInternallyGeneratedAssetsDisclosurePolicies",1742,"in-gaap","false","string","","duration","item","true",""]
["BasisofRecognisingFinanceLeaseAssetsDisclosurePolicies",1743,"in-gaap","false","string","","duration","item","true",""]
["SpecificFixedAssetsSubsidyTreatmentDisclosure",1744,"in-gaap","false","string","","duration","item","true",""]
["HirePurchaseAcquiredAssetsExplanation",1745,"in-gaap","false","string","","duration","item","true",""]
["CapitalWorkinProgressAssetsPolicy",1746,"in-gaap","false","string","","duration","item","true",""]
["MeasurementAndValuationBasisCapitalWorkInProgressAssets",1747,"in-gaap","false","string","","duration","item","true",""]
["RecognitionAndValuationExpenditureDuringConstructionPeriod",1748,"in-gaap","false","string","","duration","item","true",""]
["CapitalisationBorrowingCost",1749,"in-gaap","false","string","","duration","item","true",""]
["RecognitionofCapitalisationCostInFixedAssetsPolicy",1750,"in-gaap","false","string","","duration","item","true",""]
["BorrowingCostSuspensionfromCapitalisationPolicy",1751,"in-gaap","false","string","","duration","item","true",""]
["ImpairmentofAssetsPolicies",1752,"in-gaap","false","string","","duration","item","true",""]
["RecognitionofImpairmentofAssetsPolicy",1753,"in-gaap","false","string","","duration","item","true",""]
["ImpairmentLossChargingPolicy",1754,"in-gaap","false","string","","duration","item","true",""]
["ReversalofImpairmentLossPolicy",1755,"in-gaap","false","string","","duration","item","true",""]
["DepreciationPolicy",1756,"in-gaap","false","string","","duration","item","true",""]
["MethodUsedForDepreciationPolicy",1757,"in-gaap","false","string","","duration","item","true",""]
["DepreciationMethodBuilding",1758,"in-gaap","false","string","","duration","item","true",""]
["DepreciationMethodPlantMachineryEquipment",1759,"in-gaap","false","string","","duration","item","true",""]
["DepreciationMethodComputersEquipments",1760,"in-gaap","false","string","","duration","item","true",""]
["DepreciationMethodFurnitureFixtures",1761,"in-gaap","false","string","","duration","item","true",""]
["DepreciationMethodVehicles",1762,"in-gaap","false","string","","duration","item","true",""]
["DepreciationMethodLeaseholdImprovements",1763,"in-gaap","false","string","","duration","item","true",""]
["DepreciationMethodOtherTangibleAssets",1764,"in-gaap","false","string","","duration","item","true",""]
["MethodforDeterminingUsefulLifeandRateofDepreciation",1765,"in-gaap","false","string","","duration","item","true",""]
["MethodforDeterminingLifeandRateofDepreciationBuilding",1766,"in-gaap","false","string","","duration","item","true",""]
["MethodforDeterminingLifeandRateofDepreciationPlantMachineryEquipment",1767,"in-gaap","false","string","","duration","item","true",""]
["MethodforDeterminingLifeandRateofDepreciationComputersEquipments",1768,"in-gaap","false","string","","duration","item","true",""]
["MethodforDeterminingLifeandRateofDepreciationFurnitureFixtures",1769,"in-gaap","false","string","","duration","item","true",""]
["MethodforDeterminingLifeandRateofDepreciationVehicles",1770,"in-gaap","false","string","","duration","item","true",""]
["MethodforDeterminingLifeandRateofDepreciationLeaseholdImprovements",1771,"in-gaap","false","string","","duration","item","true",""]
["MethodforDeterminingLifeandRateofDepreciationTangibleAssets",1772,"in-gaap","false","string","","duration","item","true",""]
["AmortisationMethodPolicy",1773,"in-gaap","false","string","","duration","item","true",""]
["AmortisationMethodGoodwillArisingOutofAmalgamation",1774,"in-gaap","false","string","","duration","item","true",""]
["AmortisationMethodPatentsTrademarksandOtherRights",1775,"in-gaap","false","string","","duration","item","true",""]
["AmortisationMethodSoftware",1776,"in-gaap","false","string","","duration","item","true",""]
["AmortisationMethodOtherIntangibleAssets",1777,"in-gaap","false","string","","duration","item","true",""]
["MethodforDeterminingUsefulLifeandRateAmortisation",1778,"in-gaap","false","string","","duration","item","true",""]
["MethodforDeterminingLifeandRateOfAmortisationPatentsTrademarksandOtherRights",1779,"in-gaap","false","string","","duration","item","true",""]
["MethodforDeterminingLifeandRateOfAmortisationSoftware",1780,"in-gaap","false","string","","duration","item","true",""]
["MethodforDeterminingLifeandRateOfAmortisationOtherIntangibleAssets",1781,"in-gaap","false","string","","duration","item","true",""]
["RevaluedAssetsDepreciationPolicy",1782,"in-gaap","false","string","","duration","item","true",""]
["DepreciationOnImpairedAssetsPolicy",1783,"in-gaap","false","string","","duration","item","true",""]
["DepreciationonPartiallyUsedAssetsPolicy",1784,"in-gaap","false","string","","duration","item","true",""]
["DifferentDepreciationRateDisclosure",1785,"in-gaap","false","string","","duration","item","true",""]
["DifferentUsefulLifeofAssetDisclosure",1786,"in-gaap","false","string","","duration","item","true",""]
["InvestmentsRelatingPolicies",1787,"in-gaap","false","string","","duration","item","true",""]
["MeasurementBasisInvestments",1788,"in-gaap","false","string","","duration","item","true",""]
["MeasurementBasisLongTermInvestments",1789,"in-gaap","false","string","","duration","item","true",""]
["MeasurementBasisCurrentInvestments",1790,"in-gaap","false","string","","duration","item","true",""]
["RecognitionandValuationMethodLongTermInvestments",1791,"in-gaap","false","string","","duration","item","true",""]
["RecognitionandValuationBasisCurrentInvestment",1792,"in-gaap","false","string","","duration","item","true",""]
["DiminutionInInvestmentValueAccountingPoliciesDisclosure",1793,"in-gaap","false","string","","duration","item","true",""]
["DeferredTaxAssetsandLiabilitiesPolicies",1794,"in-gaap","false","string","","duration","item","true",""]
["InventoriesPolicies",1795,"in-gaap","false","string","","duration","item","true",""]
["RecognitionandMeasurementInventoryPolicy",1796,"in-gaap","false","string","","duration","item","true",""]
["MeasurementandValuationBasisofInventory",1797,"in-gaap","false","string","","duration","item","true",""]
["ValuationMethodInventory",1798,"in-gaap","false","string","","duration","item","true",""]
["ObsoleteNonMovingStockAccountingPoliciesDisclosure",1799,"in-gaap","false","string","","duration","item","true",""]
["AccountsReceivablePolicies",1800,"in-gaap","false","string","","duration","item","true",""]
["SundryDebtorsOtherTradeReceivablesPolicy",1801,"in-gaap","false","string","","duration","item","true",""]
["LoansAdvanceReceivablesPolicy",1802,"in-gaap","false","string","","duration","item","true",""]
["BadDoubtfulReceivablesRecognitionPolicy",1803,"in-gaap","false","string","","duration","item","true",""]
["CashCashEquivalentsPolicy",1804,"in-gaap","false","string","","duration","item","true",""]
["CashCashEquivalentsPolicyDefinition",1805,"in-gaap","false","string","","duration","item","true",""]
["OtherPolicies",1806,"in-gaap","false","string","","duration","item","true",""]
["ConsolidationofAccountsPolicy",1807,"in-gaap","false","string","","duration","item","true",""]
["ConsolidatedGroupAccountingPolicies",1808,"in-gaap","false","string","","duration","item","true",""]
["AccountingforInvestmentinSubsidiariesPolicy",1809,"in-gaap","false","string","","duration","item","true",""]
["BasisofConsolidatingResultsofSubsidiaryCompanies",1810,"in-gaap","false","string","","duration","item","true",""]
["InvestmentinAssociatesAccountingPolicy",1811,"in-gaap","false","string","","duration","item","true",""]
["BasisofConsolidatingResultsofAssociates",1812,"in-gaap","false","string","","duration","item","true",""]
["AccountingForInvestmentinJointVenturePolicy",1813,"in-gaap","false","string","","duration","item","true",""]
["BasisOfConsolidatingOfResultsOfJointVenturesInTheConsolidatedFinancialStatements",1814,"in-gaap","false","string","","duration","item","true",""]
["RecognitionofSurplusDeficitasGoodwillCapitalReserve",1815,"in-gaap","false","string","","duration","item","true",""]
["DeterminationofMinorityInterestShareinConsolidatedProfits",1816,"in-gaap","false","string","","duration","item","true",""]
["DeterminationofMinorityInterestShareinConsolidatedBalanceSheet",1817,"in-gaap","false","string","","duration","item","true",""]
["IntraGroupBalancesTransactionsElimination",1818,"in-gaap","false","string","","duration","item","true",""]
["DivergenceInPoliciesFollowed",1819,"in-gaap","false","string","","duration","item","true",""]
["ProportionateitemsinWhichDifferentAccountingPoliciesFollowed",1820,"in-gaap","false","string","","duration","item","true",""]
["ReasonsforNotConsolidatingSubsidiary",1821,"in-gaap","false","string","","duration","item","true",""]
["ContingentAssetsAndLiabilitiesPolicy",1822,"in-gaap","false","string","","duration","item","true",""]
["RecognitionandValuationofContingentLiabilitiesPolicy",1823,"in-gaap","false","string","","duration","item","true",""]
["NonRecognitionOfContingentAssetsStatement",1824,"in-gaap","false","string","","duration","item","true",""]
["ContingentLiabilitiesPolicyStatementDisclosure",1825,"in-gaap","false","string","","duration","item","true",""]
["RecognitionandValuationofEstimatedContractsRemainingtobeExecuted",1826,"in-gaap","false","string","","duration","item","true",""]
["ClaimsRelatedPolicies",1827,"in-gaap","false","string","","duration","item","true",""]
["ForeignCurrencyTransactionsPolicies",1828,"in-gaap","false","string","","duration","item","true",""]
["ForeignCurrencyRatesonInitialRecognitionofTransaction",1829,"in-gaap","false","string","","duration","item","true",""]
["EffectofExchangeDifferenceonSettlementConversionPolicy",1830,"in-gaap","false","string","","duration","item","true",""]
["ForeignCurrencyTranslationPolicy",1831,"in-gaap","false","string","","duration","item","true",""]
["TranslationRateDeterminationofMonetaryItemsintoForeignCurrency",1832,"in-gaap","false","string","","duration","item","true",""]
["RateforTranslationofNonMonetaryItemsintoForeignCurrency",1833,"in-gaap","false","string","","duration","item","true",""]
["RateforTranslationofForeignSubsidiariesStatementsintoForeignCurrency",1834,"in-gaap","false","string","","duration","item","true",""]
["ForeignCurrencyRelatedDerivativeTransactions",1835,"in-gaap","false","string","","duration","item","true",""]
["HedgingInstrumentsinForeignCurrencyPolicy",1836,"in-gaap","false","string","","duration","item","true",""]
["InvestmentsinForeignEntitiesHedging",1837,"in-gaap","false","string","","duration","item","true",""]
["ExchangeDifferenceEffectonHedginginForeignCurrency",1838,"in-gaap","false","string","","duration","item","true",""]
["DerivativeTransactionsPolicies",1839,"in-gaap","false","string","","duration","item","true",""]
["CommodityHedgingTransactionsPolicy",1840,"in-gaap","false","string","","duration","item","true",""]
["ForwardExchangeContractsPolicy",1841,"in-gaap","false","string","","duration","item","true",""]
["InterestRateSwapsPolicy",1842,"in-gaap","false","string","","duration","item","true",""]
["OtherDerivativeTransactionsPolicy",1843,"in-gaap","false","string","","duration","item","true",""]
["LeasesPolicies",1844,"in-gaap","false","string","","duration","item","true",""]
["LeasingPolicyClassification",1845,"in-gaap","false","string","","duration","item","true",""]
["LessorFinanceLeasePolicy",1846,"in-gaap","false","string","","duration","item","true",""]
["LessorOperatingLeasePolicy",1847,"in-gaap","false","string","","duration","item","true",""]
["LesseeFinanceLeasePolicy",1848,"in-gaap","false","string","","duration","item","true",""]
["LesseeOperatingLeasePolicy",1849,"in-gaap","false","string","","duration","item","true",""]
["FinanceChargesComputationonLeasedAssetsPolicy",1850,"in-gaap","false","string","","duration","item","true",""]
["FinanceChargesComputationasLessorPolicy",1851,"in-gaap","false","string","","duration","item","true",""]
["FinanceChargesComputationasLesseePolicy",1852,"in-gaap","false","string","","duration","item","true",""]
["HirePurchaseTransactionsPolicy",1853,"in-gaap","false","string","","duration","item","true",""]
["FinanceChargesComputationonHirePurchasePolicy",1854,"in-gaap","false","string","","duration","item","true",""]
["HirePurchaseStockValuationPolicy",1855,"in-gaap","false","string","","duration","item","true",""]
["SegmentReportingPolicy",1856,"in-gaap","false","string","","duration","item","true",""]
["PrimaryBusinessSegmentReportingPolicy",1857,"in-gaap","false","string","","duration","item","true",""]
["SecondaryBusinessSegmentReportingPolicy",1858,"in-gaap","false","string","","duration","item","true",""]
["RelatedPartyDisclosuresPolicy",1859,"in-gaap","false","string","","duration","item","true",""]
["GovernmentGrantsPolicy",1860,"in-gaap","false","string","","duration","item","true",""]
["GovernmentGrantsRecognitionPolicy",1861,"in-gaap","false","string","","duration","item","true",""]
["GovernmentGrantsPreservationMethodPolicy",1862,"in-gaap","false","string","","duration","item","true",""]
["EarningsPerSharePolicy",1863,"in-gaap","false","string","","duration","item","true",""]
["BasisofCalculatingBasicEarningsPerSharePolicy",1864,"in-gaap","false","string","","duration","item","true",""]
["BasisofCalculatingDilutedEarningsPerSharePolicy",1865,"in-gaap","false","string","","duration","item","true",""]
["ReorganisationandRestructuringPolicy",1866,"in-gaap","false","string","","duration","item","true",""]
["EmployeeStockOptionsOutstandingPolicy",1867,"in-gaap","false","string","","duration","item","true",""]
["RecognitionandValuationEmployeesStockOptionPlan",1868,"in-gaap","false","string","","duration","item","true",""]
["AmortisationMethodEmployeeStockOptionPlan",1869,"in-gaap","false","string","","duration","item","true",""]
["DisclosureOfChangesInAccountingPoliciesAndEstimatesExplanatory",1870,"in-gaap","false","nonnum:textBlock","","duration","item","true",""]
["DetailsOfChangesInAccountingPolicies",1871,"in-gaap","false","string","","duration","item","true",""]
["AccountingPoliciesChanged",1872,"in-gaap","false","string","","duration","item","true",""]
["NewPolicyofAccounting",1873,"in-gaap","false","string","","duration","item","true",""]
["OldPolicyofAccounting",1874,"in-gaap","false","string","","duration","item","true",""]
["ReasonForChangingAccountingPolicies",1875,"in-gaap","false","string","","duration","item","true",""]
["DetailsOfImpactOfChangeInAccountingPolicies",1876,"in-gaap","false","string","","duration","item","true",""]
["ItemsEffectedByChangeInAccountingPolicies",1877,"in-gaap","false","string","","duration","item","true",""]
["ImpactOnComparativeInformationByChangeInAccountingPolicy",1878,"in-gaap","false","string","","duration","item","true",""]
["DisclosureOfNonEstimationOfEffectsOnItemsInFinancialStatements",1879,"in-gaap","false","string","","duration","item","true",""]
["DetailsOfChangesInAccountingEstimates",1880,"in-gaap","false","string","","duration","item","true",""]
["AccountingEstimateChangeNature",1881,"in-gaap","false","string","","duration","item","true",""]
["AccountingEstimateChangeAmount",1882,"in-gaap","false","monetary","","duration","item","true",""]
["ChangeInAccountingEstimateCouldNotBeQuantifiedDisclosure",1883,"in-gaap","false","string","","duration","item","true",""]
["DetailsOfForeignExchangeTransactions",1884,"in-gaap","false","string","","duration","item","true",""]
["DetailsOfDividendRemittanceInForeignCurrency",1885,"in-gaap","false","string","","duration","item","true",""]
["DetailsOfFinalDividendRemittedInForeignCurrency",1886,"in-gaap","false","string","","duration","item","true",""]
["DetailsOfInterimDividendRemittedInForeignCurrency",1887,"in-gaap","false","string","","duration","item","true",""]
["DetailsOfSpecialDividendRemittedInForeignCurrency",1888,"in-gaap","false","string","","duration","item","true",""]
["DetailsOfImportAndIndigenousConsumption",1889,"in-gaap","false","string","","duration","item","true",""]
["QuantitativeDetailsOfImportAndIndigenousConsumption",1890,"in-gaap","false","string","","duration","item","true",""]
["DetailsOfImportValueOnCIFBasis",1891,"in-gaap","false","string","","duration","item","true",""]
["EarningsExpenditureInForeignCurrency",1892,"in-gaap","false","monetary","","duration","item","true",""]
["IncomeEarnedInForeignExchange",1893,"in-gaap","false","monetary","credit","duration","item","true",""]
["RevenueFromSaleOfGoodsReceivedInForeignCurrency",1894,"in-gaap","false","monetary","credit","duration","item","true",""]
["FOBValueOfManufacturedGoodsExported",1895,"in-gaap","false","monetary","credit","duration","item","true",""]
["FOBValueOfTradedGoodsExported",1896,"in-gaap","false","monetary","credit","duration","item","true",""]
["RevenueReceivedInForeignCurrencyFromServices",1897,"in-gaap","false","monetary","credit","duration","item","true",""]
["InterestIncomeReceivedInForeignCurrency",1898,"in-gaap","false","monetary","credit","duration","item","true",""]
["DividendIncomeReceivedInForeignCurrency",1899,"in-gaap","false","monetary","credit","duration","item","true",""]
["InsuranceAndFreightOnExports",1900,"in-gaap","false","monetary","credit","duration","item","true",""]
["ProfitInForeignCurrencyOnSaleOfAssets",1901,"in-gaap","false","monetary","credit","duration","item","true",""]
["RoyaltyKnowHowProfessionalAndConsultancyFees",1902,"in-gaap","false","monetary","credit","duration","item","true",""]
["OtherIncomeReceivedInForeignCurrency",1903,"in-gaap","false","monetary","credit","duration","item","true",""]
["ExpenditureInForeignCurrency",1904,"in-gaap","false","monetary","debit","duration","item","true",""]
["InterestChargesInForeignCurrency",1905,"in-gaap","false","monetary","debit","duration","item","true",""]
["CommissionBrokerageAndDiscountChargesInForeignCurrency",1906,"in-gaap","false","monetary","debit","duration","item","true",""]
["ProfessionalChargesInForeignCurrency",1907,"in-gaap","false","monetary","debit","duration","item","true",""]
["BankAndFinanceChargesInForeignCurrency",1908,"in-gaap","false","monetary","debit","duration","item","true",""]
["LogisticChargeInForeignCurrency",1909,"in-gaap","false","monetary","debit","duration","item","true",""]
["ForeignTax",1910,"in-gaap","false","monetary","debit","duration","item","true",""]
["RoyaltyChargesInForeignCurrency",1911,"in-gaap","false","monetary","debit","duration","item","true",""]
["SalesMarketingAndAdvertisingExpensesInForeignCurrency",1912,"in-gaap","false","monetary","debit","duration","item","true",""]
["MeetingExpensesInForeignCurrency",1913,"in-gaap","false","monetary","debit","duration","item","true",""]
["ResearchAndDevelopmentExpensesInForeignCurrency",1914,"in-gaap","false","monetary","debit","duration","item","true",""]
["IntangibleAssetChargesInForeignCurrency",1915,"in-gaap","false","monetary","debit","duration","item","true",""]
["MembershipAndSubscriptionExpensesInForeignCurrency",1916,"in-gaap","false","monetary","debit","duration","item","true",""]
["InsuranceChargesInForeignCurrency",1917,"in-gaap","false","monetary","debit","duration","item","true",""]
["TelecommunicationExpensesInForeignCurrency",1918,"in-gaap","false","monetary","debit","duration","item","true",""]
["OtherExpenditureInForeignCurrency",1919,"in-gaap","false","monetary","debit","duration","item","true",""]
["CapitalExpenditureInForeignCurrency",1920,"in-gaap","false","monetary","debit","duration","item","true",""]
["AdditionalDetailsRegardingForeignExchange",1921,"in-gaap","false","string","","duration","item","true",""]
["ReasonForUseOfDifferentCurrency",1922,"in-gaap","false","string","","duration","item","true",""]
["ReasonForChangingUseOfReportingCurrency",1923,"in-gaap","false","string","","duration","item","true",""]
["NatureOfChangeInClassificationOfForeignOperations",1924,"in-gaap","false","string","","duration","item","true",""]
["ReasonForChangeInClassificationOfForeignOperations",1925,"in-gaap","false","string","","duration","item","true",""]
["ForeignCurrencyRiskManagementPolicy",1926,"in-gaap","false","string","","duration","item","true",""]
["DetailsOfForeignCurrencyForeignExchangeExposure",1927,"in-gaap","false","string","","duration","item","true",""]
["DetailsOfHedgedExposureInForeignCurrencyExposure",1928,"in-gaap","false","string","","duration","item","true",""]
["DetailsOfUnhedgedExposureInForeignCurrencyExposure",1929,"in-gaap","false","string","","duration","item","true",""]
["DisclosureOfContingentLiabilitiesAndProvisionsExplanatory",1930,"in-gaap","false","nonnum:textBlock","","duration","item","true",""]
["DisclosureOfContingentLiabilitiesExplanatory",1931,"in-gaap","false","nonnum:textBlock","","duration","item","true",""]
["DetailsOfIndemnityForGuaranteesGivenByBank",1932,"in-gaap","false","string","","duration","item","true",""]
["DetailsOfIndemnityForGuaranteesGivenByFinancialInstitutions",1933,"in-gaap","false","string","","duration","item","true",""]
["DetailsOfGuaranteeGivenForLetterOfCredit",1934,"in-gaap","false","string","","duration","item","true",""]
["DetailsOfGuaranteeGivenForRelatedParties",1935,"in-gaap","false","string","","duration","item","true",""]
["DetailsOfOtherGuaranteesGiven",1936,"in-gaap","false","string","","duration","item","true",""]
["DetailsOfBillDiscounted",1937,"in-gaap","false","string","","duration","item","true",""]
["DetailsOfUncalledLiabilityOnPartlyPaidUpShares",1938,"in-gaap","false","string","","duration","item","true",""]
["DetailsOfDisputedTaxLiabilitiesRelatingToSalesServiceAndIncome",1939,"in-gaap","false","string","","duration","item","true",""]
["DetailsOfDisputedSalesTax",1940,"in-gaap","false","string","","duration","item","true",""]
["DetailsOfDisputedIncomeTax",1941,"in-gaap","false","string","","duration","item","true",""]
["DetailsOfDisputedExciseDemands",1942,"in-gaap","false","string","","duration","item","true",""]
["DetailsOfDisputedCustomDemands",1943,"in-gaap","false","string","","duration","item","true",""]
["DetailsOfDisputedServiceTaxDemands",1944,"in-gaap","false","string","","duration","item","true",""]
["DetailsOfOtherDisputedTaxLiabilities",1945,"in-gaap","false","string","","duration","item","true",""]
["DetailsOfDisputedLiabilityRelatingToEmployeesAndOtherStaff",1946,"in-gaap","false","string","","duration","item","true",""]
["DetailsOfLiabilityRelatingToProvisionsUnderCompaniesAct",1947,"in-gaap","false","string","","duration","item","true",""]
["DetailsOfClaimsAgainstCompanyNotAcknowledgedAsDebts",1948,"in-gaap","false","string","","duration","item","true",""]
["DetailsOfContingentLiabilityInForeignExchange",1949,"in-gaap","false","string","","duration","item","true",""]
["DetailsOfContingentLiabilitiesInRespectOfDerivativeTransactions",1950,"in-gaap","false","string","","duration","item","true",""]
["DetailsOfLiquidatedDamagesForDelayInDeliveryOfGoods",1951,"in-gaap","false","string","","duration","item","true",""]
["DetailsOfLeaseCommitments",1952,"in-gaap","false","string","","duration","item","true",""]
["DetailsOfEnvironmentalLiabilities",1953,"in-gaap","false","string","","duration","item","true",""]
["DetailsOfDisputedLiabilitiesPendingBeforeCourt",1954,"in-gaap","false","string","","duration","item","true",""]
["DetailsOfContingentLiabilitiesInRespectOfTechnologyKnowhowFeesRoyalties",1955,"in-gaap","false","string","","duration","item","true",""]
["DetailsOfEstimatedAmountOfContractRemainingToBeExecuted",1956,"in-gaap","false","string","","duration","item","true",""]
["DetailsOfOtherContingentLiabilities",1957,"in-gaap","false","string","","duration","item","true",""]
["DisclosureOfProvisionsExplanatory",1958,"in-gaap","false","nonnum:textBlock","","duration","item","true",""]
["NatureofClassofProvision",1959,"in-gaap","false","string","","duration","item","true",""]
["ExpectedTimingofOutflowsofClassofProvision",1960,"in-gaap","false","string","","duration","item","true",""]
["ExplanationofUncertaintiesAboutTimingAmountofClassofProvision",1961,"in-gaap","false","string","","duration","item","true",""]
["MajorAssumptionsConcerningFutureEventsRelatingtoClassofProvision",1962,"in-gaap","false","string","","duration","item","true",""]
["AmountofExpectedReimbursementforAssetRecognized",1963,"in-gaap","false","string","","duration","item","true",""]
["AmountofExpectedReimbursementinRespectofClassofProvision",1964,"in-gaap","false","string","","duration","item","true",""]
["ExplanationofEstimatedFinancialEffectofCapitalCommitment",1965,"in-gaap","false","string","","duration","item","true",""]
["ExplanationofUncertaintiesRelatingtoAmountorTimingofOutflow",1966,"in-gaap","false","string","","duration","item","true",""]
["ExplanationofPossibilityofReimbursement",1967,"in-gaap","false","string","","duration","item","true",""]
["InformationRegardingContingentLiabilitiesThatDisclosureisNotPracticable",1968,"in-gaap","false","string","","duration","item","true",""]
["NatureofReasonforNonDisclosureofInformationRegardingProvision",1969,"in-gaap","false","string","","duration","item","true",""]
["ReasonforNonDisclosureofAllInformationofContingentLiability",1970,"in-gaap","false","string","","duration","item","true",""]
["DisclosureOfSubsidiaryInformationExplanatory",1971,"in-gaap","false","nonnum:textBlock","","duration","item","true",""]
["DetailsOfSubsidiaries",1972,"in-gaap","","","","","tuple","true",""]
["NameOfSubsidiary",1973,"in-gaap","false","string","","duration","item","true","","Name should be based on CIN, if entered"]
["CountryOfIncorporationOrResidenceOfSubsidiary",1974,"in-gaap","false","in-ca-types:CountryName","","duration","item","true","","Should be valid country name as per List of countries"]
["FinancialYearofSubsidiaryAbstract",1975,"in-gaap","true","string","","duration","item","true",""]
["StartDateOfAccountingPeriodOfSubsidiary",1976,"in-gaap","false","date","","duration","item","true","","Should be less than or equal to system date. This can be less than the date of incorporation of the filing company"]
["EndDateOfAccountingPeriodOfSubsidiary",1977,"in-gaap","false","date","","duration","item","true","","Should be less than or equal to system date. Should be greater than or equal to StartDateOfAccountingPeriodOfSubsidiary. This can be less than the date of incorporation of the filing company"]
["DateOfBecomingSubsidiary",1978,"in-gaap","false","date","","duration","item","true","","Should be less than or equal to system date"]
["DateOfCeasingToBeSubsidiary",1979,"in-gaap","false","date","","duration","item","true","","Should be less than or equal to system date. Should be greater than or equal to DateOfBecomingSubsidiary. \nThis shall be an Optional field (even in case of tuples)"]
["NumberOfSharesHeldOfSubsidiary",1980,"in-gaap","false","shares","","duration","item","true","","Should be greater than or equal to zero"]
["FaceValueOfSharesOfSubsidiary",1981,"in-gaap","false","num:perShare","","instant","item","true","","Should be greater than or equal to zero"]
["PaidUpValueOfSharesHeldOfSubsidiary",1982,"in-gaap","false","monetary","credit","instant","item","true","","Should be greater than or equal to zero"]
["PercentageOfShareHoldingInSubsidiary",1983,"in-gaap","false","num:percent","","duration","item","true","","Should be greater than or equal to zero. Should not be greater than 100%"]
["ProportionOfVotingPowerInSubsidiary",1984,"in-gaap","false","pure","","duration","item","true","","If this is greater than zero for the current period; then atleast one subsidiary details should be entered. Should not be greater than 100%"]
["AggregateAmountOfProfitLossOfSubsidiaryForPreviousYearsSinceItBecameSubsidiary",1985,"in-gaap","false","monetary","","duration","item","true",""]
["DetailsOfAggregateAmountNotIncludedByParentCompany",1986,"in-gaap","false","string","","duration","item","true",""]
["AggregateAmountOfSubsidiaryNotAccountedForCurrentYear",1987,"in-gaap","false","monetary","","duration","item","true",""]
["AggregateAmountOfSubsidiaryNotAccountedForPreviousYearsSinceItBecameSubsidiary",1988,"in-gaap","false","monetary","","duration","item","true",""]
["DetailsOfAggregateAmountsDealtByParentCompany",1989,"in-gaap","false","string","","duration","item","true",""]
["AggregateAmountOfSubsidiaryAccountedForPeriod",1990,"in-gaap","false","monetary","","duration","item","true",""]
["AggregateAmountOfSubsidiaryAccountedForPreviousYearsSinceItBecameSubsidiary",1991,"in-gaap","false","monetary","","duration","item","true",""]
["WhetherFinancialYearofSubsidiaryCoincidesWithFinancialYearofHoldingCompany",1992,"in-gaap","false","boolean","","duration","item","true",""]
["GuaranteeGivenForLoansBorrowedBySubsidiary",1993,"in-gaap","","","","","tuple","true",""]
["NameOfGuaranteedParty",1994,"in-gaap","false","string","","duration","item","true","","Name should be based on CIN, if entered"]
["AmountGuaranteedOnLoansBorrowedBySubsidiary",1995,"in-gaap","false","monetary","","duration","item","true",""]
["GuaranteeBySubsidiaryForLoansBorrowedByCompany",1996,"in-gaap","","","","","tuple","true",""]
["AmountGuaranteedOnLoansBorrowedByCompany",1997,"in-gaap","false","monetary","credit","duration","item","true",""]
["DetailsOfAssetsLiabilitiesOfSubsidiaryIncludedInConsolidatedStatements",1998,"in-gaap","false","string","","duration","item","true",""]
["DetailsOfParticipatingInterestsThroughSubsidiary",1999,"in-gaap","false","string","","duration","item","true",""]
["NatureOfRelationshipWithSubsidiaryWhereParentHasDirectlyOrIndirectlyLessThanHalfOfVotingPower",2000,"in-gaap","false","string","","duration","item","true",""]
["DetailsOfJointlyControlledAssetsWithSubsidiary",2001,"in-gaap","false","string","","duration","item","true",""]
["DisclosuresOfDeferredTaxAssetsAndLiabilitiesExplanatory",2002,"in-gaap","false","nonnum:textBlock","","duration","item","true",""]
["DetailsOfDeferredTaxAssetLiability",2003,"in-gaap","false","string","","duration","item","true",""]
["NetDeferredTaxAssetLiabilityNonCurrent",2004,"in-gaap","false","monetary","credit","instant","item","true",""]
["NetDeferredTaxAssetLiabilityCurrent",2005,"in-gaap","false","monetary","credit","instant","item","true",""]
["IdentificationOfDeferredTaxAssets",2006,"in-gaap","false","string","","duration","item","true",""]
["IdentificationOfDeferredTaxLiability",2007,"in-gaap","false","string","","duration","item","true",""]
["DeferredTaxInRespectOfBusinessCombinations",2008,"in-gaap","false","string","","duration","item","true",""]
["AdjustmentsOfDeferredTaxAsset",2009,"in-gaap","false","string","","duration","item","true",""]
["AdjustmentsOfDeferredTaxAssetAgainstGeneralReserve",2010,"in-gaap","false","string","","duration","item","true",""]
["AdjustmentsOfDeferredTaxAssetAgainstSecuritiesPremium",2011,"in-gaap","false","string","","duration","item","true",""]
["DeferredTaxAssetsOrLiabilitiesNotRecognized",2012,"in-gaap","false","string","","duration","item","true",""]
["DeferredTaxAssetsNotRecognized",2013,"in-gaap","false","string","","duration","item","true",""]
["DeferredTaxLiabilityNotRecognized",2014,"in-gaap","false","string","","duration","item","true",""]
["EvidenceSupportingRecognitionOfDeferredTaxAssets",2015,"in-gaap","false","string","","duration","item","true",""]
["EvidenceSupportingRecognitionOfUnabsorbedDepreciation",2016,"in-gaap","false","string","","duration","item","true",""]
["EvidenceSupportingRecognitionOfCarryForwardOfLosses",2017,"in-gaap","false","string","","duration","item","true",""]
["NumberOfSharesIssuedUnderSchemeofAmalgamation",2018,"in-gaap","false","shares","","duration","item","true","","Should be greater than or equal to zero"]
["NumberOfSharesIssuedAsPreferentialAllotment",2019,"in-gaap","false","shares","","duration","item","true","","Should be greater than or equal to zero"]
["NumberOfGlobalDepositorySharesIssuedDuringPeriod",2020,"in-gaap","false","shares","","duration","item","true","","Should be greater than or equal to zero"]
["NumberOfAmericanDepositorySharesIssuedDuringPeriod",2021,"in-gaap","false","shares","","duration","item","true","","Should be greater than or equal to zero"]
["DisclosuresinRespectofSharesIssued",2022,"in-gaap","false","string","","duration","item","true",""]
["DetailsOfPreferenceSharesIssued",2023,"in-gaap","false","string","","duration","item","true",""]
["DisclosuresRedemptionPreferenceShares",2024,"in-gaap","false","string","","duration","item","true",""]
["DisclosuresConvertibleWarrantsIssued",2025,"in-gaap","false","string","","duration","item","true",""]
["DisclosuresConversionConvertibleWarrants",2026,"in-gaap","false","string","","duration","item","true",""]
["DisclosuresStockCompensation",2027,"in-gaap","false","string","","duration","item","true",""]
["DisclosuresConvertibleDebtSecuritiesIssued",2028,"in-gaap","false","string","","duration","item","true",""]
["DisclosuresConversionOfDebtSecurities",2029,"in-gaap","false","string","","duration","item","true",""]
["OtherDisclosuresinRespectOfShares",2030,"in-gaap","false","string","","duration","item","true",""]
["DisclosureOfDiscontinuingOperationsExplanatory",2031,"in-gaap","false","nonnum:textBlock","","duration","item","true",""]
["DiscontinuingOperationsDescription",2032,"in-gaap","false","string","","duration","item","true",""]
["SegmentofDiscontinuingOperations",2033,"in-gaap","false","string","","duration","item","true",""]
["DateInitialDisclosureofDiscontinuanceEvent",2034,"in-gaap","false","date","","duration","item","true",""]
["NatureofInitialDisclosureofDiscontinuanceEvent",2035,"in-gaap","false","string","","duration","item","true",""]
["DateExpectedCompletionDiscontinuanceEvent",2036,"in-gaap","false","date","","duration","item","true",""]
["ExpectedCompletionofDiscontinuancePeriod",2037,"in-gaap","false","string","","duration","item","true",""]
["EventsOccurringafterBalanceSheetDateDisclosure",2038,"in-gaap","false","string","","duration","item","true",""]
["ExplanationofNetSellingPriceorPriceRangeofAssetUnderBindingSalesAgreements",2039,"in-gaap","false","string","","duration","item","true",""]
["ExpectedTimingofReceiptofCashFlowsRelatingtoBindingSalesAgreements",2040,"in-gaap","false","string","","duration","item","true",""]
["ExplanationofSignificantChangesinAmountReceivableUnderBindingSaleAgreement",2041,"in-gaap","false","string","","duration","item","true",""]
["ExplanationofSignificantChangesinTimingofReceiptofCashFlowsUnderBindingSaleAgreement",2042,"in-gaap","false","string","","duration","item","true",""]
["EventsCausingSignificantChangesafterInitialDisclosureEventOccurred",2043,"in-gaap","false","string","","duration","item","true",""]
["DisclosureofAbandonmentorWithdrawalofPlanPreviouslyReportedasDiscontinuingOperations",2044,"in-gaap","false","string","","duration","item","true",""]
["ReasonsforAbandonmentorWithdrawalofPlanPreviouslyReportedasDiscontinuingOperations",2045,"in-gaap","false","string","","duration","item","true",""]
["SummaryofDiscontinuedOperations",2046,"in-gaap","false","string","","duration","item","true",""]
["RevenueFromDiscontinuingOperations",2047,"in-gaap","false","monetary","credit","duration","item","true",""]
["ExpenditureFromDiscontinuingOperations",2048,"in-gaap","false","monetary","debit","duration","item","true",""]
["AssetsRelatingToDiscontinuingOperations",2049,"in-gaap","false","monetary","debit","instant","item","true",""]
["LiabilitiesRelatingToDiscontinuingOperations",2050,"in-gaap","false","monetary","credit","instant","item","true",""]
["DisclosuresOfCashFlowStatementAndBalancesExplanatory",2051,"in-gaap","false","nonnum:textBlock","","duration","item","true",""]
["DetailsOfBalancesWithForeignBanks",2052,"in-gaap","","","","","tuple","true",""]
["NameofForeignBank",2053,"in-gaap","false","string","","duration","item","true",""]
["NationalityForeignBank",2054,"in-gaap","false","string","","duration","item","true","","Should be valid country name as per List of countries"]
["BalanceOutstandingWithForeignBanks",2055,"in-gaap","false","monetary","debit","instant","item","true",""]
["MaximumBalanceOutstandingDuringYearWithForeignBanks",2056,"in-gaap","false","monetary","debit","duration","item","true",""]
["DetailsOfReconciliationOfCashAndCashEquivalentsReportedInBalanceSheetToCashAndCashEquivalentsInCashFlowStatement",2057,"in-gaap","false","monetary","debit","duration","item","true",""]
["DetailsOfSignificantCashAndCashEquivalentsNotAvailableforUse",2058,"in-gaap","false","string","","duration","item","true",""]
["DetailsOfNonCashInvestingAndFinancingActivities",2059,"in-gaap","false","string","","duration","item","true",""]
["DetailsOfSignificantNonCashTransactions",2060,"in-gaap","false","string","","duration","item","true",""]
["DetailsOfAcquisitionAssetsByDirectlyAssumingLiabilities",2061,"in-gaap","false","string","","duration","item","true",""]
["DetailsOfAcquisitionEnterprisesByMeansOfIssueOfShares",2062,"in-gaap","false","string","","duration","item","true",""]
["DetailsOfConversionOfDebtToEquity",2063,"in-gaap","false","string","","duration","item","true",""]
["DetailsOfAnyOtherNonCashInvestingAndFinancingActivities",2064,"in-gaap","false","string","","duration","item","true",""]
["BasisDeterminingValueSignificantNonCashTransaction",2065,"in-gaap","false","string","","duration","item","true",""]
["DetailsOfAmountsDueToMicroSmallMediumEnterprises",2066,"in-gaap","","","","","tuple","true",""]
["NameCompanyBeingMicroSmallMediumEnterprises",2067,"in-gaap","false","string","","duration","item","true","","Name should be based on CIN if CIN is entered."]
["AmountOutstandingfromMicroSmallMediumEnterprises",2068,"in-gaap","false","monetary","credit","instant","item","true",""]
["MaximumAmountOutstandingforPeriodfromMicroSmallMediumEnterprises",2069,"in-gaap","false","monetary","credit","duration","item","true",""]
["DetailsOfInvestments",2070,"in-gaap","false","string","","duration","item","true",""]
["AcquisitionAndDisposalOfInvestments",2071,"in-gaap","","","","","tuple","true",""]
["TypeOfInvestment",2072,"in-gaap","false","string","","duration","item","true",""]
["NumberUnitsPurchased",2073,"in-gaap","false","decimal","","duration","item","true","","Should be greater than or equal to zero"]
["FaceValueUnitsPurchased",2074,"in-gaap","false","decimal","","duration","item","true","","Should be greater than or equal to zero"]
["PurchasePriceUnits",2075,"in-gaap","false","monetary","","duration","item","true",""]
["NumberUnitsSold",2076,"in-gaap","false","decimal","","duration","item","true","","Should be greater than or equal to zero"]
["SellingPriceUnits",2077,"in-gaap","false","monetary","","duration","item","true",""]
["MarketValueQuotedInvestments",2078,"in-gaap","false","monetary","","instant","item","true",""]
["StatementofSignificantRestrictionsonRightofOwnershipofInvestments",2079,"in-gaap","false","string","","duration","item","true",""]
["StatementofSignificantRestrictionsonRealisabilityofInvestments",2080,"in-gaap","false","string","","duration","item","true",""]
["StatementofSignificantRestrictionsonRemittanceofIncomefromInvestment",2081,"in-gaap","false","string","","duration","item","true",""]
["DisclosureOfGovernmentGrantsAndSubsidiesExplanatory",2082,"in-gaap","false","nonnum:textBlock","","duration","item","true",""]
["MethodOffPresentationAdoptedInFinancialStatementForGovernmentGrantsAndSubsidies",2083,"in-gaap","false","string","","duration","item","true",""]
["NatureOfGovernmentGrants",2084,"in-gaap","false","string","","duration","item","true",""]
["DetailsOfGovernmentGrantsInFormOfNonMonetaryAssetsGivenAtConcessionalRate",2085,"in-gaap","false","string","","duration","item","true",""]
["DetailsOfGovernmentGrantsInFormOfNonMonetaryAssetsGivenFreeOfCost",2086,"in-gaap","false","string","","duration","item","true",""]
["ContingenciesRelatedToGovernmentGrants",2087,"in-gaap","false","string","","duration","item","true",""]
["DetailsOfDirectors",2088,"in-gaap","","","","","tuple","true","","Director should be associated with the company at any time during the PeriodCoveredByFinancialStatements. Mandatory to enter details of atleast 2 in case of private company, 3 in case of public company and 5 in case of Producer company. Status of the company (Private/Public/Producer) to be checked as on date of balance sheet i.e. Date of end of reporting period."]
["NameofDirector",2089,"in-gaap","false","string","","duration","item","true","","Name should be based on DIN in any order"]
["DateOfBirthOfDirector",2090,"in-gaap","false","date","","duration","item","true","","Should be less than system date. Difference between this date and system date should be greater than or equal to 18 years."]
["QualificationofDirector",2091,"in-gaap","false","string","","duration","item","true",""]
["SharesHeldByDirector",2092,"in-gaap","false","shares","","duration","item","true","","Should be greater than or equal to zero"]
["TotalSalarytoDirector",2093,"in-gaap","false","monetary","debit","duration","item","true","","Should be greater than or equal to zero. Total should be Mandatory if director details are entered."]
["BasicPayDirector",2094,"in-gaap","false","monetary","debit","duration","item","true",""]
["AllowancesDirector",2095,"in-gaap","false","monetary","debit","duration","item","true",""]
["PerquisitesDirector",2096,"in-gaap","false","monetary","debit","duration","item","true",""]
["CommissionDirector",2097,"in-gaap","false","monetary","debit","duration","item","true",""]
["SittingFeesDirector",2098,"in-gaap","false","monetary","debit","duration","item","true",""]
["StockCompensationDirector",2099,"in-gaap","false","monetary","debit","duration","item","true",""]
["PostRetirementBenefitsDirector",2100,"in-gaap","false","monetary","debit","duration","item","true",""]
["OtherCompensationDirector",2101,"in-gaap","false","monetary","debit","duration","item","true",""]
["DirectorRemuneration",2102,"in-gaap","false","monetary","debit","duration","item","true",""]
["DirectorRemunerationAbstract",2103,"in-gaap","true","string","","duration","item","true",""]
["DisclosureOfRelatedPartiesExplanatory",2104,"in-gaap","false","nonnum:textBlock","","duration","item","true",""]
["DisclosureOfEventsOccurringAfterBalanceSheetDateExplanatory",2105,"in-gaap","false","nonnum:textBlock","","duration","item","true",""]
["DisclosureOfNatureOfEventsOccurringAfterBalanceSheetDate",2106,"in-gaap","false","string","","duration","item","true",""]
["DetailsOfEstimatedAmountOfEffectOfEventsAfterBalanceSheetDate",2107,"in-gaap","false","monetary","","duration","item","true",""]
["StatementOfInabilityToEstimateEffectOfEventsOccurringAfterBalanceSheetDate",2108,"in-gaap","false","string","","duration","item","true",""]
["DisclosureOfAmalgamationsExplanatory",2109,"in-gaap","false","nonnum:textBlock","","duration","item","true",""]
["DescriptionOfAccountingTreatmentGivenToReserves",2110,"in-gaap","false","string","","duration","item","true",""]
["ReasonForFollowingDifferentTreatmentForReservesFromPrescribedInStatementOfAmalgamatingCompany",2111,"in-gaap","false","string","","duration","item","true",""]
["DeviationInAccountingTreatmentOfReservesFollowedAsPrescribedInStatute",2112,"in-gaap","false","string","","duration","item","true",""]
["NameOfAmalgamatingCompany",2113,"in-gaap","false","string","","duration","item","true","","Name of the company should be based on CIN, if entered"]
["CountryOfIncorporationOrResidenceOfAmalgamatingCompany",2114,"in-gaap","false","in-ca-types:CountryName","","duration","item","true","","Should be valid country name as per List of countries"]
["GeneralNatureOfBusinessOfAmalgamatingCompany",2115,"in-gaap","false","string","","duration","item","true",""]
["EffectiveDateOfAmalgamation",2116,"in-gaap","false","date","","duration","item","true","","Should be less than or equal to system date"]
["MethodOfAccountingFollowedForAmalgamation",2117,"in-gaap","false","string","","duration","item","true",""]
["ParticularsOfSchemeSanctionedUnderStatute",2118,"in-gaap","false","string","","duration","item","true",""]
["DescriptionOfSharesIssuedUnderPoolingOfInterestMethod",2119,"in-gaap","false","string","","duration","item","true",""]
["NumberOfSharesIssuedInSchemeOfAmalgamation",2120,"in-gaap","false","shares","","duration","item","true","","Should be greater than or equal to zero"]
["PercentageOfEachCompanyEquitySharesExchangedToEffectAmalgamation",2121,"in-gaap","false","num:percent","","duration","item","true",""]
["DescriptionOfConsiderationPaidUnderPurchaseMethod",2122,"in-gaap","false","string","","duration","item","true",""]
["DetailsOfInvestmentsInAssociates",2123,"in-gaap","","","","","tuple","true",""]
["NameOfAssociate",2124,"in-gaap","false","string","","duration","item","true","","Name should be based on CIN, if entered"]
["CountryOfIncorporationOrResidenceOfAssociate",2125,"in-gaap","false","in-ca-types:CountryName","","duration","item","true","","Should be valid country name as per List of countries"]
["ProportionOfOwnershipInterestInAssociate",2126,"in-gaap","false","pure","","duration","item","true","","If this is greater than zero for the current period; then atleast one associate details should be entered. Should not be greater than 100%"]
["ProportionOfVotingPowerInAssociate",2127,"in-gaap","false","pure","","duration","item","true","","If this is greater than zero for the current period; then atleast one associate details should be entered. Should not be greater than 100%"]
["DescriptionOfAssociate",2128,"in-gaap","false","string","","duration","item","true",""]
["NameOfAssociateForWhichReportingDateIsDifferent",2129,"in-gaap","false","string","","duration","item","true","","Name should be based on CIN, if entered"]
["DifferencesInReportingDatesOfAssociate",2130,"in-gaap","false","string","","duration","item","true",""]
["DetailsOfNonAdoptionOfUniformAccountingPoliciesByAssociate",2131,"in-gaap","false","string","","duration","item","true",""]
["DescriptionOfDifferencesInAccountingPoliciesFollowedByAssociate",2132,"in-gaap","false","string","","duration","item","true",""]
["ShareOfCommitmentsOfAssociatesForWhichEntityIsContingentlyLiable",2133,"in-gaap","false","monetary","","duration","item","true",""]
["ShareOfContingentLiabilitiesIncurredJointlyWithOtherInvestors",2134,"in-gaap","false","monetary","","duration","item","true",""]
["ContingentLiabilitiesOfAssociateForWhichEntityIsSeverallyLiable",2135,"in-gaap","false","monetary","","duration","item","true",""]
["ReasonsForNotAccountingInvestmentsInAssociateUsingEquityMethod",2136,"in-gaap","false","string","","duration","item","true",""]
["DetailsOfInvestmentsInJointVentures",2137,"in-gaap","","","","","tuple","true",""]
["NameOfJointVenturer",2138,"in-gaap","false","string","","duration","item","true","","Name should be based on CIN, if entered"]
["CountryOfIncorporationOrResidenceOfJointVenturer",2139,"in-gaap","false","in-ca-types:CountryName","","duration","item","true","","Should be valid country name as per List of countries"]
["PercentageOfOwnershipInterestInJointVenture",2140,"in-gaap","false","num:percent","","duration","item","true","","Should be greater than or equal to zero. Should not be greater than 100%"]
["DetailsOfNotFollowingUniformAccountingPoliciesByJointVenture",2141,"in-gaap","false","string","","duration","item","true",""]
["DetailsOfProportionsOfItemsForWhichDifferentAccountingPoliciesFollowedByJointVenture",2142,"in-gaap","false","string","","duration","item","true",""]
["ContingentLiabilitiesIncurredByVenturerInRelationToInterestsInJointVentures",2143,"in-gaap","false","monetary","","duration","item","true",""]
["ShareOfContingentLiabilitiesIncurredJointlyWithOtherVenturers",2144,"in-gaap","false","monetary","","duration","item","true",""]
["ShareOfContingentLiabilitiesOfJointVentures",2145,"in-gaap","false","monetary","","duration","item","true",""]
["ContingentLiabilitiesForWhichrVenturersAreLiableForLiabilitiesOfOtherVenturers",2146,"in-gaap","false","monetary","","duration","item","true",""]
["CapitalCommitmentsOfVenturersRelationToInterestsInJointVentures",2147,"in-gaap","false","monetary","","duration","item","true",""]
["ShareOfCapitalCommitmentsOfJointVenturesThemselves",2148,"in-gaap","false","monetary","","duration","item","true",""]
["DisclosureOfIntangibleAssetsExplanatory",2149,"in-gaap","false","nonnum:textBlock","","duration","item","true",""]
["DescriptionofanyMaterialIntangibleAssets",2150,"in-gaap","false","string","","duration","item","true",""]
["DescriptionofIntangibleAssetswhoseTitleisRestricted",2151,"in-gaap","false","string","","duration","item","true",""]
["CarryingAmountofIntangibleAssetsTitleisRestricted",2152,"in-gaap","false","monetary","debit","instant","item","true",""]
["DescriptionofIntangibleAssetsPledgedasSecurityforLiabilities",2153,"in-gaap","false","string","","duration","item","true",""]
["CarryingAmountofIntangibleAssetsPledgedasSecurityforLiabilities",2154,"in-gaap","false","monetary","","duration","item","true",""]
["AmountofCommitmentforAcquisitionofIntangibleAssets",2155,"in-gaap","false","monetary","","duration","item","true",""]
["FactorsPlayingSignificantRoleinDeterminingUsefulLifeofIntangibleAssets",2156,"in-gaap","false","string","","duration","item","true",""]
["UsefulLifeofInternallyGeneratedIntangibleAssets",2157,"in-gaap","false","decimal","","duration","item","true","","Should be greater than or equal to zero"]
["UsefulLifeofOtherIntangibleAssets",2158,"in-gaap","false","decimal","","duration","item","true","","Should be greater than or equal to zero"]
["ReasonsforRebuttingPresumptionofUsefulLifeofTenYearsforIntangibleAssets",2159,"in-gaap","false","string","","duration","item","true",""]
["DisclosureOfImpairmentOfAssetsExplanatory",2160,"in-gaap","false","nonnum:textBlock","","duration","item","true",""]
["ImpairmentLossRecognizedinProfitandLossforPrimarySegment",2161,"in-gaap","false","monetary","","duration","item","true",""]
["ImpairmentLossRecognizedAgainstRevaluationSurplusforPrimarySegment",2162,"in-gaap","false","monetary","","duration","item","true",""]
["ReversalofImpairmentLossRecognizedinProfitAndLossforPrimarySegment",2163,"in-gaap","false","monetary","","duration","item","true",""]
["ReversalofImpairmentLossRecognizedAgainstRevaluationSurplusforPrimarySegment",2164,"in-gaap","false","monetary","","duration","item","true",""]
["EventsorCircumstancesLeadingtoRecognitionofImpairmentLosses",2165,"in-gaap","false","string","","duration","item","true",""]
["EventsorCircumstancesLeadingtoReversalofImpairmentLosses",2166,"in-gaap","false","string","","duration","item","true",""]
["DescriptionofIndividualAssetImpaired",2167,"in-gaap","false","string","","duration","item","true",""]
["ReportablePrimarySegmenttowhichIndividualAssetImpairedBelongs",2168,"in-gaap","false","string","","duration","item","true",""]
["ReportablePrimarySegmentofCashGeneratingUnit",2169,"in-gaap","false","string","","duration","item","true",""]
["ImpairmentLossRecognizedorReversedforCashGeneratingUnit",2170,"in-gaap","false","string","","duration","item","true",""]
["ImpairmentLossRecognizedorReversedforPrimarySegmentofCashGeneratingUnit",2171,"in-gaap","false","string","","duration","item","true",""]
["DescriptionofCashGeneratingUnit",2172,"in-gaap","false","string","","duration","item","true",""]
["DetailsOfCashGeneratingUnitsWithImpairedAssets",2173,"in-gaap","false","string","","duration","item","true",""]
["CurrentMethodUsedbyCashGeneratingUnits",2174,"in-gaap","false","string","","duration","item","true",""]
["FormerMethodUsedbyCashGeneratingUnits",2175,"in-gaap","false","string","","duration","item","true",""]
["ChangeinMethodofCompilationofImpairmentUsedbyCashGeneratingUnits",2176,"in-gaap","false","string","","duration","item","true",""]
["ReasonforChangingCompilationMethod",2177,"in-gaap","false","string","","duration","item","true",""]
["ExplanationofwhetherRecoverableAmountisNetSellingPriceorValueinUse",2178,"in-gaap","false","string","","duration","item","true",""]
["ClassofAssetsImpaired",2179,"in-gaap","false","string","","duration","item","true",""]
["BasisUsedtoDetermineNetSellingPrice",2180,"in-gaap","false","string","","duration","item","true",""]
["DiscountRateUsedinDeterminingFairValue",2181,"in-gaap","false","string","","duration","item","true",""]
["MainClassesofAssetsAffectedbyImpairmentLossReversalsisforwhichnoInformationisDisclosedIndividually",2182,"in-gaap","false","string","","duration","item","true",""]
["MainEventsCircumstancesLedtoRecognitionReversalofImpairmentLossesforwhichnoInformationisDisclosedIndividually",2183,"in-gaap","false","string","","duration","item","true",""]
["KeyAssumptionsUsedtoDetermineRecoverableAmount",2184,"in-gaap","false","string","","duration","item","true",""]
["DisclosureOfEarningsPerShareExplanatory",2185,"in-gaap","false","nonnum:textBlock","","duration","item","true",""]
["NetProfitLossAttributabletoEquityShareholdersBasic",2186,"in-gaap","false","monetary","credit","duration","item","true",""]
["NetProfitforBasicEarningsPerShare",2187,"in-gaap","false","monetary","credit","duration","item","true",""]
["PreferenceDividendProvidedNonCumulativePreferenceShares",2188,"in-gaap","false","monetary","credit","duration","item","true",""]
["PreferenceDividendProvidedCumulativePreferenceShares",2189,"in-gaap","false","monetary","credit","duration","item","true",""]
["OtherAdjustmentsNetProfit",2190,"in-gaap","false","monetary","","duration","item","true",""]
["DetailsOfNumberOfSharesUsedForBasicEarningsPerShare",2191,"in-gaap","false","string","","duration","item","true",""]
["NumberofSharesBoughtBackDuringCurrentYear",2192,"in-gaap","false","shares","","duration","item","true","","Should be greater than or equal to zero"]
["NumberofSharesIssuedDuringCurrentYear",2193,"in-gaap","false","shares","","duration","item","true","","Should be greater than or equal to zero"]
["NumberofBonusSharesIssued",2194,"in-gaap","false","shares","","duration","item","true","","Should be greater than or equal to zero"]
["NumberofSharesIssuedasRightsIssue",2195,"in-gaap","false","shares","","duration","item","true","","Should be greater than or equal to zero"]
["NumberofSharesSplitUp",2196,"in-gaap","false","shares","","duration","item","true","","Should be greater than or equal to zero"]
["NumberofReverseShareSplit",2197,"in-gaap","false","shares","","duration","item","true","","Should be greater than or equal to zero"]
["NetProfitLossAttributabletoEquityShareholdersDiluted",2198,"in-gaap","false","monetary","credit","duration","item","true",""]
["NetProfitforCurrentYearforDilutedEarningsPerShare",2199,"in-gaap","false","monetary","credit","duration","item","true",""]
["DividendsinRespectofDilutivePotentialEquityShares",2200,"in-gaap","false","monetary","credit","duration","item","true",""]
["InterestinRespectofDilutivePotentialEquityShares",2201,"in-gaap","false","monetary","credit","duration","item","true",""]
["OtherIncomeorExpenseResultingfromConversionofDilutivePotentialEquityShares",2202,"in-gaap","false","monetary","","duration","item","true",""]
["DetailsOfNumberOfPotentiallyDilutiveShares",2203,"in-gaap","false","string","","duration","item","true",""]
["WarrantsOptionsRights",2204,"in-gaap","false","shares","","duration","item","true","","Should be greater than or equal to zero"]
["OtherPotentiallyDilutiveShares",2205,"in-gaap","false","shares","","duration","item","true","","Should be greater than or equal to zero"]
["ContingentlyIssuableShares",2206,"in-gaap","false","shares","","duration","item","true","","Should be greater than or equal to zero"]
["ConvertibleDebt",2207,"in-gaap","false","shares","","duration","item","true","","Should be greater than or equal to zero"]
["ConvertiblePreferenceShares",2208,"in-gaap","false","shares","","duration","item","true","","Should be greater than or equal to zero"]
["EmployeeShareOptions",2209,"in-gaap","false","shares","","duration","item","true","","Should be greater than or equal to zero"]
["DisclosureOfLeasesExplanatory",2210,"in-gaap","false","nonnum:textBlock","","duration","item","true",""]
["DetailsOfFinancialLeaseForLessee",2211,"in-gaap","false","string","","duration","item","true",""]
["SignificantFinanceLeasingArrangements",2212,"in-gaap","false","string","","duration","item","true",""]
["BasisforDeterminingContingentRentPaymentsFinanceLeaseObligation",2213,"in-gaap","false","string","","duration","item","true",""]
["ExistenceTermsofRenewalorPurchaseOptionsEscalationClausesFinanceLeasingArrangements",2214,"in-gaap","false","string","","duration","item","true",""]
["RestrictionsImposedbyLeaseArrangementsFinanceLeasingArrangements",2215,"in-gaap","false","string","","duration","item","true",""]
["MinimumLeasePaymentsPayableGrossforFinanceLeaseObligations",2216,"in-gaap","false","string","","duration","item","true",""]
["MinimumLeasePaymentsPayableNotLaterthanOneYearGrossforFinanceLeaseObligations",2217,"in-gaap","false","monetary","","duration","item","true",""]
["MinimumLeasePaymentsPayableLaterthanOneYearbutLessthanFiveYearsGrossforFinanceLeaseObligations",2218,"in-gaap","false","monetary","","duration","item","true",""]
["MinimumLeasePaymentsPayableOverFiveYearsGrossforFinanceLeaseObligations",2219,"in-gaap","false","monetary","","duration","item","true",""]
["MinimumLeasePaymentsPayableInterestonFinanceLeaseObligations",2220,"in-gaap","false","string","","duration","item","true",""]
["MinimumLeasePaymentsPayableNotLaterthanOneYearonInterestonFinanceLeaseObligations",2221,"in-gaap","false","monetary","","duration","item","true",""]
["MinimumLeasePaymentsPayableLaterthanOneYearbutLessthanFiveYearsInterestonFinanceLeaseObligations",2222,"in-gaap","false","monetary","","duration","item","true",""]
["MinimumLeasePaymentsPayableOverFiveYearsInterestonFinanceLeaseObligations",2223,"in-gaap","false","monetary","","duration","item","true",""]
["MinimumLeasePaymentsPayablePresentValueonFinanceLeaseObligations",2224,"in-gaap","false","string","","duration","item","true",""]
["MinimumLeasePaymentsPayableNotLaterthanOneYearPresentValueofFinanceLeaseObligations",2225,"in-gaap","false","monetary","","duration","item","true",""]
["MinimumLeasePaymentsPayableLaterthanOneYearbutLessthanFiveYearsPresentValueofFinanceLeaseObligations",2226,"in-gaap","false","monetary","","duration","item","true",""]
["MinimumLeasePaymentsPayableOverFiveYearsPresentValueofFinanceLeaseObligations",2227,"in-gaap","false","monetary","","duration","item","true",""]
["NonCancellableFutureMinimumLeasePaymentsForLessees",2228,"in-gaap","false","string","","duration","item","true",""]
["NonCancellableFutureMinimumLeasePaymentsNotLaterthanOneYearforLessees",2229,"in-gaap","false","monetary","","duration","item","true",""]
["NonCancellableFutureMinimumLeasePaymentsLaterthanFiveYearsforLessees",2230,"in-gaap","false","monetary","","duration","item","true",""]
["NonCancellableFutureMinimumLeasePaymentsLaterthanOneYearbutLessthanFiveYearsforLessees",2231,"in-gaap","false","monetary","","duration","item","true",""]
["DetailsOfFinancingLeaseForLessor",2232,"in-gaap","false","string","","duration","item","true",""]
["SignificantLeasingArrangementsFinanceLeaseforLessor",2233,"in-gaap","false","string","","duration","item","true",""]
["AccountingPolicyAdoptedInRespectofInitialDirectCostonFinanceLease",2234,"in-gaap","false","string","","duration","item","true",""]
["UnearnedFinanceIncomefromFinanceLeases",2235,"in-gaap","false","monetary","","duration","item","true",""]
["UnguaranteedResidualValuesAccruingtoBenefitofLessor",2236,"in-gaap","false","monetary","","duration","item","true",""]
["AccumulatedProvisionforUncollectibleMinimumLeasePaymentsReceivable",2237,"in-gaap","false","monetary","","duration","item","true",""]
["MinimumLeasePaymentsReceivableGrossFinanceLeases",2238,"in-gaap","false","string","","duration","item","true",""]
["MinimumLeasePaymentsReceivableNotLaterthanOneYearGrossforFinanceLeases",2239,"in-gaap","false","monetary","","duration","item","true",""]
["MinimumLeasePaymentsReceivableLaterthanOneYearbutLessthanFiveYearsGrossforFinanceLeases",2240,"in-gaap","false","monetary","","duration","item","true",""]
["MinimumLeasePaymentsReceivableLaterthanFiveYearsGrossforFinanceLeases",2241,"in-gaap","false","monetary","","duration","item","true",""]
["MinimumLeasePaymentsReceivableInterestforFinanceLeases",2242,"in-gaap","false","string","","duration","item","true",""]
["MinimumLeasePaymentsReceivableNotLaterthanOneYearInterestforFinanceLeases",2243,"in-gaap","false","monetary","","duration","item","true",""]
["MinimumLeasePaymentsReceivableLaterthanOneYearbutLessthanFiveYearsInterestforFinanceLeases",2244,"in-gaap","false","monetary","","duration","item","true",""]
["MinimumLeasePaymentsReceivableLaterthanFiveYearsInterestforFinanceLeases",2245,"in-gaap","false","monetary","","duration","item","true",""]
["MinimumLeasePaymentsReceivablePresentValueforFinanceLeases",2246,"in-gaap","false","string","","duration","item","true",""]
["MinimumLeasePaymentsReceivableNotLaterthanOneYearPresentValueforFinanceLeases",2247,"in-gaap","false","monetary","","duration","item","true",""]
["MinimumLeasePaymentsReceivableLaterthanOneYearbutLessthanFiveYearsPresentValueforFinanceLeases",2248,"in-gaap","false","monetary","","duration","item","true",""]
["MinimumLeasePaymentsReceivableLaterthanFiveYearsPresentValueforFinanceLeases",2249,"in-gaap","false","monetary","","duration","item","true",""]
["DetailsOfNonCancellableFutureMinimumLeasePaymentsForLessor",2250,"in-gaap","false","string","","duration","item","true",""]
["NonCancellableFutureMinimumLeasePaymentsNotLaterthanOneYearforLessor",2251,"in-gaap","false","monetary","","duration","item","true",""]
["NonCancellableFutureMinimumLeasePaymentsLaterthanOneYearbutLessthanFiveYearsforLessor",2252,"in-gaap","false","monetary","","duration","item","true",""]
["NonCancellableFutureMinimumLeasePaymentsLaterthanFiveYearsforLessor",2253,"in-gaap","false","monetary","","duration","item","true",""]
["DetailsOfOperatingLeaseforLessee",2254,"in-gaap","false","string","","duration","item","true",""]
["SignificantOperatingLeaseArrangements",2255,"in-gaap","false","string","","duration","item","true",""]
["BasisforDeterminingContingentRentPaymentsforOperatingLeaseObligation",2256,"in-gaap","false","string","","duration","item","true",""]
["ExistenceTermsofRenewalorPurchaseOptionsEscalationClausesforOperatingLeasingArrangements",2257,"in-gaap","false","string","","duration","item","true",""]
["RestrictionsImposedbyLeaseArrangementsOperatingLeasingArrangements",2258,"in-gaap","false","string","","duration","item","true",""]
["DetailsOfOperatingLeaseforLessor",2259,"in-gaap","false","string","","duration","item","true",""]
["SignificantLeasingArrangementsOperatingLeaseforLessor",2260,"in-gaap","false","string","","duration","item","true",""]
["AccountingPolicyAdoptedinRespectofInitialDirectCostforOperatingLease",2261,"in-gaap","false","string","","duration","item","true",""]
["DisclosureOfEmployeeBenefitsExplanatory",2262,"in-gaap","false","nonnum:textBlock","","duration","item","true",""]
["DetailsOfPresentValueDefinedBenefitPlanObligation",2263,"in-gaap","false","string","","duration","item","true",""]
["PresentValueDefinedBenefitPlanObligation",2264,"in-gaap","false","string","","duration","item","true",""]
["ChangesInPresentValueDefinedBenefitPlanObligation",2265,"in-gaap","false","string","","duration","item","true",""]
["CurrentServiceCostDefinedBenefitPlanObligation",2266,"in-gaap","false","monetary","","duration","item","true",""]
["InterestCostDefinedBenefitPlanObligation",2267,"in-gaap","false","monetary","","duration","item","true",""]
["ContributionsPaidDefinedBenefitPlanObligation",2268,"in-gaap","false","monetary","","duration","item","true",""]
["ActuarialGainsLossesDefinedBenefitPlanObligation",2269,"in-gaap","false","monetary","","duration","item","true",""]
["ForeignCurrencyExchangeIncreaseDecreaseDefinedBenefitPlanObligation",2270,"in-gaap","false","monetary","","duration","item","true",""]
["BenefitsPaidDefinedBenefitPlanObligation",2271,"in-gaap","false","monetary","","duration","item","true",""]
["PastServiceCostDefinedBenefitPlanObligation",2272,"in-gaap","false","monetary","","duration","item","true",""]
["AmalgamationsDefinedBenefitPlanObligation",2273,"in-gaap","false","monetary","","duration","item","true",""]
["CurtailmentsDefinedBenefitPlanObligation",2274,"in-gaap","false","monetary","","duration","item","true",""]
["SettlementsDefinedBenefitPlanObligation",2275,"in-gaap","false","monetary","","duration","item","true",""]
["AnalysisofDefinedBenefitObligationAmountsArisingfromPlansWhollyFundedAmountsArisingfromPlansWhollyorPartlyFunded",2276,"in-gaap","false","string","","duration","item","true",""]
["ReconciliationofFairValueofPlanAssetsAndofBalancesofReimbursementRightRecognizedasAsset",2277,"in-gaap","false","monetary","","duration","item","true",""]
["ExpectedReturnDefinedBenefitPlanAssets",2278,"in-gaap","false","monetary","","duration","item","true",""]
["ActuarialGainLossDefinedBenefitPlanAssets",2279,"in-gaap","false","monetary","","duration","item","true",""]
["ForeignCurrencyExchangeIncreaseDecreaseDefinedBenefitPlanAssets",2280,"in-gaap","false","monetary","","duration","item","true",""]
["ContributionsbyEmployerDefinedBenefitPlanAssets",2281,"in-gaap","false","monetary","","duration","item","true",""]
["ContributionsPaidDefinedBenefitPlanAssets",2282,"in-gaap","false","monetary","","duration","item","true",""]
["BenefitsPaidDefinedBenefitPlanAssets",2283,"in-gaap","false","monetary","","duration","item","true",""]
["AmalgamationsDefinedBenefitPlanAssets",2284,"in-gaap","false","monetary","","duration","item","true",""]
["SettlementsDefinedBenefitPlanAssets",2285,"in-gaap","false","monetary","","duration","item","true",""]
["ReconciliationofPresentValueofDefinedBenefitPlanFairValueofPlanAssetstoAssetsandLiabilitiesRecognizedinBalanceSheet",2286,"in-gaap","false","monetary","","duration","item","true",""]
["PastServiceCostNotRecognizedinBalanceSheet",2287,"in-gaap","false","monetary","","duration","item","true",""]
["AmountNotRecognizedBecauseofAssetCeilingDefinedBenefitPlanObligationAsset",2288,"in-gaap","false","monetary","","duration","item","true",""]
["FairValueofReimbursementRightRecognizedAsset",2289,"in-gaap","false","monetary","","duration","item","true",""]
["DescriptionofLinkBetweenReimbursementRightObligation",2290,"in-gaap","false","string","","duration","item","true",""]
["OtherAmountsRecognizedinBalanceSheet",2291,"in-gaap","false","string","","duration","item","true",""]
["CompositionofFairValueofTotalPlanAssets",2292,"in-gaap","false","string","","duration","item","true",""]
["DetailsOfAmountIncludedInFairValueOfPlanAssets",2293,"in-gaap","false","string","","duration","item","true",""]
["AmountofFinancialInstrumentsDefinedBenefitPlan",2294,"in-gaap","false","monetary","","duration","item","true",""]
["AmountofPropertyOccupiedorOtherAssetsUsedDefinedBenefitPlan",2295,"in-gaap","false","monetary","","duration","item","true",""]
["BasisUsedtoDetermineOverallExpectedRateofReturnonAssets",2296,"in-gaap","false","string","","duration","item","true",""]
["ActualReturnonPlanAssets",2297,"in-gaap","false","string","","duration","item","true",""]
["ActualReturnonReimbursementRightsRecognizedasAssets",2298,"in-gaap","false","string","","duration","item","true",""]
["PrincipalActuarialAssumptionsUsedinDefinedBenefitPlan",2299,"in-gaap","false","string","","duration","item","true",""]
["DiscountRatesUsedforPrincipalActuarialAssumption",2300,"in-gaap","false","num:percent","","duration","item","true",""]
["ExpectedReturnPlanAssets",2301,"in-gaap","false","string","","duration","item","true",""]
["ExpectedRateofReturnonReimbursementRightsRecognizedAsset",2302,"in-gaap","false","string","","duration","item","true",""]
["MedicalCostTrendRate",2303,"in-gaap","false","string","","duration","item","true",""]
["OtherMaterialActuarialAssumptions",2304,"in-gaap","false","string","","duration","item","true",""]
["EffectsofChangesofOnePercentagePointinAssumedMedicalCostTrendRates",2305,"in-gaap","false","string","","duration","item","true",""]
["IncreaseAggregateCurrentServiceCostInterestCost",2306,"in-gaap","false","monetary","","duration","item","true",""]
["DecreaseAggregateCurrentServiceCostInterestCost",2307,"in-gaap","false","monetary","","duration","item","true",""]
["IncreaseAccumulatedPostEmploymentBenefitObligationforMedicalCosts",2308,"in-gaap","false","monetary","","duration","item","true",""]
["DecreaseAccumulatedPostEmploymentBenefitObligationforMedicalCosts",2309,"in-gaap","false","monetary","","duration","item","true",""]
["AmountforCurrentAnnualPeriodPreviousFourAnnualPeriods",2310,"in-gaap","false","monetary","","duration","item","true",""]
["PresentValueofDefinedBenefitObligation",2311,"in-gaap","false","monetary","","duration","item","true",""]
["FairValueofDefinedBenefitPlanAssets",2312,"in-gaap","false","monetary","","duration","item","true",""]
["SurplusDeficitofDefinedBenefitPlan",2313,"in-gaap","false","monetary","","duration","item","true",""]
["ExperienceAdjustmentArisingonPlanLiabilitiesExpressedasAmountofPlanLiabilities",2314,"in-gaap","false","string","","duration","item","true",""]
["ExperienceAdjustmentArisingonPlanLiabilitiesExpressedasPercentageofPlanLiabilities",2315,"in-gaap","false","string","","duration","item","true",""]
["ExperienceAdjustmentArisingonPlanAssetsExpressedasAmountofPlanAssets",2316,"in-gaap","false","string","","duration","item","true",""]
["ExperienceAdjustmentArisingonPlanAssetsExpressedasPercentageofPlanAssets",2317,"in-gaap","false","string","","duration","item","true",""]
["EstimateofEmployerforContributionsExpectedtobePaidtoPlan",2318,"in-gaap","false","string","","duration","item","true",""]
["DetailsOfMultiEmployerBenefits",2319,"in-gaap","false","string","","duration","item","true",""]
["MultiEmployersProportionateShareofDefinedBenefitObligation",2320,"in-gaap","false","string","","duration","item","true",""]
["MultiEmployersProportionateShareofDefinedPlanAssets",2321,"in-gaap","false","string","","duration","item","true",""]
["MultiEmployersProportionateShareofCostAssociatedwithPlan",2322,"in-gaap","false","string","","duration","item","true",""]
["MultiEmployerDefinedBenefitPlanTreatedasDefinedContributionPlan",2323,"in-gaap","false","string","","duration","item","true",""]
["ReasonforSufficientInformationNotAvailabletoAccountforMultiEmployerPlanasDefinedBenefitPlan",2324,"in-gaap","false","string","","duration","item","true",""]
["AnyAvailableInformationAboutSurplusDeficitofMultiEmployerPlan",2325,"in-gaap","false","string","","duration","item","true",""]
["BasisUsedtoDetermineSurplusDeficitofMultiEmployerPlan",2326,"in-gaap","false","string","","duration","item","true",""]
["ImplicationsofSurplusDeficittoEntityforMultiEmployerPlan",2327,"in-gaap","false","string","","duration","item","true",""]
["RelatedPartyTransactionWithPostEmploymentBenefitPlans",2328,"in-gaap","false","string","","duration","item","true",""]
["ContingentLiabilitiesArisingPostEmploymentBenefitObligation",2329,"in-gaap","false","string","","duration","item","true",""]
["ContingentLiabilitiesArisingTerminationBenefitObligation",2330,"in-gaap","false","string","","duration","item","true",""]
["ExpensesRecognizedinProfitLossStatement",2331,"in-gaap","false","string","","duration","item","true",""]
["LineItemwhereTotalCurrentServiceinProfitLossStatementRecognized",2332,"in-gaap","false","string","","duration","item","true",""]
["LineItemwhereTotalInterestCostinProfitLossStatementRecognized",2333,"in-gaap","false","string","","duration","item","true",""]
["LineItemwhereExpectedReturnonPlanAssetsDefinedBenefitPlaninProfitLossStatementRecognized",2334,"in-gaap","false","string","","duration","item","true",""]
["LineItemwhereExpectedReturnonReimbursementRightsRecognizedasAssetsDefinedBenefitPlaninProfitLossStatementwasRecognized",2335,"in-gaap","false","string","","duration","item","true",""]
["LineItemwhereNetActuarialLossGainDefinedBenefitPlaninProfitLossStatementwasRecognized",2336,"in-gaap","false","string","","duration","item","true",""]
["LineItemwherePastServiceCostDefinedBenefitPlaninProfitLossStatementwasRecognized",2337,"in-gaap","false","string","","duration","item","true",""]
["LineItemwhereLossonCurtailmentSettlementDefinedBenefitPlanwasRecognized",2338,"in-gaap","false","string","","duration","item","true",""]
["LineItemwhereEffectonLimitRecognizedinProfitLossStatementwasRecognized",2339,"in-gaap","false","string","","duration","item","true",""]
["DetailsOfDisclosuresOfMortgagesInRespectOfLoans",2340,"in-gaap","false","string","","duration","item","true",""]
["DetailsOfDisclosuresOfMortgagesInRespectOfSecuredLoans",2341,"in-gaap","false","string","","duration","item","true",""]
["DetailsOfDisclosuresOfMortgagesInRespectOfUnsecuredLoans",2342,"in-gaap","false","string","","duration","item","true",""]
["DisclosureOfAccountingPoliciesAndBasisOfPresentationExplanatory",2343,"in-gaap","false","nonnum:textBlock","","duration","item","true",""]
["EarningsExpenditureInForeignCurrencyAbstract",2344,"in-gaap","true","string","","duration","item","true",""]
["IncomeEarnedInForeignExchangeAbstract",2345,"in-gaap","true","string","","duration","item","true",""]
["ExpenditureInForeignCurrencyAbstract",2346,"in-gaap","true","string","","duration","item","true",""]
["BasicEarningsPerShareAbstract",2347,"in-gaap","true","string","","duration","item","true",""]
["DisclosureOfSegmentInformationExplanatory",2348,"in-gaap","false","nonnum:textBlock","","duration","item","true",""]
["AdditionsToGrossBlockDuringPeriodAbstract",2349,"in-gaap","true","string","","duration","item","true",""]
["AdditionsToTangibleAssetsGrossDuringPeriodAbstract",2350,"in-gaap","true","string","","duration","item","true",""]
["AdditionsToLandLandImprovementsGrossDuringPeriodAbstract",2351,"in-gaap","true","string","","duration","item","true",""]
["AdditionsToLandGrossDuringPeriodAbstract",2352,"in-gaap","true","string","","duration","item","true",""]
["AdditionsToBuildingBuildingImprovementsGrossDuringPeriodAbstract",2353,"in-gaap","true","string","","duration","item","true",""]
["AdditionsToBuildingGrossDuringPeriodAbstract",2354,"in-gaap","true","string","","duration","item","true",""]
["AdditionsToEquipmentsGrossDuringPeriodAbstract",2355,"in-gaap","true","string","","duration","item","true",""]
["AdditionsToVehiclesGrossDuringPeriodAbstract",2356,"in-gaap","true","string","","duration","item","true",""]
["AdditionsToLeaseholdPropertiesGrossDuringPeriodAbstract",2357,"in-gaap","true","string","","duration","item","true",""]
["AdditionsToIntangibleAssetsGrossDuringPeriodAbstract",2358,"in-gaap","true","string","","duration","item","true",""]
["AdditionsToGrossBlockDuringPeriod",2359,"in-gaap","false","monetary","debit","duration","item","true",""]
["AdditionsToTangibleAssetsGrossDuringPeriod",2360,"in-gaap","false","monetary","debit","duration","item","true",""]
["AdditionsToLandLandImprovementsGrossDuringPeriod",2361,"in-gaap","false","monetary","debit","duration","item","true",""]
["AdditionsToLandGrossDuringPeriod",2362,"in-gaap","false","monetary","debit","duration","item","true",""]
["AdditionsToLeaseHoldLandGrossDuringPeriod",2363,"in-gaap","false","monetary","debit","duration","item","true",""]
["AdditionsToFreeHoldLandGrossDuringPeriod",2364,"in-gaap","false","monetary","debit","duration","item","true",""]
["AdditionsToLandImprovementsGrossDuringPeriod",2365,"in-gaap","false","monetary","debit","duration","item","true",""]
["AdditionsToBuildingBuildingImprovementsGrossDuringPeriod",2366,"in-gaap","false","monetary","debit","duration","item","true",""]
["AdditionsToBuildingGrossDuringPeriod",2367,"in-gaap","false","monetary","debit","duration","item","true",""]
["AdditionsToResidentialBuildingGrossDuringPeriod",2368,"in-gaap","false","monetary","debit","duration","item","true",""]
["AdditionsToOfficeBuildingGrossDuringPeriod",2369,"in-gaap","false","monetary","debit","duration","item","true",""]
["AdditionsToFactoryBuildingGrossDuringPeriod",2370,"in-gaap","false","monetary","debit","duration","item","true",""]
["AdditionsToOtherBuildingGrossDuringPeriod",2371,"in-gaap","false","monetary","debit","duration","item","true",""]
["AdditionsToBuildingImprovementsGrossDuringPeriod",2372,"in-gaap","false","monetary","debit","duration","item","true",""]
["AdditionsToPlantMachineryGrossDuringPeriod",2373,"in-gaap","false","monetary","debit","duration","item","true",""]
["AdditionsToEquipmentsGrossDuringPeriod",2374,"in-gaap","false","monetary","debit","duration","item","true",""]
["AdditionsToOfficeEquipmentsGrossDuringPeriod",2375,"in-gaap","false","monetary","debit","duration","item","true",""]
["AdditionsToFactoryEquipmentsGrossDuringPeriod",2376,"in-gaap","false","monetary","debit","duration","item","true",""]
["AdditionsToComputerEquipmentsGrossDuringPeriod",2377,"in-gaap","false","monetary","debit","duration","item","true",""]
["AdditionsToOtherEquipmentsGrossDuringPeriod",2378,"in-gaap","false","monetary","debit","duration","item","true",""]
["AdditionsToFurnitureFixturesGrossDuringPeriod",2379,"in-gaap","false","monetary","debit","duration","item","true",""]
["AdditionsToVehiclesGrossDuringPeriod",2380,"in-gaap","false","monetary","debit","duration","item","true",""]
["AdditionsToShipsVesselsGrossDuringPeriod",2381,"in-gaap","false","monetary","debit","duration","item","true",""]
["AdditionsToAircraftsHelicoptersGrossDuringPeriod",2382,"in-gaap","false","monetary","debit","duration","item","true",""]
["AdditionsToMotorVehiclesGrossDuringPeriod",2383,"in-gaap","false","monetary","debit","duration","item","true",""]
["AdditionsToLeaseholdPropertiesGrossDuringPeriod",2384,"in-gaap","false","monetary","debit","duration","item","true",""]
["AdditionsToLeaseholdImprovementsGrossDuringPeriod",2385,"in-gaap","false","monetary","debit","duration","item","true",""]
["AdditionsToLeaseholdBuildingGrossDuringPeriod",2386,"in-gaap","false","monetary","debit","duration","item","true",""]
["AdditionsToLeaseholdPlantMachineryGrossDuringPeriod",2387,"in-gaap","false","monetary","debit","duration","item","true",""]
["AdditionsToLeaseholdEquipmentsGrossDuringPeriod",2388,"in-gaap","false","monetary","debit","duration","item","true",""]
["AdditionsToLeaseholdVehiclesGrossDuringPeriod",2389,"in-gaap","false","monetary","debit","duration","item","true",""]
["AdditionsToLeaseholdOtherAssetsGrossDuringPeriod",2390,"in-gaap","false","monetary","debit","duration","item","true",""]
["AdditionsToLivestockGrossDuringPeriod",2391,"in-gaap","false","monetary","debit","duration","item","true",""]
["AdditionsToBridgesRoadsPortsCulvertsGrossDuringPeriod",2392,"in-gaap","false","monetary","debit","duration","item","true",""]
["AdditionsToRailwaySidingsGrossDuringPeriod",2393,"in-gaap","false","monetary","debit","duration","item","true",""]
["AdditionsToBooksPeriodicalsGrossDuringPeriod",2394,"in-gaap","false","monetary","debit","duration","item","true",""]
["AdditionsToPlantationsGrossDuringPeriod",2395,"in-gaap","false","monetary","debit","duration","item","true",""]
["AdditionsToMinesQuarriesGrossDuringPeriod",2396,"in-gaap","false","monetary","debit","duration","item","true",""]
["AdditionsToOtherFixedAssetsGrossDuringPeriod",2397,"in-gaap","false","monetary","debit","duration","item","true",""]
["AdditionsToIntangibleAssetsGrossDuringPeriod",2398,"in-gaap","false","monetary","debit","duration","item","true",""]
["AdditionsToAcquiredGoodwillGrossDuringPeriod",2399,"in-gaap","false","monetary","debit","duration","item","true",""]
["AdditionsToKnowhowGrossDuringPeriod",2400,"in-gaap","false","monetary","debit","duration","item","true",""]
["AdditionsToComputerSoftwareGrossDuringPeriod",2401,"in-gaap","false","monetary","debit","duration","item","true",""]
["AdditionsToPatentsTrademarksDesignGrossDuringPeriod",2402,"in-gaap","false","monetary","debit","duration","item","true",""]
["AdditionsToCommercialContractualRightsGrossDuringPeriod",2403,"in-gaap","false","monetary","debit","duration","item","true",""]
["AdditionsToLicensesGrossDuringPeriod",2404,"in-gaap","false","monetary","debit","duration","item","true",""]
["AdditionsToDevelopmentCostGrossDuringPeriod",2405,"in-gaap","false","monetary","debit","duration","item","true",""]
["AdditionsToOtherIntangibleAssetsGrossDuringPeriod",2406,"in-gaap","false","monetary","debit","duration","item","true",""]
["AdditionsToAssetsFinancialLeaseGrossDuringPeriod",2407,"in-gaap","false","monetary","debit","duration","item","true",""]
["DeductionsInGrossBlockDuringPeriodAbstract",2408,"in-gaap","true","string","","duration","item","true",""]
["DeductionsInTangibleAssetsGrossDuringPeriodAbstract",2409,"in-gaap","true","string","","duration","item","true",""]
["DeductionsInLandLandImprovementsGrossDuringPeriodAbstract",2410,"in-gaap","true","string","","duration","item","true",""]
["DeductionsInLandGrossDuringPeriodAbstract",2411,"in-gaap","true","string","","duration","item","true",""]
["DeductionsInBuildingBuildingImprovementsGrossDuringPeriodAbstract",2412,"in-gaap","true","string","","duration","item","true",""]
["DeductionsInBuildingGrossDuringPeriodAbstract",2413,"in-gaap","true","string","","duration","item","true",""]
["DeductionsInEquipmentsGrossDuringPeriodAbstract",2414,"in-gaap","true","string","","duration","item","true",""]
["DeductionsInVehiclesGrossDuringPeriodAbstract",2415,"in-gaap","true","string","","duration","item","true",""]
["DeductionsInLeaseholdPropertiesGrossDuringPeriodAbstract",2416,"in-gaap","true","string","","duration","item","true",""]
["DeductionsInIntangibleAssetsGrossDuringPeriodAbstract",2417,"in-gaap","true","string","","duration","item","true",""]
["DeductionsInGrossBlockDuringPeriod",2418,"in-gaap","false","monetary","credit","duration","item","true",""]
["DeductionsInTangibleAssetsGrossDuringPeriod",2419,"in-gaap","false","monetary","credit","duration","item","true",""]
["DeductionsInLandLandImprovementsGrossDuringPeriod",2420,"in-gaap","false","monetary","credit","duration","item","true",""]
["DeductionsInLandGrossDuringPeriod",2421,"in-gaap","false","monetary","credit","duration","item","true",""]
["DeductionsInLeaseHoldLandGrossDuringPeriod",2422,"in-gaap","false","monetary","credit","duration","item","true",""]
["DeductionsInFreeHoldLandGrossDuringPeriod",2423,"in-gaap","false","monetary","credit","duration","item","true",""]
["DeductionsInLandImprovementsGrossDuringPeriod",2424,"in-gaap","false","monetary","credit","duration","item","true",""]
["DeductionsInBuildingBuildingImprovementsGrossDuringPeriod",2425,"in-gaap","false","monetary","credit","duration","item","true",""]
["DeductionsInBuildingGrossDuringPeriod",2426,"in-gaap","false","monetary","credit","duration","item","true",""]
["DeductionsInResidentialBuildingGrossDuringPeriod",2427,"in-gaap","false","monetary","credit","duration","item","true",""]
["DeductionsInOfficeBuildingGrossDuringPeriod",2428,"in-gaap","false","monetary","credit","duration","item","true",""]
["DeductionsInFactoryBuildingGrossDuringPeriod",2429,"in-gaap","false","monetary","credit","duration","item","true",""]
["DeductionsInOtherBuildingGrossDuringPeriod",2430,"in-gaap","false","monetary","credit","duration","item","true",""]
["DeductionsInBuildingImprovementsGrossDuringPeriod",2431,"in-gaap","false","monetary","credit","duration","item","true",""]
["DeductionsInPlantMachineryGrossDuringPeriod",2432,"in-gaap","false","monetary","credit","duration","item","true",""]
["DeductionsInEquipmentsGrossDuringPeriod",2433,"in-gaap","false","monetary","credit","duration","item","true",""]
["DeductionsInOfficeEquipmentsGrossDuringPeriod",2434,"in-gaap","false","monetary","credit","duration","item","true",""]
["DeductionsInFactoryEquipmentsGrossDuringPeriod",2435,"in-gaap","false","monetary","credit","duration","item","true",""]
["DeductionsInComputerEquipmentsGrossDuringPeriod",2436,"in-gaap","false","monetary","credit","duration","item","true",""]
["DeductionsInOtherEquipmentsGrossDuringPeriod",2437,"in-gaap","false","monetary","credit","duration","item","true",""]
["DeductionsInFurnitureFixturesGrossDuringPeriod",2438,"in-gaap","false","monetary","credit","duration","item","true",""]
["DeductionsInVehiclesGrossDuringPeriod",2439,"in-gaap","false","monetary","credit","duration","item","true",""]
["DeductionsInShipsVesselsGrossDuringPeriod",2440,"in-gaap","false","monetary","credit","duration","item","true",""]
["DeductionsInAircraftsHelicoptersGrossDuringPeriod",2441,"in-gaap","false","monetary","credit","duration","item","true",""]
["DeductionsInMotorVehiclesGrossDuringPeriod",2442,"in-gaap","false","monetary","credit","duration","item","true",""]
["DeductionsInLeaseholdPropertiesGrossDuringPeriod",2443,"in-gaap","false","monetary","credit","duration","item","true",""]
["DeductionsInLeaseholdImprovementsGrossDuringPeriod",2444,"in-gaap","false","monetary","credit","duration","item","true",""]
["DeductionsInLeaseholdBuildingGrossDuringPeriod",2445,"in-gaap","false","monetary","credit","duration","item","true",""]
["DeductionsInLeaseholdPlantMachineryGrossDuringPeriod",2446,"in-gaap","false","monetary","credit","duration","item","true",""]
["DeductionsInLeaseholdEquipmentsGrossDuringPeriod",2447,"in-gaap","false","monetary","credit","duration","item","true",""]
["DeductionsInLeaseholdVehiclesGrossDuringPeriod",2448,"in-gaap","false","monetary","credit","duration","item","true",""]
["DeductionsInLeaseholdOtherAssetsGrossDuringPeriod",2449,"in-gaap","false","monetary","credit","duration","item","true",""]
["DeductionsInLivestockGrossDuringPeriod",2450,"in-gaap","false","monetary","credit","duration","item","true",""]
["DeductionsInBridgesRoadsPortsCulvertsGrossDuringPeriod",2451,"in-gaap","false","monetary","credit","duration","item","true",""]
["DeductionsInRailwaySidingsGrossDuringPeriod",2452,"in-gaap","false","monetary","credit","duration","item","true",""]
["DeductionsInBooksPeriodicalsGrossDuringPeriod",2453,"in-gaap","false","monetary","credit","duration","item","true",""]
["DeductionsInPlantationsGrossDuringPeriod",2454,"in-gaap","false","monetary","credit","duration","item","true",""]
["DeductionsInMinesQuarriesGrossDuringPeriod",2455,"in-gaap","false","monetary","credit","duration","item","true",""]
["DeductionsInOtherFixedAssetsGrossDuringPeriod",2456,"in-gaap","false","monetary","credit","duration","item","true",""]
["DeductionsInIntangibleAssetsGrossDuringPeriod",2457,"in-gaap","false","monetary","credit","duration","item","true",""]
["DeductionsInAcquiredGoodwillGrossDuringPeriod",2458,"in-gaap","false","monetary","credit","duration","item","true",""]
["DeductionsInKnowhowGrossDuringPeriod",2459,"in-gaap","false","monetary","credit","duration","item","true",""]
["DeductionsInComputerSoftwareGrossDuringPeriod",2460,"in-gaap","false","monetary","credit","duration","item","true",""]
["DeductionsInPatentsTrademarksDesignGrossDuringPeriod",2461,"in-gaap","false","monetary","credit","duration","item","true",""]
["DeductionsInCommercialContractualRightsGrossDuringPeriod",2462,"in-gaap","false","monetary","credit","duration","item","true",""]
["DeductionsInLicensesGrossDuringPeriod",2463,"in-gaap","false","monetary","credit","duration","item","true",""]
["DeductionsInDevelopmentCostGrossDuringPeriod",2464,"in-gaap","false","monetary","credit","duration","item","true",""]
["DeductionsInOtherIntangibleAssetsGrossDuringPeriod",2465,"in-gaap","false","monetary","credit","duration","item","true",""]
["DeductionsInAssetsFinancialLeaseGrossDuringPeriod",2466,"in-gaap","false","monetary","credit","duration","item","true",""]
["DepreciationAmortisationDuringPeriodAbstract",2467,"in-gaap","true","string","","duration","item","true",""]
["DepreciationTangibleAssetsDuringPeriodAbstract",2468,"in-gaap","true","string","","duration","item","true",""]
["DepreciationLandLandImprovementsDuringPeriodAbstract",2469,"in-gaap","true","string","","duration","item","true",""]
["DepreciationBuildingBuildingImprovementsDuringPeriodAbstract",2470,"in-gaap","true","string","","duration","item","true",""]
["DepreciationBuildingDuringPeriodAbstract",2471,"in-gaap","true","string","","duration","item","true",""]
["DepreciationEquipmentsDuringPeriodAbstract",2472,"in-gaap","true","string","","duration","item","true",""]
["DepreciationVehiclesDuringPeriodAbstract",2473,"in-gaap","true","string","","duration","item","true",""]
["DepreciationLeaseholdPropertiesDuringPeriodAbstract",2474,"in-gaap","true","string","","duration","item","true",""]
["AmortisationIntangibleAssetsDuringPeriodAbstract",2475,"in-gaap","true","string","","duration","item","true",""]
["DepreciationAmortisationDuringPeriod",2476,"in-gaap","false","monetary","credit","duration","item","true",""]
["DepreciationTangibleAssetsDuringPeriod",2477,"in-gaap","false","monetary","credit","duration","item","true",""]
["DepreciationLandLandImprovementsDuringPeriod",2478,"in-gaap","false","monetary","credit","duration","item","true",""]
["DepreciationLandImprovementsDuringPeriod",2479,"in-gaap","false","monetary","credit","duration","item","true",""]
["DepreciationBuildingBuildingImprovementsDuringPeriod",2480,"in-gaap","false","monetary","credit","duration","item","true",""]
["DepreciationBuildingDuringPeriod",2481,"in-gaap","false","monetary","credit","duration","item","true",""]
["DepreciationResidentialBuildingDuringPeriod",2482,"in-gaap","false","monetary","credit","duration","item","true",""]
["DepreciationOfficeBuildingDuringPeriod",2483,"in-gaap","false","monetary","credit","duration","item","true",""]
["DepreciationFactoryBuildingDuringPeriod",2484,"in-gaap","false","monetary","credit","duration","item","true",""]
["DepreciationOtherBuildingDuringPeriod",2485,"in-gaap","false","monetary","credit","duration","item","true",""]
["DepreciationBuildingImprovementsDuringPeriod",2486,"in-gaap","false","monetary","credit","duration","item","true",""]
["DepreciationPlantMachineryDuringPeriod",2487,"in-gaap","false","monetary","credit","duration","item","true",""]
["DepreciationEquipmentsDuringPeriod",2488,"in-gaap","false","monetary","credit","duration","item","true",""]
["DepreciationOfficeEquipmentsDuringPeriod",2489,"in-gaap","false","monetary","credit","duration","item","true",""]
["DepreciationFactoryEquipmentsDuringPeriod",2490,"in-gaap","false","monetary","credit","duration","item","true",""]
["DepreciationComputerEquipmentsDuringPeriod",2491,"in-gaap","false","monetary","credit","duration","item","true",""]
["DepreciationOtherEquipmentsDuringPeriod",2492,"in-gaap","false","monetary","credit","duration","item","true",""]
["DepreciationFurnitureFixturesDuringPeriod",2493,"in-gaap","false","monetary","credit","duration","item","true",""]
["DepreciationVehiclesDuringPeriod",2494,"in-gaap","false","monetary","credit","duration","item","true",""]
["DepreciationShipsVesselsDuringPeriod",2495,"in-gaap","false","monetary","credit","duration","item","true",""]
["DepreciationAircraftsHelicoptersDuringPeriod",2496,"in-gaap","false","monetary","credit","duration","item","true",""]
["DepreciationMotorVehiclesDuringPeriod",2497,"in-gaap","false","monetary","credit","duration","item","true",""]
["DepreciationLeaseholdPropertiesDuringPeriod",2498,"in-gaap","false","monetary","credit","duration","item","true",""]
["DepreciationLeaseholdImprovementsDuringPeriod",2499,"in-gaap","false","monetary","credit","duration","item","true",""]
["DepreciationLeaseholdBuildingDuringPeriod",2500,"in-gaap","false","monetary","credit","duration","item","true",""]
["DepreciationLeaseholdPlantMachineryDuringPeriod",2501,"in-gaap","false","monetary","credit","duration","item","true",""]
["DepreciationLeaseholdEquipmentsDuringPeriod",2502,"in-gaap","false","monetary","credit","duration","item","true",""]
["DepreciationLeaseholdVehiclesDuringPeriod",2503,"in-gaap","false","monetary","credit","duration","item","true",""]
["DepreciationLeaseholdOtherAssetsDuringPeriod",2504,"in-gaap","false","monetary","credit","duration","item","true",""]
["DepreciationBridgesRoadsPortsCulvertsDuringPeriod",2505,"in-gaap","false","monetary","credit","duration","item","true",""]
["DepreciationRailwaySidingsDuringPeriod",2506,"in-gaap","false","monetary","credit","duration","item","true",""]
["DepreciationBooksPeriodicalsDuringPeriod",2507,"in-gaap","false","monetary","credit","duration","item","true",""]
["DepreciationPlantationsDuringPeriod",2508,"in-gaap","false","monetary","credit","duration","item","true",""]
["DepreciationMinesQuarriesDuringPeriod",2509,"in-gaap","false","monetary","credit","duration","item","true",""]
["DepreciationOtherFixedAssetsDuringPeriod",2510,"in-gaap","false","monetary","credit","duration","item","true",""]
["AmortisationIntangibleAssetsDuringPeriod",2511,"in-gaap","false","monetary","credit","duration","item","true",""]
["AmortisationAcquiredGoodwillDuringPeriod",2512,"in-gaap","false","monetary","credit","duration","item","true",""]
["AmortisationKnowhowDuringPeriod",2513,"in-gaap","false","monetary","credit","duration","item","true",""]
["AmortisationComputerSoftwareDuringPeriod",2514,"in-gaap","false","monetary","credit","duration","item","true",""]
["AmortisationPatentsTrademarksDesignDuringPeriod",2515,"in-gaap","false","monetary","credit","duration","item","true",""]
["AmortisationCommercialContractualRightsDuringPeriod",2516,"in-gaap","false","monetary","credit","duration","item","true",""]
["AmortisationLicensesDuringPeriod",2517,"in-gaap","false","monetary","credit","duration","item","true",""]
["AmortisationDevelopmentCostDuringPeriod",2518,"in-gaap","false","monetary","credit","duration","item","true",""]
["AmortisationOtherIntangibleAssetsDuringPeriod",2519,"in-gaap","false","monetary","credit","duration","item","true",""]
["DepreciationAmortisationAssetsFinancialLeaseDuringPeriod",2520,"in-gaap","false","monetary","credit","duration","item","true",""]
["DeductionsInDepreciationAmortisationDuringPeriodAbstract",2521,"in-gaap","true","string","","duration","item","true",""]
["DeductionsInDepreciationTangibleAssetsDuringPeriodAbstract",2522,"in-gaap","true","string","","duration","item","true",""]
["DeductionsInDepreciationLandLandImprovementsDuringPeriodAbstract",2523,"in-gaap","true","string","","duration","item","true",""]
["DeductionsInDepreciationBuildingBuildingImprovementsDuringPeriodAbstract",2524,"in-gaap","true","string","","duration","item","true",""]
["DeductionsInDepreciationBuildingDuringPeriodAbstract",2525,"in-gaap","true","string","","duration","item","true",""]
["DeductionsInDepreciationEquipmentsDuringPeriodAbstract",2526,"in-gaap","true","string","","duration","item","true",""]
["DeductionsInDepreciationVehiclesDuringPeriodAbstract",2527,"in-gaap","true","string","","duration","item","true",""]
["DeductionsInDepreciationLeaseholdPropertiesDuringPeriodAbstract",2528,"in-gaap","true","string","","duration","item","true",""]
["DeductionsInAmortisationIntangibleAssetsDuringPeriodAbstract",2529,"in-gaap","true","string","","duration","item","true",""]
["DeductionsInDepreciationAmortisationDuringPeriod",2530,"in-gaap","false","monetary","debit","duration","item","true",""]
["DeductionsInDepreciationTangibleAssetsDuringPeriod",2531,"in-gaap","false","monetary","debit","duration","item","true",""]
["DeductionsInDepreciationLandLandImprovementsDuringPeriod",2532,"in-gaap","false","monetary","debit","duration","item","true",""]
["DeductionsInDepreciationLandImprovementsDuringPeriod",2533,"in-gaap","false","monetary","debit","duration","item","true",""]
["DeductionsInDepreciationBuildingBuildingImprovementsDuringPeriod",2534,"in-gaap","false","monetary","debit","duration","item","true",""]
["DeductionsInDepreciationBuildingDuringPeriod",2535,"in-gaap","false","monetary","debit","duration","item","true",""]
["DeductionsInDepreciationResidentialBuildingDuringPeriod",2536,"in-gaap","false","monetary","debit","duration","item","true",""]
["DeductionsInDepreciationOfficeBuildingDuringPeriod",2537,"in-gaap","false","monetary","debit","duration","item","true",""]
["DeductionsInDepreciationFactoryBuildingDuringPeriod",2538,"in-gaap","false","monetary","debit","duration","item","true",""]
["DeductionsInDepreciationOtherBuildingDuringPeriod",2539,"in-gaap","false","monetary","debit","duration","item","true",""]
["DeductionsInDepreciationBuildingImprovementsDuringPeriod",2540,"in-gaap","false","monetary","debit","duration","item","true",""]
["DeductionsInDepreciationPlantMachineryDuringPeriod",2541,"in-gaap","false","monetary","debit","duration","item","true",""]
["DeductionsInDepreciationEquipmentsDuringPeriod",2542,"in-gaap","false","monetary","debit","duration","item","true",""]
["DeductionsInDepreciationOfficeEquipmentsDuringPeriod",2543,"in-gaap","false","monetary","debit","duration","item","true",""]
["DeductionsInDepreciationFactoryEquipmentsDuringPeriod",2544,"in-gaap","false","monetary","debit","duration","item","true",""]
["DeductionsInDepreciationComputerEquipmentsDuringPeriod",2545,"in-gaap","false","monetary","debit","duration","item","true",""]
["DeductionsInDepreciationOtherEquipmentsDuringPeriod",2546,"in-gaap","false","monetary","debit","duration","item","true",""]
["DeductionsInDepreciationFurnitureFixturesDuringPeriod",2547,"in-gaap","false","monetary","debit","duration","item","true",""]
["DeductionsInDepreciationVehiclesDuringPeriod",2548,"in-gaap","false","monetary","debit","duration","item","true",""]
["DeductionsInDepreciationShipsVesselsDuringPeriod",2549,"in-gaap","false","monetary","debit","duration","item","true",""]
["DeductionsInDepreciationAircraftsHelicoptersDuringPeriod",2550,"in-gaap","false","monetary","debit","duration","item","true",""]
["DeductionsInDepreciationMotorVehiclesDuringPeriod",2551,"in-gaap","false","monetary","debit","duration","item","true",""]
["DeductionsInDepreciationLeaseholdPropertiesDuringPeriod",2552,"in-gaap","false","monetary","debit","duration","item","true",""]
["DeductionsInDepreciationLeaseholdImprovementsDuringPeriod",2553,"in-gaap","false","monetary","debit","duration","item","true",""]
["DeductionsInDepreciationLeaseholdBuildingDuringPeriod",2554,"in-gaap","false","monetary","debit","duration","item","true",""]
["DeductionsInDepreciationLeaseholdPlantMachineryDuringPeriod",2555,"in-gaap","false","monetary","debit","duration","item","true",""]
["DeductionsInDepreciationLeaseholdEquipmentsDuringPeriod",2556,"in-gaap","false","monetary","debit","duration","item","true",""]
["DeductionsInDepreciationLeaseholdVehiclesDuringPeriod",2557,"in-gaap","false","monetary","debit","duration","item","true",""]
["DeductionsInDepreciationLeaseholdOtherAssetsDuringPeriod",2558,"in-gaap","false","monetary","debit","duration","item","true",""]
["DeductionsInDepreciationBridgesRoadsPortsCulvertsDuringPeriod",2559,"in-gaap","false","monetary","debit","duration","item","true",""]
["DeductionsInDepreciationRailwaySidingsDuringPeriod",2560,"in-gaap","false","monetary","debit","duration","item","true",""]
["DeductionsInDepreciationBooksPeriodicalsDuringPeriod",2561,"in-gaap","false","monetary","debit","duration","item","true",""]
["DeductionsInDepreciationPlantationsDuringPeriod",2562,"in-gaap","false","monetary","debit","duration","item","true",""]
["DeductionsInDepreciationMinesQuarriesDuringPeriod",2563,"in-gaap","false","monetary","debit","duration","item","true",""]
["DeductionsInDepreciationOtherFixedAssetsDuringPeriod",2564,"in-gaap","false","monetary","debit","duration","item","true",""]
["DeductionsInAmortisationIntangibleAssetsDuringPeriod",2565,"in-gaap","false","monetary","debit","duration","item","true",""]
["DeductionsInAmortisationAcquiredGoodwillDuringPeriod",2566,"in-gaap","false","monetary","debit","duration","item","true",""]
["DeductionsInAmortisationKnowhowDuringPeriod",2567,"in-gaap","false","monetary","debit","duration","item","true",""]
["DeductionsInAmortisationComputerSoftwareDuringPeriod",2568,"in-gaap","false","monetary","debit","duration","item","true",""]
["DeductionsInAmortisationPatentsTrademarksDesignDuringPeriod",2569,"in-gaap","false","monetary","debit","duration","item","true",""]
["DeductionsInAmortisationCommercialContractualRightsDuringPeriod",2570,"in-gaap","false","monetary","debit","duration","item","true",""]
["DeductionsInAmortisationLicensesDuringPeriod",2571,"in-gaap","false","monetary","debit","duration","item","true",""]
["DeductionsInAmortisationDevelopmentCostDuringPeriod",2572,"in-gaap","false","monetary","debit","duration","item","true",""]
["DeductionsInAmortisationOtherIntangibleAssetsDuringPeriod",2573,"in-gaap","false","monetary","debit","duration","item","true",""]
["DeductionsInDepreciationAmortisationAssetsFinancialLeaseDuringPeriod",2574,"in-gaap","false","monetary","debit","duration","item","true",""]
["OtherAdjustmentsToDepreciationAmortisationDuringPeriodAbstract",2575,"in-gaap","true","string","","duration","item","true",""]
["OtherAdjustmentsToDepreciationTangibleAssetsDuringPeriodAbstract",2576,"in-gaap","true","string","","duration","item","true",""]
["OtherAdjustmentsToDepreciationLandLandImprovementsDuringPeriodAbstract",2577,"in-gaap","true","string","","duration","item","true",""]
["OtherAdjustmentsToDepreciationBuildingBuildingImprovementsDuringPeriodAbstract",2578,"in-gaap","true","string","","duration","item","true",""]
["OtherAdjustmentsToDepreciationBuildingDuringPeriodAbstract",2579,"in-gaap","true","string","","duration","item","true",""]
["OtherAdjustmentsToDepreciationEquipmentsDuringPeriodAbstract",2580,"in-gaap","true","string","","duration","item","true",""]
["OtherAdjustmentsToDepreciationVehiclesDuringPeriodAbstract",2581,"in-gaap","true","string","","duration","item","true",""]
["OtherAdjustmentsToDepreciationLeaseholdPropertiesDuringPeriodAbstract",2582,"in-gaap","true","string","","duration","item","true",""]
["OtherAdjustmentsToAmortisationIntangibleAssetsDuringPeriodAbstract",2583,"in-gaap","true","string","","duration","item","true",""]
["OtherAdjustmentsToDepreciationAmortisationDuringPeriod",2584,"in-gaap","false","monetary","","duration","item","true",""]
["OtherAdjustmentsToDepreciationTangibleAssetsDuringPeriod",2585,"in-gaap","false","monetary","","duration","item","true",""]
["OtherAdjustmentsToDepreciationLandLandImprovementsDuringPeriod",2586,"in-gaap","false","monetary","","duration","item","true",""]
["OtherAdjustmentsToDepreciationLandImprovementsDuringPeriod",2587,"in-gaap","false","monetary","","duration","item","true",""]
["OtherAdjustmentsToDepreciationBuildingBuildingImprovementsDuringPeriod",2588,"in-gaap","false","monetary","","duration","item","true",""]
["OtherAdjustmentsToDepreciationBuildingDuringPeriod",2589,"in-gaap","false","monetary","","duration","item","true",""]
["OtherAdjustmentsToDepreciationResidentialBuildingDuringPeriod",2590,"in-gaap","false","monetary","","duration","item","true",""]
["OtherAdjustmentsToDepreciationOfficeBuildingDuringPeriod",2591,"in-gaap","false","monetary","","duration","item","true",""]
["OtherAdjustmentsToDepreciationFactoryBuildingDuringPeriod",2592,"in-gaap","false","monetary","","duration","item","true",""]
["OtherAdjustmentsToDepreciationOtherBuildingDuringPeriod",2593,"in-gaap","false","monetary","","duration","item","true",""]
["OtherAdjustmentsToDepreciationBuildingImprovementsDuringPeriod",2594,"in-gaap","false","monetary","","duration","item","true",""]
["OtherAdjustmentsToDepreciationPlantMachineryDuringPeriod",2595,"in-gaap","false","monetary","","duration","item","true",""]
["OtherAdjustmentsToDepreciationEquipmentsDuringPeriod",2596,"in-gaap","false","monetary","","duration","item","true",""]
["OtherAdjustmentsToDepreciationOfficeEquipmentsDuringPeriod",2597,"in-gaap","false","monetary","","duration","item","true",""]
["OtherAdjustmentsToDepreciationFactoryEquipmentsDuringPeriod",2598,"in-gaap","false","monetary","","duration","item","true",""]
["OtherAdjustmentsToDepreciationComputerEquipmentsDuringPeriod",2599,"in-gaap","false","monetary","","duration","item","true",""]
["OtherAdjustmentsToDepreciationOtherEquipmentsDuringPeriod",2600,"in-gaap","false","monetary","","duration","item","true",""]
["OtherAdjustmentsToDepreciationFurnitureFixturesDuringPeriod",2601,"in-gaap","false","monetary","","duration","item","true",""]
["OtherAdjustmentsToDepreciationVehiclesDuringPeriod",2602,"in-gaap","false","monetary","","duration","item","true",""]
["OtherAdjustmentsToDepreciationShipsVesselsDuringPeriod",2603,"in-gaap","false","monetary","","duration","item","true",""]
["OtherAdjustmentsToDepreciationAircraftsHelicoptersDuringPeriod",2604,"in-gaap","false","monetary","","duration","item","true",""]
["OtherAdjustmentsToDepreciationMotorVehiclesDuringPeriod",2605,"in-gaap","false","monetary","","duration","item","true",""]
["OtherAdjustmentsToDepreciationLeaseholdPropertiesDuringPeriod",2606,"in-gaap","false","monetary","","duration","item","true",""]
["OtherAdjustmentsToDepreciationLeaseholdImprovementsDuringPeriod",2607,"in-gaap","false","monetary","","duration","item","true",""]
["OtherAdjustmentsToDepreciationLeaseholdBuildingDuringPeriod",2608,"in-gaap","false","monetary","","duration","item","true",""]
["OtherAdjustmentsToDepreciationLeaseholdPlantMachineryDuringPeriod",2609,"in-gaap","false","monetary","","duration","item","true",""]
["OtherAdjustmentsToDepreciationLeaseholdEquipmentsDuringPeriod",2610,"in-gaap","false","monetary","","duration","item","true",""]
["OtherAdjustmentsToDepreciationLeaseholdVehiclesDuringPeriod",2611,"in-gaap","false","monetary","","duration","item","true",""]
["OtherAdjustmentsToDepreciationLeaseholdOtherAssetsDuringPeriod",2612,"in-gaap","false","monetary","","duration","item","true",""]
["OtherAdjustmentsToDepreciationBridgesRoadsPortsCulvertsDuringPeriod",2613,"in-gaap","false","monetary","","duration","item","true",""]
["OtherAdjustmentsToDepreciationRailwaySidingsDuringPeriod",2614,"in-gaap","false","monetary","","duration","item","true",""]
["OtherAdjustmentsToDepreciationBooksPeriodicalsDuringPeriod",2615,"in-gaap","false","monetary","","duration","item","true",""]
["OtherAdjustmentsToDepreciationPlantationsDuringPeriod",2616,"in-gaap","false","monetary","","duration","item","true",""]
["OtherAdjustmentsToDepreciationMinesQuarriesDuringPeriod",2617,"in-gaap","false","monetary","","duration","item","true",""]
["OtherAdjustmentsToDepreciationOtherFixedAssetsDuringPeriod",2618,"in-gaap","false","monetary","","duration","item","true",""]
["OtherAdjustmentsToAmortisationIntangibleAssetsDuringPeriod",2619,"in-gaap","false","monetary","","duration","item","true",""]
["OtherAdjustmentsToAmortisationAcquiredGoodwillDuringPeriod",2620,"in-gaap","false","monetary","","duration","item","true",""]
["OtherAdjustmentsToAmortisationKnowhowDuringPeriod",2621,"in-gaap","false","monetary","","duration","item","true",""]
["OtherAdjustmentsToAmortisationComputerSoftwareDuringPeriod",2622,"in-gaap","false","monetary","","duration","item","true",""]
["OtherAdjustmentsToAmortisationPatentsTrademarksDesignDuringPeriod",2623,"in-gaap","false","monetary","","duration","item","true",""]
["OtherAdjustmentsToAmortisationCommercialContractualRightsDuringPeriod",2624,"in-gaap","false","monetary","","duration","item","true",""]
["OtherAdjustmentsToAmortisationLicensesDuringPeriod",2625,"in-gaap","false","monetary","","duration","item","true",""]
["OtherAdjustmentsToAmortisationDevelopmentCostDuringPeriod",2626,"in-gaap","false","monetary","","duration","item","true",""]
["OtherAdjustmentsToAmortisationOtherIntangibleAssetsDuringPeriod",2627,"in-gaap","false","monetary","","duration","item","true",""]
["OtherAdjustmentsToDepreciationAmortisationAssetsFinancialLeaseDuringPeriod",2628,"in-gaap","false","monetary","","duration","item","true",""]
["DisclosureOfEntitysReportableSegmentsAbstract",2629,"in-gaap","true","string","","duration","item","true",""]
["FactorsUsedToIdentifyEntitysReportableSegments",2630,"in-gaap","false","string","","duration","item","true",""]
["DescriptionOfNatureOfDifferencesBetweenMeasurementsOfReportableSegmentsProfitsOrLossesAndEntitysProfitOrLossBeforeIncomeTaxExpenseOrIncomeAndDiscontinuedOperations",2631,"in-gaap","false","string","","duration","item","true",""]
["DescriptionOfNatureOfDifferencesBetweenMeasurementsOfReportableSegmentsAssetsAndEntitysAssets",2632,"in-gaap","false","string","","duration","item","true",""]
["DescriptionOfNatureOfDifferencesBetweenMeasurementsOfReportableSegmentsLiabilitiesAndEntitysLiabilities",2633,"in-gaap","false","string","","duration","item","true",""]
["DetailsOfReportableSegmentsAbstract",2634,"in-gaap","true","string","","duration","item","true",""]
["DetailsOfPrimarySegments",2635,"in-gaap","","","","","tuple","true",""]
["DetailsOfSecondarySegments",2636,"in-gaap","","","","","tuple","true",""]
["RevenuesFromExternalCustomers",2637,"in-gaap","false","monetary","credit","duration","item","true",""]
["RevenuesFromTransactionsWithOtherOperatingSegmentsOfSameEntity",2638,"in-gaap","false","monetary","credit","duration","item","true",""]
["RevenuesFromSegment",2639,"in-gaap","false","monetary","credit","duration","item","true",""]
["InterestIncomeFromSegment",2640,"in-gaap","false","monetary","credit","duration","item","true",""]
["InterestExpenseAttributableToSegment",2641,"in-gaap","false","monetary","debit","duration","item","true",""]
["DepreciationAndAmortisationExpenseAttributableToSegment",2642,"in-gaap","false","monetary","debit","duration","item","true",""]
["OtherMaterialItemsOfIncomeExpenseAttributableToSegment",2643,"in-gaap","false","monetary","","duration","item","true",""]
["OtherMaterialNoncashItemsAttributableToSegment",2644,"in-gaap","false","monetary","","duration","item","true",""]
["ProfitLossBeforeExtraordinaryItemsAttributableToSegment",2645,"in-gaap","false","monetary","","duration","item","true",""]
["ExtraordinaryItemsAttributableToSegment",2646,"in-gaap","false","monetary","","duration","item","true",""]
["ProvisionForTaxationAttributableToSegment",2647,"in-gaap","false","monetary","","duration","item","true",""]
["ProfitLossAttributableToSegment",2648,"in-gaap","false","monetary","","duration","item","true",""]
["AssetsAttributableToSegment",2649,"in-gaap","false","monetary","","instant","item","true",""]
["AdditionsToNoncurrentAssetsAttributableToSegment",2650,"in-gaap","false","monetary","debit","duration","item","true",""]
["LiabilitiesAttributableToSegment",2651,"in-gaap","false","monetary","","instant","item","true",""]
["NameOfPrimaryReportableSegment",2652,"in-gaap","false","string","","duration","item","true",""]
["NameOfSecondaryReportableSegment",2653,"in-gaap","false","string","","duration","item","true",""]
["DisclosureOfRelatedPartiesAbstract",2654,"in-gaap","true","string","","duration","item","true",""]
["NameOfHoldingCompany",2655,"in-gaap","false","string","","duration","item","true","","Name of the company should be based on CIN, if entered"]
["CountryOfIncorporationOrResidenceOfHoldingCompany",2656,"in-gaap","false","in-ca-types:CountryName","","duration","item","true","","Should be valid country name as per List of countries"]
["DetailsOfRelatedPartyTransactions",2657,"in-gaap","","","","","tuple","true",""]
["DetailsOfAmountAndNatureOfRelatedPartyTransactions",2658,"in-gaap","","","","","tuple","true",""]
["NameOfRelatedParty",2659,"in-gaap","false","string","","duration","item","true","","Name should be based on CIN, if entered"]
["CountryOfIncorporationOrResidenceOfRelatedParty",2660,"in-gaap","false","in-ca-types:CountryName","","duration","item","true","","Should be valid country name as per List of countries"]
["DescriptionOfNatureOfRelatedPartyRelationship",2661,"in-gaap","false","in-ca-types:NatureOfRelatedParty","","duration","item","true","Holding company, Ultimate Holding company, Subsidiary company, Fellow Subsidiary company, Associate, Joint venture, Key Management Personnel, Relatives of Key management personnel, Enterprises which are owned, or have significant influence of or are partners with Key management personnel and their relatives, Others"]
["DescriptionOfRelatedPartyTransaction",2662,"in-gaap","false","string","","duration","item","true",""]
["AmountOfRelatedPartyTransaction",2663,"in-gaap","false","monetary","","duration","item","true",""]
["OutstandingBalancesForRelatedPartyTransaction",2664,"in-gaap","false","monetary","","instant","item","true",""]
["ExplanationOfTermsAndConditionsOfOutstandingBalancesForRelatedPartyTransaction",2665,"in-gaap","false","string","","duration","item","true",""]
["ExplanationOfDetailsOfGuaranteesGivenOrReceivedOfOutstandingBalancesForRelatedPartyTransaction",2666,"in-gaap","false","string","","duration","item","true",""]
["ProvisionsForDoubtfulDebtsRelatedToOutstandingBalancesOfRelatedPartyTransaction",2667,"in-gaap","false","monetary","","duration","item","true",""]
["ExpenseRecognisedDuringPeriodForBadAndDoubtfulDebtsForRelatedPartyTransaction",2668,"in-gaap","false","monetary","","duration","item","true",""]
["AdditionalInformationRegardingLoanFundsAbstract",2669,"in-gaap","true","string","","duration","item","true",""]
["AdditionalInformationRelatingToBalanceSheetItems",2670,"in-gaap","true","string","","duration","item","true",""]
["AdditionalInformationRegardingShareCapitalAbstract",2671,"in-gaap","true","string","","duration","item","true",""]
["DetailsOfTermsAndRepaymentForOtherLongTermBorrowingsRaised",2672,"in-gaap","false","string","","duration","item","true",""]
["DetailsOfBondsDebenturesRedeemedButCanBeReissued",2673,"in-gaap","false","string","","duration","item","true",""]
["DetailsOfTermsAndRepaymentScheduleOfBondsAndDebentures",2674,"in-gaap","false","string","","duration","item","true",""]
["DetailsOfDefaultInRepaymentOfInterestAndLongTermDebt",2675,"in-gaap","false","string","","duration","item","true",""]
["DetailsOfNatureOfSecurityForLongTermSecuredDebt",2676,"in-gaap","false","string","","duration","item","true",""]
["AdditionalInformationRegardingInventoriesAbstract",2677,"in-gaap","true","string","","duration","item","true",""]
["DetailsOfInventoriesInTransit",2678,"in-gaap","false","string","","duration","item","true",""]
["DetailsOfRestrictionsOnCashAndCashEquivalents",2679,"in-gaap","false","string","","duration","item","true",""]
["DetailsOfShortTermBorrowingsGuaranteedByDirectorsAndOthers",2680,"in-gaap","false","string","","duration","item","true",""]
["DetailsOfUtilisationOfAmountOfSecuritiesForSpecificPurpose",2681,"in-gaap","false","string","","duration","item","true",""]
["AdditionalInformationRegardingIncomeAndExpensesAbstract",2682,"in-gaap","true","string","","duration","item","true",""]
["DetailsOfExceptionalItems",2683,"in-gaap","false","string","","duration","item","true",""]
["DetailsOfExtraordinaryItems",2684,"in-gaap","false","string","","duration","item","true",""]
["DetailsOfPriorPeriodItems",2685,"in-gaap","false","string","","duration","item","true",""]
["DetailsOfBoardOpinionOnAssetsNotHavingRealisableValue",2686,"in-gaap","false","string","","duration","item","true",""]
["DetailsOfSharesHeldByParentCompanySubsidiariesAssociates",2687,"in-gaap","false","string","","duration","item","true",""]
["DetailsOfShareholdersHavingMoreThanFivePercentShares",2688,"in-gaap","false","string","","duration","item","true",""]
["DetailsOfSharesIssuedAndAreReserved",2689,"in-gaap","false","string","","duration","item","true",""]
["RightsPreferencesAndRestrictionsAttachingToClassOfShareCapital",2690,"in-gaap","false","string","","duration","item","true",""]
["DetailsOfDebenturesAbstract",2691,"in-gaap","true","string","","duration","item","true",""]
["DetailsOfEveryClassOfDebenture",2692,"in-gaap","","","","","tuple","true",""]
["PercentageOfShareCapitalHeldByForeignCompany",2693,"in-gaap","false","num:percent","","instant","item","true","","Should be greater than or equal to zero. Should not be greater than 100%"]
["PercentageOfPaidupCapitalheldbyForeignHoldingCompanyAndOrWithItsSubsidiaries",2694,"in-gaap","false","num:percent","","instant","item","true","","Should be greater than or equal to zero. Should not be greater than 100%"]
["BreakupOfEquityCapitalAbstract",2695,"in-gaap","true","string","","duration","item","true","","This is not applicable for previous year and consolidated instance document"]
["PercentageOfEquitySharesHeldUpByGovernment",2696,"in-gaap","false","num:percent","","instant","item","true","","In BreakupOfEquityCapitalAbstract, Atleast one field should be mandatory to enter and should be greater than zero in case of companies having share capital. Total of all elements should be equal to 100%."]
["PercentageOfEquitySharesHeldUpByGovernmentCompanies",2697,"in-gaap","false","num:percent","","instant","item","true","","In BreakupOfEquityCapitalAbstract, Atleast one field should be mandatory to enter and should be greater than zero in case of companies having share capital. Total of all elements should be equal to 100%."]
["PercentageOfEquitySharesHeldUpByPublicFinancialCompanies",2698,"in-gaap","false","num:percent","","instant","item","true","","In BreakupOfEquityCapitalAbstract, Atleast one field should be mandatory to enter and should be greater than zero in case of companies having share capital. Total of all elements should be equal to 100%."]
["PercentageOfEquitySharesHeldUpByNationalisedOrOtherBanks",2699,"in-gaap","false","num:percent","","instant","item","true","","In BreakupOfEquityCapitalAbstract, Atleast one field should be mandatory to enter and should be greater than zero in case of companies having share capital. Total of all elements should be equal to 100%."]
["PercentageOfEquitySharesHeldUpByMutualFunds",2700,"in-gaap","false","num:percent","","instant","item","true","","In BreakupOfEquityCapitalAbstract, Atleast one field should be mandatory to enter and should be greater than zero in case of companies having share capital. Total of all elements should be equal to 100%."]
["PercentageOfEquitySharesHeldUpByVentureCapital",2701,"in-gaap","false","num:percent","","instant","item","true","","In BreakupOfEquityCapitalAbstract, Atleast one field should be mandatory to enter and should be greater than zero in case of companies having share capital. Total of all elements should be equal to 100%."]
["PercentageOfEquitySharesHeldUpByForeignHoldings",2702,"in-gaap","false","num:percent","","instant","item","true","","In BreakupOfEquityCapitalAbstract, Atleast one field should be mandatory to enter and should be greater than zero in case of companies having share capital. Total of all elements should be equal to 100%."]
["PercentageOfEquitySharesHeldUpByOtherBodyCorporates",2703,"in-gaap","false","num:percent","","instant","item","true","","In BreakupOfEquityCapitalAbstract, Atleast one field should be mandatory to enter and should be greater than zero in case of companies having share capital. Total of all elements should be equal to 100%."]
["PercentageOfEquitySharesHeldUpByDirectorsAndRelatedParties",2704,"in-gaap","false","num:percent","","instant","item","true","","In BreakupOfEquityCapitalAbstract, Atleast one field should be mandatory to enter and should be greater than zero in case of companies having share capital. Total of all elements should be equal to 100%."]
["PercentageOfEquitySharesHeldUpByMajorShareholders",2705,"in-gaap","false","num:percent","","instant","item","true","","In BreakupOfEquityCapitalAbstract, Atleast one field should be mandatory to enter and should be greater than zero in case of companies having share capital. Total of all elements should be equal to 100%."]
["PercentageOfEquitySharesHeldUpByOthers",2706,"in-gaap","false","num:percent","","instant","item","true","","In BreakupOfEquityCapitalAbstract, Atleast one field should be mandatory to enter and should be greater than zero in case of companies having share capital. Total of all elements should be equal to 100%."]
["NumberOfSharesAllottedForContractsWithoutPaymentReceivedInCash",2707,"in-gaap","false","shares","","duration","item","true","","Should be greater than or equal to zero"]
["AggregateNumberOfSharesIssuedDuringPeriod",2708,"in-gaap","false","shares","","duration","item","true","","Should be greater than or equal to zero"]
["DetailsOfNumberAndClassOfSharesForPrecedingFiveYears",2709,"in-gaap","false","string","","duration","item","true",""]
["NumberOfSharesIssuedAsBonusShares",2710,"in-gaap","false","shares","","duration","item","true","","Should be greater than or equal to zero"]
["NumberOfEquitySharesBoughtBackDuringPeriod",2711,"in-gaap","false","shares","","duration","item","true","","Should be greater than or equal to zero"]
["NumberOfPreferenceSharesRedeemedDuringPeriod",2712,"in-gaap","false","shares","","duration","item","true","","Should be greater than or equal to zero"]
["NumberOfSharesIssuedInPublicOffering",2713,"in-gaap","false","shares","","duration","item","true","","Should be greater than or equal to zero"]
["NumberOfSharesIssuedAsRights",2714,"in-gaap","false","shares","","duration","item","true","","Should be greater than or equal to zero"]
["NumberOfSharesArisingOutOfConversionOfSecurities",2715,"in-gaap","false","shares","","duration","item","true","","Should be greater than or equal to zero"]
["NumberOfSharesIssuedInPrivatePlacement",2716,"in-gaap","false","shares","","duration","item","true","","Should be greater than or equal to zero"]
["NumberOfOtherIssuesOfShares",2717,"in-gaap","false","shares","","duration","item","true","","Should be greater than or equal to zero"]
["DisclosuresEquitySharesIssued",2718,"in-gaap","false","string","","duration","item","true",""]
["ShareApplicationMoneyReceivedDuringPeriod",2719,"in-gaap","false","monetary","","duration","item","true",""]
["ShareApplicationMoneyGivenDuringPeriod",2720,"in-gaap","false","monetary","","instant","item","true",""]
["DetailsOfDepositsAbstract",2721,"in-gaap","true","string","","duration","item","true",""]
["DepositsAcceptedOrRenewedDuringPeriod",2722,"in-gaap","false","monetary","","duration","item","true","","This is a mandatory field. Should be greater than or equal to zero"]
["DepositsMaturedAndClaimedButNotPaidDuringPeriod",2723,"in-gaap","false","monetary","","duration","item","true","","This is a mandatory field. Should be greater than or equal to zero"]
["DepositsMaturedAndClaimedButNotPaid",2724,"in-gaap","false","monetary","","instant","item","true","","This is a mandatory field. Should be greater than or equal to zero"]
["InterestOnDepositsAccruedAndDueButNotPaid",2725,"in-gaap","false","monetary","","instant","item","true","","This is a mandatory field. Should be greater than or equal to zero"]
["DividendPerEquityShare",2726,"in-gaap","false","num:perShare","","duration","item","true","","Should be greater than or equal to zero"]
["DividendPerPreferenceShare",2727,"in-gaap","false","num:perShare","","duration","item","true","","Should be greater than or equal to zero"]
["ArrearsOfFixedCumulativeDividendOnPreferenceShares",2728,"in-gaap","false","monetary","","instant","item","true",""]
["UnpaidDividend",2729,"in-gaap","false","monetary","","instant","item","true","","This is a mandatory field. Should be greater than or equal to zero"]
["ProvisionFringeBenefitTax",2730,"in-gaap","false","monetary","","duration","item","true",""]
["OtherDetailsRegardingShareCapital",2731,"in-gaap","false","string","","duration","item","true",""]
["DetailsOfClassesOfShareCapitalAbstract",2732,"in-gaap","true","string","","duration","item","true",""]
["DetailsOfEveryClassOfShareCapital",2733,"in-gaap","","","","","tuple","true","","Atleast one tuple details should be mandatory in case of companies having share capital."]
["TypeOfShare",2734,"in-gaap","false","in-ca-types:ShareType","","duration","item","true","Equity, Preference"]
["NominalValuePerAuthorisedShare",2735,"in-gaap","false","num:perShare","","instant","item","true","","Should be greater than or equal to zero"]
["NumberOfAuthorisedShares",2736,"in-gaap","false","shares","","instant","item","true","","Should be greater than or equal to zero"]
["ValueOfAuthorisedShares",2737,"in-gaap","false","monetary","","instant","item","true","","Should be equal to Product of number and nominal value per authorised share. Total for all tuple elements for Equity shares should be equal to 'Total Authorised Equity Share capital'. Total for all tuple elements for preference shares should be equal to 'Total Authorised Preference Share capital'"]
["NominalValuePerIssuedShare",2738,"in-gaap","false","num:perShare","","instant","item","true","","Should be greater than or equal to zero"]
["NumberOfIssuedShares",2739,"in-gaap","false","shares","","instant","item","true","","Should be greater than or equal to zero"]
["ValueOfIssuedShares",2740,"in-gaap","false","monetary","","instant","item","true","","Should be equal to Product of number and nominal value per issued share. Total for all tuple elements for Equity shares should be equal to 'Total Issued Equity Share capital'. Total for all tuple elements for preference shares should be equal to 'Total Issued Preference Share capital'. Should be less than or equal to Value of Authorised Shares."]
["NominalValuePerSubscribedShare",2741,"in-gaap","false","num:perShare","","instant","item","true","","Should be greater than or equal to zero"]
["NumberOfSubscribedShares",2742,"in-gaap","false","shares","","instant","item","true","","Should be greater than or equal to zero"]
["ValueOfSubscribedShares",2743,"in-gaap","false","monetary","","instant","item","true","","Should be equal to Product of number and nominal value per Subscribed share. Total for all tuple elements for Equity shares should be equal to 'Total Subscribed Equity Share capital'. Total for all tuple elements for preference shares should be equal to 'Total Subscribed Preference Share capital'. Should be less than or equal to Value of Issued Shares."]
["NominalValuePerPaidupShare",2744,"in-gaap","false","num:perShare","","instant","item","true","","Should be greater than or equal to zero"]
["NumberOfPaidupShares",2745,"in-gaap","false","shares","","instant","item","true","","Should be greater than or equal to zero"]
["ValueOfPaidupShares",2746,"in-gaap","false","monetary","","instant","item","true","","Should be equal to Product of number and nominal value per paid up share. Total for all tuple elements for Equity shares should be equal to 'Total paid up Equity Share capital'. Total for all tuple elements for preference shares should be equal to 'Total paid up Preference Share capital'. Should be less than or equal to Value of subscribed Shares."]
["DetailsOfShareCapitalHeldByForeignCompanies",2747,"in-gaap","false","string","","duration","item","true",""]
["ValueOfShareCapitalHeldByForeignCompany",2748,"in-gaap","false","monetary","","instant","item","true","","Should be greater than or equal to zero"]
["ValueOfPaidupCapitalheldbyForeignHoldingCompanyAndOrWithItsSubsidiaries",2749,"in-gaap","false","monetary","","instant","item","true","","Should be greater than or equal to zero"]
["DetailsOfShareCapitalIssuedDuringPeriodAbstract",2750,"in-gaap","true","string","","duration","item","true",""]
["DetailsOfEveryClassOfShareCapitalIssuedDuringPeriod",2751,"in-gaap","","","","","tuple","true",""]
["NominalValuePerShareIssuedDuringPeriod",2752,"in-gaap","false","num:perShare","","duration","item","true","","Should be greater than or equal to zero"]
["AmountOfPublicIssueDuringPeriod",2753,"in-gaap","false","monetary","","duration","item","true","","Should be greater than or equal to zero"]
["AmountOfBonusIssueDuringPeriod",2754,"in-gaap","false","monetary","","duration","item","true","","Should be greater than or equal to zero"]
["AmountOfRightsIssueDuringPeriod",2755,"in-gaap","false","monetary","","duration","item","true","","Should be greater than or equal to zero"]
["AmountOfPrivatePlacementIssueDuringPeriod",2756,"in-gaap","false","monetary","","duration","item","true","","Should be greater than or equal to zero"]
["AmountOfPreferentialAllotmentIssueDuringPeriod",2757,"in-gaap","false","monetary","","duration","item","true","","Should be greater than or equal to zero"]
["AmountOfIssueAllottedForContractsWithoutPaymentReceivedInCashDuringPeriod",2758,"in-gaap","false","monetary","","duration","item","true","","Should be greater than or equal to zero"]
["AmountOfIssueUnderSchemeOfAmalgamationDuringPeriod",2759,"in-gaap","false","monetary","","duration","item","true","","Should be greater than or equal to zero"]
["AmountOfGlobalDepositoryIssueDuringPeriod",2760,"in-gaap","false","monetary","","duration","item","true","","Should be greater than or equal to zero"]
["AmountOfAmericanDepositoryIssueDuringPeriod",2761,"in-gaap","false","monetary","","duration","item","true","","Should be greater than or equal to zero"]
["AmountOfOtherIssuesDuringPeriod",2762,"in-gaap","false","monetary","","duration","item","true","","Should be greater than or equal to zero"]
["AggregateAmountOfIssuesDuringPeriod",2763,"in-gaap","false","monetary","","duration","item","true","","Should be greater than or equal to zero"]
["AmountOfIssueArisingOutOfConversionOfSecuritiesDuringPeriod",2764,"in-gaap","false","monetary","","duration","item","true","","Should be greater than or equal to zero"]
["DetailsOfSharesBoughtBackOrRedeemedDuringPeriod",2765,"in-gaap","false","monetary","","instant","item","true",""]
["AmountOfEquitySharesBoughtBackDuringPeriod",2766,"in-gaap","false","monetary","","duration","item","true","","Should be greater than or equal to zero"]
["AmountOfPreferenceSharesRedeemedDuringPeriod",2767,"in-gaap","false","monetary","","duration","item","true","","Should be greater than or equal to zero"]
["OtherDetailsRegardingReservesAndSurplus",2768,"in-gaap","false","string","","duration","item","true",""]
["OtherDetailsRegardingSecuredDebt",2769,"in-gaap","false","string","","duration","item","true",""]
["OtherDetailsRegardingUnsecuredDebt",2770,"in-gaap","false","string","","duration","item","true",""]
["OtherDetailsRegardingFixedAssets",2771,"in-gaap","false","string","","duration","item","true",""]
["OtherDetailsRegardingInvestments",2772,"in-gaap","false","string","","duration","item","true",""]
["OtherDetailsRegardingSundryDebtors",2773,"in-gaap","false","string","","duration","item","true",""]
["OtherDetailsRegardingCashAndBankBalances",2774,"in-gaap","false","string","","duration","item","true",""]
["OtherDetailsRegardingInventories",2775,"in-gaap","false","string","","duration","item","true",""]
["OtherDetailsRegardingOtherCurrentAssets",2776,"in-gaap","false","string","","duration","item","true",""]
["OtherDetailsRegardingLoansAndAdvances",2777,"in-gaap","false","string","","duration","item","true",""]
["OtherDetailsRegardingCurrentLiabilities",2778,"in-gaap","false","string","","duration","item","true",""]
["OtherDetailsRegardingProvisions",2779,"in-gaap","false","string","","duration","item","true",""]
["OtherDetailsRegardingMiscellaneousExpenditureNotWrittenOff",2780,"in-gaap","false","string","","duration","item","true",""]
["NumberOfDebentures",2781,"in-gaap","false","decimal","","instant","item","true","","Should be greater than or equal to zero"]
["ClassOfDebenture",2782,"in-gaap","false","in-ca-types:TypeOfDebenture","","duration","item","true","Fully convertible debentures, Partly convertible debentures, Non-convertible debentures"]
["NominalValuePerDebenture",2783,"in-gaap","false","decimal","","instant","item","true","","Should be greater than or equal to zero"]
["TermsOfRedemptionOrConversion",2784,"in-gaap","false","string","","duration","item","true",""]
["EarliestDateOfRedemption",2785,"in-gaap","false","string","","duration","item","true",""]
["ValueOfDebenture",2786,"in-gaap","false","monetary","","instant","item","true","","Should be equal to product of Nominal value per debenture and number of debentures.  \nSum of all tuple elements for FullyConvertibleDebentures should be equal to (FullyConvertibleDebenturesSecured plus FullyConvertibleDebenturesUnSecured)\nSum of all tuple elements for PartialyConvertibleDebentures should be equal to (PartialyConvertibleDebenturesSecured plus PartialyConvertibleDebenturesUnSecured)\nSum of all tuple elements for NonConvertibleDebentures should be equal to (NonConvertibleDebenturesSecured plus NonConvertibleDebenturesUnSecured)"]
["RateOfDebenture",2787,"in-gaap","false","num:percent","","instant","item","true",""]
["NominalAmountOfDebenturesHeldByNomineeOrTrusteeOfCompany",2788,"in-gaap","false","decimal","","instant","item","true","","Should be greater than or equal to zero"]
["BookValueOfDebenturesHeldByNomineeOrTrusteeOfCompany",2789,"in-gaap","false","decimal","","instant","item","true","","Should be greater than or equal to zero"]
["ParticularsOfAnyRedeemedDebenturesWhichCompanyHasPowerToIssue",2790,"in-gaap","false","string","","duration","item","true",""]
["NatureOfAnySecurity",2791,"in-gaap","false","string","","duration","item","true",""]
["DisclosureOfSignificantAccountingPoliciesExplanatory",2792,"in-gaap","false","nonnum:textBlock","","duration","item","true",""]
["DisclosureOfPriorPeriodAndExtraordinaryItemsExplanatory",2793,"in-gaap","false","nonnum:textBlock","","duration","item","true",""]
["DisclosureOfForeignExchangeTransactionsExplanatory",2794,"in-gaap","false","nonnum:textBlock","","duration","item","true",""]
["DetailsOfAmalgamation",2795,"in-gaap","","","","","tuple","true",""]
["DisclosureOfInvestmentInAssociatesExplanatory",2796,"in-gaap","false","nonnum:textBlock","","duration","item","true",""]
["DisclosureOfInvestmentInJointVenturesExplanatory",2797,"in-gaap","false","nonnum:textBlock","","duration","item","true",""]
["DisclosureOfDirectorsAndRemunerationToDirectorsExplanatory",2798,"in-gaap","false","nonnum:textBlock","","duration","item","true",""]
["DisclosureOfAmountDueToMicroMediumAndSmallEnterprisesExplanatory",2799,"in-gaap","false","nonnum:textBlock","","duration","item","true",""]
["PreferenceSecuritiesCurrent",2800,"in-gaap","false","monetary","debit","instant","item","true",""]
["PreferenceSecuritiesCurrentQuoted",2801,"in-gaap","false","monetary","debit","instant","item","true",""]
["PreferenceSecuritiesCurrentQuotedTrade",2802,"in-gaap","false","monetary","debit","instant","item","true",""]
["PreferenceSecuritiesCurrentQuotedNontrade",2803,"in-gaap","false","monetary","debit","instant","item","true",""]
["PreferenceSecuritiesCurrentUnquoted",2804,"in-gaap","false","monetary","debit","instant","item","true",""]
["PreferenceSecuritiesCurrentUnquotedTrade",2805,"in-gaap","false","monetary","debit","instant","item","true",""]
["PreferenceSecuritiesCurrentUnquotedNontrade",2806,"in-gaap","false","monetary","debit","instant","item","true",""]
["PreferenceSecuritiesLongTerm",2807,"in-gaap","false","monetary","debit","instant","item","true",""]
["PreferenceSecuritiesLongTermQuoted",2808,"in-gaap","false","monetary","debit","instant","item","true",""]
["PreferenceSecuritiesLongTermQuotedTrade",2809,"in-gaap","false","monetary","debit","instant","item","true",""]
["PreferenceSecuritiesLongTermQuotedNontrade",2810,"in-gaap","false","monetary","debit","instant","item","true",""]
["PreferenceSecuritiesLongTermUnquoted",2811,"in-gaap","false","monetary","debit","instant","item","true",""]
["PreferenceSecuritiesLongTermUnquotedTrade",2812,"in-gaap","false","monetary","debit","instant","item","true",""]
["PreferenceSecuritiesLongTermUnquotedNontrade",2813,"in-gaap","false","monetary","debit","instant","item","true",""]
["PreferenceSecuritiesCurrentAbstract",2814,"in-gaap","true","string","","duration","item","true",""]
["PreferenceSecuritiesCurrentQuotedAbstract",2815,"in-gaap","true","string","","duration","item","true",""]
["PreferenceSecuritiesCurrentUnquotedAbstract",2816,"in-gaap","true","string","","duration","item","true",""]
["PreferenceSecuritiesLongTermAbstract",2817,"in-gaap","true","string","","duration","item","true",""]
["PreferenceSecuritiesLongTermQuotedAbstract",2818,"in-gaap","true","string","","duration","item","true",""]
["PreferenceSecuritiesLongTermUnquotedAbstract",2819,"in-gaap","true","string","","duration","item","true",""]
["DeferredTaxAssetAbstract",2820,"in-gaap","true","string","","duration","item","true",""]
["DeferredTaxAssetEmployeeBenefits",2821,"in-gaap","false","monetary","debit","instant","item","true",""]
["DeferredTaxAssetExpenditureDisallowances",2822,"in-gaap","false","monetary","debit","instant","item","true",""]
["DeferredTaxAssetFixedAssets",2823,"in-gaap","false","monetary","debit","instant","item","true",""]
["DeferredTaxAssetNoncurrent",2824,"in-gaap","false","monetary","debit","instant","item","true",""]
["DeferredTaxAssetOther",2825,"in-gaap","false","monetary","debit","instant","item","true",""]
["DeferredTaxAssetProvisionDoubtfulDebts",2826,"in-gaap","false","monetary","debit","instant","item","true",""]
["DeferredTaxAssetSundryDebtors",2827,"in-gaap","false","monetary","debit","instant","item","true",""]
["DeferredTaxAssetUnabsorbedDepreciation",2828,"in-gaap","false","monetary","debit","instant","item","true",""]
["DeferredTaxAssetUnrealisedCarriedForwardLosses",2829,"in-gaap","false","monetary","debit","instant","item","true",""]
["DeferredTaxAssetVRSPayment",2830,"in-gaap","false","monetary","debit","instant","item","true",""]
["DeferredTaxLiabilityAbstract",2831,"in-gaap","true","string","","duration","item","true",""]
["DeferredTaxLiabilityDepreciation",2832,"in-gaap","false","monetary","credit","instant","item","true",""]
["DeferredTaxLiabilityExportIncentives",2833,"in-gaap","false","monetary","credit","instant","item","true",""]
["DeferredTaxLiabilityInvestments",2834,"in-gaap","false","monetary","credit","instant","item","true",""]
["DeferredTaxLiabilityNoncurrent",2835,"in-gaap","false","monetary","credit","instant","item","true",""]
["DeferredTaxLiabilityOther",2836,"in-gaap","false","monetary","credit","instant","item","true",""]
["DeferredTaxLiabilityProvisionDoubtfulDebts",2837,"in-gaap","false","monetary","credit","instant","item","true",""]
["DeferredTaxLiabilityProvisionEmployeeBenefits",2838,"in-gaap","false","monetary","credit","instant","item","true",""]
["DeferredTaxLiabilityProvisionExpenses",2839,"in-gaap","false","monetary","credit","instant","item","true",""]
["DeferredTaxLiabilityTechnicalKnowhowFees",2840,"in-gaap","false","monetary","credit","instant","item","true",""]
["KeyInformationAboutSubsidiaryAbstract",2841,"in-gaap","true","string","","duration","item","true",""]
["ReportingCurrencyOfSubsidiary",2842,"in-gaap","false","string","","duration","item","true","","Should be valid currency code as per the list of currency codes."]
["ExchangeRateAsApplicableForSubsidiary",2843,"in-gaap","false","string","","duration","item","true",""]
["ShareCapitalOfSubsidiary",2844,"in-gaap","false","monetary","","instant","item","true",""]
["ReservesAndSurplusOfSubsidiary",2845,"in-gaap","false","monetary","","instant","item","true",""]
["TotalAssetsOfSubsidiary",2846,"in-gaap","false","monetary","","instant","item","true",""]
["TotalLiabilitiesOfSubsidiary",2847,"in-gaap","false","monetary","","instant","item","true",""]
["InvestmentOfSubsidiary",2848,"in-gaap","false","monetary","","instant","item","true",""]
["TotalIncomeOfSubsidiary",2849,"in-gaap","false","monetary","","duration","item","true",""]
["ProfitBeforeTaxOfSubsidiary",2850,"in-gaap","false","monetary","","duration","item","true",""]
["ProvisionForTaxOfSubsidiary",2851,"in-gaap","false","monetary","","duration","item","true",""]
["ProfitAfterTaxOfSubsidiary",2852,"in-gaap","false","monetary","","duration","item","true",""]
["ProposedDividendOfSubsidiary",2853,"in-gaap","false","monetary","","duration","item","true",""]
["DetailsOfAllRelatedPartiesOfCompanyExplanatory",2854,"in-gaap","false","nonnum:textBlock","","duration","item","true",""]
["DetailsOfTransactionsWithRelatedPartiesAggregatedCategorywiseExplanatory",2855,"in-gaap","false","nonnum:textBlock","","duration","item","true",""]
["OtherDisclosuresExplanatory",2856,"in-gaap","false","nonnum:textBlock","","duration","item","true",""]
["OtherAdditionalDetailsRegardingBalanceSheet",2857,"in-gaap","false","string","","duration","item","true",""]
["OtherAdditionalDetailsRegardingIncomeStatement",2858,"in-gaap","false","string","","duration","item","true",""]
["NatureOfShare",2859,"in-gaap","false","string","","duration","item","true",""]
["Rent",2860,"in-gaap","false","monetary","debit","duration","item","true",""]
["RatesAndTaxes",2861,"in-gaap","false","monetary","debit","duration","item","true",""]
["RentRatesAndTaxesAbstract",2862,"in-gaap","true","string","","duration","item","true",""]
["RemunerationToManagers",2863,"in-gaap","false","monetary","debit","duration","item","true",""]
["SalaryToManagers",2864,"in-gaap","false","monetary","debit","duration","item","true",""]
["CommissionToManagers",2865,"in-gaap","false","monetary","debit","duration","item","true",""]
["OtherBenefitsToManagers",2866,"in-gaap","false","monetary","debit","duration","item","true",""]
["RemunerationToManagersAbstract",2867,"in-gaap","true","string","","duration","item","true",""]
["ManagerialRemuneration",2868,"in-gaap","false","monetary","debit","duration","item","true","","This is a mandatory field."]
["ManagerialRemunerationAbstract",2869,"in-gaap","true","string","","duration","item","true",""]
["DetailsOfGoodsAbstract",2870,"in-gaap","true","string","","duration","item","true",""]
["DetailsOfGoods",2871,"in-gaap","","","","","tuple","true",""]
["ClassOfGoods",2872,"in-gaap","false","string","","duration","item","true",""]
["NatureOfGoods",2873,"in-gaap","false","in-ca-types:TypeOfGoods","","duration","item","true","Produced, Traded"]
["ValueOfGoodsSold",2874,"in-gaap","false","monetary","","duration","item","true",""]
["QuantityOfGoodsSold",2875,"in-gaap","false","decimal","","duration","item","true",""]
["ValueOfGoodsPurchasedOrProduced",2876,"in-gaap","false","monetary","","duration","item","true",""]
["QuantityOfGoodsPurchasedOrProduced",2877,"in-gaap","false","decimal","","duration","item","true",""]
["ValueOfStockOfGoods",2878,"in-gaap","false","monetary","","instant","item","true",""]
["QuantityOfStockOfGoods",2879,"in-gaap","false","decimal","","instant","item","true",""]
["UnitOfMeasurementOfGoods",2880,"in-gaap","false","string","","duration","item","true",""]
["DetailsOfRawMaterialsConsumedAbstract",2881,"in-gaap","true","string","","duration","item","true",""]
["DetailsOfRawMaterialsConsumed",2882,"in-gaap","","","","","tuple","true",""]
["ClassOfRawMaterialsConsumed",2883,"in-gaap","false","string","","duration","item","true",""]
["ValueOfRawMaterialsConsumed",2884,"in-gaap","false","monetary","","duration","item","true",""]
["QuantityOfRawMaterialsConsumed",2885,"in-gaap","false","decimal","","duration","item","true",""]
["UnitOfMeasurementOfRawMaterialsConsumed",2886,"in-gaap","false","string","","duration","item","true",""]
["ImpairmentDuringPeriodAbstract",2887,"in-gaap","true","string","","duration","item","true",""]
["ImpairmentTangibleAssetsDuringPeriodAbstract",2888,"in-gaap","true","string","","duration","item","true",""]
["ImpairmentLandLandImprovementsDuringPeriodAbstract",2889,"in-gaap","true","string","","duration","item","true",""]
["ImpairmentBuildingBuildingImprovementsDuringPeriodAbstract",2890,"in-gaap","true","string","","duration","item","true",""]
["ImpairmentBuildingDuringPeriodAbstract",2891,"in-gaap","true","string","","duration","item","true",""]
["ImpairmentEquipmentsDuringPeriodAbstract",2892,"in-gaap","true","string","","duration","item","true",""]
["ImpairmentVehiclesDuringPeriodAbstract",2893,"in-gaap","true","string","","duration","item","true",""]
["ImpairmentLeaseholdPropertiesDuringPeriodAbstract",2894,"in-gaap","true","string","","duration","item","true",""]
["ImpairmentIntangibleAssetsDuringPeriodAbstract",2895,"in-gaap","true","string","","duration","item","true",""]
["ImpairmentDuringPeriod",2896,"in-gaap","false","monetary","credit","duration","item","true",""]
["ImpairmentTangibleAssetsDuringPeriod",2897,"in-gaap","false","monetary","credit","duration","item","true",""]
["ImpairmentLandLandImprovementsDuringPeriod",2898,"in-gaap","false","monetary","credit","duration","item","true",""]
["ImpairmentLandImprovementsDuringPeriod",2899,"in-gaap","false","monetary","credit","duration","item","true",""]
["ImpairmentBuildingBuildingImprovementsDuringPeriod",2900,"in-gaap","false","monetary","credit","duration","item","true",""]
["ImpairmentBuildingDuringPeriod",2901,"in-gaap","false","monetary","credit","duration","item","true",""]
["ImpairmentResidentialBuildingDuringPeriod",2902,"in-gaap","false","monetary","credit","duration","item","true",""]
["ImpairmentOfficeBuildingDuringPeriod",2903,"in-gaap","false","monetary","credit","duration","item","true",""]
["ImpairmentFactoryBuildingDuringPeriod",2904,"in-gaap","false","monetary","credit","duration","item","true",""]
["ImpairmentOtherBuildingDuringPeriod",2905,"in-gaap","false","monetary","credit","duration","item","true",""]
["ImpairmentBuildingImprovementsDuringPeriod",2906,"in-gaap","false","monetary","credit","duration","item","true",""]
["ImpairmentPlantMachineryDuringPeriod",2907,"in-gaap","false","monetary","credit","duration","item","true",""]
["ImpairmentEquipmentsDuringPeriod",2908,"in-gaap","false","monetary","credit","duration","item","true",""]
["ImpairmentOfficeEquipmentsDuringPeriod",2909,"in-gaap","false","monetary","credit","duration","item","true",""]
["ImpairmentFactoryEquipmentsDuringPeriod",2910,"in-gaap","false","monetary","credit","duration","item","true",""]
["ImpairmentComputerEquipmentsDuringPeriod",2911,"in-gaap","false","monetary","credit","duration","item","true",""]
["ImpairmentOtherEquipmentsDuringPeriod",2912,"in-gaap","false","monetary","credit","duration","item","true",""]
["ImpairmentFurnitureFixturesDuringPeriod",2913,"in-gaap","false","monetary","credit","duration","item","true",""]
["ImpairmentVehiclesDuringPeriod",2914,"in-gaap","false","monetary","credit","duration","item","true",""]
["ImpairmentShipsVesselsDuringPeriod",2915,"in-gaap","false","monetary","credit","duration","item","true",""]
["ImpairmentAircraftsHelicoptersDuringPeriod",2916,"in-gaap","false","monetary","credit","duration","item","true",""]
["ImpairmentMotorVehiclesDuringPeriod",2917,"in-gaap","false","monetary","credit","duration","item","true",""]
["ImpairmentLeaseholdPropertiesDuringPeriod",2918,"in-gaap","false","monetary","credit","duration","item","true",""]
["ImpairmentLeaseholdImprovementsDuringPeriod",2919,"in-gaap","false","monetary","credit","duration","item","true",""]
["ImpairmentLeaseholdBuildingDuringPeriod",2920,"in-gaap","false","monetary","credit","duration","item","true",""]
["ImpairmentLeaseholdPlantMachineryDuringPeriod",2921,"in-gaap","false","monetary","credit","duration","item","true",""]
["ImpairmentLeaseholdEquipmentsDuringPeriod",2922,"in-gaap","false","monetary","credit","duration","item","true",""]
["ImpairmentLeaseholdVehiclesDuringPeriod",2923,"in-gaap","false","monetary","credit","duration","item","true",""]
["ImpairmentLeaseholdOtherAssetsDuringPeriod",2924,"in-gaap","false","monetary","credit","duration","item","true",""]
["ImpairmentBridgesRoadsPortsCulvertsDuringPeriod",2925,"in-gaap","false","monetary","credit","duration","item","true",""]
["ImpairmentRailwaySidingsDuringPeriod",2926,"in-gaap","false","monetary","credit","duration","item","true",""]
["ImpairmentBooksPeriodicalsDuringPeriod",2927,"in-gaap","false","monetary","credit","duration","item","true",""]
["ImpairmentPlantationsDuringPeriod",2928,"in-gaap","false","monetary","credit","duration","item","true",""]
["ImpairmentMinesQuarriesDuringPeriod",2929,"in-gaap","false","monetary","credit","duration","item","true",""]
["ImpairmentOtherFixedAssetsDuringPeriod",2930,"in-gaap","false","monetary","credit","duration","item","true",""]
["ImpairmentIntangibleAssetsDuringPeriod",2931,"in-gaap","false","monetary","credit","duration","item","true",""]
["ImpairmentAcquiredGoodwillDuringPeriod",2932,"in-gaap","false","monetary","credit","duration","item","true",""]
["ImpairmentKnowhowDuringPeriod",2933,"in-gaap","false","monetary","credit","duration","item","true",""]
["ImpairmentComputerSoftwareDuringPeriod",2934,"in-gaap","false","monetary","credit","duration","item","true",""]
["ImpairmentPatentsTrademarksDesignDuringPeriod",2935,"in-gaap","false","monetary","credit","duration","item","true",""]
["ImpairmentCommercialContractualRightsDuringPeriod",2936,"in-gaap","false","monetary","credit","duration","item","true",""]
["ImpairmentLicensesDuringPeriod",2937,"in-gaap","false","monetary","credit","duration","item","true",""]
["ImpairmentDevelopmentCostDuringPeriod",2938,"in-gaap","false","monetary","credit","duration","item","true",""]
["ImpairmentOtherIntangibleAssetsDuringPeriod",2939,"in-gaap","false","monetary","credit","duration","item","true",""]
["ImpairmentAssetsFinancialLeaseDuringPeriod",2940,"in-gaap","false","monetary","credit","duration","item","true",""]
["ReversalOfImpairmentDuringPeriodAbstract",2941,"in-gaap","true","string","","duration","item","true",""]
["ReversalOfImpairmentTangibleAssetsDuringPeriodAbstract",2942,"in-gaap","true","string","","duration","item","true",""]
["ReversalOfImpairmentLandLandImprovementsDuringPeriodAbstract",2943,"in-gaap","true","string","","duration","item","true",""]
["ReversalOfImpairmentBuildingBuildingImprovementsDuringPeriodAbstract",2944,"in-gaap","true","string","","duration","item","true",""]
["ReversalOfImpairmentBuildingDuringPeriodAbstract",2945,"in-gaap","true","string","","duration","item","true",""]
["ReversalOfImpairmentEquipmentsDuringPeriodAbstract",2946,"in-gaap","true","string","","duration","item","true",""]
["ReversalOfImpairmentVehiclesDuringPeriodAbstract",2947,"in-gaap","true","string","","duration","item","true",""]
["ReversalOfImpairmentLeaseholdPropertiesDuringPeriodAbstract",2948,"in-gaap","true","string","","duration","item","true",""]
["ReversalOfImpairmentIntangibleAssetsDuringPeriodAbstract",2949,"in-gaap","true","string","","duration","item","true",""]
["ReversalOfImpairmentDuringPeriod",2950,"in-gaap","false","monetary","debit","duration","item","true",""]
["ReversalOfImpairmentTangibleAssetsDuringPeriod",2951,"in-gaap","false","monetary","debit","duration","item","true",""]
["ReversalOfImpairmentLandLandImprovementsDuringPeriod",2952,"in-gaap","false","monetary","debit","duration","item","true",""]
["ReversalOfImpairmentLandImprovementsDuringPeriod",2953,"in-gaap","false","monetary","debit","duration","item","true",""]
["ReversalOfImpairmentBuildingBuildingImprovementsDuringPeriod",2954,"in-gaap","false","monetary","debit","duration","item","true",""]
["ReversalOfImpairmentBuildingDuringPeriod",2955,"in-gaap","false","monetary","debit","duration","item","true",""]
["ReversalOfImpairmentResidentialBuildingDuringPeriod",2956,"in-gaap","false","monetary","debit","duration","item","true",""]
["ReversalOfImpairmentOfficeBuildingDuringPeriod",2957,"in-gaap","false","monetary","debit","duration","item","true",""]
["ReversalOfImpairmentFactoryBuildingDuringPeriod",2958,"in-gaap","false","monetary","debit","duration","item","true",""]
["ReversalOfImpairmentOtherBuildingDuringPeriod",2959,"in-gaap","false","monetary","debit","duration","item","true",""]
["ReversalOfImpairmentBuildingImprovementsDuringPeriod",2960,"in-gaap","false","monetary","debit","duration","item","true",""]
["ReversalOfImpairmentPlantMachineryDuringPeriod",2961,"in-gaap","false","monetary","debit","duration","item","true",""]
["ReversalOfImpairmentEquipmentsDuringPeriod",2962,"in-gaap","false","monetary","debit","duration","item","true",""]
["ReversalOfImpairmentOfficeEquipmentsDuringPeriod",2963,"in-gaap","false","monetary","debit","duration","item","true",""]
["ReversalOfImpairmentFactoryEquipmentsDuringPeriod",2964,"in-gaap","false","monetary","debit","duration","item","true",""]
["ReversalOfImpairmentComputerEquipmentsDuringPeriod",2965,"in-gaap","false","monetary","debit","duration","item","true",""]
["ReversalOfImpairmentOtherEquipmentsDuringPeriod",2966,"in-gaap","false","monetary","debit","duration","item","true",""]
["ReversalOfImpairmentFurnitureFixturesDuringPeriod",2967,"in-gaap","false","monetary","debit","duration","item","true",""]
["ReversalOfImpairmentVehiclesDuringPeriod",2968,"in-gaap","false","monetary","debit","duration","item","true",""]
["ReversalOfImpairmentShipsVesselsDuringPeriod",2969,"in-gaap","false","monetary","debit","duration","item","true",""]
["ReversalOfImpairmentAircraftsHelicoptersDuringPeriod",2970,"in-gaap","false","monetary","debit","duration","item","true",""]
["ReversalOfImpairmentMotorVehiclesDuringPeriod",2971,"in-gaap","false","monetary","debit","duration","item","true",""]
["ReversalOfImpairmentLeaseholdPropertiesDuringPeriod",2972,"in-gaap","false","monetary","debit","duration","item","true",""]
["ReversalOfImpairmentLeaseholdImprovementsDuringPeriod",2973,"in-gaap","false","monetary","debit","duration","item","true",""]
["ReversalOfImpairmentLeaseholdBuildingDuringPeriod",2974,"in-gaap","false","monetary","debit","duration","item","true",""]
["ReversalOfImpairmentLeaseholdPlantMachineryDuringPeriod",2975,"in-gaap","false","monetary","debit","duration","item","true",""]
["ReversalOfImpairmentLeaseholdEquipmentsDuringPeriod",2976,"in-gaap","false","monetary","debit","duration","item","true",""]
["ReversalOfImpairmentLeaseholdVehiclesDuringPeriod",2977,"in-gaap","false","monetary","debit","duration","item","true",""]
["ReversalOfImpairmentLeaseholdOtherAssetsDuringPeriod",2978,"in-gaap","false","monetary","debit","duration","item","true",""]
["ReversalOfImpairmentBridgesRoadsPortsCulvertsDuringPeriod",2979,"in-gaap","false","monetary","debit","duration","item","true",""]
["ReversalOfImpairmentRailwaySidingsDuringPeriod",2980,"in-gaap","false","monetary","debit","duration","item","true",""]
["ReversalOfImpairmentBooksPeriodicalsDuringPeriod",2981,"in-gaap","false","monetary","debit","duration","item","true",""]
["ReversalOfImpairmentPlantationsDuringPeriod",2982,"in-gaap","false","monetary","debit","duration","item","true",""]
["ReversalOfImpairmentMinesQuarriesDuringPeriod",2983,"in-gaap","false","monetary","debit","duration","item","true",""]
["ReversalOfImpairmentOtherFixedAssetsDuringPeriod",2984,"in-gaap","false","monetary","debit","duration","item","true",""]
["ReversalOfImpairmentIntangibleAssetsDuringPeriod",2985,"in-gaap","false","monetary","debit","duration","item","true",""]
["ReversalOfImpairmentAcquiredGoodwillDuringPeriod",2986,"in-gaap","false","monetary","debit","duration","item","true",""]
["ReversalOfImpairmentKnowhowDuringPeriod",2987,"in-gaap","false","monetary","debit","duration","item","true",""]
["ReversalOfImpairmentComputerSoftwareDuringPeriod",2988,"in-gaap","false","monetary","debit","duration","item","true",""]
["ReversalOfImpairmentPatentsTrademarksDesignDuringPeriod",2989,"in-gaap","false","monetary","debit","duration","item","true",""]
["ReversalOfImpairmentCommercialContractualRightsDuringPeriod",2990,"in-gaap","false","monetary","debit","duration","item","true",""]
["ReversalOfImpairmentLicensesDuringPeriod",2991,"in-gaap","false","monetary","debit","duration","item","true",""]
["ReversalOfImpairmentDevelopmentCostDuringPeriod",2992,"in-gaap","false","monetary","debit","duration","item","true",""]
["ReversalOfImpairmentOtherIntangibleAssetsDuringPeriod",2993,"in-gaap","false","monetary","debit","duration","item","true",""]
["ReversalOfImpairmentAssetsFinancialLeaseDuringPeriod",2994,"in-gaap","false","monetary","debit","duration","item","true",""]
["AccumulatedAmortisationLeaseholdLand",2995,"in-gaap","false","monetary","credit","instant","item","true",""]
["AmortisationLeaseholdLandDuringPeriod",2996,"in-gaap","false","monetary","credit","duration","item","true",""]
["DeductionsInAmortisationLeaseholdLandDuringPeriod",2997,"in-gaap","false","monetary","debit","duration","item","true",""]
["OtherAdjustmentsToAmortisationLeaseholdLandDuringPeriod",2998,"in-gaap","false","monetary","","duration","item","true",""]
["ImpairmentLeaseholdLandDuringPeriod",2999,"in-gaap","false","monetary","credit","duration","item","true",""]
["ReversalOfImpairmentLeaseholdLandDuringPeriod",3000,"in-gaap","false","monetary","debit","duration","item","true",""]
["AccumulatedDepreciationLand",3001,"in-gaap","false","monetary","credit","instant","item","true",""]
["DepreciationLandDuringPeriod",3002,"in-gaap","false","monetary","credit","duration","item","true",""]
["DeductionsInDepreciationLandDuringPeriod",3003,"in-gaap","false","monetary","debit","duration","item","true",""]
["OtherAdjustmentsToDepreciationLandDuringPeriod",3004,"in-gaap","false","monetary","","duration","item","true",""]
["ImpairmentLandDuringPeriod",3005,"in-gaap","false","monetary","credit","duration","item","true",""]
["ReversalOfImpairmentLandDuringPeriod",3006,"in-gaap","false","monetary","debit","duration","item","true",""]
["ImpairmentFreeholdLandDuringPeriod",3007,"in-gaap","false","monetary","credit","duration","item","true",""]
["ReversalOfImpairmentFreeholdLandDuringPeriod",3008,"in-gaap","false","monetary","debit","duration","item","true",""]
["AccumulatedDepreciationLandAbstract",3009,"in-gaap","true","string","","duration","item","true",""]
["ImpairmentLivestockDuringPeriod",3010,"in-gaap","false","monetary","credit","duration","item","true",""]
["ReversalOfImpairmentLivestockDuringPeriod",3011,"in-gaap","false","monetary","debit","duration","item","true",""]
["ImpairmentLandDuringPeriodAbstract",3012,"in-gaap","true","string","","duration","item","true",""]
["ReversalOfImpairmentLandDuringPeriodAbstract",3013,"in-gaap","true","string","","duration","item","true",""]
["DepreciationLandDuringPeriodAbstract",3014,"in-gaap","true","string","","duration","item","true",""]
["DeductionsInDepreciationLandDuringPeriodAbstract",3015,"in-gaap","true","string","","duration","item","true",""]
["OtherAdjustmentsToDepreciationLandDuringPeriodAbstract",3016,"in-gaap","true","string","","duration","item","true",""]
["EquityShareWarrantsAbstract",3017,"in-gaap","true","string","","duration","item","true",""]
["ChangesInEquityShareWarrantsDuringPeriodAbstract",3018,"in-gaap","true","string","","duration","item","true",""]
["ChangesInEquityShareWarrantsDuringPeriod",3019,"in-gaap","false","monetary","","duration","item","true",""]
["AdditionsToEquityShareWarrantsDuringPeriod",3020,"in-gaap","false","monetary","credit","duration","item","true",""]
["DeductionsInEquityShareWarrantsDuringPeriod",3021,"in-gaap","false","monetary","debit","duration","item","true",""]
["AccumulatedDepreciationAmortisationImpairmentAbstract",3022,"in-gaap","true","string","","duration","item","true",""]
["CostRoyalty",3023,"in-gaap","false","monetary","debit","duration","item","true",""]
["PurchaseOfFinishedGoodsDuringPeriod",3024,"in-gaap","false","monetary","debit","duration","item","true",""]
["NetProfitLossbeforeTaxPriorPeriodAndExtraordinaryItems",3025,"in-gaap","false","monetary","","duration","item","true",""]
["TaxEffectOfExtraordinaryItems",3026,"in-gaap","false","monetary","","duration","item","true",""]
["TaxEffectOfPriorPeriodItems",3027,"in-gaap","false","monetary","","duration","item","true",""]
["TaxEffectOfExceptionalItems",3028,"in-gaap","false","monetary","","duration","item","true",""]
["ExceptionalItemsNetOfTax",3029,"in-gaap","false","monetary","","duration","item","true",""]
["ExtraordinaryItemsBeforeTax",3030,"in-gaap","false","monetary","","duration","item","true",""]
["PriorPeriodItemsBeforeTax",3031,"in-gaap","false","monetary","","duration","item","true",""]
["NatureOfInvestmentPurchasedOrSoldDuringPeriod",3032,"in-gaap","false","in-ca-types:NatureOfInvestment","","duration","item","true","Current Investment, Long-term Investment"]
["AdvanceFringeBenefitTaxPaid",3033,"in-gaap","false","monetary","debit","instant","item","true",""]
["FringeBenefitTaxProvision",3034,"in-gaap","false","monetary","credit","instant","item","true",""]
["NetDeferredTaxAssetsAbstract",3035,"in-gaap","true","string","","duration","item","true",""]
["NetDeferredTaxLiabilitiesAbstract",3036,"in-gaap","true","string","","duration","item","true",""]
["ExtraordinaryItemsBeforeTaxAbstract",3037,"in-gaap","true","string","","duration","item","true",""]
["PriorPeriodItemsBeforeTaxAbstract",3038,"in-gaap","true","string","","duration","item","true",""]
["ExceptionalItemsNetOfTaxAbstract",3039,"in-gaap","true","string","","duration","item","true",""]
["AddressOfAuditors",3040,"in-ca","false","string","","duration","item","true",""]
["AddressOfRegisteredOfficeOfCompany",3041,"in-ca","false","string","","duration","item","true","","This is a mandatory field."]
["CapitalExpenditureOnResearchAndDevelopment",3042,"in-ca","false","monetary","debit","duration","item","true",""]
["ContentOfReport",3043,"in-ca","false","in-ca-types:ContentOfReport","","duration","item","true","Balance Sheet, Profit and Loss Statement","This is a mandatory field. In case of attachment to Balance sheet Form, it should be Balance sheet.\nIn case of attachment to Profit and Loss form, it should be Profit and Loss account."]
["CorporateIdentityNumber",3044,"in-ca","false","in-ca-types:CINNumber","","duration","item","true","","This is a mandatory field. Valid CIN. Should be same as entered in the Form."]
["CINOfHoldingCompany",3045,"in-ca","false","in-ca-types:CINNumber","","duration","item","true","","Valid CIN. Mandatory if country is India.  Should be different from CIN of filing company (CorporateIdentityNumber).  Should be different from CIN of subsidiary company"]
["DateFromWhichRegisterOfMembersRemainedClosed",3046,"in-ca","false","date","","duration","item","true","","Should be less than or equal to system date."]
["DateOfBoardMeetingWhenFinalAccountsWereApproved",3047,"in-ca","false","date","","duration","item","true","","This is a mandatory field. Should be less than or equal to system date.\nShould be greater than or equal to DateOfEndOfReportingPeriod\n"]
["DateOfEndOfReportingPeriod",3048,"in-ca","false","date","","duration","item","true","","This is a mandatory field. Should be less than or equal to system date. Should be greater than or equal to DateOfStartOfReportingPeriod entered. Should be same as entered in the Form for the current year.\nDifference between start date and end date should not be greater than 18 months.\n"]
["DateOfSigningAuditReportByAuditors",3049,"in-ca","false","date","","duration","item","true","","Should be less than or equal to system date. Should be greater than or equal to DateOfSigningOfBalanceSheetByAuditors"]
["DateOfSigningBoardReport",3050,"in-ca","false","date","","duration","item","true","","Should be less than or equal to system date. Should be greater than or equal to 'DateOfBoardOfDirectorsMeetingInWhichBoardReportReferredToUnderSection217WasApproved'"]
["DateOfSigningOfBalanceSheetByAuditors",3051,"in-ca","false","date","","duration","item","true","","Should be less than or equal to system date. Should be greater than or equal to Date of signing balance sheet by director or secretary or manager. In case of multiple dates, latest date should be considered. "]
["DateOfSigningOfBalanceSheetByDirector",3052,"in-ca","false","date","","duration","item","true","","Should be less than or equal to system date.\nShould be greater than or equal to DateOfBoardMeetingWhenFinalAccountsWereApproved"]
["DateOfStartOfReportingPeriod",3053,"in-ca","false","date","","duration","item","true","","This is a mandatory field. Should be less than or equal to system date.  Should be same as entered in the Form for the current year."]
["DateTillWhichRegisterOfMembersRemainedClosed",3054,"in-ca","false","date","","duration","item","true","","Should be less than or equal to system date. Should be greater than or equal to DateFromWhichRegisterOfMembersRemainedClosed"]
["DescriptionOfPresentationCurrency",3055,"in-ca","false","string","","duration","item","true","","This is a mandatory field. Should be INR."]
["DescriptionOfProductOrServices",3056,"in-ca","false","string","","duration","item","true",""]
["DescriptionOfStateOfCompaniesAffair",3057,"in-ca","false","string","","duration","item","true",""]
["DesignationOfDirector",3058,"in-ca","false","string","","duration","item","true",""]
["DetailsIfExemptionIsGrantedForStatementUnderSection212",3059,"in-ca","false","string","","duration","item","true",""]
["DetailsOfCompanySecretarySigningBalanceSheetAbstract",3060,"in-ca","true","string","","duration","item","true","","Company Secretary should be associated with the company as on date of signing of balance sheet."]
["DateOfSigningOfBalanceSheetByCompanySecretary",3061,"in-ca","false","date","","duration","item","true","","Should be less than or equal to system date.\nShould be greater than or equal to DateOfBoardMeetingWhenFinalAccountsWereApproved"]
["DetailsOfDirectorsSigningBalanceSheetAbstract",3062,"in-ca","true","string","","duration","item","true",""]
["DetailsOfManagerSigningBalanceSheetAbstract",3063,"in-ca","true","string","","duration","item","true",""]
["DetailsofDirectorsSigningBalanceSheet",3064,"in-ca","","","","","tuple","true",""," All Details of atleast one director should be entered. Director should be associated with the company as on date of signing of Balance sheet by that director."]
["DetailsofDirectorsSigningBoardReport",3065,"in-ca","","","","","tuple","true","","All Details of atleast one director should be entered. Director should be associated with the company as on date of signing of Board Report by that director."]
["DetailsOfMaterialChangesOccurredDuringPeriodAffectingCompanysBusinessOperations",3066,"in-ca","false","string","","duration","item","true",""]
["QuantityOfPrincipalProductOrServices",3067,"in-ca","false","decimal","","duration","item","true","","Should be greater than or equal to zero"]
["DetailsOfSignatoriesOfBalanceSheetAbstract",3068,"in-ca","true","string","","duration","item","true",""]
["DetailsOfSignatoriesToBoardReportAbstract",3069,"in-ca","true","string","","duration","item","true",""]
["DetailsOfPrincipalProductsAndServices",3070,"in-ca","","","","","tuple","true","","Details of atleast one product or service should be mandatory if Total turnover is greater than zero. "]
["DetailsRegardingAuditors",3071,"in-ca","","","","","tuple","true","","All Details (Except name of audit firm) of atleast one auditor to be mandatory"]
["DirectorsCommentsOnQualificationsReservationsOrAdverseRemarksOfAuditorsAsPerBoardsReport",3072,"in-ca","false","string","","duration","item","true",""]
["DetailsRegardingEnergyConservation",3073,"in-ca","false","string","","duration","item","true",""]
["DetailsRegardingForeignExchangeEarningsAndOutgo",3074,"in-ca","false","string","","duration","item","true",""]
["DetailsRegardingManagementDiscussionAndAnalysis",3075,"in-ca","false","string","","duration","item","true",""]
["DetailsRegardingResearchAndDevelopment",3076,"in-ca","false","string","","duration","item","true",""]
["DetailsRegardingTechnologyAbsorption",3077,"in-ca","false","string","","duration","item","true",""]
["DirectorIdentificationNumberOfDirector",3078,"in-ca","false","in-ca-types:DINNumber","","duration","item","true","","Should be valid DIN. DIN entered in repetitive tuple elements should be unique."]
["DisclosureAboutLoansGrantedOrTakenByPartiesCoveredUnderSection301OfCompaniesAct",3079,"in-ca","false","string","","duration","item","true",""]
["DisclosureAboutMaintenanceOfInventoryRecordsAndMaterialDiscrepancies",3080,"in-ca","false","string","","duration","item","true",""]
["DisclosureInAuditorsReportExplanatory",3081,"in-ca","false","nonnum:textBlock","","duration","item","true",""]
["DisclosureInAuditorsReportRelatingToAccumulatedLosses",3082,"in-ca","false","string","","duration","item","true",""]
["DisclosureInAuditorsReportRelatingToAdequacyOfRecordsMaintainedByShareTradingCompanies",3083,"in-ca","false","string","","duration","item","true",""]
["DisclosureInAuditorsReportRelatingToAnyMaterialFraudReportedDuringPeriod",3084,"in-ca","false","string","","duration","item","true",""]
["DisclosureInAuditorsReportRelatingToCompaniesInternalAuditSystem",3085,"in-ca","false","string","","duration","item","true",""]
["DisclosureInAuditorsReportRelatingToContractsAndArrangementsUnderSection301OfCompaniesAct",3086,"in-ca","false","string","","duration","item","true",""]
["DisclosureInAuditorsReportRelatingToDefaultInRepaymentOfFinancialDues",3087,"in-ca","false","string","","duration","item","true",""]
["DisclosureInAuditorsReportRelatingToDepositsAcceptedFromPublic",3088,"in-ca","false","string","","duration","item","true",""]
["DisclosureInAuditorsReportRelatingToFixedAssets",3089,"in-ca","false","string","","duration","item","true",""]
["DisclosureInAuditorsReportRelatingToGuaranteeGiven",3090,"in-ca","false","string","","duration","item","true",""]
["DisclosureInAuditorsReportRelatingToInternalControlSystem",3091,"in-ca","false","string","","duration","item","true",""]
["DisclosureInAuditorsReportRelatingToInventories",3092,"in-ca","false","string","","duration","item","true",""]
["DisclosureInAuditorsReportRelatingToLoans",3093,"in-ca","false","string","","duration","item","true",""]
["DisclosureInAuditorsReportRelatingToLoansAndAdvancesGrantedByWayOfPledgeOfSharesDebenturesAndOtherSecurities",3094,"in-ca","false","string","","duration","item","true",""]
["DisclosureInAuditorsReportRelatingToMaintenanceOfCostRecords",3095,"in-ca","false","string","","duration","item","true",""]
["DisclosureInAuditorsReportRelatingToNatureAndAmountOfFundRaisedForShortTermHasBeenUsedForLongTermOrViceVersa",3096,"in-ca","false","string","","duration","item","true",""]
["DisclosureInAuditorsReportRelatingToPreferentialAllotmentOfShares",3097,"in-ca","false","string","","duration","item","true",""]
["DisclosureInAuditorsReportRelatingToProvisionsUnderSpecialStatute",3098,"in-ca","false","string","","duration","item","true",""]
["DisclosureInAuditorsReportRelatingToPurposeAndEndUseOfMoneyRaisedThroughPublicIssues",3099,"in-ca","false","string","","duration","item","true",""]
["DisclosureInAuditorsReportRelatingToSecuritiesCreatedAgainstDebenturesIssued",3100,"in-ca","false","string","","duration","item","true",""]
["DisclosureInAuditorsReportRelatingToStatutoryDues",3101,"in-ca","false","string","","duration","item","true",""]
["DisclosureInAuditorsReportRelatingToTermLoansUsedForPurposeOtherThanForPurposeTheyWereRaised",3102,"in-ca","false","string","","duration","item","true",""]
["DisclosureInBoardOfDirectorsReportExplanatory",3103,"in-ca","false","nonnum:textBlock","","duration","item","true",""]
["DisclosureOfCompanyInformationAbstract",3104,"in-ca","true","string","","duration","item","true",""]
["DisclosureOfDocumentInformationAbstract",3105,"in-ca","true","string","","duration","item","true",""]
["DisclosureOfGeneralInformationAboutCompanyAbstract",3106,"in-ca","true","string","","duration","item","true",""]
["DisclosureOfOtherGeneralInformationAbstract",3107,"in-ca","true","string","","duration","item","true",""]
["DisclosureOfPhysicalVerificationOfInventoriesAtFixedIntervals",3108,"in-ca","false","string","","duration","item","true",""]
["DisclosureOfPrincipalProductOrServicesAbstract",3109,"in-ca","true","string","","duration","item","true","","Not Applicable in Case of Consolidated Financial Statement"]
["DisclosureOfProcedureFollowedForPhysicalVerificationOfInventories",3110,"in-ca","false","string","","duration","item","true",""]
["DisclosureRegardingTermsAndConditionsOfLoansGrantedOrTaken",3111,"in-ca","false","string","","duration","item","true",""]
["DisclosureRegardingTermsOfPaymentOfLoansGrantedOrTaken",3112,"in-ca","false","string","","duration","item","true",""]
["DisclosureRegardingTermsOfRecoveryOfLoansGrantedOrTaken",3113,"in-ca","false","string","","duration","item","true",""]
["DisclosureRelatingToAmountsTransferredToReserves",3114,"in-ca","false","string","","duration","item","true",""]
["DisclosureRelatingToCreditAppraisalProcedure",3115,"in-ca","false","string","","duration","item","true",""]
["DisclosureRelatingToDisputedStatutoryDues",3116,"in-ca","false","string","","duration","item","true",""]
["DisclosureRelatingToFixedAssetsDisposedOff",3117,"in-ca","false","string","","duration","item","true",""]
["DisclosureRelatingToIncomeRecognitionAndProvisioningAgainstAssets",3118,"in-ca","false","string","","duration","item","true",""]
["DisclosureRelatingToNetOwnedFundToDepositLiabilityRatio",3119,"in-ca","false","string","","duration","item","true",""]
["DisclosureRelatingToPhysicalVerificationAndMaterialDiscrepanciesOfFixedAssets",3120,"in-ca","false","string","","duration","item","true",""]
["DisclosureRelatingToPresenceOfRegisterForNecessaryTransactions",3121,"in-ca","false","string","","duration","item","true",""]
["DisclosureRelatingToQuantitativeDetailsOfFixedAssets",3122,"in-ca","false","string","","duration","item","true",""]
["DisclosureRelatingToReasonabilityOfTransactions",3123,"in-ca","false","string","","duration","item","true",""]
["DisclosureRelatingToRegularityInPaymentOfUndisputedStatutoryDues",3124,"in-ca","false","string","","duration","item","true",""]
["DisclosureRelatingToRepaymentScheduleAndProcedureOfRecovery",3125,"in-ca","false","string","","duration","item","true",""]
["DisclosuresInDirectorsResponsibilityStatement",3126,"in-ca","false","string","","duration","item","true",""]
["DisclosuresRelatingToDividends",3127,"in-ca","false","string","","duration","item","true",""]
["ExpenditureOnResearchAndDevelopment",3128,"in-ca","false","monetary","debit","duration","item","true",""]
["ExpenditureOnSocialDevelopment",3129,"in-ca","false","monetary","debit","duration","item","true",""]
["FirstNameOfDirector",3130,"in-ca","false","string","","duration","item","true",""]
["ITCNumberOfProduct",3131,"in-ca","false","string","","duration","item","true",""]
["LastNameOfDirector",3132,"in-ca","false","string","","duration","item","true",""]
["LevelOfRoundingUsedInFinancialStatements",3133,"in-ca","false","in-ca-types:LevelOfRounding","","duration","item","true","Actual, Thousands, Lakhs, Millions, Crores, Billions","This is a mandatory field."]
["MembershipNumberOfAuditor",3134,"in-ca","false","string","","duration","item","true","","Should be a valid membership number as per ICAI database.  Membership number entered in repetitive tuple elements should be unique."]
["MiddleNameOfDirector",3135,"in-ca","false","string","","duration","item","true",""]
["NameOfAuditFirm",3136,"in-ca","false","string","","duration","item","true",""]
["NameOfAuditorSigningReport",3137,"in-ca","false","string","","duration","item","true","","Should be as per ICAI database based on membership number in any order."]
["NameOfCompany",3138,"in-ca","false","string","","duration","item","true","","This is a mandatory field. Name should be based on CIN."]
["NameOfCompanySecretary",3139,"in-ca","false","string","","duration","item","true",""]
["NameOfDirectorSigningBalanceSheetAbstract",3140,"in-ca","true","string","","duration","item","true","","Name should be based on DIN in any order"]
["NameOfDirectorSigningBoardReportAbstract",3141,"in-ca","true","string","","duration","item","true","","Name should be based on DIN in any order"]
["NatureOfReportStandaloneConsolidated",3142,"in-ca","false","in-ca-types:NatureOfReport","","duration","item","true","Standalone, Consolidated","This is a mandatory field."]
["OtherDetailsMentionedBoardReport",3143,"in-ca","false","string","","duration","item","true",""]
["ParticularsOfEmployeesAsPerProvisionsOfSection217",3144,"in-ca","false","string","","duration","item","true",""]
["PeriodCoveredByFinancialStatements",3145,"in-ca","false","string","","duration","item","true",""]
["PermanentAccountNumberOfCompanySecretary",3146,"in-ca","false","string","","duration","item","true","","Should be different from the PAN of company and auditor. Should be valid PAN as per Income_tax_PAN format."]
["AuditorsQualificationsReservationOrAdverseRemarkInAuditorsReport",3147,"in-ca","false","string","","duration","item","true",""]
["QuantitativeInformationInRespectOfLicensedInstalledCapacities",3148,"in-ca","false","string","","duration","item","true",""]
["ReasonIfNoFilingHasBeenMadeBySubsidiary",3149,"in-ca","false","string","","duration","item","true","","Mandatory if No is selected in field 'Whether subsidiary has filed its balance sheet'"]
["RecurringExpenditureOnResearchAndDevelopment",3150,"in-ca","false","monetary","debit","duration","item","true",""]
["SectionUnderWhichCompanyBecameSubsidiary",3151,"in-ca","false","in-ca-types:TypeOfSubsidiary","","duration","item","true","Section 4(1)(a), Section 4(1)(b), Section 4(1)(c), Section 4(6), Section 4(7) "]
["SRNOfFilingOfBalanceSheetBySubsidiary",3152,"in-ca","false","in-ca-types:SRNNumber","","duration","item","true","","Valid SRN of Form 23AC or Form for filing balance sheet in XBRL mode. Should belong to CIN of subsidiary.\nMandatory if yes is selected in field 'Whether subsidiary has filed its balance sheet'"]
["SRNOfForm23B",3153,"in-ca","false","in-ca-types:SRNNumber","","duration","item","true","","Should be valid SRN of Form 23B and should be associated with the company; \nSRN as entered should not have been marked as ‘Defective’\n"]
["SRNOfForm66",3154,"in-ca","false","in-ca-types:SRNNumber","","duration","item","true","","Should be valid SRN of Form 66 and should be associated with the company; \nSRN as entered should not have been marked as ‘Defective’.\nIf company does not have a secretary as on balance sheet date (End of reporting period) as per MCA21 database; then mandatory to enter this field in following case – Where current year paid up capital is greater than or equal to 10 lakhs but less than 5 crores"]
["TurnoverOfPrincipalProductOrServices",3155,"in-ca","false","monetary","credit","duration","item","true",""]
["TypeOfCashFlowStatement",3156,"in-ca","false","in-ca-types:TypeOfCashFlowStatement","","duration","item","true","Direct Method, Indirect Method","Elements for cash flow- direct or indirect shall be applicable based on the value selected in field Type of cash flow. For eg: In case type of Cash flow is direct, only elements in respect of direct method should be there and vice-a-versa."]
["TypeOfIndustry",3157,"in-ca","false","in-ca-types:IndustryType","","duration","item","true","Commercial and Industrial, Bank, NBFC, Power, Insurance","This is a mandatory field. Only Commercial and Industrial can be selected for the time being."]
["UnitOfMeasurementOfPrincipalProductOrServices",3158,"in-ca","false","string","","duration","item","true",""]
["CINOfGuaranteedParty",3159,"in-ca","false","in-ca-types:CINNumber","","duration","item","true","","Valid CIN. Should be different from CIN of filing company (CorporateIdentityNumber).  CIN entered in repetitive tuple element should be unique."]
["CINOfMicroSmallAndMediumEnterprise",3160,"in-ca","false","in-ca-types:CINNumber","","duration","item","true","","Valid CIN. Should be different from CIN of filing company (CorporateIdentityNumber).  CIN entered in repetitive tuple element should be unique."]
["CINOfAssociateEntity",3161,"in-ca","false","in-ca-types:CINNumber","","duration","item","true","","Valid CIN. Mandatory if country is India. Should be different from CIN of filing company (CorporateIdentityNumber).  CIN entered in repetitive tuple element should be unique."]
["CINOfJointVenturer",3162,"in-ca","false","in-ca-types:CINNumber","","duration","item","true","","Valid CIN. Mandatory if country is India. Should be different from CIN of filing company (CorporateIdentityNumber). CIN entered in repetitive tuple element should be unique."]
["CINOfAssociateEntityWhoseReportingDateIsDifferent",3163,"in-ca","false","in-ca-types:CINNumber","","duration","item","true","","Valid CIN. Mandatory if country is India. Should be different from CIN of filing company (CorporateIdentityNumber).  CIN entered in repetitive tuple element should be unique."]
["CINOfJointVenturerWhoseReportingDateIsDifferent",3164,"in-ca","false","in-ca-types:CINNumber","","duration","item","true","","Valid CIN. Should be different from CIN of filing company (CorporateIdentityNumber). "]
["CINOfRelatedParty",3165,"in-ca","false","in-ca-types:CINNumber","","duration","item","true","","Either 'PermanentAccountNumberOfRelatedParty' or 'CINOfRelatedParty' is mandatory if country is India. \nShould be valid CIN. Should be different from CIN of filing company (CorporateIdentityNumber). CIN entered in repetitive tuple should be unique."]
["CINOfSubsidiaryCompany",3166,"in-ca","false","in-ca-types:CINNumber","","duration","item","true","","Valid CIN. Mandatory if country is India. Should be different from CIN of filing company (CorporateIdentityNumber). CIN entered in repetitive tuple element should be unique."]
["PermanentAccountNumberOfAuditorOrAuditorsFirm",3167,"in-ca","false","string","","duration","item","true","","Should be different from the PAN of company. Should be valid PAN as per Income_tax_PAN  format."]
["DetailsOfManagerSigningBalanceSheet",3168,"in-ca","","","","","tuple","true","","Manager should be associated with the company as on date of signing of balance sheet by that manager."]
["NameOfManagerAbstract",3169,"in-ca","true","string","","duration","item","true",""]
["FirstNameOfManager",3170,"in-ca","false","string","","duration","item","true",""]
["SecondNameOfManager",3171,"in-ca","false","string","","duration","item","true",""]
["LastNameOfManager",3172,"in-ca","false","string","","duration","item","true",""]
["PermanentAccountNumberOfManager",3173,"in-ca","false","string","","duration","item","true","","Should be different from the PAN of company and Auditor. PAN of manager entered in repetitive tuple elements should be unique. Should be valid PAN as per Income_tax_PAN  format."]
["DateOfSigningOfBalanceSheetByManager",3174,"in-ca","false","date","","duration","item","true","","Should be less than or equal to system date.\nShould be greater than or equal to DateOfBoardMeetingWhenFinalAccountsWereApproved"]
["DateOfBoardOfDirectorsMeetingInWhichBoardReportReferredToUnderSection217WasApproved",3175,"in-ca","false","date","","duration","item","true","","Should be less than or equal to system date. Should be greater than or equal to 'DateOfBoardMeetingWhenFinalAccountsWereApproved'"]
["WhetherAuditorsReportHasBeenQualifiedOrHasAnyReservationsOrContainsAdverseRemarks",3176,"in-ca","false","boolean","","duration","item","true",""]
["TypeOfIncomeStatement",3177,"in-ca","false","in-ca-types:TypeOfIncomeStatement","","duration","item","true","Main, Alternative","Elements for Type of Income Statement- Main or Alternative shall be applicable based on the value selected in this element. For eg: In case type of income statement is Main, only elements in respect of Main income statement should be there and vice-a-versa."]
["TypeOfBalanceSheet",3178,"in-ca","false","in-ca-types:TypeOfBalanceSheet","","duration","item","true","Sources and Application of Funds [Vertical Format], Total assets and liabilities [Horizontal Format]","Elements for Type of Balance Sheet- Sources-Application of funds or Total Assets-Liabilities shall be applicable based on the value selected in this element. For eg: In case type of income statement is Sources-Application of funds, only elements in respect of sources-application of funds should be there and vice-a-versa."]
["WhetherSubsidiaryHasFiledBalanceSheet",3179,"in-ca","false","boolean","","duration","item","true",""]
["CINOfAmalgamatingCompany",3180,"in-ca","false","in-ca-types:CINNumber","","duration","item","true","","Valid CIN. Mandatory if country is India. Should be different from CIN of filing company (CorporateIdentityNumber). CIN entered in repetitive tuple element should be unique."]
["PermanentAccountNumberOfEntity",3181,"in-ca","false","string","","duration","item","true","","This is a mandatory field. Should be valid PAN as per Income_tax_PAN  format."]
["PermanentAccountNumberOfRelatedParty",3182,"in-ca","false","string","","duration","item","true","","Either 'PermanentAccountNumberOfRelatedParty' or 'CINOfRelatedParty' is mandatory if country is India.  PAN entered in repetitive tuple should be unique. Should be different from PAN of the company. Should be valid PAN as per Income_tax_PAN  format."]
["IdentificationNumberOfForeignRelatedPartyInCountryOfIncorporationOrResidence",3183,"in-ca","false","string","","duration","item","true",""]
["NatureOfIssuingAuthorityInCountryOfIncorporationOrResidence",3184,"in-ca","false","string","","duration","item","true",""]
["WhetherCompanyIsSubsidiaryCompany",3185,"in-ca","false","boolean","","duration","item","true",""]
["SectionUnderWhichCompanyIsSubsidiary",3186,"in-ca","false","in-ca-types:TypeOfSubsidiary","","duration","item","true","Section 4(1)(a), Section 4(1)(b), Section 4(1)(c), Section 4(6), Section 4(7) "]
["WhetherCompanyHasSubsidiaryCompanies",3187,"in-ca","false","boolean","","duration","item","true","","Details of atleast one subsidiary shall be mandatory if yes is selected in field 'WhetherCompanyHasSubsidiaryCompanies'. Subsidiary details can be entered only if yes is selected in this field."]

{"sheet":"Enumeration Lists","index":1,"n_rows":247,"n_cols":3,"rows_kept":247,"hidden":true}
["Country Name List [ENCOUNTLIST]","Nature of Goods List [ENGOODSLIST]"]
["AFGHANISTAN","Produced"]
["ÅLAND ISLANDS","Traded"]
["ALBANIA"]
["ALGERIA","Nature of Goods List [ENSUBSIDIARYLIST]"]
["AMERICAN SAMOA","Section 4[1][a]"]
["ANDORRA","Section 4[1][b]"]
["ANGOLA","Section 4[1][c]"]
["ANGUILLA","Section 4[6]"]
["ANTARCTICA","Section 4[7]"]
["ANTIGUA AND BARBUDA"]
["ARGENTINA","Balance Sheet Type [ENBSLIST]"]
["ARMENIA",{"$f":"UPPER(\"Sources and Application of Funds [Vertical Format]\")","v":"SOURCES AND APPLICATION OF FUNDS [VERTICAL FORMAT]"}]
["ARUBA",{"$f":"UPPER(\"Total assets and liabilities [Horizontal Format]\")","v":"TOTAL ASSETS AND LIABILITIES [HORIZONTAL FORMAT]"}]
["AUSTRALIA"]
["AUSTRIA","INCOME Statement Type [ENISLIST]"]
["AZERBAIJAN",{"$f":"UPPER(\"Main\")","v":"MAIN"}]
["BAHAMAS",{"$f":"UPPER(\"Alternative\")","v":"ALTERNATIVE"}]
["BAHRAIN"]
["BANGLADESH","Type of Industry List [ENINDUSTRYLIST]"]
["BARBADOS",{"$f":"UPPER(\"Commercial & Industrial\")","v":"COMMERCIAL & INDUSTRIAL"}]
["BELARUS",{"$f":"UPPER(\"Bank\")","v":"BANK"}]
["BELGIUM","NBFC"]
["BELIZE",{"$f":"UPPER(\"Power\")","v":"POWER"}]
["BENIN",{"$f":"UPPER(\"Insurance\")","v":"INSURANCE"}]
["BERMUDA"]
["BHUTAN","CFS Statement Type [ENCFSLIST]"]
["BOLIVIA",{"$f":"UPPER(\"Direct Method\")","v":"DIRECT METHOD"}]
["BOSNIA AND HERZEGOVINA",{"$f":"UPPER(\"Indirect Method\")","v":"INDIRECT METHOD"}]
["BOTSWANA"]
["BOUVET ISLAND","XBRL Statement Type [ENCSLIST]"]
["BRAZIL",{"$f":"UPPER(\"Standalone\")","v":"STANDALONE"}]
["BRITISH INDIAN OCEAN TERRITORY",{"$f":"UPPER(\"Consolidated\")","v":"CONSOLIDATED"}]
["BRUNEI DARUSSALAM"]
["BULGARIA","Level of Rounding Off List [ENROUNDOFFLIST]"]
["BURKINA FASO",{"$f":"UPPER(\"Actual\")","v":"ACTUAL"},0]
["BURUNDI",{"$f":"UPPER(\"Thousands\")","v":"THOUSANDS"},-3]
["CAMBODIA",{"$f":"UPPER(\"Lakhs\")","v":"LAKHS"},-5]
["CAMEROON",{"$f":"UPPER(\"Millions\")","v":"MILLIONS"},-6]
["CANADA",{"$f":"UPPER(\"Crores\")","v":"CRORES"},-7]
["CAPE VERDE",{"$f":"UPPER(\"Billions\")","v":"BILLIONS"},-8]
["CAYMAN ISLANDS"]
["CENTRAL AFRICAN REPUBLIC","Report Content Type [ENRCLIST]"]
["CHAD",{"$f":"UPPER(\"Balance Sheet\")","v":"BALANCE SHEET"}]
["CHILE",{"$f":"UPPER(\"Profit and Loss Statement\")","v":"PROFIT AND LOSS STATEMENT"}]
["CHINA"]
["CHRISTMAS ISLAND","Debenture Type List [ENDEBENTURELIST]"]
["COCOS (KEELING) ISLANDS",{"$f":"UPPER(\"Fully Convertible Debentures\")","v":"FULLY CONVERTIBLE DEBENTURES"}]
["COLOMBIA",{"$f":"UPPER(\"Partly Convertible Debentures\")","v":"PARTLY CONVERTIBLE DEBENTURES"}]
["COMOROS",{"$f":"UPPER(\"Non-Convertible Debentures\")","v":"NON-CONVERTIBLE DEBENTURES"}]
["CONGO"]
["CONGO, THE DEMOCRATIC REPUBLIC OF THE","Share Type [ENSTLIST]"]
["COOK ISLANDS",{"$f":"UPPER(\"Equity\")","v":"EQUITY"}]
["COSTA RICA",{"$f":"UPPER(\"Preference\")","v":"PREFERENCE"}]
["COTE D'IVOIRE"]
["CROATIA","Related Party List [ENRPLIST]"]
["CUBA",{"$f":"UPPER(\"Holding company\")","v":"HOLDING COMPANY"}]
["CYPRUS",{"$f":"UPPER(\"Subsidiary company\")","v":"SUBSIDIARY COMPANY"}]
["CZECH REPUBLIC",{"$f":"UPPER(\"Fellow Subsidiary company\")","v":"FELLOW SUBSIDIARY COMPANY"}]
["DENMARK",{"$f":"UPPER(\"Associate\")","v":"ASSOCIATE"}]
["DJIBOUTI",{"$f":"UPPER(\"Joint Venture\")","v":"JOINT VENTURE"}]
["DOMINICA",{"$f":"UPPER(\"Key Management Personnel\")","v":"KEY MANAGEMENT PERSONNEL"}]
["DOMINICAN REPUBLIC",{"$f":"UPPER(\"Relatives of Key Management Personnel\")","v":"RELATIVES OF KEY MANAGEMENT PERSONNEL"}]
["ECUADOR",{"$f":"UPPER(\"Enterprises which are owned, or have significant influence of or are partners with Key management personnel and their relatives\")","v":"ENTERPRISES WHICH ARE OWNED, OR HAVE SIGNIFICANT INFLUENCE OF OR ARE PARTNERS WITH KEY MANAGEMENT PERSONNEL AND THEIR RELATIVES"}]
["EGYPT",{"$f":"UPPER(\"Others\")","v":"OTHERS"}]
["EL SALVADOR"]
["EQUATORIAL GUINEA","Listed Unlisted Type [NENLULIST]"]
["ERITREA","L"]
["ESTONIA","U"]
["ETHIOPIA"]
["FALKLAND ISLANDS (MALVINAS)","STATE Name List [NENSTATELIST]"]
["FAROE ISLANDS","AN Andaman & Nicobar Islands",{"$f":"LEFT(B72,2)","v":"AN"}]
["FIJI","AP Andhra Pradesh",{"$f":"LEFT(B73,2)","v":"AP"}]
["FINLAND","AR Arunachal Pradesh","AR"]
["FRANCE","AS Assam","AS"]
["FRENCH GUIANA","BR Bihar","BR"]
["FRENCH POLYNESIA","CH Chandigarh","CH"]
["FRENCH SOUTHERN TERRITORIES","CT Chattisgarh","CT"]
["GABON","DN Dadra & Nagar Haveli","DN"]
["GAMBIA","DD Daman & Diu","DD"]
["GEORGIA","DL Delhi","DL"]
["GERMANY","GA Goa","GA"]
["GHANA","GJ Gujarat","GJ"]
["GIBRALTAR","HR Haryana","HR"]
["GREECE","HP Himachal Pradesh","HP"]
["GREENLAND","JK Jammu & Kashmir","JK"]
["GRENADA","JH Jharkhand","JH"]
["GUADELOUPE","KA Karnataka","KA"]
["GUAM","KL Kerala","KL"]
["GUATEMALA","LD Lakshwadeep","LD"]
["GUERNSEY","MP Madhya Pradesh","MP"]
["GUINEA","MH Maharashtra","MH"]
["GUINEA-BISSAU","MN Manipur","MN"]
["GUYANA","ML Meghalaya","ML"]
["HAITI","MZ Mizoram","MZ"]
["HEARD ISLAND AND MCDONALD ISLANDS","NL Nagaland","NL"]
["HOLY SEE (VATICAN CITY STATE)","OR Orissa","OR"]
["HONDURAS","PY Pondicherry","PY"]
["HONG KONG","PB Punjab","PB"]
["HUNGARY","RJ Rajasthan","RJ"]
["ICELAND","Sikkim","Si"]
["INDIA","TN Tamil Nadu","TN"]
["INDONESIA","TR Tripura","TR"]
["IRAN, ISLAMIC REPUBLIC OF","UP Uttar Pradesh","UP"]
["IRAQ","UR Uttaranchal","UR"]
["IRELAND","WB West Bengal","WB"]
["ISLE OF MAN",null,""]
["ISRAEL"]
["ITALY","TYPE OF COMPANY CODE List [ENCOTYPELIST]"]
["JAMAICA","PLC Public Limited Company",{"$f":"LEFT(B110,3)","v":"PLC"}]
["JAPAN","PTC Private Limited Company","PTC"]
["JERSEY","NPL Not For Profit Limited Company","NPL"]
["JORDAN","NPT Not For Profit Trading Company","NPT"]
["KAZAKHSTAN",null,""]
["KENYA",null,""]
["KIRIBATI",null,""]
["KOREA, DEMOCRATIC PEOPLE'S REPUBLIC OF"]
["KOREA, REPUBLIC OF"]
["KUWAIT"]
["KYRGYZSTAN"]
["LAO PEOPLE'S DEMOCRATIC REPUBLIC"]
["LATVIA"]
["LEBANON"]
["LESOTHO"]
["LIBERIA"]
["LIBYAN ARAB JAMAHIRIYA"]
["LIECHTENSTEIN"]
["LITHUANIA"]
["LUXEMBOURG"]
["MACAO"]
["MACEDONIA, THE FORMER YUGOSLAV REPUBLIC OF"]
["MADAGASCAR"]
["MALAWI"]
["MALAYSIA"]
["MALDIVES"]
["MALI"]
["MALTA"]
["MARSHALL ISLANDS"]
["MARTINIQUE"]
["MAURITANIA"]
["MAURITIUS"]
["MAYOTTE"]
["MEXICO"]
["MICRONESIA, FEDERATED STATES OF"]
["MOLDOVA, REPUBLIC OF"]
["MONACO"]
["MONGOLIA"]
["MONTENEGRO"]
["MONTSERRAT"]
["MOROCCO"]
["MOZAMBIQUE"]
["MYANMAR"]
["NAMIBIA"]
["NAURU"]
["NEPAL"]
["NETHERLANDS"]
["NETHERLANDS ANTILLES"]
["NEW CALEDONIA"]
["NEW ZEALAND"]
["NICARAGUA"]
["NIGER"]
["NIGERIA"]
["NIUE"]
["NORFOLK ISLAND"]
["NORTHERN MARIANA ISLANDS"]
["NORWAY"]
["OMAN"]
["PAKISTAN"]
["PALAU"]
["PALESTINIAN TERRITORY, OCCUPIED"]
["PANAMA"]
["PAPUA NEW GUINEA"]
["PARAGUAY"]
["PERU"]
["PHILIPPINES"]
["PITCAIRN"]
["POLAND"]
["PORTUGAL"]
["PUERTO RICO"]
["QATAR"]
["REUNION"]
["ROMANIA"]
["RUSSIAN FEDERATION"]
["RWANDA"]
["SAINT BARTHELEMY"]
["SAINT HELENA"]
["SAINT KITTS AND NEVIS"]
["SAINT LUCIA"]
["SAINT MARTIN"]
["SAINT PIERRE AND MIQUELON"]
["SAINT VINCENT AND THE GRENADINES"]
["SAMOA"]
["SAN MARINO"]
["SAO TOME AND PRINCIPE"]
["SAUDI ARABIA"]
["SENEGAL"]
["SERBIA "]
["SEYCHELLES"]
["SIERRA LEONE"]
["SINGAPORE"]
["SLOVAKIA"]
["SLOVENIA"]
["SOLOMON ISLANDS"]
["SOMALIA"]
["SOUTH AFRICA"]
["SOUTH GEORGIA AND THE SOUTH SANDWICH ISLANDS"]
["SPAIN"]
["SRI LANKA"]
["SUDAN"]
["SURINAME"]
["SVALBARD AND JAN MAYEN"]
["SWAZILAND"]
["SWEDEN"]
["SWITZERLAND"]
["SYRIAN ARAB REPUBLIC"]
["TAIWAN, PROVINCE OF CHINA"]
["TAJIKISTAN"]
["TANZANIA, UNITED REPUBLIC OF"]
["THAILAND"]
["TIMOR-LESTE"]
["TOGO"]
["TOKELAU"]
["TONGA"]
["TRINIDAD AND TOBAGO"]
["TUNISIA"]
["TURKEY"]
["TURKMENISTAN"]
["TURKS AND CAICOS ISLANDS"]
["TUVALU"]
["UGANDA"]
["UKRAINE"]
["UNITED ARAB EMIRATES"]
["UNITED KINGDOM"]
["UNITED STATES"]
["UNITED STATES MINOR OUTLYING ISLANDS"]
["URUGUAY"]
["UZBEKISTAN"]
["VANUATU"]
["VENEZUELA, BOLIVARIAN REPUBLIC OF"]
["VIET NAM"]
["VIRGIN ISLANDS, BRITISH"]
["VIRGIN ISLANDS, U.S."]
["WALLIS AND FUTUNA"]
["WESTERN SAHARA"]
["YEMEN"]
["ZAMBIA"]
["ZIMBABWE"]

{"sheet":"Terms","index":2,"n_rows":36,"n_cols":13,"rows_kept":36,"merged":[[0,0,0,19],[1,0,1,3],[1,4,1,19],[2,0,3,3],[2,4,2,19],[3,4,3,19],[5,0,5,19],[7,0,7,19],[12,0,12,19],[13,0,13,1],[13,2,13,9],[13,10,13,11],[13,12,13,19],[14,0,15,1],[14,2,15,9],[14,10,14,11],[14,12,14,19],[15,10,15,11],[15,12,15,19],[16,0,16,19],[17,0,17,19],[18,0,18,19],[19,0,19,19],[20,0,30,19],[31,0,31,19],[32,0,34,2],[32,3,32,11],[32,12,32,15],[32,16,32,19],[33,3,33,11],[33,12,33,15],[33,16,33,19],[34,3,34,11],[34,12,34,15],[34,16,34,19],[35,0,35,19]]}
["DEVELOPER INFORMATION"]
["DEVELOPED BY",{"$nulls":3},"CA. NIRMAL GHORAWAT"]
["CONTACT",{"$nulls":3},"434, Ajanta Shopping Centre, Ring Road, Surat - 395 002 Gujarat"]
[{"$nulls":4},"Email: nirmal.ghorawat@hotmail.com Website: http://www.canirmalg.wordpress.com "]
[]
["XBRL GENERATOR "]
[]
["YOU NEED TO ENABLE MACROS IN MS-EXCEL TO USE THIS FILE"]
[]
[]
[]
[]
["TECHNICAL INFORMATION"]
["FILE NAME",null,"NIRMAL XBRL GENERATOR",{"$nulls":7},"VERSION",null,"2.0"]
["FILE TYPE",null,"MICROSOFT EXCEL 2010\n(COMPATIBLE WITH EXCEL 2007 & 1997-2003)",{"$nulls":7},"SOFTWARE",null,"MICROSOFT EXCEL 2010 (FOR BEST RESULTS)"]
[{"$nulls":10},"LICENSE",null,"FREEWARE"]
["TERMS & CONDITIONS"]
["ALL RIGHTS RESERVED"]
["COMPLIMENTARY COPY FOR EVALUATION ONLY - NOT FOR SALE / COMMERCIAL USE."]
["TEXT OF DISCLAIMER"]
["Every effort has been made to avoid Errors and Ommissions in this XBRL Generator. In spite of this errors may have inadvertently crept in. Any mistake, error or discrepancy noted may be brought to our notice, which shall be taken care of, at the earliest. This XBRL Generator is being made available to you complimentary on the condition and  understanding that the XBRL Instance Document generated therefrom are merely for the purpose of guidance and reference and must not be taken as having the authority of, or being binding, in any manner whatsoever, on CA. Nirmal Ghorawat, the developer of this XBRL Generator, who does  not owe any responsilbilty whatsoever for any loss, damage, or distress to any person, whether or not a user of this XBRL Generator and whether or not a person who has received a complimentary copy or has downloaded the XBRL Generator from a web-site or blog or the like of it, in any manner, of any kind, on account of any action taken or not taken on the basis of this XBRL Generator. \nIt is suggested that to avoid any doubt the user should re-check the facts/ elements of XBRL Instance Document generated from this file \"XBRL Generator\" with the original File Validation Utility downloaded from the designated website of the Ministry of Corporate Affairs, Government of India. "]
{"$rows_empty":10}
["ACKNOWLEDGEMENTS"]
[{"$nulls":3},"AIISAA - PROMOTING GLOBAL REACH",{"$nulls":8},"CA. MANISH IYER"]
[{"$nulls":3},{"$f":"(\"B-904, Fairdeal House, Navrangpura, Ahmedabad-9, Gujarat\")","v":"B-904, Fairdeal House, Navrangpura, Ahmedabad-9, Gujarat"},{"$nulls":8},"CA. CHINTAN N PATEL"]
[{"$nulls":3},"Email: xbrl@aiisaa.com Website: www.aiisaa.com",{"$nulls":8},"CA. RAHUL DEO PATEL"]
["WE VALUE YOUR SUGGESTIONS"]

{"sheet":"Instructions","index":3,"n_rows":54,"n_cols":16,"rows_kept":54,"hidden":true,"merged":[[0,0,0,5],[1,0,1,5],[2,0,2,1],[2,2,2,3],[2,4,2,5],[6,0,6,1]]}
["INSTRUCTIONS TO USE THIS XBRL GENERATOR",{"$nulls":14},{"$f":"ROW()","v":1}]
["Please go through the following file: CAUTION AND INSTRUCTIONS FOR NIRMAL XBRL GENERATOR VER 2.pdf"]
["COLOR SCHEME [EXCEL 2007-10]",null,"COLOR SCHEME [EXCEL 1997-2003]",null,"COLOR SCHEME [Presentation Linkbase]",{"$nulls":10},{"$f":"ROW()","v":3}]
["GREEN","ENTER FACT","GREEN","ENTER FACT","YELLOW","MANDATORY",{"$nulls":8},"red",{"$f":"ROW()","v":4}]
["ORANGE","COMPUTED DATA\n[BY UTILITY]","ORANGE","COMPUTED DATA\n[BY UTILITY]","ORANGE","CONSOLIDATED",{"$nulls":8},"green",{"$f":"ROW()","v":5}]
["RED","INCORRECT / INVALID DATA","RED","INCORRECT / INVALID DATA","BLUE","TUPLE",{"$nulls":8},"blue",{"$f":"ROW()","v":6}]
["ICONS USED",null,null,"VALIDATE - RESPECTIVE SHEET",null,"ADD ROW IN TUPLE (TABLE)",{"$nulls":8},"yellow",{"$f":"ROW()","v":7}]
[null,"GO TO HOME PAGE - NAVIGATION LINKS",null,"CREATE INSTANCE DOCUMENTS",null,"DELETE LAST ROW IN TUPLE (TABLE)",{"$nulls":8},"pink",{"$f":"ROW()","v":8}]
[null,"TOGGLE BETWEEN FOOTNOTES AND ELEMENTS (CTRL+F)",null,"GO TO PROFIT & LOSS ACCOUNT SHEET",{"$nulls":11},{"$f":"ROW()","v":9}]
[{"$nulls":15},{"$f":"ROW()","v":10}]
[{"$nulls":15},{"$f":"ROW()","v":11}]
[{"$nulls":15},{"$f":"ROW()","v":12}]
[{"$nulls":15},{"$f":"ROW()","v":13}]
[{"$nulls":15},{"$f":"ROW()","v":14}]
[{"$nulls":15},{"$f":"ROW()","v":15}]
[{"$nulls":15},{"$f":"ROW()","v":16}]
[{"$nulls":15},{"$f":"ROW()","v":17}]
[{"$nulls":15},{"$f":"ROW()","v":18}]
[{"$nulls":15},{"$f":"ROW()","v":19}]
[{"$nulls":15},{"$f":"ROW()","v":20}]
[{"$nulls":15},{"$f":"ROW()","v":21}]
[{"$nulls":15},{"$f":"ROW()","v":22}]
[{"$nulls":15},{"$f":"ROW()","v":23}]
[{"$nulls":15},{"$f":"ROW()","v":24}]
[{"$nulls":15},{"$f":"ROW()","v":25}]
[{"$nulls":15},{"$f":"ROW()","v":26}]
[{"$nulls":15},{"$f":"ROW()","v":27}]
[{"$nulls":15},{"$f":"ROW()","v":28}]
[{"$nulls":15},{"$f":"ROW()","v":29}]
[{"$nulls":15},{"$f":"ROW()","v":30}]
[{"$nulls":15},{"$f":"ROW()","v":31}]
[{"$nulls":15},{"$f":"ROW()","v":32}]
[{"$nulls":15},{"$f":"ROW()","v":33}]
[{"$nulls":15},{"$f":"ROW()","v":34}]
[{"$nulls":15},{"$f":"ROW()","v":35}]
[{"$nulls":15},{"$f":"ROW()","v":36}]
[{"$nulls":15},{"$f":"ROW()","v":37}]
[{"$nulls":15},{"$f":"ROW()","v":38}]
[{"$nulls":15},{"$f":"ROW()","v":39}]
[{"$nulls":15},{"$f":"ROW()","v":40}]
[{"$nulls":15},{"$f":"ROW()","v":41}]
[{"$nulls":15},{"$f":"ROW()","v":42}]
[{"$nulls":15},{"$f":"ROW()","v":43}]
[{"$nulls":15},{"$f":"ROW()","v":44}]
[{"$nulls":15},{"$f":"ROW()","v":45}]
[{"$nulls":15},{"$f":"ROW()","v":46}]
[{"$nulls":15},{"$f":"ROW()","v":47}]
[{"$nulls":15},{"$f":"ROW()","v":48}]
[{"$nulls":15},{"$f":"ROW()","v":49}]
[{"$nulls":15},{"$f":"ROW()","v":50}]
[{"$nulls":15},{"$f":"ROW()","v":51}]
[{"$nulls":15},{"$f":"ROW()","v":52}]
[{"$nulls":15},{"$f":"ROW()","v":53}]
[{"$nulls":15},{"$f":"ROW()","v":54}]

{"sheet":"Navigation","index":4,"n_rows":11,"n_cols":3,"rows_kept":11,"hidden":true,"merged":[[0,0,0,2],[4,0,5,0],[5,1,5,2],[9,0,10,0],[10,1,10,2]]}
["NAVIGATION LINKS [[HOME PAGE]]"]
[]
["FINANCIAL STATEMENTS","PL MAIN","PL ALTERNATIVE"]
[]
["INCOME","14 - OPERATING REVENUE","15 - OTHER INCOME"]
[null,"17 - ADDITIONAL DETAILS INCOME STATEMENT"]
[]
["EXPENDITURE","16 - EXPENDITURE","NOTES - PL"]
[]
["TUPLES - PL STATEMENT","GOODS","RAW MATERIALS"]
["TUPLES - NOTES ON ACCOUNTS","PRINCIPAL PRODUCTS AND SERVICES"]

{"sheet":"GenInfo","index":5,"n_rows":35,"n_cols":29,"rows_kept":35,"hidden":true,"merged":[[0,0,0,1],[0,3,1,3],[2,0,2,1],[3,0,3,1],[3,10,3,11],[3,13,3,14],[3,16,3,17],[4,0,4,1],[4,10,4,11],[4,13,4,14],[4,16,4,17],[5,0,5,1],[6,0,6,1],[7,0,7,1],[8,0,8,1],[9,0,9,1],[10,0,10,1],[11,0,11,1],[12,0,12,1],[13,0,13,1],[14,0,14,1],[15,0,15,1],[16,0,16,1],[17,0,17,1],[18,0,18,1],[19,0,19,1],[20,0,20,1],[21,0,21,1],[22,0,22,1],[23,0,23,1],[25,0,25,1],[26,2,29,2]]}
["GENERAL INFORMATION",null,null,"VALIDATIONS IN THIS SHEET\nARE AUTOMATIC",null,null,{"$f":"SUM(H4:H25)","v":10},null,2,{"$nulls":11},"A",0,{"$nulls":4},"GenInfo",{"$f":"G1","v":10}]
[{"$nulls":8},2,4,{"$nulls":10},"B",0,{"$nulls":4},"PL",{"$f":"PL!G1","v":0}]
["PARTICULARS",null,"DATA TYPE ","FACTS",{"$nulls":4},2,35,{"$nulls":10},"C",0,{"$nulls":4},"14-OperatingRevenue",{"$f":"+'14-OperatingRevenue'!G1","v":0}]
["COMPANY NAME",null,"STRING",{"$nulls":4},{"$f":"IF(ISBLANK(D4),1,0)","v":1},1,{"$f":"UPPER(LEFT(CIN,1))","v":""},{"$f":"MID(CIN,2,5)","v":""},null,{"$f":"UPPER(MID(CIN,7,2))","v":""},{"$f":"MID(CIN,9,4)","v":""},null,{"$f":"UPPER(MID(CIN,13,3))","v":""},{"$f":"RIGHT(CIN,6)","v":""},{"$nulls":3},"D",0,{"$nulls":4},"15-OtherIncome",{"$f":"+'15-OtherIncome'!G1","v":0}]
["CORPORATE IDENTIFICATION NUMBER (CIN)",null,"CIN FORMAT",null,{"$f":"UPPER(CIN)","v":""},null,null,{"$f":"IF(SUM(J5:R5)>0,1,0)","v":1},1,{"$f":"IF(OR(LEFT(D5,1)=\"L\",LEFT(D5,1)=\"U\"),0,1)","v":1},{"$f":"IF(ISERROR(K4+1)=FALSE,0,1)","v":1},null,{"$f":"IF(ISERROR(MATCH(M4,'Enumeration Lists'!C72:C106,0)),1,0)","v":1},{"$f":"IF(ISERROR(N4+1)=FALSE,0,1)","v":1},null,{"$f":"IF(ISERROR(MATCH(P4,'Enumeration Lists'!C110:C113,0)),1,0)","v":1},{"$f":"IF(ISERROR(Q4+1)=FALSE,0,1)","v":1},{"$nulls":3},"E",0,{"$nulls":4},"16-Expenditure",{"$f":"+'16-Expenditure'!G1","v":0}]
["PERMANENT ACCOUNT NO.",null,"PAN FORMAT",{"$nulls":4},{"$f":"IF(CONSOLCHECK=\"C\",IF(ISBLANK(D6)=TRUE,0,1),IF(OR(SUM(J7:S7)>0,ISBLANK(D6)=TRUE),1,0))","v":1},1,{"$f":"UPPER(MID(PAN,1,1))","v":""},{"$f":"UPPER(MID(PAN,2,1))","v":""},{"$f":"UPPER(MID(PAN,3,1))","v":""},{"$f":"UPPER(MID(PAN,4,1))","v":""},{"$f":"UPPER(MID(PAN,5,1))","v":""},{"$f":"UPPER(MID(PAN,6,1))","v":""},{"$f":"UPPER(MID(PAN,7,1))","v":""},{"$f":"UPPER(MID(PAN,8,1))","v":""},{"$f":"UPPER(MID(PAN,9,1))","v":""},{"$f":"UPPER(MID(PAN,10,1))","v":""},null,"F",0,{"$nulls":4},"17-AddlDetInStat",{"$f":"+'17-AddlDetInStat'!G1","v":0}]
["REGISTERED OFFICE ADDRESS",null,"STRING",{"$nulls":4},{"$f":"IF(CONSOLCHECK=\"C\",IF(D7=\"\",0,1),IF(D7=\"\",1,0))","v":1},1,{"$f":"IF(ISERROR(VLOOKUP(J6,A2Z,2,FALSE))=TRUE,1,0)","v":1},{"$f":"IF(ISERROR(VLOOKUP(K6,A2Z,2,FALSE))=TRUE,1,0)","v":1},{"$f":"IF(ISERROR(VLOOKUP(L6,A2Z,2,FALSE))=TRUE,1,0)","v":1},{"$f":"IF(ISERROR(VLOOKUP(M6,A2Z,2,FALSE))=TRUE,1,0)","v":1},{"$f":"IF(ISERROR(VLOOKUP(N6,A2Z,2,FALSE))=TRUE,1,0)","v":1},{"$f":"IF(ISERROR(O6+1)=FALSE,0,1)","v":1},{"$f":"IF(ISERROR(P6+1)=FALSE,0,1)","v":1},{"$f":"IF(ISERROR(Q6+1)=FALSE,0,1)","v":1},{"$f":"IF(ISERROR(R6+1)=FALSE,0,1)","v":1},{"$f":"IF(ISERROR(VLOOKUP(S6,A2Z,2,FALSE))=TRUE,1,0)","v":1},null,"G",0,{"$nulls":4},"Notes-PL",{"$f":"+'Notes-PL'!G1","v":0}]
["INDUSTRY TYPE",null,null,"Commercial and Industrial",{"$nulls":3},{"$f":"IF(ISBLANK(D8),1,0)","v":0},2,{"$nulls":11},"H",0,{"$nulls":4},"GoodsTuple",{"$f":"+GoodsTuple!L1","v":0}]
["STATEMENT TYPE: CONSOLIDATED / STANDALONE",null,"STANDALONE\nCONSOLIDATED",null,{"$f":"IF(D9=\"\",\"S\",LEFT(D9,1))","v":"S"},null,null,1,1,{"$nulls":11},"I",0,{"$nulls":4},"RawMaterialTuple",{"$f":"+RawMaterialTuple!G1","v":0}]
["BALANCE SHEET TYPE:",null,"HORIZONTAL\nVERTICAL",null,{"$f":"IF(D10=\"\",\"S\",LEFT(D10))","v":"S"},null,null,1,1,{"$nulls":11},"J",0,{"$nulls":4},"ITCTuple",{"$f":"+ITCTuple!H1","v":0}]
["INCOME STATEMENT TYPE:",null,"MAIN\nALTERNATIVE",null,{"$f":"IF(D11=\"\",\"M\",LEFT(D11))","v":"M"},null,null,1,1,{"$nulls":11},"K",0,{"$nulls":4},"PL CAL",{"$f":"+'PL CAL'!M2+'PL CAL'!N2","v":0}]
["CASH FLOW STATEMENT TYPE:",null,"DIRECT\nINDIRECT","DIRECT METHOD",{"$f":"IF(D12=\"\",\"I\",LEFT(D12))","v":"D"},null,null,0,1,{"$nulls":11},"L",0,{"$nulls":4},"TOTAL",{"$f":"SUM(AB1:AB11)","v":10}]
["LEVEL OF ROUNDING OFF",null,"ACTUAL","ACTUAL",{"$f":"VLOOKUP(D13,ENROUNDOFFLISTCODE,2,FALSE)","v":0},null,null,0,2,{"$nulls":11},"M",0,{"$nulls":4},"GoodsTuple",{"$f":"IF(AC13=1,\" Please Enter Details of Goods for both Current & Previous Year\",\"\")","v":""},{"$f":"GoodsTuple!Z1","v":0}]
["CURRENCY",null,"INR","INR",{"$nulls":3},0,2,{"$nulls":11},"N",0,{"$nulls":4},"RawMaterialTuple",{"$f":"IF(AC14=1,\" Please Enter Details of Raw Materials for both Current & Previous Year\",\"\")","v":""},{"$f":"RawMaterialTuple!U1","v":0}]
["PERIOD COVERED BY FINANCIAL STATEMENTS",null,null,"12 MONTHS",{"$nulls":3},0,1,{"$nulls":11},"P",0,{"$nulls":4},"ITCTuple",{"$f":"IF(AC15=1,\" Please Enter MANDATORY Details in ITC Tuple for Current Year\",IF(AC15=2,\" Please DO NOT Enter In ITC Tuple as it is Not Applicable in case of Consolidated Financial Statements & DELETE all Blank Rows\",\"\"))","v":""},{"$f":"IF(CONSOLCHECK=\"S\",ITCTuple!O1,IF(CONSOLCHECK=\"C\",IF(ITCTuple!C1>22,2,0),0))","v":0}]
["START DATE OF CURRENT YEAR",null,"DD-MM-YYYY","2010-04-01",{"$f":"YEAR(D16)&\"-\"&IF(MONTH(D16)<10,\"0\"&MONTH(D16),MONTH(D16))&\"-\"&IF(DAY(D16)<10,\"0\"&DAY(D16),DAY(D16))","v":"2010-04-01"},{"$f":"IF(OR(CYEND=PYEND,CYEND=PYEND2,PYEND=PYEND2),1,0)","v":0},null,0,1,{"$nulls":11},"Q",0]
["END DATE OF CURRENT YEAR",null,"DD-MM-YYYY","2011-03-31","2011-03-31",{"$f":"YEAR(D17)","v":2011},null,0,1,{"$nulls":11},"R",0]
["START DATE OF PREVIOUS / COMPARATIVE YEAR",null,"DD-MM-YYYY","2009-04-01","2009-04-01",null,null,0,1,{"$nulls":11},"S",0]
["END DATE OF PREVIOUS / COMPARATIVE YEAR",null,"DD-MM-YYYY","2010-03-31","2010-03-31",{"$f":"YEAR(D19)","v":2010},null,0,1,{"$nulls":11},"T",0]
["COMPARATIVE YEAR START DATE - 1 Day",null,"DD-MM-YYYY",{"$f":"IF(D18=\"\",,D18-1)","v":"2009-03-31"},"2009-03-31",{"$f":"YEAR(D20)","v":2009},null,0,2,{"$nulls":11},"U",0]
["DATE OF APPROVAL OF ACCOUNTS BY BOARD OF DIRECTORS",null,"DD-MM-YYYY",null,{"$f":"YEAR(D21)&\"-\"&IF(MONTH(D21)<10,\"0\"&MONTH(D21),MONTH(D21))&\"-\"&IF(DAY(D21)<10,\"0\"&DAY(D21),DAY(D21))","v":"1900-01-00"},null,null,{"$f":"IF(D21=\"\",1,IF(AND(D21<=TODAY(),D21>CYEND1),0,1))","v":1},1,{"$nulls":11},"O",0]
["BEGINNING DATE FROM WHICH REGISTER OF MEMBERS REMAINED CLOSED",null,"DD-MM-YYYY",null,"1900-01-00",null,null,{"$f":"IF(D22=\"\",1,IF(D22<=D21,1,0))","v":1},1,{"$nulls":11},"V",0]
["ENDING DATE TILL WHICH REGISTER OF MEMBERS REMAINED CLOSED",null,"DD-MM-YYYY",null,"1900-01-00",null,null,{"$f":"IF(D23=\"\",1,IF(D23<=D22,1,0))","v":1},1,{"$nulls":11},"W",0]
["SRN OF FORM 66",null,"SRN FORMAT",{"$nulls":4},{"$f":"IF(OR(SRN=\"\",SUM(J25:R25)>0),1,0)-IF(SRN=\"\",1,0)","v":0},1,{"$f":"UPPER(MID(SRN,1,1))","v":""},{"$f":"UPPER(MID(SRN,2,1))","v":""},{"$f":"UPPER(MID(SRN,3,1))","v":""},{"$f":"UPPER(MID(SRN,4,1))","v":""},{"$f":"UPPER(MID(SRN,5,1))","v":""},{"$f":"UPPER(MID(SRN,6,1))","v":""},{"$f":"UPPER(MID(SRN,7,1))","v":""},{"$f":"UPPER(MID(SRN,8,1))","v":""},{"$f":"UPPER(MID(SRN,9,1))","v":""},null,null,"X",0]
[{"$nulls":7},{"$f":"IF(OR(CYEND=PYEND,CYEND=PYEND2,PYEND=PYEND2),1,0)","v":0},2,{"$f":"IF(ISERROR(VLOOKUP(J24,A2Z,2,FALSE)),1,0)","v":1},{"$f":"IF(ISERROR(K24+1)=FALSE,0,1)","v":1},1,1,1,1,1,1,1,null,null,"Y",0]
["INSTANCE DOCUMENT DEFINITIONS",null,"[VIEW ONLY]",{"$nulls":5},2,{"$nulls":11},"Z",0]
["INSTANT","DATE VALUE",{"$f":"IF(OR(CYEND=PYEND,CYEND=PYEND2,PYEND=PYEND2),\"ERROR - NON-UNIQUE INSTANCE DOCUMENT DEFINITIONS\",\"\")","v":""},{"$nulls":5},2]
[{"$f":"\"I\"&F17","v":"I2011"},{"$f":"YEAR(D17)&\"-\"&IF(MONTH(D17)<10,\"0\"&MONTH(D17),MONTH(D17))&\"-\"&IF(DAY(D17)<10,\"0\"&DAY(D17),DAY(D17))","v":"2011-03-31"},null,{"$f":"\"<xbrli:context id=\"&\"\"\"\"&A28&\"\"\"\"&\">\"","v":"<xbrli:context id=\"I2011\">"},{"$nulls":4},2]
[{"$f":"\"I\"&F19","v":"I2010"},{"$f":"YEAR(D19)&\"-\"&IF(MONTH(D19)<10,\"0\"&MONTH(D19),MONTH(D19))&\"-\"&IF(DAY(D19)<10,\"0\"&DAY(D19),DAY(D19))","v":"2010-03-31"},null,{"$f":"\"<xbrli:context id=\"&\"\"\"\"&A29&\"\"\"\"&\">\"","v":"<xbrli:context id=\"I2010\">"},{"$nulls":4},2]
[{"$f":"\"I\"&F20","v":"I2009"},{"$f":"YEAR(D20)&\"-\"&IF(MONTH(D20)<10,\"0\"&MONTH(D20),MONTH(D20))&\"-\"&IF(DAY(D20)<10,\"0\"&DAY(D20),DAY(D20))","v":"2009-03-31"},null,{"$f":"\"<xbrli:context id=\"&\"\"\"\"&A30&\"\"\"\"&\">\"","v":"<xbrli:context id=\"I2009\">"},{"$nulls":4},2]
["DURATIONS","START DATE","END DATE",{"$nulls":5},2]
[{"$f":"\"D\"&F17","v":"D2011"},{"$f":"YEAR(D16)&\"-\"&IF(MONTH(D16)<10,\"0\"&MONTH(D16),MONTH(D16))&\"-\"&IF(DAY(D16)<10,\"0\"&DAY(D16),DAY(D16))","v":"2010-04-01"},{"$f":"B28","v":"2011-03-31"},{"$f":"\"<xbrli:context id=\"&\"\"\"\"&A32&\"\"\"\"&\">\"","v":"<xbrli:context id=\"D2011\">"},{"$nulls":4},2]
[{"$f":"\"D\"&F19","v":"D2010"},{"$f":"YEAR(D18)&\"-\"&IF(MONTH(D18)<10,\"0\"&MONTH(D18),MONTH(D18))&\"-\"&IF(DAY(D18)<10,\"0\"&DAY(D18),DAY(D18))","v":"2009-04-01"},{"$f":"B29","v":"2010-03-31"},{"$f":"\"<xbrli:context id=\"&\"\"\"\"&A33&\"\"\"\"&\">\"","v":"<xbrli:context id=\"D2010\">"},{"$nulls":4},2]
[{"$nulls":8},2]
[{"$nulls":8},2]

{"sheet":"PL ID","index":6,"n_rows":727,"n_cols":60,"rows_kept":727,"hidden":true,"merged":[[0,0,0,8],[2,2,2,59],[60,2,60,59],[116,2,116,59],[229,2,229,59],[356,2,356,59],[655,2,655,59],[686,2,686,59],[698,2,698,59],[699,2,699,59],[727,2,727,59],[728,2,728,59],[729,2,729,59]]}
["PRESENTATION LINKBASE - PL INSTANCE DOCUMENT",{"$nulls":42},{"$f":"SUM(AR4:AR687)","v":0},{"$f":"SUM(AS4:AS687)","v":0},{"$f":"SUM(AT4:AT687)","v":0}]
["Element Label","Element Name","Figures For the Current Year (Specified Value)","Figures For the Previous Year (Specified Value)","Figures For the Previous Year 2 (Specified Value)","Tag ID For the Current Year","Footnote for the Current Year","Tag ID For the Previous Year","Footnote for the Previous Year",null,"Tag ID For the Previous Year 2","Footnote for the Previous Year 2","#","Prefix","Abstract","Data type","Balance","Period type","Substitution Group","Nillable","Enumerations","Business Rule","unitRef","contextRef CY","contextRef PY","contextRef PY 2","decimals","MANDATORY","CONSOLIDATED","DUPLICATED","DuplicatesEliminated","NetDuplicates","Basic Tag (YN)","Tag Current Year (YN)","Tag Previous Year (YN)","Tag Previous Year 2 (YN)","Tag Current Year","Tag Previous Year","Tag Previous Year 2","Tag Scroll Current Year","Tag Scroll Previous Year","Tag Scroll Previous Year 2","Positive (P=Yes, Blank=No)","POSITIVE CHECK Current Year","POSITIVE CHECK Previous Year","Net Duplicates <> 1 Check","Tag Label for Footnote",null,"FN Yes No CY","Xlink Loc Tag CY","LinkFootnote CY","LinkFootnote Arc CY","FN Yes No PY","Xlink Loc Tag PY","LinkFootnote PY","LinkFootnote Arc PY","FN Yes No PY2","Xlink Loc Tag PY2","LinkFootnote PY2","LinkFootnote Arc PY2"]
["[200000] Income Statement [Main]","IncomeStatementMain"]
["Income statement - main [abstract]","IncomeStatementMainAbstract",{"$nulls":3},{"$f":"IF(AND(AH4=\"Y\",G4<>\"\"),\"PL\"&AN4,\"\")","v":""},null,{"$f":"IF(AND(AI4=\"Y\",I4<>\"\"),\"PL\"&AO4,\"\")","v":""},null,null,{"$f":"IF(AND(AJ4=\"Y\",L4<>\"\"),\"PL\"&AP4,\"\")","v":""},null,{"$f":"VLOOKUP(B4,XBRLBusinessRules,2,FALSE)","v":1322},{"$f":"VLOOKUP(B4,XBRLBusinessRules,3,FALSE)","v":"in-gaap"},{"$f":"VLOOKUP(B4,XBRLBusinessRules,4,FALSE)","v":"true"},{"$f":"VLOOKUP(B4,XBRLBusinessRules,5,FALSE)","v":"string"},{"$f":"VLOOKUP(B4,XBRLBusinessRules,6,FALSE)","v":""},{"$f":"VLOOKUP(B4,XBRLBusinessRules,7,FALSE)","v":"duration"},{"$f":"VLOOKUP(B4,XBRLBusinessRules,8,FALSE)","v":"item"},{"$f":"VLOOKUP(B4,XBRLBusinessRules,9,FALSE)","v":"true"},{"$f":"VLOOKUP(B4,XBRLBusinessRules,10,FALSE)","v":""},{"$f":"VLOOKUP(B4,XBRLBusinessRules,11,FALSE)","v":"Income Statement Main shall be applicable in case Type of Income Statement is selected as Main. The mandatory fields within this will be validated if this type of income statement is applicable."},{"$f":"IF(P4=\"monetary\",\"INR\",\"\")","v":""},{"$f":"UPPER(LEFT(R4,1))&CYEND","v":"D2011"},{"$f":"UPPER(LEFT(R4,1))&PYEND","v":"D2010"},{"$nulls":3},{"$f":"IF(V4=\"This can be entered only in case of Consolidated instance document\",\"C\",\"\")","v":""},{"$f":"COUNTIF(TagNamePL,\"=\"&B4)","v":1},null,{"$f":"AD4-COUNTIFS(TagNamePL,B4,TagPLD,\"D\")","v":1},{"$f":"IF(OR(O4=\"true\",AE4=\"D\"),\"N\",\"Y\")","v":"N"},{"$f":"IF(OR(AND(C4=\"\",D4=\"\",(AB4=\"M\")=FALSE),AG4=\"N\"),\"N\",\"Y\")","v":"N"},{"$f":"IF(OR(AND(C4=\"\",D4=\"\",(AB4=\"M\")=FALSE),AG4=\"N\"),\"N\",\"Y\")","v":"N"},{"$f":"IF(AND(COUNTBLANK(X4:Z4)=0,AG4=\"Y\"),IF(OR(AB4=\"M\",E4<>\"\"),\"Y\",\"N\"),\"N\")","v":"N"},{"$f":"IF(AH4=\"Y\",(\"<\"&N4&\":\"&B4&\" \"&IF(F4=\"\",\"\",\"id=\"\"\"&\"TA\"&F4&\"\"\"\"&\" \")&IF(OR(P4=\"monetary\",W4<>\"\"),\"unitRef=\"\"\"&W4&\"\"\"\"&\" \",\"\")&IF(X4=\"\",\"\",\"contextRef=\"\"\"&X4&\"\"\"\"&\" \")&IF(OR(P4=\"monetary\",AA4<>\"\"),\"decimals=\"\"\"&decimals&\"\"\"\"&\" \",\"\")&\">\")&IF(C4=\"\",0,C4)&\"</\"&N4&\":\"&B4&\">\",\"\")","v":""},{"$f":"IF(AI4=\"Y\",(\"<\"&N4&\":\"&B4&\" \"&IF(H4=\"\",\"\",\"id=\"\"\"&\"TA\"&H4&\"\"\"\"&\" \")&IF(OR(P4=\"monetary\",W4<>\"\"),\"unitRef=\"\"\"&W4&\"\"\"\"&\" \",\"\")&IF(Y4=\"\",\"\",\"contextRef=\"\"\"&Y4&\"\"\"\"&\" \")&IF(OR(P4=\"monetary\",AA4<>\"\"),\"decimals=\"\"\"&decimals&\"\"\"\"&\" \",\"\")&\">\")&IF(D4=\"\",0,D4)&\"</\"&N4&\":\"&B4&\">\",\"\")","v":""},{"$f":"IF(AJ4=\"Y\",(\"<\"&N4&\":\"&B4&\" \"&IF(K4=\"\",\"\",\"id=\"\"\"&\"TA\"&K4&\"\"\"\"&\" \")&IF(OR(P4=\"monetary\",W4<>\"\"),\"unitRef=\"\"\"&W4&\"\"\"\"&\" \",\"\")&IF(Z4=\"\",\"\",\"contextRef=\"\"\"&Z4&\"\"\"\"&\" \")&IF(OR(P4=\"monetary\",AA4<>\"\"),\"decimals=\"\"\"&decimals&\"\"\"\"&\" \",\"\")&\">\")&IF(E4=\"\",0,E4)&\"</\"&N4&\":\"&B4&\">\",\"\")","v":""},{"$f":"IF(AND(AH4=\"Y\",G4<>\"\"),0+1,0)","v":0},{"$f":"IF(AND(AI4=\"Y\",I4<>\"\"),AN4+1,AN4)","v":0},{"$f":"IF(AND(AJ4=\"Y\",L4<>\"\"),AO4+1,AO4)","v":0},null,{"$f":"IF(AQ4=\"P\",IF(C4<0,1,0),0)","v":0},{"$f":"IF(AQ4=\"P\",IF(D4<0,1,0),0)","v":0},{"$f":"IF(AF4=1,0,1)","v":0},null,null,{"$f":"IF(F4<>\"\",\"1\",0)","v":0},{"$f":"IF(F4<>\"\",\"<link:loc xlink:href=\"&\"\"\"\"&\"#\"&\"TA\"&F4&\"\"\"\"&\" xlink:type=\"&\"\"\"\"&\"locator\"&\"\"\"\"&\" xlink:label=\"&\"\"\"\"&\"value\"&AN4&\"\"\"\"&\"/>\",\"\")","v":""},{"$f":"IF(F4<>\"\",\"<link:footnote xlink:role=\"&\"\"\"\"&\"http://www.xbrl.org/2003/role/footnote\"&\"\"\"\"&\" xml:lang=\"&\"\"\"\"&\"en\"&\"\"\"\"&\" xlink:type=\"&\"\"\"\"&\"resource\"&\"\"\"\"&\" xlink:label=\"&\"\"\"\"&\"footnote\"&AN4&\"\"\"\"&\">\"&G4&\"</link:footnote>\",\"\")","v":""},{"$f":"IF(F4<>\"\",\"<link:footnoteArc xlink:type=\"&\"\"\"\"&\"arc\"&\"\"\"\"&\" order=\"&\"\"\"\"&\"1.0\"&\"\"\"\"& \" xlink:to=\"&\"\"\"\"&\"footnote\"&AN4&\"\"\"\"& \" xlink:from=\"&\"\"\"\"&\"value\"&AN4&\"\"\"\"&\" xlink:arcrole=\"&\"\"\"\"&\"http://www.xbrl.org/2003/arcrole/fact-footnote\"&\"\"\"\"&\"/>\",\"\")","v":""},{"$f":"IF(H4<>\"\",\"1\",0)","v":0},{"$f":"IF(H4<>\"\",\"<link:loc xlink:href=\"&\"\"\"\"&\"#\"&\"TA\"&H4&\"\"\"\"&\" xlink:type=\"&\"\"\"\"&\"locator\"&\"\"\"\"&\" xlink:label=\"&\"\"\"\"&\"value\"&AO4&\"\"\"\"&\"/>\",\"\")","v":""},{"$f":"IF(H4<>\"\",\"<link:footnote xlink:role=\"&\"\"\"\"&\"http://www.xbrl.org/2003/role/footnote\"&\"\"\"\"&\" xml:lang=\"&\"\"\"\"&\"en\"&\"\"\"\"&\" xlink:type=\"&\"\"\"\"&\"resource\"&\"\"\"\"&\" xlink:label=\"&\"\"\"\"&\"footnote\"&AO4&\"\"\"\"&\">\"&I4&\"</link:footnote>\",\"\")","v":""},{"$f":"IF(H4<>\"\",\"<link:footnoteArc xlink:type=\"&\"\"\"\"&\"arc\"&\"\"\"\"&\" order=\"&\"\"\"\"&\"1.0\"&\"\"\"\"& \" xlink:to=\"&\"\"\"\"&\"footnote\"&AO4&\"\"\"\"& \" xlink:from=\"&\"\"\"\"&\"value\"&AO4&\"\"\"\"&\" xlink:arcrole=\"&\"\"\"\"&\"http://www.xbrl.org/2003/arcrole/fact-footnote\"&\"\"\"\"&\"/>\",\"\")","v":""},{"$f":"IF(K4<>\"\",\"1\",0)","v":0},{"$f":"IF(K4<>\"\",\"<link:loc xlink:href=\"&\"\"\"\"&\"#\"&\"TA\"&K4&\"\"\"\"&\" xlink:type=\"&\"\"\"\"&\"locator\"&\"\"\"\"&\" xlink:label=\"&\"\"\"\"&\"value\"&AP4&\"\"\"\"&\"/>\",\"\")","v":""},{"$f":"IF(K4<>\"\",\"<link:footnote xlink:role=\"&\"\"\"\"&\"http://www.xbrl.org/2003/role/footnote\"&\"\"\"\"&\" xml:lang=\"&\"\"\"\"&\"en\"&\"\"\"\"&\" xlink:type=\"&\"\"\"\"&\"resource\"&\"\"\"\"&\" xlink:label=\"&\"\"\"\"&\"footnote\"&AP4&\"\"\"\"&\">\"&L4&\"</link:footnote>\",\"\")","v":""},{"$f":"IF(K4<>\"\",\"<link:footnoteArc xlink:type=\"&\"\"\"\"&\"arc\"&\"\"\"\"&\" order=\"&\"\"\"\"&\"1.0\"&\"\"\"\"& \" xlink:to=\"&\"\"\"\"&\"footnote\"&AP4&\"\"\"\"& \" xlink:from=\"&\"\"\"\"&\"value\"&AP4&\"\"\"\"&\" xlink:arcrole=\"&\"\"\"\"&\"http://www.xbrl.org/2003/arcrole/fact-footnote\"&\"\"\"\"&\"/>\",\"\")","v":""}]
["Total income [abstract]","TotalIncomeAbstract",{"$nulls":3},{"$f":"IF(AND(AH5=\"Y\",G5<>\"\"),\"PL\"&AN5,\"\")","v":""},null,{"$f":"IF(AND(AI5=\"Y\",I5<>\"\"),\"PL\"&AO5,\"\")","v":""},null,null,{"$f":"IF(AND(AJ5=\"Y\",L5<>\"\"),\"PL\"&AP5,\"\")","v":""},null,1323,"in-gaap","true","string","","duration","item","true","",0,"","D2011","D2010",{"$nulls":3},"",1,null,1,"N","N","N",{"$f":"IF(AND(COUNTBLANK(X5:Z5)=0,AG5=\"Y\"),IF(OR(AB5=\"M\",E5<>\"\"),\"Y\",\"N\"),\"N\")","v":"N"},{"$f":"IF(AH5=\"Y\",(\"<\"&N5&\":\"&B5&\" \"&IF(F5=\"\",\"\",\"id=\"\"\"&\"TA\"&F5&\"\"\"\"&\" \")&IF(OR(P5=\"monetary\",W5<>\"\"),\"unitRef=\"\"\"&W5&\"\"\"\"&\" \",\"\")&IF(X5=\"\",\"\",\"contextRef=\"\"\"&X5&\"\"\"\"&\" \")&IF(OR(P5=\"monetary\",AA5<>\"\"),\"decimals=\"\"\"&decimals&\"\"\"\"&\" \",\"\")&\">\")&IF(C5=\"\",0,C5)&\"</\"&N5&\":\"&B5&\">\",\"\")","v":""},{"$f":"IF(AI5=\"Y\",(\"<\"&N5&\":\"&B5&\" \"&IF(H5=\"\",\"\",\"id=\"\"\"&\"TA\"&H5&\"\"\"\"&\" \")&IF(OR(P5=\"monetary\",W5<>\"\"),\"unitRef=\"\"\"&W5&\"\"\"\"&\" \",\"\")&IF(Y5=\"\",\"\",\"contextRef=\"\"\"&Y5&\"\"\"\"&\" \")&IF(OR(P5=\"monetary\",AA5<>\"\"),\"decimals=\"\"\"&decimals&\"\"\"\"&\" \",\"\")&\">\")&IF(D5=\"\",0,D5)&\"</\"&N5&\":\"&B5&\">\",\"\")","v":""},{"$f":"IF(AJ5=\"Y\",(\"<\"&N5&\":\"&B5&\" \"&IF(K5=\"\",\"\",\"id=\"\"\"&\"TA\"&K5&\"\"\"\"&\" \")&IF(OR(P5=\"monetary\",W5<>\"\"),\"unitRef=\"\"\"&W5&\"\"\"\"&\" \",\"\")&IF(Z5=\"\",\"\",\"contextRef=\"\"\"&Z5&\"\"\"\"&\" \")&IF(OR(P5=\"monetary\",AA5<>\"\"),\"decimals=\"\"\"&decimals&\"\"\"\"&\" \",\"\")&\">\")&IF(E5=\"\",0,E5)&\"</\"&N5&\":\"&B5&\">\",\"\")","v":""},{"$f":"IF(AND(AH5=\"Y\",G5<>\"\"),AP4+1,AP4)","v":0},{"$f":"IF(AND(AI5=\"Y\",I5<>\"\"),AN5+1,AN5)","v":0},{"$f":"IF(AND(AJ5=\"Y\",L5<>\"\"),AO5+1,AO5)","v":0},null,0,0,0,null,null,{"$f":"IF(F5<>\"\",\"1\",0)","v":0},{"$f":"IF(F5<>\"\",\"<link:loc xlink:href=\"&\"\"\"\"&\"#\"&\"TA\"&F5&\"\"\"\"&\" xlink:type=\"&\"\"\"\"&\"locator\"&\"\"\"\"&\" xlink:label=\"&\"\"\"\"&\"value\"&AN5&\"\"\"\"&\"/>\",\"\")","v":""},{"$f":"IF(F5<>\"\",\"<link:footnote xlink:role=\"&\"\"\"\"&\"http://www.xbrl.org/2003/role/footnote\"&\"\"\"\"&\" xml:lang=\"&\"\"\"\"&\"en\"&\"\"\"\"&\" xlink:type=\"&\"\"\"\"&\"resource\"&\"\"\"\"&\" xlink:label=\"&\"\"\"\"&\"footnote\"&AN5&\"\"\"\"&\">\"&G5&\"</link:footnote>\",\"\")","v":""},{"$f":"IF(F5<>\"\",\"<link:footnoteArc xlink:type=\"&\"\"\"\"&\"arc\"&\"\"\"\"&\" order=\"&\"\"\"\"&\"1.0\"&\"\"\"\"& \" xlink:to=\"&\"\"\"\"&\"footnote\"&AN5&\"\"\"\"& \" xlink:from=\"&\"\"\"\"&\"value\"&AN5&\"\"\"\"&\" xlink:arcrole=\"&\"\"\"\"&\"http://www.xbrl.org/2003/arcrole/fact-footnote\"&\"\"\"\"&\"/>\",\"\")","v":""},{"$f":"IF(H5<>\"\",\"1\",0)","v":0},{"$f":"IF(H5<>\"\",\"<link:loc xlink:href=\"&\"\"\"\"&\"#\"&\"TA\"&H5&\"\"\"\"&\" xlink:type=\"&\"\"\"\"&\"locator\"&\"\"\"\"&\" xlink:label=\"&\"\"\"\"&\"value\"&AO5&\"\"\"\"&\"/>\",\"\")","v":""},{"$f":"IF(H5<>\"\",\"<link:footnote xlink:role=\"&\"\"\"\"&\"http://www.xbrl.org/2003/role/footnote\"&\"\"\"\"&\" xml:lang=\"&\"\"\"\"&\"en\"&\"\"\"\"&\" xlink:type=\"&\"\"\"\"&\"resource\"&\"\"\"\"&\" xlink:label=\"&\"\"\"\"&\"footnote\"&AO5&\"\"\"\"&\">\"&I5&\"</link:footnote>\",\"\")","v":""},{"$f":"IF(H5<>\"\",\"<link:footnoteArc xlink:type=\"&\"\"\"\"&\"arc\"&\"\"\"\"&\" order=\"&\"\"\"\"&\"1.0\"&\"\"\"\"& \" xlink:to=\"&\"\"\"\"&\"footnote\"&AO5&\"\"\"\"& \" xlink:from=\"&\"\"\"\"&\"value\"&AO5&\"\"\"\"&\" xlink:arcrole=\"&\"\"\"\"&\"http://www.xbrl.org/2003/arcrole/fact-footnote\"&\"\"\"\"&\"/>\",\"\")","v":""},{"$f":"IF(K5<>\"\",\"1\",0)","v":0},{"$f":"IF(K5<>\"\",\"<link:loc xlink:href=\"&\"\"\"\"&\"#\"&\"TA\"&K5&\"\"\"\"&\" xlink:type=\"&\"\"\"\"&\"locator\"&\"\"\"\"&\" xlink:label=\"&\"\"\"\"&\"value\"&AP5&\"\"\"\"&\"/>\",\"\")","v":""},{"$f":"IF(K5<>\"\",\"<link:footnote xlink:role=\"&\"\"\"\"&\"http://www.xbrl.org/2003/role/footnote\"&\"\"\"\"&\" xml:lang=\"&\"\"\"\"&\"en\"&\"\"\"\"&\" xlink:type=\"&\"\"\"\"&\"resource\"&\"\"\"\"&\" xlink:label=\"&\"\"\"\"&\"footnote\"&AP5&\"\"\"\"&\">\"&L5&\"</link:footnote>\",\"\")","v":""},{"$f":"IF(K5<>\"\",\"<link:footnoteArc xlink:type=\"&\"\"\"\"&\"arc\"&\"\"\"\"&\" order=\"&\"\"\"\"&\"1.0\"&\"\"\"\"& \" xlink:to=\"&\"\"\"\"&\"footnote\"&AP5&\"\"\"\"& \" xlink:from=\"&\"\"\"\"&\"value\"&AP5&\"\"\"\"&\" xlink:arcrole=\"&\"\"\"\"&\"http://www.xbrl.org/2003/arcrole/fact-footnote\"&\"\"\"\"&\"/>\",\"\")","v":""}]
["Operating revenue, net","OperatingRevenueNet",{"$f":"IF(OR(PL!D18=0,ISNUMBER(PL!D18)=FALSE),\"\",PL!D18)","v":""},{"$f":"IF(OR(PL!E18=0,ISNUMBER(PL!E18)=FALSE),\"\",PL!E18)","v":""},null,{"$f":"IF(AND(AH6=\"Y\",G6<>\"\"),\"PL\"&AN6,\"\")","v":""},{"$f":"IF(AH6=\"Y\",IF(VLOOKUP(A6,PLFN0,4,FALSE)=0,\"\",VLOOKUP(A6,PLFN0,4,FALSE)),\"\")","v":""},{"$f":"IF(AND(AI6=\"Y\",I6<>\"\"),\"PL\"&AO6,\"\")","v":""},{"$f":"IF(AI6=\"Y\",IF(VLOOKUP(A6,PLFN0,5,FALSE)=0,\"\",VLOOKUP(A6,PLFN0,5,FALSE)),\"\")","v":""},null,{"$f":"IF(AND(AJ6=\"Y\",L6<>\"\"),\"PL\"&AP6,\"\")","v":""},null,943,"in-gaap","false","monetary","credit","duration","item","true","","This is a mandatory field.","INR","D2011","D2010",null,{"$f":"decimals","v":0},"M","",4,null,1,"Y","Y","Y",{"$f":"IF(AND(COUNTBLANK(X6:Z6)=0,AG6=\"Y\"),IF(OR(AB6=\"M\",E6<>\"\"),\"Y\",\"N\"),\"N\")","v":"N"},{"$f":"IF(AH6=\"Y\",(\"<\"&N6&\":\"&B6&\" \"&IF(F6=\"\",\"\",\"id=\"\"\"&\"TA\"&F6&\"\"\"\"&\" \")&IF(OR(P6=\"monetary\",W6<>\"\"),\"unitRef=\"\"\"&W6&\"\"\"\"&\" \",\"\")&IF(X6=\"\",\"\",\"contextRef=\"\"\"&X6&\"\"\"\"&\" \")&IF(OR(P6=\"monetary\",AA6<>\"\"),\"decimals=\"\"\"&decimals&\"\"\"\"&\" \",\"\")&\">\")&IF(C6=\"\",0,C6)&\"</\"&N6&\":\"&B6&\">\",\"\")","v":"<in-gaap:OperatingRevenueNet unitRef=\"INR\" contextRef=\"D2011\" decimals=\"0\" >0</in-gaap:OperatingRevenueNet>"},{"$f":"IF(AI6=\"Y\",(\"<\"&N6&\":\"&B6&\" \"&IF(H6=\"\",\"\",\"id=\"\"\"&\"TA\"&H6&\"\"\"\"&\" \")&IF(OR(P6=\"monetary\",W6<>\"\"),\"unitRef=\"\"\"&W6&\"\"\"\"&\" \",\"\")&IF(Y6=\"\",\"\",\"contextRef=\"\"\"&Y6&\"\"\"\"&\" \")&IF(OR(P6=\"monetary\",AA6<>\"\"),\"decimals=\"\"\"&decimals&\"\"\"\"&\" \",\"\")&\">\")&IF(D6=\"\",0,D6)&\"</\"&N6&\":\"&B6&\">\",\"\")","v":"<in-gaap:OperatingRevenueNet unitRef=\"INR\" contextRef=\"D2010\" decimals=\"0\" >0</in-gaap:OperatingRevenueNet>"},{"$f":"IF(AJ6=\"Y\",(\"<\"&N6&\":\"&B6&\" \"&IF(K6=\"\",\"\",\"id=\"\"\"&\"TA\"&K6&\"\"\"\"&\" \")&IF(OR(P6=\"monetary\",W6<>\"\"),\"unitRef=\"\"\"&W6&\"\"\"\"&\" \",\"\")&IF(Z6=\"\",\"\",\"contextRef=\"\"\"&Z6&\"\"\"\"&\" \")&IF(OR(P6=\"monetary\",AA6<>\"\"),\"decimals=\"\"\"&decimals&\"\"\"\"&\" \",\"\")&\">\")&IF(E6=\"\",0,E6)&\"</\"&N6&\":\"&B6&\">\",\"\")","v":""},{"$f":"IF(AND(AH6=\"Y\",G6<>\"\"),AP5+1,AP5)","v":0},{"$f":"IF(AND(AI6=\"Y\",I6<>\"\"),AN6+1,AN6)","v":0},{"$f":"IF(AND(AJ6=\"Y\",L6<>\"\"),AO6+1,AO6)","v":0},null,0,0,0,{"$f":"IF(AG6=\"Y\",A6,\"\")","v":"Operating revenue, net"},null,{"$f":"IF(F6<>\"\",\"1\",0)","v":0},{"$f":"IF(F6<>\"\",\"<link:loc xlink:href=\"&\"\"\"\"&\"#\"&\"TA\"&F6&\"\"\"\"&\" xlink:type=\"&\"\"\"\"&\"locator\"&\"\"\"\"&\" xlink:label=\"&\"\"\"\"&\"value\"&AN6&\"\"\"\"&\"/>\",\"\")","v":""},{"$f":"IF(F6<>\"\",\"<link:footnote xlink:role=\"&\"\"\"\"&\"http://www.xbrl.org/2003/role/footnote\"&\"\"\"\"&\" xml:lang=\"&\"\"\"\"&\"en\"&\"\"\"\"&\" xlink:type=\"&\"\"\"\"&\"resource\"&\"\"\"\"&\" xlink:label=\"&\"\"\"\"&\"footnote\"&AN6&\"\"\"\"&\">\"&G6&\"</link:footnote>\",\"\")","v":""},{"$f":"IF(F6<>\"\",\"<link:footnoteArc xlink:type=\"&\"\"\"\"&\"arc\"&\"\"\"\"&\" order=\"&\"\"\"\"&\"1.0\"&\"\"\"\"& \" xlink:to=\"&\"\"\"\"&\"footnote\"&AN6&\"\"\"\"& \" xlink:from=\"&\"\"\"\"&\"value\"&AN6&\"\"\"\"&\" xlink:arcrole=\"&\"\"\"\"&\"http://www.xbrl.org/2003/arcrole/fact-footnote\"&\"\"\"\"&\"/>\",\"\")","v":""},{"$f":"IF(H6<>\"\",\"1\",0)","v":0},{"$f":"IF(H6<>\"\",\"<link:loc xlink:href=\"&\"\"\"\"&\"#\"&\"TA\"&H6&\"\"\"\"&\" xlink:type=\"&\"\"\"\"&\"locator\"&\"\"\"\"&\" xlink:label=\"&\"\"\"\"&\"value\"&AO6&\"\"\"\"&\"/>\",\"\")","v":""},{"$f":"IF(H6<>\"\",\"<link:footnote xlink:role=\"&\"\"\"\"&\"http://www.xbrl.org/2003/role/footnote\"&\"\"\"\"&\" xml:lang=\"&\"\"\"\"&\"en\"&\"\"\"\"&\" xlink:type=\"&\"\"\"\"&\"resource\"&\"\"\"\"&\" xlink:label=\"&\"\"\"\"&\"footnote\"&AO6&\"\"\"\"&\">\"&I6&\"</link:footnote>\",\"\")","v":""},{"$f":"IF(H6<>\"\",\"<link:footnoteArc xlink:type=\"&\"\"\"\"&\"arc\"&\"\"\"\"&\" order=\"&\"\"\"\"&\"1.0\"&\"\"\"\"& \" xlink:to=\"&\"\"\"\"&\"footnote\"&AO6&\"\"\"\"& \" xlink:from=\"&\"\"\"\"&\"value\"&AO6&\"\"\"\"&\" xlink:arcrole=\"&\"\"\"\"&\"http://www.xbrl.org/2003/arcrole/fact-footnote\"&\"\"\"\"&\"/>\",\"\")","v":""},{"$f":"IF(K6<>\"\",\"1\",0)","v":0},{"$f":"IF(K6<>\"\",\"<link:loc xlink:href=\"&\"\"\"\"&\"#\"&\"TA\"&K6&\"\"\"\"&\" xlink:type=\"&\"\"\"\"&\"locator\"&\"\"\"\"&\" xlink:label=\"&\"\"\"\"&\"value\"&AP6&\"\"\"\"&\"/>\",\"\")","v":""},{"$f":"IF(K6<>\"\",\"<link:footnote xlink:role=\"&\"\"\"\"&\"http://www.xbrl.org/2003/role/footnote\"&\"\"\"\"&\" xml:lang=\"&\"\"\"\"&\"en\"&\"\"\"\"&\" xlink:type=\"&\"\"\"\"&\"resource\"&\"\"\"\"&\" xlink:label=\"&\"\"\"\"&\"footnote\"&AP6&\"\"\"\"&\">\"&L6&\"</link:footnote>\",\"\")","v":""},{"$f":"IF(K6<>\"\",\"<link:footnoteArc xlink:type=\"&\"\"\"\"&\"arc\"&\"\"\"\"&\" order=\"&\"\"\"\"&\"1.0\"&\"\"\"\"& \" xlink:to=\"&\"\"\"\"&\"footnote\"&AP6&\"\"\"\"& \" xlink:from=\"&\"\"\"\"&\"value\"&AP6&\"\"\"\"&\" xlink:arcrole=\"&\"\"\"\"&\"http://www.xbrl.org/2003/arcrole/fact-footnote\"&\"\"\"\"&\"/>\",\"\")","v":""}]
["Other income","OtherIncome",{"$f":"IF(OR(PL!D19=0,ISNUMBER(PL!D19)=FALSE),\"\",PL!D19)","v":""},{"$f":"IF(OR(PL!E19=0,ISNUMBER(PL!E19)=FALSE),\"\",PL!E19)","v":""},null,{"$f":"IF(AND(AH7=\"Y\",G7<>\"\"),\"PL\"&AN7,\"\")","v":""},"",{"$f":"IF(AND(AI7=\"Y\",I7<>\"\"),\"PL\"&AO7,\"\")","v":""},"",null,{"$f":"IF(AND(AJ7=\"Y\",L7<>\"\"),\"PL\"&AP7,\"\")","v":""},null,994,"in-gaap","false","monetary","credit","duration","item","true","","This is a mandatory field.","INR","D2011","D2010",null,{"$f":"decimals","v":0},"M","",3,null,1,"Y","Y","Y",{"$f":"IF(AND(COUNTBLANK(X7:Z7)=0,AG7=\"Y\"),IF(OR(AB7=\"M\",E7<>\"\"),\"Y\",\"N\"),\"N\")","v":"N"},{"$f":"IF(AH7=\"Y\",(\"<\"&N7&\":\"&B7&\" \"&IF(F7=\"\",\"\",\"id=\"\"\"&\"TA\"&F7&\"\"\"\"&\" \")&IF(OR(P7=\"monetary\",W7<>\"\"),\"unitRef=\"\"\"&W7&\"\"\"\"&\" \",\"\")&IF(X7=\"\",\"\",\"contextRef=\"\"\"&X7&\"\"\"\"&\" \")&IF(OR(P7=\"monetary\",AA7<>\"\"),\"decimals=\"\"\"&decimals&\"\"\"\"&\" \",\"\")&\">\")&IF(C7=\"\",0,C7)&\"</\"&N7&\":\"&B7&\">\",\"\")","v":"<in-gaap:OtherIncome unitRef=\"INR\" contextRef=\"D2011\" decimals=\"0\" >0</in-gaap:OtherIncome>"},{"$f":"IF(AI7=\"Y\",(\"<\"&N7&\":\"&B7&\" \"&IF(H7=\"\",\"\",\"id=\"\"\"&\"TA\"&H7&\"\"\"\"&\" \")&IF(OR(P7=\"monetary\",W7<>\"\"),\"unitRef=\"\"\"&W7&\"\"\"\"&\" \",\"\")&IF(Y7=\"\",\"\",\"contextRef=\"\"\"&Y7&\"\"\"\"&\" \")&IF(OR(P7=\"monetary\",AA7<>\"\"),\"decimals=\"\"\"&decimals&\"\"\"\"&\" \",\"\")&\">\")&IF(D7=\"\",0,D7)&\"</\"&N7&\":\"&B7&\">\",\"\")","v":"<in-gaap:OtherIncome unitRef=\"INR\" contextRef=\"D2010\" decimals=\"0\" >0</in-gaap:OtherIncome>"},{"$f":"IF(AJ7=\"Y\",(\"<\"&N7&\":\"&B7&\" \"&IF(K7=\"\",\"\",\"id=\"\"\"&\"TA\"&K7&\"\"\"\"&\" \")&IF(OR(P7=\"monetary\",W7<>\"\"),\"unitRef=\"\"\"&W7&\"\"\"\"&\" \",\"\")&IF(Z7=\"\",\"\",\"contextRef=\"\"\"&Z7&\"\"\"\"&\" \")&IF(OR(P7=\"monetary\",AA7<>\"\"),\"decimals=\"\"\"&decimals&\"\"\"\"&\" \",\"\")&\">\")&IF(E7=\"\",0,E7)&\"</\"&N7&\":\"&B7&\">\",\"\")","v":""},0,0,0,null,0,0,0,{"$f":"IF(AG7=\"Y\",A7,\"\")","v":"Other income"},null,{"$f":"IF(F7<>\"\",\"1\",0)","v":0},{"$f":"IF(F7<>\"\",\"<link:loc xlink:href=\"&\"\"\"\"&\"#\"&\"TA\"&F7&\"\"\"\"&\" xlink:type=\"&\"\"\"\"&\"locator\"&\"\"\"\"&\" xlink:label=\"&\"\"\"\"&\"value\"&AN7&\"\"\"\"&\"/>\",\"\")","v":""},{"$f":"IF(F7<>\"\",\"<link:footnote xlink:role=\"&\"\"\"\"&\"http://www.xbrl.org/2003/role/footnote\"&\"\"\"\"&\" xml:lang=\"&\"\"\"\"&\"en\"&\"\"\"\"&\" xlink:type=\"&\"\"\"\"&\"resource\"&\"\"\"\"&\" xlink:label=\"&\"\"\"\"&\"footnote\"&AN7&\"\"\"\"&\">\"&G7&\"</link:footnote>\",\"\")","v":""},{"$f":"IF(F7<>\"\",\"<link:footnoteArc xlink:type=\"&\"\"\"\"&\"arc\"&\"\"\"\"&\" order=\"&\"\"\"\"&\"1.0\"&\"\"\"\"& \" xlink:to=\"&\"\"\"\"&\"footnote\"&AN7&\"\"\"\"& \" xlink:from=\"&\"\"\"\"&\"value\"&AN7&\"\"\"\"&\" xlink:arcrole=\"&\"\"\"\"&\"http://www.xbrl.org/2003/arcrole/fact-footnote\"&\"\"\"\"&\"/>\",\"\")","v":""},{"$f":"IF(H7<>\"\",\"1\",0)","v":0},{"$f":"IF(H7<>\"\",\"<link:loc xlink:href=\"&\"\"\"\"&\"#\"&\"TA\"&H7&\"\"\"\"&\" xlink:type=\"&\"\"\"\"&\"locator\"&\"\"\"\"&\" xlink:label=\"&\"\"\"\"&\"value\"&AO7&\"\"\"\"&\"/>\",\"\")","v":""},{"$f":"IF(H7<>\"\",\"<link:footnote xlink:role=\"&\"\"\"\"&\"http://www.xbrl.org/2003/role/footnote\"&\"\"\"\"&\" xml:lang=\"&\"\"\"\"&\"en\"&\"\"\"\"&\" xlink:type=\"&\"\"\"\"&\"resource\"&\"\"\"\"&\" xlink:label=\"&\"\"\"\"&\"footnote\"&AO7&\"\"\"\"&\">\"&I7&\"</link:footnote>\",\"\")","v":""},{"$f":"IF(H7<>\"\",\"<link:footnoteArc xlink:type=\"&\"\"\"\"&\"arc\"&\"\"\"\"&\" order=\"&\"\"\"\"&\"1.0\"&\"\"\"\"& \" xlink:to=\"&\"\"\"\"&\"footnote\"&AO7&\"\"\"\"& \" xlink:from=\"&\"\"\"\"&\"value\"&AO7&\"\"\"\"&\" xlink:arcrole=\"&\"\"\"\"&\"http://www.xbrl.org/2003/arcrole/fact-footnote\"&\"\"\"\"&\"/>\",\"\")","v":""},{"$f":"IF(K7<>\"\",\"1\",0)","v":0},{"$f":"IF(K7<>\"\",\"<link:loc xlink:href=\"&\"\"\"\"&\"#\"&\"TA\"&K7&\"\"\"\"&\" xlink:type=\"&\"\"\"\"&\"locator\"&\"\"\"\"&\" xlink:label=\"&\"\"\"\"&\"value\"&AP7&\"\"\"\"&\"/>\",\"\")","v":""},{"$f":"IF(K7<>\"\",\"<link:footnote xlink:role=\"&\"\"\"\"&\"http://www.xbrl.org/2003/role/footnote\"&\"\"\"\"&\" xml:lang=\"&\"\"\"\"&\"en\"&\"\"\"\"&\" xlink:type=\"&\"\"\"\"&\"resource\"&\"\"\"\"&\" xlink:label=\"&\"\"\"\"&\"footnote\"&AP7&\"\"\"\"&\">\"&L7&\"</link:footnote>\",\"\")","v":""},{"$f":"IF(K7<>\"\",\"<link:footnoteArc xlink:type=\"&\"\"\"\"&\"arc\"&\"\"\"\"&\" order=\"&\"\"\"\"&\"1.0\"&\"\"\"\"& \" xlink:to=\"&\"\"\"\"&\"footnote\"&AP7&\"\"\"\"& \" xlink:from=\"&\"\"\"\"&\"value\"&AP7&\"\"\"\"&\" xlink:arcrole=\"&\"\"\"\"&\"http://www.xbrl.org/2003/arcrole/fact-footnote\"&\"\"\"\"&\"/>\",\"\")","v":""}]
["Total income","TotalIncome",{"$f":"IF(OR(PL!D20=0,ISNUMBER(PL!D20)=FALSE),\"\",PL!D20)","v":""},{"$f":"IF(OR(PL!E20=0,ISNUMBER(PL!E20)=FALSE),\"\",PL!E20)","v":""},null,{"$f":"IF(AND(AH8=\"Y\",G8<>\"\"),\"PL\"&AN8,\"\")","v":""},"",{"$f":"IF(AND(AI8=\"Y\",I8<>\"\"),\"PL\"&AO8,\"\")","v":""},"",null,{"$f":"IF(AND(AJ8=\"Y\",L8<>\"\"),\"PL\"&AP8,\"\")","v":""},null,902,"in-gaap","false","monetary","credit","duration","item","true","","This is a mandatory field.","INR","D2011","D2010",null,{"$f":"decimals","v":0},"M","",1,null,1,{"$f":"IF(OR(O8=\"true\",AE8=\"D\",INTYPCHECK=\"A\"),\"N\",\"Y\")","v":"Y"},"Y","Y","N","<in-gaap:TotalIncome unitRef=\"INR\" contextRef=\"D2011\" decimals=\"0\" >0</in-gaap:TotalIncome>","<in-gaap:TotalIncome unitRef=\"INR\" contextRef=\"D2010\" decimals=\"0\" >0</in-gaap:TotalIncome>","",0,0,0,null,0,0,0,"Total income",null,0,"","","",0,"","","",0,"","",""]
["Total expenditure [abstract]","TotalExpenditureAbstract",{"$nulls":3},{"$f":"IF(AND(AH9=\"Y\",G9<>\"\"),\"PL\"&AN9,\"\")","v":""},"",{"$f":"IF(AND(AI9=\"Y\",I9<>\"\"),\"PL\"&AO9,\"\")","v":""},"",null,"",null,1343,"in-gaap","true","string","","duration","item","true","",0,"","D2011","D2010",{"$nulls":3},"",1,null,1,"N","N","N","N","","","",0,0,0,null,0,0,0,"",null,0,"","","",0,"","","",0,"","",""]
["Consumption materials changes inventories","ConsumptionMaterialsChangesInventories",{"$f":"IF(OR(PL!D21=0,ISNUMBER(PL!D21)=FALSE),\"\",PL!D21)","v":""},{"$f":"IF(OR(PL!E21=0,ISNUMBER(PL!E21)=FALSE),\"\",PL!E21)","v":""},null,"","","","",null,"",null,1049,"in-gaap","false","monetary","debit","duration","item","true","","This is a mandatory field.","INR","D2011","D2010",null,{"$f":"decimals","v":0},"M","",3,null,1,"Y","Y","Y","N","<in-gaap:ConsumptionMaterialsChangesInventories unitRef=\"INR\" contextRef=\"D2011\" decimals=\"0\" >0</in-gaap:ConsumptionMaterialsChangesInventories>","<in-gaap:ConsumptionMaterialsChangesInventories unitRef=\"INR\" contextRef=\"D2010\" decimals=\"0\" >0</in-gaap:ConsumptionMaterialsChangesInventories>","",0,0,0,null,0,0,0,"Consumption materials changes inventories",null,0,"","","",0,"","","",0,"","",""]
["Manufacturing other operating expenses [abstract]","ManufacturingOtherOperatingExpensesAbstract",{"$nulls":3},"","","","",null,"",null,1357,"in-gaap","true","string","","duration","item","true","",0,"","D2011","D2010",{"$nulls":3},"",1,null,1,"N","N","N","N","","","",0,0,0,null,0,0,0,"",null,0,"","","",0,"","","",0,"","",""]
["Manufacturing service costs","ManufacturingServiceCosts",{"$f":"IF(OR(PL!D22=0,ISNUMBER(PL!D22)=FALSE),\"\",PL!D22)","v":""},{"$f":"IF(OR(PL!E22=0,ISNUMBER(PL!E22)=FALSE),\"\",PL!E22)","v":""},null,"","","","",null,"",null,1077,"in-gaap","false","monetary","debit","duration","item","true","","This is a mandatory field.","INR","D2011","D2010",null,{"$f":"decimals","v":0},"M","",3,null,1,"Y","Y","Y","N","<in-gaap:ManufacturingServiceCosts unitRef=\"INR\" contextRef=\"D2011\" decimals=\"0\" >0</in-gaap:ManufacturingServiceCosts>","<in-gaap:ManufacturingServiceCosts unitRef=\"INR\" contextRef=\"D2010\" decimals=\"0\" >0</in-gaap:ManufacturingServiceCosts>","",0,0,0,null,0,0,0,"Manufacturing service costs",null,0,"","","",0,"","","",0,"","",""]
["Contract cost","ContractCost",{"$f":"IF(OR(PL!D23=0,ISNUMBER(PL!D23)=FALSE),\"\",PL!D23)","v":""},{"$f":"IF(OR(PL!E23=0,ISNUMBER(PL!E23)=FALSE),\"\",PL!E23)","v":""},null,"","","","",null,"",null,1063,"in-gaap","false","monetary","debit","duration","item","true","",0,"INR","D2011","D2010",null,0,null,"",3,null,1,"Y","N","N","N","","","",0,0,0,null,0,0,0,"Contract cost",null,0,"","","",0,"","","",0,"","",""]
["Employee related expenses","EmployeeRelatedExpenses",{"$f":"IF(OR(PL!D24=0,ISNUMBER(PL!D24)=FALSE),\"\",PL!D24)","v":""},{"$f":"IF(OR(PL!E24=0,ISNUMBER(PL!E24)=FALSE),\"\",PL!E24)","v":""},null,"","","","",null,"",null,1108,"in-gaap","false","monetary","debit","duration","item","true","","This is a mandatory field.","INR","D2011","D2010",null,0,"M","",3,"D",1,"N","N","N","N","","","",0,0,0,null,0,0,0,"",null,0,"","","",0,"","","",0,"","",""]
["Administrative selling other expenses","AdministrativeSellingOtherExpenses",{"$f":"IF(OR(PL!D25=0,ISNUMBER(PL!D25)=FALSE),\"\",PL!D25)","v":""},{"$f":"IF(OR(PL!E25=0,ISNUMBER(PL!E25)=FALSE),\"\",PL!E25)","v":""},null,"","","","",null,"",null,1126,"in-gaap","false","monetary","debit","duration","item","true","","This is a mandatory field.","INR","D2011","D2010",null,0,"M","",3,null,1,"Y","Y","Y","N","<in-gaap:AdministrativeSellingOtherExpenses unitRef=\"INR\" contextRef=\"D2011\" decimals=\"0\" >0</in-gaap:AdministrativeSellingOtherExpenses>","<in-gaap:AdministrativeSellingOtherExpenses unitRef=\"INR\" contextRef=\"D2010\" decimals=\"0\" >0</in-gaap:AdministrativeSellingOtherExpenses>","",0,0,0,null,0,0,0,"Administrative selling other expenses",null,0,"","","",0,"","","",0,"","",""]
["Manufacturing other operating expenses","ManufacturingOtherOperatingExpenses",{"$f":"IF(OR(PL!D26=0,ISNUMBER(PL!D26)=FALSE),\"\",PL!D26)","v":""},{"$f":"IF(OR(PL!E26=0,ISNUMBER(PL!E26)=FALSE),\"\",PL!E26)","v":""},null,"","","","",null,"",null,904,"in-gaap","false","monetary","debit","duration","item","true","",0,"INR","D2011","D2010",null,0,null,"",1,null,1,{"$f":"IF(OR(O16=\"true\",AE16=\"D\",INTYPCHECK=\"A\"),\"N\",\"Y\")","v":"Y"},"N","N","N","","","",0,0,0,null,0,0,0,"Manufacturing other operating expenses",null,0,"","","",0,"","","",0,"","",""]
["Research development expenditure","ResearchDevelopmentExpenditure",{"$f":"IF(OR(PL!D27=0,ISNUMBER(PL!D27)=FALSE),\"\",PL!D27)","v":""},{"$f":"IF(OR(PL!E27=0,ISNUMBER(PL!E27)=FALSE),\"\",PL!E27)","v":""},null,"","","","",null,"",null,1217,"in-gaap","false","monetary","debit","duration","item","true","",0,"INR","D2011","D2010",null,0,null,"",3,null,1,"Y","N","N","N","","","",0,0,0,null,0,0,0,"Research development expenditure",null,0,"","","",0,"","","",0,"","",""]
["Depreciation amortisation impairment","DepreciationAmortisationImpairment",{"$f":"IF(OR(PL!D28=0,ISNUMBER(PL!D28)=FALSE),\"\",PL!D28)","v":""},{"$f":"IF(OR(PL!E28=0,ISNUMBER(PL!E28)=FALSE),\"\",PL!E28)","v":""},null,"","","","",null,"",null,1225,"in-gaap","false","monetary","debit","duration","item","true","",0,"INR","D2011","D2010",null,0,null,"",3,"D",1,"N","N","N","N","","","",0,0,0,null,0,0,0,"",null,0,"","","",0,"","","",0,"","",""]
["Interest financial charges","InterestFinancialCharges",{"$f":"IF(OR(PL!D29=0,ISNUMBER(PL!D29)=FALSE),\"\",PL!D29)","v":""},{"$f":"IF(OR(PL!E29=0,ISNUMBER(PL!E29)=FALSE),\"\",PL!E29)","v":""},null,"","","","",null,"",null,1240,"in-gaap","false","monetary","debit","duration","item","true","","This is a mandatory field.","INR","D2011","D2010",null,0,"M","",3,"D",1,"N","N","N","N","","","",0,0,0,null,0,0,0,"",null,0,"","","",0,"","","",0,"","",""]
["Restructuring charges","RestructuringCharges",{"$f":"IF(OR(PL!D30=0,ISNUMBER(PL!D30)=FALSE),\"\",PL!D30)","v":""},{"$f":"IF(OR(PL!E30=0,ISNUMBER(PL!E30)=FALSE),\"\",PL!E30)","v":""},null,"","","","",null,"",null,905,"in-gaap","false","monetary","debit","duration","item","true","",0,"INR","D2011","D2010",null,0,null,"",2,null,1,"Y","N","N","N","","","",0,0,0,null,0,0,0,"Restructuring charges",null,0,"","","",0,"","","",0,"","",""]
["Reversal restructuring charges","ReversalRestructuringCharges",{"$f":"IF(OR(PL!D31=0,ISNUMBER(PL!D31)=FALSE),\"\",PL!D31)","v":""},{"$f":"IF(OR(PL!E31=0,ISNUMBER(PL!E31)=FALSE),\"\",PL!E31)","v":""},null,"","","","",null,"",null,906,"in-gaap","false","monetary","credit","duration","item","true","",0,"INR","D2011","D2010",null,0,null,"",2,null,1,"Y","N","N","N","","","",0,0,0,null,0,0,0,"Reversal restructuring charges",null,0,"","","",0,"","","",0,"","",""]
["Total expenditure","TotalExpenditure",{"$f":"IF(OR(PL!D32=0,ISNUMBER(PL!D32)=FALSE),\"\",PL!D32)","v":""},{"$f":"IF(OR(PL!E32=0,ISNUMBER(PL!E32)=FALSE),\"\",PL!E32)","v":""},null,"","","","",null,"",null,903,"in-gaap","false","monetary","debit","duration","item","true","","This is a mandatory field.","INR","D2011","D2010",null,0,"M","",1,null,1,{"$f":"IF(OR(O22=\"true\",AE22=\"D\",INTYPCHECK=\"A\"),\"N\",\"Y\")","v":"Y"},"Y","Y","N","<in-gaap:TotalExpenditure unitRef=\"INR\" contextRef=\"D2011\" decimals=\"0\" >0</in-gaap:TotalExpenditure>","<in-gaap:TotalExpenditure unitRef=\"INR\" contextRef=\"D2010\" decimals=\"0\" >0</in-gaap:TotalExpenditure>","",0,0,0,null,0,0,0,"Total expenditure",null,0,"","","",0,"","","",0,"","",""]
["Exceptional income expense, net","ExceptionalIncomeExpenseNet",{"$f":"IF(OR(PL!D33=0,ISNUMBER(PL!D33)=FALSE),\"\",PL!D33)","v":""},{"$f":"IF(OR(PL!E33=0,ISNUMBER(PL!E33)=FALSE),\"\",PL!E33)","v":""},null,"","","","",null,"",null,907,"in-gaap","false","monetary","credit","duration","item","true","",0,"INR","D2011","D2010",null,0,null,"",3,null,1,"Y","N","N","N","","","",0,0,0,null,0,0,0,"Exceptional income expense, net",null,0,"","","",0,"","","",0,"","",""]
["Net profit loss continuing operations","NetProfitLossContinuingOperations",{"$f":"IF(OR(PL!D34=0,ISNUMBER(PL!D34)=FALSE),\"\",PL!D34)","v":""},{"$f":"IF(OR(PL!E34=0,ISNUMBER(PL!E34)=FALSE),\"\",PL!E34)","v":""},null,"","","","",null,"",null,901,"in-gaap","false","monetary","credit","duration","item","true","",0,"INR","D2011","D2010",null,0,null,"",2,null,1,"Y","N","N","N","","","",0,0,0,null,0,0,0,"Net profit loss continuing operations",null,0,"","","",0,"","","",0,"","",""]
["Income loss discontinuing operations [abstract]","IncomeLossDiscontinuingOperationsAbstract",{"$nulls":3},"","","","",null,"",null,1390,"in-gaap","true","string","","duration","item","true","",0,"","D2011","D2010",{"$nulls":3},"",3,null,1,"N","N","N","N","","","",0,0,0,null,0,0,0,"",null,0,"","","",0,"","","",0,"","",""]
["Revenues related discontinuing operations","RevenuesRelatedDiscontinuingOperations",{"$f":"IF(OR(PL!D35=0,ISNUMBER(PL!D35)=FALSE),\"\",PL!D35)","v":""},{"$f":"IF(OR(PL!E35=0,ISNUMBER(PL!E35)=FALSE),\"\",PL!E35)","v":""},null,"","","","",null,"",null,911,"in-gaap","false","monetary","credit","duration","item","true","",0,"INR","D2011","D2010",null,{"$f":"decimals","v":0},null,"",3,null,1,"Y","N","N","N","","","",0,0,0,null,0,0,0,"Revenues related discontinuing operations",null,0,"","","",0,"","","",0,"","",""]
["Expenses related discontinuing operations","ExpensesRelatedDiscontinuingOperations",{"$f":"IF(OR(PL!D36=0,ISNUMBER(PL!D36)=FALSE),\"\",PL!D36)","v":""},{"$f":"IF(OR(PL!E36=0,ISNUMBER(PL!E36)=FALSE),\"\",PL!E36)","v":""},null,"","","","",null,"",null,912,"in-gaap","false","monetary","debit","duration","item","true","",0,"INR","D2011","D2010",null,0,null,"",3,null,1,"Y","N","N","N","","","",0,0,0,null,0,0,0,"Expenses related discontinuing operations",null,0,"","","",0,"","","",0,"","",""]
["Income loss discontinuing operations","IncomeLossDiscontinuingOperations",{"$f":"IF(OR(PL!D37=0,ISNUMBER(PL!D37)=FALSE),\"\",PL!D37)","v":""},{"$f":"IF(OR(PL!E37=0,ISNUMBER(PL!E37)=FALSE),\"\",PL!E37)","v":""},null,"","","","",null,"",null,910,"in-gaap","false","monetary","","duration","item","true","",0,"INR","D2011","D2010",null,0,null,"",3,null,1,"Y","N","N","N","","","",0,0,0,null,0,0,0,"Income loss discontinuing operations",null,0,"","","",0,"","","",0,"","",""]
["Income loss disposal sale discontinuing operations","IncomeLossDisposalSaleDiscontinuingOperations",{"$f":"IF(OR(PL!D38=0,ISNUMBER(PL!D38)=FALSE),\"\",PL!D38)","v":""},{"$f":"IF(OR(PL!E38=0,ISNUMBER(PL!E38)=FALSE),\"\",PL!E38)","v":""},null,"","","","",null,"",null,913,"in-gaap","false","monetary","","duration","item","true","",0,"INR","D2011","D2010",null,0,null,"",3,null,1,"Y","N","N","N","","","",0,0,0,null,0,0,0,"Income loss disposal sale discontinuing operations",null,0,"","","",0,"","","",0,"","",""]
["Net profit (loss) before tax, prior period and extraordinary items","NetProfitLossbeforeTaxPriorPeriodAndExtraordinaryItems",{"$f":"IF(OR(PL!D39=0,ISNUMBER(PL!D39)=FALSE),\"\",PL!D39)","v":""},{"$f":"IF(OR(PL!E39=0,ISNUMBER(PL!E39)=FALSE),\"\",PL!E39)","v":""},null,"","","","",null,"",null,3025,"in-gaap","false","monetary","","duration","item","true","",0,"INR","D2011","D2010",null,0,null,"",2,null,1,"Y","N","N","N","","","",0,0,0,null,0,0,0,"Net profit (loss) before tax, prior period and extraordinary items",null,0,"","","",0,"","","",0,"","",""]
["Extraordinary items before tax","ExtraordinaryItemsBeforeTax",{"$f":"IF(OR(PL!D40=0,ISNUMBER(PL!D40)=FALSE),\"\",PL!D40)","v":""},{"$f":"IF(OR(PL!E40=0,ISNUMBER(PL!E40)=FALSE),\"\",PL!E40)","v":""},null,"","","","",null,"",null,3030,"in-gaap","false","monetary","","duration","item","true","",0,"INR","D2011","D2010",null,0,null,"",3,null,1,"Y","N","N","N","","","",0,0,0,null,0,0,0,"Extraordinary items before tax",null,0,"","","",0,"","","",0,"","",""]
["Prior period items before tax","PriorPeriodItemsBeforeTax",{"$f":"IF(OR(PL!D41=0,ISNUMBER(PL!D41)=FALSE),\"\",PL!D41)","v":""},{"$f":"IF(OR(PL!E41=0,ISNUMBER(PL!E41)=FALSE),\"\",PL!E41)","v":""},null,"","","","",null,"",null,3031,"in-gaap","false","monetary","","duration","item","true","",0,"INR","D2011","D2010",null,0,null,"",3,null,1,"Y","N","N","N","","","",0,0,0,null,0,0,0,"Prior period items before tax",null,0,"","","",0,"","","",0,"","",""]
["Net profit loss before tax","NetProfitLossbeforeTax",{"$f":"IF(OR(PL!D42=0,ISNUMBER(PL!D42)=FALSE),\"\",PL!D42)","v":""},{"$f":"IF(OR(PL!E42=0,ISNUMBER(PL!E42)=FALSE),\"\",PL!E42)","v":""},null,"","","","",null,"",null,900,"in-gaap","false","monetary","credit","duration","item","true","","This is a mandatory field.","INR","D2011","D2010",null,0,"M","",2,null,1,"Y","Y","Y","N","<in-gaap:NetProfitLossbeforeTax unitRef=\"INR\" contextRef=\"D2011\" decimals=\"0\" >0</in-gaap:NetProfitLossbeforeTax>","<in-gaap:NetProfitLossbeforeTax unitRef=\"INR\" contextRef=\"D2010\" decimals=\"0\" >0</in-gaap:NetProfitLossbeforeTax>","",0,0,0,null,0,0,0,"Net profit loss before tax",null,0,"","","",0,"","","",0,"","",""]
["Provision taxation","ProvisionTaxation",{"$f":"IF(OR(PL!D43=0,ISNUMBER(PL!D43)=FALSE),\"\",PL!D43)","v":""},{"$f":"IF(OR(PL!E43=0,ISNUMBER(PL!E43)=FALSE),\"\",PL!E43)","v":""},null,"","","","",null,"",null,914,"in-gaap","false","monetary","debit","duration","item","true","","This is a mandatory field.","INR","D2011","D2010",null,0,"M","",3,null,1,"Y","Y","Y","N","<in-gaap:ProvisionTaxation unitRef=\"INR\" contextRef=\"D2011\" decimals=\"0\" >0</in-gaap:ProvisionTaxation>","<in-gaap:ProvisionTaxation unitRef=\"INR\" contextRef=\"D2010\" decimals=\"0\" >0</in-gaap:ProvisionTaxation>","",0,0,0,null,0,0,0,"Provision taxation",null,0,"","","",0,"","","",0,"","",""]
["Tax effect discontinuing operations","TaxEffectDiscontinuingOperations",{"$f":"IF(OR(PL!D44=0,ISNUMBER(PL!D44)=FALSE),\"\",PL!D44)","v":""},{"$f":"IF(OR(PL!E44=0,ISNUMBER(PL!E44)=FALSE),\"\",PL!E44)","v":""},null,"","","","",null,"",null,921,"in-gaap","false","monetary","","duration","item","true","",0,"INR","D2011","D2010",null,0,null,"",4,null,1,"Y","N","N","N","","","",0,0,0,null,0,0,0,"Tax effect discontinuing operations",null,0,"","","",0,"","","",0,"","",""]
["Net profit loss before minority interest share joint venture","NetProfitLossbeforeMinorityInterestShareJointVenture",{"$f":"IF(OR(PL!D45=0,ISNUMBER(PL!D45)=FALSE),\"\",PL!D45)","v":""},{"$f":"IF(OR(PL!E45=0,ISNUMBER(PL!E45)=FALSE),\"\",PL!E45)","v":""},null,"","","","",null,"",null,{"$f":"VLOOKUP(B36,XBRLBusinessRules,2,FALSE)","v":899},{"$f":"VLOOKUP(B36,XBRLBusinessRules,3,FALSE)","v":"in-gaap"},{"$f":"VLOOKUP(B36,XBRLBusinessRules,4,FALSE)","v":"false"},{"$f":"VLOOKUP(B36,XBRLBusinessRules,5,FALSE)","v":"monetary"},{"$f":"VLOOKUP(B36,XBRLBusinessRules,6,FALSE)","v":"credit"},{"$f":"VLOOKUP(B36,XBRLBusinessRules,7,FALSE)","v":"duration"},{"$f":"VLOOKUP(B36,XBRLBusinessRules,8,FALSE)","v":"item"},{"$f":"VLOOKUP(B36,XBRLBusinessRules,9,FALSE)","v":"true"},{"$f":"VLOOKUP(B36,XBRLBusinessRules,10,FALSE)","v":""},{"$f":"VLOOKUP(B36,XBRLBusinessRules,11,FALSE)","v":0},"INR",{"$f":"UPPER(LEFT(R36,1))&CYEND","v":"D2011"},{"$f":"UPPER(LEFT(R36,1))&PYEND","v":"D2010"},null,0,null,{"$f":"IF(V36=\"This can be entered only in case of Consolidated instance document\",\"C\",\"\")","v":""},{"$f":"COUNTIF(TagNamePL,\"=\"&B36)","v":2},null,{"$f":"AD36-COUNTIFS(TagNamePL,B36,TagPLD,\"D\")","v":1},{"$f":"IF(OR(O36=\"true\",AE36=\"D\"),\"N\",\"Y\")","v":"Y"},{"$f":"IF(OR(AND(C36=\"\",D36=\"\",(AB36=\"M\")=FALSE),AG36=\"N\"),\"N\",\"Y\")","v":"N"},{"$f":"IF(OR(AND(C36=\"\",D36=\"\",(AB36=\"M\")=FALSE),AG36=\"N\"),\"N\",\"Y\")","v":"N"},"N","","","",0,0,0,null,0,0,{"$f":"IF(AF36=1,0,1)","v":0},"Net profit loss before minority interest share joint venture",null,0,"","","",0,"","","",0,"","",""]
["Share earnings associates joint ventures [abstract]","ShareEarningsAssociatesJointVenturesAbstract",{"$nulls":3},"","","","",null,"",null,1394,"in-gaap","true","string","","duration","item","true","",0,"","D2011","D2010",{"$nulls":3},"C",2,null,1,{"$f":"IF(OR(O37=\"true\",AE37=\"D\",AND(CONSOLCHECK=\"C\",AC37=\"C\")),\"N\",\"Y\")","v":"N"},"N","N","N","","","",0,0,0,null,0,0,0,"",null,0,"","","",0,"","","",0,"","",""]
["Share earnings associates","ShareEarningsAssociates",{"$f":"IF(OR(PL!D46=0,ISNUMBER(PL!D46)=FALSE),\"\",PL!D46)","v":""},{"$f":"IF(OR(PL!E46=0,ISNUMBER(PL!E46)=FALSE),\"\",PL!E46)","v":""},null,"",{"$f":"IF(AH38=\"Y\",IF(VLOOKUP(A38,PLFN0,4,FALSE)=0,\"\",VLOOKUP(A38,PLFN0,4,FALSE)),\"\")","v":""},"",{"$f":"IF(AI38=\"Y\",IF(VLOOKUP(A38,PLFN0,5,FALSE)=0,\"\",VLOOKUP(A38,PLFN0,5,FALSE)),\"\")","v":""},null,"",null,931,"in-gaap","false","monetary","credit","duration","item","true","",0,"INR","D2011","D2010",null,{"$f":"decimals","v":0},null,"C",2,null,1,{"$f":"IF(CONSOLCHECK=\"C\",IF(OR(O38=\"true\",AE38=\"D\"),\"N\",\"Y\"),\"N\")","v":"N"},"N","N","N","","","",0,0,0,null,0,0,0,"",null,0,"","","",0,"","","",0,"","",""]
["Share earnings joint ventures","ShareEarningsJointVentures",{"$f":"IF(OR(PL!D47=0,ISNUMBER(PL!D47)=FALSE),\"\",PL!D47)","v":""},{"$f":"IF(OR(PL!E47=0,ISNUMBER(PL!E47)=FALSE),\"\",PL!E47)","v":""},null,"","","","",null,"",null,932,"in-gaap","false","monetary","credit","duration","item","true","",0,"INR","D2011","D2010",null,0,null,"C",2,null,1,{"$f":"IF(CONSOLCHECK=\"C\",IF(OR(O39=\"true\",AE39=\"D\"),\"N\",\"Y\"),\"N\")","v":"N"},"N","N","N","","","",0,0,0,null,0,0,0,"",null,0,"","","",0,"","","",0,"","",""]
["Share earnings associates joint ventures","ShareEarningsAssociatesJointVentures",{"$f":"IF(OR(PL!D48=0,ISNUMBER(PL!D48)=FALSE),\"\",PL!D48)","v":""},{"$f":"IF(OR(PL!E48=0,ISNUMBER(PL!E48)=FALSE),\"\",PL!E48)","v":""},null,"","","","",null,"",null,930,"in-gaap","false","monetary","credit","duration","item","true","",0,"INR","D2011","D2010",null,0,null,"C",2,null,1,{"$f":"IF(CONSOLCHECK=\"C\",IF(OR(O40=\"true\",AE40=\"D\"),\"N\",\"Y\"),\"N\")","v":"N"},"N","N","N","","","",0,0,0,null,0,0,0,"",null,0,"","","",0,"","","",0,"","",""]
["Share minority interest profit loss","ShareMinorityInterestProfitLoss",{"$f":"IF(OR(PL!D49=0,ISNUMBER(PL!D49)=FALSE),\"\",PL!D49)","v":""},{"$f":"IF(OR(PL!E49=0,ISNUMBER(PL!E49)=FALSE),\"\",PL!E49)","v":""},null,"","","","",null,"",null,933,"in-gaap","false","monetary","debit","duration","item","true","",0,"INR","D2011","D2010",null,0,null,"C",2,null,1,{"$f":"IF(CONSOLCHECK=\"C\",IF(OR(O41=\"true\",AE41=\"D\"),\"N\",\"Y\"),\"N\")","v":"N"},"N","N","N","","","",0,0,0,null,0,0,0,"",null,0,"","","",0,"","","",0,"","",""]
["Adjustments related merger acquisitions","AdjustmentsRelatedMergerAcquisitions",{"$f":"IF(OR(PL!D50=0,ISNUMBER(PL!D50)=FALSE),\"\",PL!D50)","v":""},{"$f":"IF(OR(PL!E50=0,ISNUMBER(PL!E50)=FALSE),\"\",PL!E50)","v":""},null,"","","","",null,"",null,934,"in-gaap","false","monetary","","duration","item","true","",0,"INR","D2011","D2010",null,0,null,"",2,null,1,"Y","N","N","N","","","",0,0,0,null,0,0,0,"Adjustments related merger acquisitions",null,0,"","","",0,"","","",0,"","",""]
["Net profit loss","NetProfitLoss",{"$f":"IF(OR(PL!D51=0,ISNUMBER(PL!D51)=FALSE),\"\",PL!D51)","v":""},{"$f":"IF(OR(PL!E51=0,ISNUMBER(PL!E51)=FALSE),\"\",PL!E51)","v":""},null,"","","","",null,"",null,898,"in-gaap","false","monetary","credit","duration","item","true","","This is a mandatory field.","INR","D2011","D2010",null,0,"M","",2,null,1,"Y","Y","Y","N","<in-gaap:NetProfitLoss unitRef=\"INR\" contextRef=\"D2011\" decimals=\"0\" >0</in-gaap:NetProfitLoss>","<in-gaap:NetProfitLoss unitRef=\"INR\" contextRef=\"D2010\" decimals=\"0\" >0</in-gaap:NetProfitLoss>","",0,0,0,null,0,0,0,"Net profit loss",null,0,"","","",0,"","","",0,"","",""]
["Amounts transferred reserves","AmountsTransferredReserves",{"$f":"IF(OR(PL!D52=0,ISNUMBER(PL!D52)=FALSE),\"\",PL!D52)","v":""},{"$f":"IF(OR(PL!E52=0,ISNUMBER(PL!E52)=FALSE),\"\",PL!E52)","v":""},null,"","","","",null,"",null,1277,"in-gaap","false","monetary","credit","duration","item","true","",0,"INR","D2011","D2010",null,0,null,"",3,null,1,"Y","N","N","N","","","",0,0,0,null,0,0,0,"Amounts transferred reserves",null,0,"","","",0,"","","",0,"","",""]
["Profit (Loss) Brought Forward","ProfitLossBalance",{"$f":"IF(OR(PL!D53=0,ISNUMBER(PL!D53)=FALSE),\"\",PL!D53)","v":""},{"$f":"IF(OR(PL!E53=0,ISNUMBER(PL!E53)=FALSE),\"\",PL!E53)","v":""},null,"","","","",null,"",null,1320,"in-gaap","false","monetary","credit","instant","item","true","","This is a mandatory field.","INR","I2011","I2010",null,0,"M","",4,"D",1,"N","N","N","N","","","",0,0,0,null,0,0,0,"",null,0,"","","",0,"","","",0,"","",""]
["Amount available appropriations","AmountAvailableAppropriations",{"$f":"IF(OR(PL!D54=0,ISNUMBER(PL!D54)=FALSE),\"\",PL!D54)","v":""},{"$f":"IF(OR(PL!E54=0,ISNUMBER(PL!E54)=FALSE),\"\",PL!E54)","v":""},null,"","","","",null,"",null,1319,"in-gaap","false","monetary","credit","duration","item","true","",0,"INR","D2011","D2010",null,0,null,"",2,null,1,"Y","N","N","N","","","",0,0,0,null,0,0,0,"Amount available appropriations",null,0,"","","",0,"","","",0,"","",""]
["Appropriations","Appropriations",{"$f":"IF(OR(PL!D55=0,ISNUMBER(PL!D55)=FALSE),\"\",PL!D55)","v":""},{"$f":"IF(OR(PL!E55=0,ISNUMBER(PL!E55)=FALSE),\"\",PL!E55)","v":""},null,"","","","",null,"",null,1261,"in-gaap","false","monetary","debit","duration","item","true","",0,"INR","D2011","D2010",null,0,null,"",3,null,1,"Y","N","N","N","","","",0,0,0,null,0,0,0,"Appropriations",null,0,"","","",0,"","","",0,"","",""]
["Profit (Loss) Carried to Balance Sheet","ProfitLossBalance",{"$f":"IF(OR(PL!D56=0,ISNUMBER(PL!D56)=FALSE),\"\",PL!D56)","v":""},{"$f":"IF(OR(PL!E56=0,ISNUMBER(PL!E56)=FALSE),\"\",PL!E56)","v":""},{"$f":"D45","v":""},"","","","",null,"",{"$f":"IF(AJ48=\"Y\",IF(PL!F156<>\"\",PL!F156,\"\"),\"\")","v":""},1320,"in-gaap","false","monetary","credit","instant","item","true","","This is a mandatory field.","INR","I2011","I2010",{"$f":"UPPER(LEFT(R48,1))&PYEND2","v":"I2009"},0,"M","",4,null,1,"Y","Y","Y","Y","<in-gaap:ProfitLossBalance unitRef=\"INR\" contextRef=\"I2011\" decimals=\"0\" >0</in-gaap:ProfitLossBalance>","<in-gaap:ProfitLossBalance unitRef=\"INR\" contextRef=\"I2010\" decimals=\"0\" >0</in-gaap:ProfitLossBalance>","<in-gaap:ProfitLossBalance unitRef=\"INR\" contextRef=\"I2009\" decimals=\"0\" >0</in-gaap:ProfitLossBalance>",0,0,0,null,0,0,0,"Profit (Loss) Carried to Balance Sheet",null,0,"","","",0,"","","",0,"","",""]
["Basic earnings per share [abstract]","BasicEarningsPerShareAbstract",{"$nulls":3},"","","","",null,"",null,2347,"in-gaap","true","string","","duration","item","true","",0,"","D2011","D2010",{"$nulls":3},"",2,null,1,"N","N","N","N","","","",0,0,0,null,0,0,0,"",null,0,"","","",0,"","","",0,"","",""]
["Basic earnings per share before extraordinary items","BasicEarningsPerSharebeforeExtraordinaryItems",{"$f":"IF(OR(PL!D57=0,ISNUMBER(PL!D57)=FALSE),\"\",ROUND(PL!D57,2))","v":""},{"$f":"IF(OR(PL!E57=0,ISNUMBER(PL!E57)=FALSE),\"\",ROUND(PL!E57,2))","v":""},null,{"$f":"IF(AND(AH50=\"Y\",G50<>\"\"),\"PL\"&AN50,\"\")","v":""},"",{"$f":"IF(AND(AI50=\"Y\",I50<>\"\"),\"PL\"&AO50,\"\")","v":""},"",null,{"$f":"IF(AND(AJ50=\"Y\",L50<>\"\"),\"PL\"&AP50,\"\")","v":""},null,936,"in-gaap","false","num:perShare","","duration","item","true",2,0,"INRperShare","D2011","D2010",null,2,"M","",2,null,1,"Y","Y","Y","N","<in-gaap:BasicEarningsPerSharebeforeExtraordinaryItems unitRef=\"INRperShare\" contextRef=\"D2011\" decimals=\"0\" >0</in-gaap:BasicEarningsPerSharebeforeExtraordinaryItems>","<in-gaap:BasicEarningsPerSharebeforeExtraordinaryItems unitRef=\"INRperShare\" contextRef=\"D2010\" decimals=\"0\" >0</in-gaap:BasicEarningsPerSharebeforeExtraordinaryItems>","",0,0,0,null,0,0,0,"Basic earnings per share before extraordinary items",null,0,"","","",0,"","","",0,"","",""]
["Extraordinary adjustment basic earnings per share","ExtraordinaryAdjustmentBasicEarningsPerShare",{"$f":"IF(OR(PL!D58=0,ISNUMBER(PL!D58)=FALSE),\"\",ROUND(PL!D58,2))","v":""},{"$f":"IF(OR(PL!E58=0,ISNUMBER(PL!E58)=FALSE),\"\",ROUND(PL!E58,2))","v":""},null,"","","","",{"$nulls":3},937,"in-gaap","false","num:perShare","","duration","item","true",2,0,"INRperShare","D2011","D2010",null,2,null,"",2,null,1,"Y","N","N","N","","","",0,0,0,null,0,0,0,"Extraordinary adjustment basic earnings per share",null,0,"","","",0,"","","",0,"","",""]
["Basic earnings per share","BasicEarningsPerShare",{"$f":"IF(OR(PL!D59=0,ISNUMBER(PL!D59)=FALSE),\"\",ROUND(PL!D59,2))","v":""},{"$f":"IF(OR(PL!E59=0,ISNUMBER(PL!E59)=FALSE),\"\",ROUND(PL!E59,2))","v":""},null,"","","","",{"$nulls":3},935,"in-gaap","false","num:perShare","","duration","item","true",2,0,"INRperShare","D2011","D2010",null,2,null,"",2,null,1,"Y","N","N","N","","","",0,0,0,null,0,0,0,"Basic earnings per share",null,0,"","","",0,"","","",0,"","",""]
["Diluted earnings per share [abstract]","DilutedEarningsPerShareAbstract",{"$nulls":3},"","","","",{"$nulls":3},1400,"in-gaap","true","string","","duration","item","true","",0,{"$f":"IF(P53=\"monetary\",\"INR\",\"\")","v":""},"D2011","D2010",{"$nulls":3},"",2,null,1,"N","N","N","N","","","",0,0,0,null,0,0,0,"",null,0,"","","",0,"","","",0,"","",""]
["Diluted earnings per share before extraordinary items","DilutedEarningsPerSharebeforeExtraordinaryItems",{"$f":"IF(OR(PL!D60=0,ISNUMBER(PL!D60)=FALSE),\"\",ROUND(PL!D60,2))","v":""},{"$f":"IF(OR(PL!E60=0,ISNUMBER(PL!E60)=FALSE),\"\",ROUND(PL!E60,2))","v":""},null,"","","","",{"$nulls":3},939,"in-gaap","false","num:perShare","","duration","item","true",2,0,"INRperShare","D2011","D2010",null,2,null,"",2,null,1,"Y","N","N","N","","","",0,0,0,null,0,0,0,"Diluted earnings per share before extraordinary items",null,0,"","","",0,"","","",0,"","",""]
["Extraordinary adjustment diluted earnings per share","ExtraordinaryAdjustmentDilutedEarningsPerShare",{"$f":"IF(OR(PL!D61=0,ISNUMBER(PL!D61)=FALSE),\"\",ROUND(PL!D61,2))","v":""},{"$f":"IF(OR(PL!E61=0,ISNUMBER(PL!E61)=FALSE),\"\",ROUND(PL!E61,2))","v":""},null,"","","","",{"$nulls":3},940,"in-gaap","false","num:perShare","","duration","item","true",2,0,"INRperShare","D2011","D2010",null,2,null,"",2,null,1,"Y","N","N","N","","","",0,0,0,null,0,0,0,"Extraordinary adjustment diluted earnings per share",null,0,"","","",0,"","","",0,"","",""]
["Diluted earnings per share","DilutedEarningsPerShare",{"$f":"IF(OR(PL!D62=0,ISNUMBER(PL!D62)=FALSE),\"\",ROUND(PL!D62,2))","v":""},{"$f":"IF(OR(PL!E62=0,ISNUMBER(PL!E62)=FALSE),\"\",ROUND(PL!E62,2))","v":""},null,"","","","",{"$nulls":3},938,"in-gaap","false","num:perShare","","duration","item","true",2,0,"INRperShare","D2011","D2010",null,2,null,"",2,null,1,"Y","N","N","N","","","",0,0,0,null,0,0,0,"Diluted earnings per share",null,0,"","","",0,"","","",0,"","",""]
["Average number shares for earnings per share [abstract]","AverageNumberSharesForEarningsPerShareAbstract",{"$nulls":3},"","","","",{"$nulls":3},1401,"in-gaap","true","string","","duration","item","true","",0,{"$f":"IF(P57=\"monetary\",\"INR\",\"\")","v":""},"D2011","D2010",{"$nulls":3},"",2,null,1,"N","N","N","N","","","",0,0,0,null,0,0,0,"",null,0,"","","",0,"","","",0,"","",""]
["Average number shares for basic earnings per share","AverageNumberSharesforBasicEarningsPerShare",{"$f":"IF(OR(PL!D63=0,ISNUMBER(PL!D63)=FALSE),\"\",PL!D63)","v":""},{"$f":"IF(OR(PL!E63=0,ISNUMBER(PL!E63)=FALSE),\"\",PL!E63)","v":""},null,"","","","",{"$nulls":3},1300,"in-gaap","false","shares","","duration","item","true",0,"Should be greater than or equal to zero","Shares","D2011","D2010",null,0,"M","",2,null,1,"Y","Y","Y","N","<in-gaap:AverageNumberSharesforBasicEarningsPerShare unitRef=\"Shares\" contextRef=\"D2011\" decimals=\"0\" >0</in-gaap:AverageNumberSharesforBasicEarningsPerShare>","<in-gaap:AverageNumberSharesforBasicEarningsPerShare unitRef=\"Shares\" contextRef=\"D2010\" decimals=\"0\" >0</in-gaap:AverageNumberSharesforBasicEarningsPerShare>","",0,0,0,"P",0,0,0,"Average number shares for basic earnings per share",null,0,"","","",0,"","","",0,"","",""]
["Adjustment average number shares","AdjustmentAverageNumberShares",{"$f":"IF(OR(PL!D64=0,ISNUMBER(PL!D64)=FALSE),\"\",PL!D64)","v":""},{"$f":"IF(OR(PL!E64=0,ISNUMBER(PL!E64)=FALSE),\"\",PL!E64)","v":""},null,"","","","",{"$nulls":3},1301,"in-gaap","false","shares","","duration","item","true",0,"Should be greater than or equal to zero","Shares","D2011","D2010",null,0,"M","",2,null,1,"Y","Y","Y","N","<in-gaap:AdjustmentAverageNumberShares unitRef=\"Shares\" contextRef=\"D2011\" decimals=\"0\" >0</in-gaap:AdjustmentAverageNumberShares>","<in-gaap:AdjustmentAverageNumberShares unitRef=\"Shares\" contextRef=\"D2010\" decimals=\"0\" >0</in-gaap:AdjustmentAverageNumberShares>","",0,0,0,"P",0,0,0,"Adjustment average number shares",null,0,"","","",0,"","","",0,"","",""]
["Average number shares for diluted earnings per share","AverageNumberSharesforDilutedEarningsPerShare",{"$f":"IF(OR(PL!D65=0,ISNUMBER(PL!D65)=FALSE),\"\",PL!D65)","v":""},{"$f":"IF(OR(PL!E65=0,ISNUMBER(PL!E65)=FALSE),\"\",PL!E65)","v":""},null,"","","","",{"$nulls":3},1299,"in-gaap","false","shares","","duration","item","true",0,"Should be greater than or equal to zero","Shares","D2011","D2010",null,0,"M","",2,null,1,"Y","Y","Y","N","<in-gaap:AverageNumberSharesforDilutedEarningsPerShare unitRef=\"Shares\" contextRef=\"D2011\" decimals=\"0\" >0</in-gaap:AverageNumberSharesforDilutedEarningsPerShare>","<in-gaap:AverageNumberSharesforDilutedEarningsPerShare unitRef=\"Shares\" contextRef=\"D2010\" decimals=\"0\" >0</in-gaap:AverageNumberSharesforDilutedEarningsPerShare>","",0,0,0,"P",0,0,0,"Average number shares for diluted earnings per share",null,0,"","","",0,"","","",0,"","",""]
["[200010] Income Statement [Alternative]","IncomeStatementAlternative"]
["Income statement - alternative [abstract]","IncomeStatementAlternativeAbstract",{"$nulls":3},{"$f":"IF(AND(AH62=\"Y\",G62<>\"\"),\"PL\"&AN62,\"\")","v":""},null,{"$f":"IF(AND(AI62=\"Y\",I62<>\"\"),\"PL\"&AO62,\"\")","v":""},null,null,{"$f":"IF(AND(AJ62=\"Y\",L62<>\"\"),\"PL\"&AP62,\"\")","v":""},null,{"$f":"VLOOKUP(B62,XBRLBusinessRules,2,FALSE)","v":1402},{"$f":"VLOOKUP(B62,XBRLBusinessRules,3,FALSE)","v":"in-gaap"},{"$f":"VLOOKUP(B62,XBRLBusinessRules,4,FALSE)","v":"true"},{"$f":"VLOOKUP(B62,XBRLBusinessRules,5,FALSE)","v":"string"},{"$f":"VLOOKUP(B62,XBRLBusinessRules,6,FALSE)","v":""},{"$f":"VLOOKUP(B62,XBRLBusinessRules,7,FALSE)","v":"duration"},{"$f":"VLOOKUP(B62,XBRLBusinessRules,8,FALSE)","v":"item"},{"$f":"VLOOKUP(B62,XBRLBusinessRules,9,FALSE)","v":"true"},{"$f":"VLOOKUP(B62,XBRLBusinessRules,10,FALSE)","v":""},{"$f":"VLOOKUP(B62,XBRLBusinessRules,11,FALSE)","v":"Income Statement Alternative shall be applicable in case Type of Income Statement is selected as Alternative. The mandatory fields within this will be validated if this type of income statement is applicable."},{"$f":"IF(P62=\"monetary\",\"INR\",\"\")","v":""},{"$f":"UPPER(LEFT(R62,1))&CYEND","v":"D2011"},{"$f":"UPPER(LEFT(R62,1))&PYEND","v":"D2010"},{"$nulls":3},{"$f":"IF(V62=\"This can be entered only in case of Consolidated instance document\",\"C\",\"\")","v":""},{"$f":"COUNTIF(TagNamePL,\"=\"&B62)","v":1},null,{"$f":"AD62-COUNTIFS(TagNamePL,B62,TagPLD,\"D\")","v":1},{"$f":"IF(OR(O62=\"true\",AE62=\"D\"),\"N\",\"Y\")","v":"N"},{"$f":"IF(OR(AND(C62=\"\",D62=\"\",(AB62=\"M\")=FALSE),AG62=\"N\"),\"N\",\"Y\")","v":"N"},{"$f":"IF(OR(AND(C62=\"\",D62=\"\",(AB62=\"M\")=FALSE),AG62=\"N\"),\"N\",\"Y\")","v":"N"},{"$f":"IF(AND(COUNTBLANK(X62:Z62)=0,AG62=\"Y\"),IF(OR(AB62=\"M\",E62<>\"\"),\"Y\",\"N\"),\"N\")","v":"N"},{"$f":"IF(AH62=\"Y\",(\"<\"&N62&\":\"&B62&\" \"&IF(F62=\"\",\"\",\"id=\"\"\"&\"TA\"&F62&\"\"\"\"&\" \")&IF(OR(P62=\"monetary\",W62<>\"\"),\"unitRef=\"\"\"&W62&\"\"\"\"&\" \",\"\")&IF(X62=\"\",\"\",\"contextRef=\"\"\"&X62&\"\"\"\"&\" \")&IF(OR(P62=\"monetary\",AA62<>\"\"),\"decimals=\"\"\"&decimals&\"\"\"\"&\" \",\"\")&\">\")&IF(C62=\"\",0,C62)&\"</\"&N62&\":\"&B62&\">\",\"\")","v":""},{"$f":"IF(AI62=\"Y\",(\"<\"&N62&\":\"&B62&\" \"&IF(H62=\"\",\"\",\"id=\"\"\"&\"TA\"&H62&\"\"\"\"&\" \")&IF(OR(P62=\"monetary\",W62<>\"\"),\"unitRef=\"\"\"&W62&\"\"\"\"&\" \",\"\")&IF(Y62=\"\",\"\",\"contextRef=\"\"\"&Y62&\"\"\"\"&\" \")&IF(OR(P62=\"monetary\",AA62<>\"\"),\"decimals=\"\"\"&decimals&\"\"\"\"&\" \",\"\")&\">\")&IF(D62=\"\",0,D62)&\"</\"&N62&\":\"&B62&\">\",\"\")","v":""},{"$f":"IF(AJ62=\"Y\",(\"<\"&N62&\":\"&B62&\" \"&IF(K62=\"\",\"\",\"id=\"\"\"&\"TA\"&K62&\"\"\"\"&\" \")&IF(OR(P62=\"monetary\",W62<>\"\"),\"unitRef=\"\"\"&W62&\"\"\"\"&\" \",\"\")&IF(Z62=\"\",\"\",\"contextRef=\"\"\"&Z62&\"\"\"\"&\" \")&IF(OR(P62=\"monetary\",AA62<>\"\"),\"decimals=\"\"\"&decimals&\"\"\"\"&\" \",\"\")&\">\")&IF(E62=\"\",0,E62)&\"</\"&N62&\":\"&B62&\">\",\"\")","v":""},{"$f":"IF(AND(AH62=\"Y\",G62<>\"\"),AP60+1,AP60)","v":0},0,0,null,0,0,{"$f":"IF(AF62=1,0,1)","v":0},"",null,0,"","","",0,"","","",0,"","",""]
["Gross profit [abstract]","GrossProfitAbstract",{"$nulls":3},"",null,"",null,null,"",null,1403,"in-gaap","true","string","","duration","item","true","",0,"","D2011","D2010",{"$nulls":3},"",1,null,1,"N","N","N","N","","","",{"$f":"IF(AND(AH63=\"Y\",G63<>\"\"),AP62+1,AP62)","v":0},{"$f":"IF(AND(AI63=\"Y\",I63<>\"\"),AN63+1,AN63)","v":0},{"$f":"IF(AND(AJ63=\"Y\",L63<>\"\"),AO63+1,AO63)","v":0},null,0,0,0,"",null,0,"","","",0,"","","",0,"","",""]
["Operating revenue, net","OperatingRevenueNet",{"$f":"IF(OR(PL!D70=0,ISNUMBER(PL!D70)=FALSE),\"\",PL!D70)","v":""},{"$f":"IF(OR(PL!E70=0,ISNUMBER(PL!E70)=FALSE),\"\",PL!E70)","v":""},null,"",{"$f":"IF(AH64=\"Y\",IF(VLOOKUP(A64,PLFN0,4,FALSE)=0,\"\",VLOOKUP(A64,PLFN0,4,FALSE)),\"\")","v":""},"",{"$f":"IF(AI64=\"Y\",IF(VLOOKUP(A64,PLFN0,5,FALSE)=0,\"\",VLOOKUP(A64,PLFN0,5,FALSE)),\"\")","v":""},null,"",null,943,"in-gaap","false","monetary","credit","duration","item","true","","This is a mandatory field.","INR","D2011","D2010",null,{"$f":"decimals","v":0},"M","",4,"D",1,"N","N","N","N","","","",{"$f":"IF(AND(AH64=\"Y\",G64<>\"\"),AP63+1,AP63)","v":0},{"$f":"IF(AND(AI64=\"Y\",I64<>\"\"),AN64+1,AN64)","v":0},{"$f":"IF(AND(AJ64=\"Y\",L64<>\"\"),AO64+1,AO64)","v":0},null,0,0,0,"",null,0,"","","",0,"","","",0,"","",""]
["Cost goods services [abstract]","CostGoodsServicesAbstract",{"$nulls":3},"","","","",null,"",null,1404,"in-gaap","true","string","","duration","item","true","",0,"","D2011","D2010",{"$nulls":3},"",1,null,1,"N","N","N","N","","","",0,0,0,null,0,0,0,"",null,0,"","","",0,"","","",0,"","",""]
["Consumption materials changes inventories","ConsumptionMaterialsChangesInventories",{"$f":"IF(OR(PL!D71=0,ISNUMBER(PL!D71)=FALSE),\"\",PL!D71)","v":""},{"$f":"IF(OR(PL!E71=0,ISNUMBER(PL!E71)=FALSE),\"\",PL!E71)","v":""},null,"","","","",null,"",null,1049,"in-gaap","false","monetary","debit","duration","item","true","","This is a mandatory field.","INR","D2011","D2010",null,{"$f":"decimals","v":0},"M","",3,"D",1,"N","N","N","N","","","",0,0,0,null,0,0,0,"",null,0,"","","",0,"","","",0,"","",""]
["Contract cost","ContractCost",{"$f":"IF(OR(PL!D72=0,ISNUMBER(PL!D72)=FALSE),\"\",PL!D72)","v":""},{"$f":"IF(OR(PL!E72=0,ISNUMBER(PL!E72)=FALSE),\"\",PL!E72)","v":""},null,"","","","",null,"",null,1063,"in-gaap","false","monetary","debit","duration","item","true","",0,"INR","D2011","D2010",null,0,null,"",3,"D",1,"N","N","N","N","","","",0,0,0,null,0,0,0,"",null,0,"","","",0,"","","",0,"","",""]
["Manufacturing service costs","ManufacturingServiceCosts",{"$f":"IF(OR(PL!D73=0,ISNUMBER(PL!D73)=FALSE),\"\",PL!D73)","v":""},{"$f":"IF(OR(PL!E73=0,ISNUMBER(PL!E73)=FALSE),\"\",PL!E73)","v":""},null,"","","","",null,"",null,1077,"in-gaap","false","monetary","debit","duration","item","true","","This is a mandatory field.","INR","D2011","D2010",null,0,"M","",3,"D",1,"N","N","N","N","","","",0,0,0,null,{"$f":"IF(AQ68=\"P\",IF(C68<0,1,0),0)","v":0},{"$f":"IF(AQ68=\"P\",IF(D68<0,1,0),0)","v":0},0,"",null,0,"","","",0,"","","",0,"","",""]
["Employee related expenses","EmployeeRelatedExpenses",{"$f":"IF(OR(PL!D74=0,ISNUMBER(PL!D74)=FALSE),\"\",PL!D74)","v":""},{"$f":"IF(OR(PL!E74=0,ISNUMBER(PL!E74)=FALSE),\"\",PL!E74)","v":""},null,"","","","",null,"",null,1108,"in-gaap","false","monetary","debit","duration","item","true","","This is a mandatory field.","INR","D2011","D2010",null,0,"M","",3,"D",1,"N","N","N","N","","","",0,0,0,null,0,0,0,"",null,0,"","","",0,"","","",0,"","",""]
["Cost goods services","CostGoodsServices",{"$f":"IF(OR(PL!D75=0,ISNUMBER(PL!D75)=FALSE),\"\",PL!D75)","v":""},{"$f":"IF(OR(PL!E75=0,ISNUMBER(PL!E75)=FALSE),\"\",PL!E75)","v":""},null,{"$f":"IF(AND(AH70=\"Y\",G70<>\"\"),\"PL\"&AN70,\"\")","v":""},{"$f":"IF(AH70=\"Y\",IF(VLOOKUP(A70,PLFN0,4,FALSE)=0,\"\",VLOOKUP(A70,PLFN0,4,FALSE)),\"\")","v":""},{"$f":"IF(AND(AI70=\"Y\",I70<>\"\"),\"PL\"&AO70,\"\")","v":""},"",null,{"$f":"IF(AND(AJ70=\"Y\",L70<>\"\"),\"PL\"&AP70,\"\")","v":""},null,942,"in-gaap","false","monetary","debit","duration","item","true","",0,"INR","D2011","D2010",null,0,null,"",1,null,1,{"$f":"IF(OR(INTYPCHECK=\"M\",O70=\"true\",AE70=\"D\"),\"N\",\"Y\")","v":"N"},"N","N","N","","","",0,0,0,null,0,0,0,"",null,0,"","","",0,"","","",0,"","",""]
["Gross profit","GrossProfit",{"$f":"IF(OR(PL!D76=0,ISNUMBER(PL!D76)=FALSE),\"\",PL!D76)","v":""},{"$f":"IF(OR(PL!E76=0,ISNUMBER(PL!E76)=FALSE),\"\",PL!E76)","v":""},null,"","","","",null,"",null,941,"in-gaap","false","monetary","credit","duration","item","true","","This is a mandatory field.","INR","D2011","D2010",null,0,"M","",1,null,1,{"$f":"IF(OR(INTYPCHECK=\"M\",O71=\"true\",AE71=\"D\"),\"N\",\"Y\")","v":"N"},"N","N","N","","","",0,0,0,null,0,0,0,{"$f":"IF(AG71=\"Y\",A71,\"\")","v":""},null,{"$f":"IF(F71<>\"\",\"1\",0)","v":0},{"$f":"IF(F71<>\"\",\"<link:loc xlink:href=\"&\"\"\"\"&\"#\"&\"TA\"&F71&\"\"\"\"&\" xlink:type=\"&\"\"\"\"&\"locator\"&\"\"\"\"&\" xlink:label=\"&\"\"\"\"&\"value\"&AN71&\"\"\"\"&\"/>\",\"\")","v":""},{"$f":"IF(F71<>\"\",\"<link:footnote xlink:role=\"&\"\"\"\"&\"http://www.xbrl.org/2003/role/footnote\"&\"\"\"\"&\" xml:lang=\"&\"\"\"\"&\"en\"&\"\"\"\"&\" xlink:type=\"&\"\"\"\"&\"resource\"&\"\"\"\"&\" xlink:label=\"&\"\"\"\"&\"footnote\"&AN71&\"\"\"\"&\">\"&G71&\"</link:footnote>\",\"\")","v":""},{"$f":"IF(F71<>\"\",\"<link:footnoteArc xlink:type=\"&\"\"\"\"&\"arc\"&\"\"\"\"&\" order=\"&\"\"\"\"&\"1.0\"&\"\"\"\"& \" xlink:to=\"&\"\"\"\"&\"footnote\"&AN71&\"\"\"\"& \" xlink:from=\"&\"\"\"\"&\"value\"&AN71&\"\"\"\"&\" xlink:arcrole=\"&\"\"\"\"&\"http://www.xbrl.org/2003/arcrole/fact-footnote\"&\"\"\"\"&\"/>\",\"\")","v":""},{"$f":"IF(H71<>\"\",\"1\",0)","v":0},{"$f":"IF(H71<>\"\",\"<link:loc xlink:href=\"&\"\"\"\"&\"#\"&\"TA\"&H71&\"\"\"\"&\" xlink:type=\"&\"\"\"\"&\"locator\"&\"\"\"\"&\" xlink:label=\"&\"\"\"\"&\"value\"&AO71&\"\"\"\"&\"/>\",\"\")","v":""},{"$f":"IF(H71<>\"\",\"<link:footnote xlink:role=\"&\"\"\"\"&\"http://www.xbrl.org/2003/role/footnote\"&\"\"\"\"&\" xml:lang=\"&\"\"\"\"&\"en\"&\"\"\"\"&\" xlink:type=\"&\"\"\"\"&\"resource\"&\"\"\"\"&\" xlink:label=\"&\"\"\"\"&\"footnote\"&AO71&\"\"\"\"&\">\"&I71&\"</link:footnote>\",\"\")","v":""},{"$f":"IF(H71<>\"\",\"<link:footnoteArc xlink:type=\"&\"\"\"\"&\"arc\"&\"\"\"\"&\" order=\"&\"\"\"\"&\"1.0\"&\"\"\"\"& \" xlink:to=\"&\"\"\"\"&\"footnote\"&AO71&\"\"\"\"& \" xlink:from=\"&\"\"\"\"&\"value\"&AO71&\"\"\"\"&\" xlink:arcrole=\"&\"\"\"\"&\"http://www.xbrl.org/2003/arcrole/fact-footnote\"&\"\"\"\"&\"/>\",\"\")","v":""},{"$f":"IF(K71<>\"\",\"1\",0)","v":0},{"$f":"IF(K71<>\"\",\"<link:loc xlink:href=\"&\"\"\"\"&\"#\"&\"TA\"&K71&\"\"\"\"&\" xlink:type=\"&\"\"\"\"&\"locator\"&\"\"\"\"&\" xlink:label=\"&\"\"\"\"&\"value\"&AP71&\"\"\"\"&\"/>\",\"\")","v":""},{"$f":"IF(K71<>\"\",\"<link:footnote xlink:role=\"&\"\"\"\"&\"http://www.xbrl.org/2003/role/footnote\"&\"\"\"\"&\" xml:lang=\"&\"\"\"\"&\"en\"&\"\"\"\"&\" xlink:type=\"&\"\"\"\"&\"resource\"&\"\"\"\"&\" xlink:label=\"&\"\"\"\"&\"footnote\"&AP71&\"\"\"\"&\">\"&L71&\"</link:footnote>\",\"\")","v":""},{"$f":"IF(K71<>\"\",\"<link:footnoteArc xlink:type=\"&\"\"\"\"&\"arc\"&\"\"\"\"&\" order=\"&\"\"\"\"&\"1.0\"&\"\"\"\"& \" xlink:to=\"&\"\"\"\"&\"footnote\"&AP71&\"\"\"\"& \" xlink:from=\"&\"\"\"\"&\"value\"&AP71&\"\"\"\"&\" xlink:arcrole=\"&\"\"\"\"&\"http://www.xbrl.org/2003/arcrole/fact-footnote\"&\"\"\"\"&\"/>\",\"\")","v":""}]
["Other income","OtherIncome",{"$f":"IF(OR(PL!D77=0,ISNUMBER(PL!D77)=FALSE),\"\",PL!D77)","v":""},{"$f":"IF(OR(PL!E77=0,ISNUMBER(PL!E77)=FALSE),\"\",PL!E77)","v":""},null,"","","","",null,"",null,994,"in-gaap","false","monetary","credit","duration","item","true","","This is a mandatory field.","INR","D2011","D2010",null,0,"M","",3,"D",1,"N","N","N","N","","","",0,0,0,null,0,0,0,"",null,0,"","","",0,"","","",0,"","",""]
["Administrative selling other expenses","AdministrativeSellingOtherExpenses",{"$f":"IF(OR(PL!D78=0,ISNUMBER(PL!D78)=FALSE),\"\",PL!D78)","v":""},{"$f":"IF(OR(PL!E78=0,ISNUMBER(PL!E78)=FALSE),\"\",PL!E78)","v":""},null,"","","","",null,"",null,1126,"in-gaap","false","monetary","debit","duration","item","true","","This is a mandatory field.","INR","D2011","D2010",null,0,"M","",3,"D",1,"N","N","N","N","","","",0,0,0,null,0,0,0,"",null,0,"","","",0,"","","",0,"","",""]
["Research development expenditure","ResearchDevelopmentExpenditure",{"$f":"IF(OR(PL!D79=0,ISNUMBER(PL!D79)=FALSE),\"\",PL!D79)","v":""},{"$f":"IF(OR(PL!E79=0,ISNUMBER(PL!E79)=FALSE),\"\",PL!E79)","v":""},null,"","","","",null,"",null,1217,"in-gaap","false","monetary","debit","duration","item","true","",0,"INR","D2011","D2010",null,0,null,"",3,"D",1,"N","N","N","N","","","",0,0,0,null,0,0,0,"",null,0,"","","",0,"","","",0,"","",""]
["Depreciation amortisation impairment","DepreciationAmortisationImpairment",{"$f":"IF(OR(PL!D80=0,ISNUMBER(PL!D80)=FALSE),\"\",PL!D80)","v":""},{"$f":"IF(OR(PL!E80=0,ISNUMBER(PL!E80)=FALSE),\"\",PL!E80)","v":""},null,"","","","",null,"",null,1225,"in-gaap","false","monetary","debit","duration","item","true","",0,"INR","D2011","D2010",null,0,null,"",3,"D",1,"N","N","N","N","","","",0,0,0,null,0,0,0,"",null,0,"","","",0,"","","",0,"","",""]
["Interest financial charges","InterestFinancialCharges",{"$f":"IF(OR(PL!D81=0,ISNUMBER(PL!D81)=FALSE),\"\",PL!D81)","v":""},{"$f":"IF(OR(PL!E81=0,ISNUMBER(PL!E81)=FALSE),\"\",PL!E81)","v":""},null,"","","","",null,"",null,1240,"in-gaap","false","monetary","debit","duration","item","true","","This is a mandatory field.","INR","D2011","D2010",null,0,"M","",3,"D",1,"N","N","N","N","","","",0,0,0,null,0,0,0,"",null,0,"","","",0,"","","",0,"","",""]
["Restructuring charges","RestructuringCharges",{"$f":"IF(OR(PL!D82=0,ISNUMBER(PL!D82)=FALSE),\"\",PL!D82)","v":""},{"$f":"IF(OR(PL!E82=0,ISNUMBER(PL!E82)=FALSE),\"\",PL!E82)","v":""},null,"","","","",null,"",null,905,"in-gaap","false","monetary","debit","duration","item","true","",0,"INR","D2011","D2010",null,0,null,"",2,"D",1,"N","N","N","N","","","",0,0,0,null,0,0,0,"",null,0,"","","",0,"","","",0,"","",""]
["Reversal restructuring charges","ReversalRestructuringCharges",{"$f":"IF(OR(PL!D83=0,ISNUMBER(PL!D83)=FALSE),\"\",PL!D83)","v":""},{"$f":"IF(OR(PL!E83=0,ISNUMBER(PL!E83)=FALSE),\"\",PL!E83)","v":""},null,"","","","",null,"",null,906,"in-gaap","false","monetary","credit","duration","item","true","",0,"INR","D2011","D2010",null,0,null,"",2,"D",1,"N","N","N","N","","","",0,0,0,null,0,0,0,"",null,0,"","","",0,"","","",0,"","",""]
["Exceptional income expense, net","ExceptionalIncomeExpenseNet",{"$f":"IF(OR(PL!D84=0,ISNUMBER(PL!D84)=FALSE),\"\",PL!D84)","v":""},{"$f":"IF(OR(PL!E84=0,ISNUMBER(PL!E84)=FALSE),\"\",PL!E84)","v":""},null,"","","","",null,"",null,907,"in-gaap","false","monetary","credit","duration","item","true","",0,"INR","D2011","D2010",null,0,null,"",3,"D",1,"N","N","N","N","","","",0,0,0,null,0,0,0,"",null,0,"","","",0,"","","",0,"","",""]
["Net profit loss continuing operations","NetProfitLossContinuingOperations",{"$f":"IF(OR(PL!D85=0,ISNUMBER(PL!D85)=FALSE),\"\",PL!D85)","v":""},{"$f":"IF(OR(PL!E85=0,ISNUMBER(PL!E85)=FALSE),\"\",PL!E85)","v":""},null,"","","","",null,"",null,901,"in-gaap","false","monetary","credit","duration","item","true","",0,"INR","D2011","D2010",null,0,null,"",2,"D",1,"N","N","N","N","","","",0,0,0,null,0,0,0,"",null,0,"","","",0,"","","",0,"","",""]
["Income loss discontinuing operations [abstract]","IncomeLossDiscontinuingOperationsAbstract",{"$nulls":3},"","","","",null,"",null,1390,"in-gaap","true","string","","duration","item","true","",0,"","D2011","D2010",{"$nulls":3},"",3,"D",1,"N","N","N","N","","","",0,0,0,null,0,0,0,"",null,0,"","","",0,"","","",0,"","",""]
["Revenues related discontinuing operations","RevenuesRelatedDiscontinuingOperations",{"$f":"IF(OR(PL!D86=0,ISNUMBER(PL!D86)=FALSE),\"\",PL!D86)","v":""},{"$f":"IF(OR(PL!E86=0,ISNUMBER(PL!E86)=FALSE),\"\",PL!E86)","v":""},null,{"$f":"IF(AND(AH82=\"Y\",G82<>\"\"),\"PL\"&AN82,\"\")","v":""},{"$f":"IF(AH82=\"Y\",IF(VLOOKUP(A82,PLFN0,4,FALSE)=0,\"\",VLOOKUP(A82,PLFN0,4,FALSE)),\"\")","v":""},{"$f":"IF(AND(AI82=\"Y\",I82<>\"\"),\"PL\"&AO82,\"\")","v":""},"",null,{"$f":"IF(AND(AJ82=\"Y\",L82<>\"\"),\"PL\"&AP82,\"\")","v":""},null,911,"in-gaap","false","monetary","credit","duration","item","true","",0,"INR","D2011","D2010",null,{"$f":"decimals","v":0},null,"",3,"D",1,"N","N","N","N","","","",0,0,0,null,0,0,0,"",null,0,"","","",0,"","","",0,"","",""]
["Expenses related discontinuing operations","ExpensesRelatedDiscontinuingOperations",{"$f":"IF(OR(PL!D87=0,ISNUMBER(PL!D87)=FALSE),\"\",PL!D87)","v":""},{"$f":"IF(OR(PL!E87=0,ISNUMBER(PL!E87)=FALSE),\"\",PL!E87)","v":""},null,"","","","",null,"",null,912,"in-gaap","false","monetary","debit","duration","item","true","",0,"INR","D2011","D2010",null,0,null,"",3,"D",1,"N","N","N","N","","","",0,0,0,null,0,0,0,"",null,0,"","","",0,"","","",0,"","",""]
["Income loss discontinuing operations","IncomeLossDiscontinuingOperations",{"$f":"IF(OR(PL!D88=0,ISNUMBER(PL!D88)=FALSE),\"\",PL!D88)","v":""},{"$f":"IF(OR(PL!E88=0,ISNUMBER(PL!E88)=FALSE),\"\",PL!E88)","v":""},null,"","","","",null,"",null,910,"in-gaap","false","monetary","","duration","item","true","",0,"INR","D2011","D2010",null,0,null,"",3,"D",1,"N","N","N","N","","","",0,0,0,null,0,0,0,"",null,0,"","","",0,"","","",0,"","",""]
["Income loss disposal sale discontinuing operations","IncomeLossDisposalSaleDiscontinuingOperations",{"$f":"IF(OR(PL!D89=0,ISNUMBER(PL!D89)=FALSE),\"\",PL!D89)","v":""},{"$f":"IF(OR(PL!E89=0,ISNUMBER(PL!E89)=FALSE),\"\",PL!E89)","v":""},null,"","","","",null,"",null,913,"in-gaap","false","monetary","","duration","item","true","",0,"INR","D2011","D2010",null,0,null,"",3,"D",1,"N","N","N","N","","","",0,0,0,null,0,0,0,"",null,0,"","","",0,"","","",0,"","",""]
["Net profit (loss) before tax, prior period and extraordinary items","NetProfitLossbeforeTaxPriorPeriodAndExtraordinaryItems",{"$f":"IF(OR(PL!D90=0,ISNUMBER(PL!D90)=FALSE),\"\",PL!D90)","v":""},{"$f":"IF(OR(PL!E90=0,ISNUMBER(PL!E90)=FALSE),\"\",PL!E90)","v":""},null,"","","","",null,"",null,3025,"in-gaap","false","monetary","","duration","item","true","",0,"INR","D2011","D2010",null,0,"M","",2,"D",1,"N","N","N","N","","","",0,0,0,null,0,0,0,"",null,0,"","","",0,"","","",0,"","",""]
["Extraordinary items before tax","ExtraordinaryItemsBeforeTax",{"$f":"IF(OR(PL!D91=0,ISNUMBER(PL!D91)=FALSE),\"\",PL!D91)","v":""},{"$f":"IF(OR(PL!E91=0,ISNUMBER(PL!E91)=FALSE),\"\",PL!E91)","v":""},null,"","","","",null,"",null,3030,"in-gaap","false","monetary","","duration","item","true","",0,"INR","D2011","D2010",null,0,"M","",3,"D",1,"N","N","N","N","","","",0,0,0,null,0,0,0,"",null,0,"","","",0,"","","",0,"","",""]
["Prior period items before tax","PriorPeriodItemsBeforeTax",{"$f":"IF(OR(PL!D92=0,ISNUMBER(PL!D92)=FALSE),\"\",PL!D92)","v":""},{"$f":"IF(OR(PL!E92=0,ISNUMBER(PL!E92)=FALSE),\"\",PL!E92)","v":""},null,"","","","",null,"",null,3031,"in-gaap","false","monetary","","duration","item","true","",0,"INR","D2011","D2010",null,0,null,"",3,"D",1,"N","N","N","N","","","",0,0,0,null,0,0,0,"",null,0,"","","",0,"","","",0,"","",""]
["Net profit loss before tax","NetProfitLossbeforeTax",{"$f":"IF(OR(PL!D93=0,ISNUMBER(PL!D93)=FALSE),\"\",PL!D93)","v":""},{"$f":"IF(OR(PL!E93=0,ISNUMBER(PL!E93)=FALSE),\"\",PL!E93)","v":""},null,"","","","",null,"",null,900,"in-gaap","false","monetary","credit","duration","item","true","","This is a mandatory field.","INR","D2011","D2010",null,0,null,"",2,"D",1,"N","N","N","N","","","",0,0,0,null,0,0,0,"",null,0,"","","",0,"","","",0,"","",""]
["Provision taxation","ProvisionTaxation",{"$f":"IF(OR(PL!D94=0,ISNUMBER(PL!D94)=FALSE),\"\",PL!D94)","v":""},{"$f":"IF(OR(PL!E94=0,ISNUMBER(PL!E94)=FALSE),\"\",PL!E94)","v":""},null,"","","","",null,"",null,914,"in-gaap","false","monetary","debit","duration","item","true","","This is a mandatory field.","INR","D2011","D2010",null,0,null,"",3,"D",1,"N","N","N","N","","","",0,0,0,null,0,0,0,"",null,0,"","","",0,"","","",0,"","",""]
["Tax effect discontinuing operations","TaxEffectDiscontinuingOperations",{"$f":"IF(OR(PL!D95=0,ISNUMBER(PL!D95)=FALSE),\"\",PL!D95)","v":""},{"$f":"IF(OR(PL!E95=0,ISNUMBER(PL!E95)=FALSE),\"\",PL!E95)","v":""},null,"","","","",null,"",null,921,"in-gaap","false","monetary","","duration","item","true","",0,"INR","D2011","D2010",null,0,null,"",4,"D",1,"N","N","N","N","","","",0,0,0,null,0,0,0,"",null,0,"","","",0,"","","",0,"","",""]
["Net profit loss before minority interest share joint venture","NetProfitLossbeforeMinorityInterestShareJointVenture",{"$f":"IF(OR(PL!D96=0,ISNUMBER(PL!D96)=FALSE),\"\",PL!D96)","v":""},{"$f":"IF(OR(PL!E96=0,ISNUMBER(PL!E96)=FALSE),\"\",PL!E96)","v":""},null,"","","","",null,"",null,899,"in-gaap","false","monetary","credit","duration","item","true","",0,"INR","D2011","D2010",null,0,null,"",2,"D",1,"N","N","N","N","","","",0,0,0,null,0,0,0,"",null,0,"","","",0,"","","",0,"","",""]
["Share earnings associates joint ventures [abstract]","ShareEarningsAssociatesJointVenturesAbstract",{"$nulls":3},"","","","",null,"",null,1394,"in-gaap","true","string","","duration","item","true","",0,"","D2011","D2010",{"$nulls":3},"C",2,"D",1,{"$f":"IF(OR(O93=\"true\",AE93=\"D\",AND(CONSOLCHECK=\"C\",AC93=\"C\")),\"N\",\"Y\")","v":"N"},"N","N","N","","","",0,0,0,null,0,0,0,"",null,0,"","","",0,"","","",0,"","",""]
["Share earnings associates","ShareEarningsAssociates",{"$f":"IF(OR(PL!D97=0,ISNUMBER(PL!D97)=FALSE),\"\",PL!D97)","v":""},{"$f":"IF(OR(PL!E97=0,ISNUMBER(PL!E97)=FALSE),\"\",PL!E97)","v":""},null,"","","","",null,"",null,{"$f":"VLOOKUP(B94,XBRLBusinessRules,2,FALSE)","v":931},{"$f":"VLOOKUP(B94,XBRLBusinessRules,3,FALSE)","v":"in-gaap"},{"$f":"VLOOKUP(B94,XBRLBusinessRules,4,FALSE)","v":"false"},{"$f":"VLOOKUP(B94,XBRLBusinessRules,5,FALSE)","v":"monetary"},{"$f":"VLOOKUP(B94,XBRLBusinessRules,6,FALSE)","v":"credit"},{"$f":"VLOOKUP(B94,XBRLBusinessRules,7,FALSE)","v":"duration"},{"$f":"VLOOKUP(B94,XBRLBusinessRules,8,FALSE)","v":"item"},{"$f":"VLOOKUP(B94,XBRLBusinessRules,9,FALSE)","v":"true"},{"$f":"VLOOKUP(B94,XBRLBusinessRules,10,FALSE)","v":""},{"$f":"VLOOKUP(B94,XBRLBusinessRules,11,FALSE)","v":0},"INR",{"$f":"UPPER(LEFT(R94,1))&CYEND","v":"D2011"},{"$f":"UPPER(LEFT(R94,1))&PYEND","v":"D2010"},null,{"$f":"decimals","v":0},null,"C",{"$f":"COUNTIF(TagNamePL,\"=\"&B94)","v":2},"D",{"$f":"AD94-COUNTIFS(TagNamePL,B94,TagPLD,\"D\")","v":1},{"$f":"IF(CONSOLCHECK=\"C\",IF(OR(O94=\"true\",AE94=\"D\"),\"N\",\"Y\"),\"N\")","v":"N"},"N","N","N","","","",0,0,0,null,0,0,{"$f":"IF(AF94=1,0,1)","v":0},"",null,0,"","","",0,"","","",0,"","",""]
["Share earnings joint ventures","ShareEarningsJointVentures",{"$f":"IF(OR(PL!D98=0,ISNUMBER(PL!D98)=FALSE),\"\",PL!D98)","v":""},{"$f":"IF(OR(PL!E98=0,ISNUMBER(PL!E98)=FALSE),\"\",PL!E98)","v":""},null,"","","","",null,"",null,932,"in-gaap","false","monetary","credit","duration","item","true","",0,"INR","D2011","D2010",null,0,null,"C",2,"D",1,{"$f":"IF(CONSOLCHECK=\"C\",IF(OR(O95=\"true\",AE95=\"D\"),\"N\",\"Y\"),\"N\")","v":"N"},"N","N","N","","","",0,0,0,null,0,0,0,"",null,0,"","","",0,"","","",0,"","",""]
["Share earnings associates joint ventures","ShareEarningsAssociatesJointVentures",{"$f":"IF(OR(PL!D99=0,ISNUMBER(PL!D99)=FALSE),\"\",PL!D99)","v":""},{"$f":"IF(OR(PL!E99=0,ISNUMBER(PL!E99)=FALSE),\"\",PL!E99)","v":""},null,"","","",{"$f":"IF(AI96=\"Y\",IF(VLOOKUP(A96,PLFN0,5,FALSE)=0,\"\",VLOOKUP(A96,PLFN0,5,FALSE)),\"\")","v":""},null,"",null,930,"in-gaap","false","monetary","credit","duration","item","true","",0,"INR","D2011","D2010",null,0,null,"C",2,"D",1,{"$f":"IF(CONSOLCHECK=\"C\",IF(OR(O96=\"true\",AE96=\"D\"),\"N\",\"Y\"),\"N\")","v":"N"},"N","N","N","","","",0,0,0,null,0,0,0,"",null,0,"","","",0,"","","",0,"","",""]
["Share minority interest profit loss","ShareMinorityInterestProfitLoss",{"$f":"IF(OR(PL!D100=0,ISNUMBER(PL!D100)=FALSE),\"\",PL!D100)","v":""},{"$f":"IF(OR(PL!E100=0,ISNUMBER(PL!E100)=FALSE),\"\",PL!E100)","v":""},null,"","","","",null,"",null,933,"in-gaap","false","monetary","debit","duration","item","true","",0,"INR","D2011","D2010",null,0,null,"C",2,"D",1,{"$f":"IF(CONSOLCHECK=\"C\",IF(OR(O97=\"true\",AE97=\"D\"),\"N\",\"Y\"),\"N\")","v":"N"},"N","N","N","","","",0,0,0,null,0,0,0,"",null,0,"","","",0,"","","",0,"","",""]
["Adjustments related merger acquisitions","AdjustmentsRelatedMergerAcquisitions",{"$f":"IF(OR(PL!D101=0,ISNUMBER(PL!D101)=FALSE),\"\",PL!D101)","v":""},{"$f":"IF(OR(PL!E101=0,ISNUMBER(PL!E101)=FALSE),\"\",PL!E101)","v":""},null,"","","","",null,"",null,934,"in-gaap","false","monetary","","duration","item","true","",0,"INR","D2011","D2010",null,0,null,{"$f":"IF(V98=\"This can be entered only in case of Consolidated instance document\",\"C\",\"\")","v":""},2,"D",1,{"$f":"IF(OR(O98=\"true\",AE98=\"D\"),\"N\",\"Y\")","v":"N"},"N","N","N","","","",0,0,0,null,0,0,0,"",null,0,"","","",0,"","","",0,"","",""]
["Net profit loss","NetProfitLoss",{"$f":"IF(OR(PL!D102=0,ISNUMBER(PL!D102)=FALSE),\"\",PL!D102)","v":""},{"$f":"IF(OR(PL!E102=0,ISNUMBER(PL!E102)=FALSE),\"\",PL!E102)","v":""},null,"","","","",null,"",null,898,"in-gaap","false","monetary","credit","duration","item","true","","This is a mandatory field.","INR","D2011","D2010",null,0,"M","",2,"D",1,"N","N","N","N","","","",0,0,0,null,0,0,0,"",null,0,"","","",0,"","","",0,"","",""]
["Amounts transferred reserves","AmountsTransferredReserves",{"$f":"IF(OR(PL!D103=0,ISNUMBER(PL!D103)=FALSE),\"\",PL!D103)","v":""},{"$f":"IF(OR(PL!E103=0,ISNUMBER(PL!E103)=FALSE),\"\",PL!E103)","v":""},null,"","","","",null,"",null,1277,"in-gaap","false","monetary","credit","duration","item","true","",0,"INR","D2011","D2010",null,0,null,"",3,"D",1,"N","N","N","N","","","",0,0,0,null,0,0,0,"",null,0,"","","",0,"","","",0,"","",""]
["Profit (Loss) Brought Forward","ProfitLossBalance",{"$f":"IF(OR(PL!D104=0,ISNUMBER(PL!D104)=FALSE),\"\",PL!D104)","v":""},{"$f":"IF(OR(PL!E104=0,ISNUMBER(PL!E104)=FALSE),\"\",PL!E104)","v":""},null,"","","","",null,"",null,1320,"in-gaap","false","monetary","credit","instant","item","true","","This is a mandatory field.","INR","I2011","I2010",null,0,"M","",4,"D",1,"N","N","N","N","","","",0,0,0,null,0,0,0,"",null,0,"","","",0,"","","",0,"","",""]
["Amount available appropriations","AmountAvailableAppropriations",{"$f":"IF(OR(PL!D105=0,ISNUMBER(PL!D105)=FALSE),\"\",PL!D105)","v":""},{"$f":"IF(OR(PL!E105=0,ISNUMBER(PL!E105)=FALSE),\"\",PL!E105)","v":""},null,"","","","",null,"",null,1319,"in-gaap","false","monetary","credit","duration","item","true","",0,"INR","D2011","D2010",null,0,null,"",2,"D",1,"N","N","N","N","","","",0,0,0,null,0,0,0,"",null,0,"","","",0,"","","",0,"","",""]
["Appropriations","Appropriations",{"$f":"IF(OR(PL!D106=0,ISNUMBER(PL!D106)=FALSE),\"\",PL!D106)","v":""},{"$f":"IF(OR(PL!E106=0,ISNUMBER(PL!E106)=FALSE),\"\",PL!E106)","v":""},null,"","","","",null,"",null,1261,"in-gaap","false","monetary","debit","duration","item","true","",0,"INR","D2011","D2010",null,0,null,"",3,"D",1,"N","N","N","N","","","",0,0,0,null,0,0,0,"",null,0,"","","",0,"","","",0,"","",""]
["Profit (Loss) Carried to Balance Sheet","ProfitLossBalance",{"$f":"IF(OR(PL!D107=0,ISNUMBER(PL!D107)=FALSE),\"\",PL!D107)","v":""},{"$f":"IF(OR(PL!E107=0,ISNUMBER(PL!E107)=FALSE),\"\",PL!E107)","v":""},{"$f":"D101","v":""},"","","","",null,"",null,1320,"in-gaap","false","monetary","credit","instant","item","true","","This is a mandatory field.","INR","I2011","I2010",null,0,"M","",4,"D",1,"N","N","N","N","","","",0,0,0,null,0,0,0,"",null,0,"","","",0,"","","",0,"","",""]
["Basic earnings per share [abstract]","BasicEarningsPerShareAbstract",{"$nulls":3},"",{"$f":"IF(AH105=\"Y\",IF(VLOOKUP(A105,PLFN0,4,FALSE)=0,\"\",VLOOKUP(A105,PLFN0,4,FALSE)),\"\")","v":""},"","",null,"",null,2347,"in-gaap","true","string","","duration","item","true","",0,"","D2011","D2010",{"$nulls":3},"",2,"D",1,"N","N","N","N","","","",0,0,0,null,0,0,0,"",null,0,"","","",0,"","","",0,"","",""]
["Basic earnings per share before extraordinary items","BasicEarningsPerSharebeforeExtraordinaryItems",{"$f":"IF(OR(PL!D108=0,ISNUMBER(PL!D108)=FALSE),\"\",PL!D108)","v":""},{"$f":"IF(OR(PL!E108=0,ISNUMBER(PL!E108)=FALSE),\"\",PL!E108)","v":""},null,"","","","",null,"",null,936,"in-gaap","false","num:perShare","","duration","item","true","",0,"INRperShare","D2011","D2010",null,{"$f":"decimals","v":0},null,"",2,"D",1,"N","N","N","N","","","",0,0,0,null,0,0,0,"",null,0,"","","",0,"","","",0,"","",""]
["Extraordinary adjustment basic earnings per share","ExtraordinaryAdjustmentBasicEarningsPerShare",{"$f":"IF(OR(PL!D109=0,ISNUMBER(PL!D109)=FALSE),\"\",PL!D109)","v":""},{"$f":"IF(OR(PL!E109=0,ISNUMBER(PL!E109)=FALSE),\"\",PL!E109)","v":""},null,"","","","",null,"",null,937,"in-gaap","false","num:perShare","","duration","item","true","",0,"INRperShare","D2011","D2010",null,{"$f":"decimals","v":0},null,"",2,"D",1,"N","N","N","N","","","",0,0,0,null,0,0,0,"",null,0,"","","",0,"","","",0,"","",""]
["Basic earnings per share","BasicEarningsPerShare",{"$f":"IF(OR(PL!D110=0,ISNUMBER(PL!D110)=FALSE),\"\",PL!D110)","v":""},{"$f":"IF(OR(PL!E110=0,ISNUMBER(PL!E110)=FALSE),\"\",PL!E110)","v":""},null,"","","","",null,"",null,935,"in-gaap","false","num:perShare","","duration","item","true","",0,"INRperShare","D2011","D2010",null,{"$f":"decimals","v":0},null,"",2,"D",1,"N","N","N","N","","","",0,0,0,null,0,0,0,"",null,0,"","","",0,"","","",0,"","",""]
["Diluted earnings per share [abstract]","DilutedEarningsPerShareAbstract",{"$nulls":3},"","","","",null,"",null,1400,"in-gaap","true","string","","duration","item","true","",0,{"$f":"IF(P109=\"monetary\",\"INR\",\"\")","v":""},"D2011","D2010",{"$nulls":3},"",2,"D",1,"N","N","N","N","","","",0,0,0,null,0,0,0,"",null,0,"","","",0,"","","",0,"","",""]
["Diluted earnings per share before extraordinary items","DilutedEarningsPerSharebeforeExtraordinaryItems",{"$f":"IF(OR(PL!D111=0,ISNUMBER(PL!D111)=FALSE),\"\",PL!D111)","v":""},{"$f":"IF(OR(PL!E111=0,ISNUMBER(PL!E111)=FALSE),\"\",PL!E111)","v":""},null,"","","","",null,"",null,939,"in-gaap","false","num:perShare","","duration","item","true","",0,"INRperShare","D2011","D2010",null,{"$f":"decimals","v":0},null,"",2,"D",1,"N","N","N","N","","","",0,0,0,null,0,0,0,"",null,0,"","","",0,"","","",0,"","",""]
["Extraordinary adjustment diluted earnings per share","ExtraordinaryAdjustmentDilutedEarningsPerShare",{"$f":"IF(OR(PL!D112=0,ISNUMBER(PL!D112)=FALSE),\"\",PL!D112)","v":""},{"$f":"IF(OR(PL!E112=0,ISNUMBER(PL!E112)=FALSE),\"\",PL!E112)","v":""},null,"","","","",null,"",null,940,"in-gaap","false","num:perShare","","duration","item","true","",0,"INRperShare","D2011","D2010",null,{"$f":"decimals","v":0},null,"",2,"D",1,"N","N","N","N","","","",0,0,0,null,0,0,0,"",null,0,"","","",0,"","","",0,"","",""]
["Diluted earnings per share","DilutedEarningsPerShare",{"$f":"IF(OR(PL!D113=0,ISNUMBER(PL!D113)=FALSE),\"\",PL!D113)","v":""},{"$f":"IF(OR(PL!E113=0,ISNUMBER(PL!E113)=FALSE),\"\",PL!E113)","v":""},null,"","","","",null,"",null,938,"in-gaap","false","num:perShare","","duration","item","true","",0,"INRperShare","D2011","D2010",null,{"$f":"decimals","v":0},null,"",2,"D",1,"N","N","N","N","","","",0,0,0,null,0,0,0,"",null,0,"","","",0,"","","",0,"","",""]
["Average number shares for earnings per share [abstract]","AverageNumberSharesForEarningsPerShareAbstract",{"$nulls":3},"","","","",null,"",null,1401,"in-gaap","true","string","","duration","item","true","",0,{"$f":"IF(P113=\"monetary\",\"INR\",\"\")","v":""},"D2011","D2010",{"$nulls":3},"",2,"D",1,"N","N","N","N","","","",0,0,0,null,0,0,0,"",null,0,"","","",0,"","","",0,"","",""]
["Average number shares for basic earnings per share","AverageNumberSharesforBasicEarningsPerShare",{"$f":"IF(OR(PL!D114=0,ISNUMBER(PL!D114)=FALSE),\"\",PL!D114)","v":""},{"$f":"IF(OR(PL!E114=0,ISNUMBER(PL!E114)=FALSE),\"\",PL!E114)","v":""},null,"","","","",null,"",null,1300,"in-gaap","false","shares","","duration","item","true","","Should be greater than or equal to zero","Share","D2011","D2010",null,{"$f":"decimals","v":0},null,"",2,"D",1,"N","N","N","N","","","",0,0,0,"P",0,0,0,"",null,0,"","","",0,"","","",0,"","",""]
["Adjustment average number shares","AdjustmentAverageNumberShares",{"$f":"IF(OR(PL!D115=0,ISNUMBER(PL!D115)=FALSE),\"\",PL!D115)","v":""},{"$f":"IF(OR(PL!E115=0,ISNUMBER(PL!E115)=FALSE),\"\",PL!E115)","v":""},null,"","","","",null,"",null,1301,"in-gaap","false","shares","","duration","item","true","","Should be greater than or equal to zero","Share","D2011","D2010",null,{"$f":"decimals","v":0},null,"",2,"D",1,"N","N","N","N","","","",0,0,0,"P",0,0,0,"",null,0,"","","",0,"","","",0,"","",""]
["Average number shares for diluted earnings per share","AverageNumberSharesforDilutedEarningsPerShare",{"$f":"IF(OR(PL!D116=0,ISNUMBER(PL!D116)=FALSE),\"\",PL!D116)","v":""},{"$f":"IF(OR(PL!E116=0,ISNUMBER(PL!E116)=FALSE),\"\",PL!E116)","v":""},null,"","","","",null,"",null,1299,"in-gaap","false","shares","","duration","item","true","","Should be greater than or equal to zero","Share","D2011","D2010",null,{"$f":"decimals","v":0},null,"",2,"D",1,"N","N","N","N","","","",0,0,0,"P",0,0,0,"",null,0,"","","",0,"","","",0,"","",""]
["[200300] Additional Details - Income Statement","AdditionalDetailsIncomeStatement"]
["Additional information regarding income and expenses [abstract]","AdditionalInformationRegardingIncomeAndExpensesAbstract",{"$nulls":3},{"$f":"IF(AND(AH118=\"Y\",G118<>\"\"),\"PL\"&AN118,\"\")","v":""},null,{"$f":"IF(AND(AI118=\"Y\",I118<>\"\"),\"PL\"&AO118,\"\")","v":""},null,null,{"$f":"IF(AND(AJ118=\"Y\",L118<>\"\"),\"PL\"&AP118,\"\")","v":""},null,{"$f":"VLOOKUP(B118,XBRLBusinessRules,2,FALSE)","v":2682},{"$f":"VLOOKUP(B118,XBRLBusinessRules,3,FALSE)","v":"in-gaap"},{"$f":"VLOOKUP(B118,XBRLBusinessRules,4,FALSE)","v":"true"},{"$f":"VLOOKUP(B118,XBRLBusinessRules,5,FALSE)","v":"string"},{"$f":"VLOOKUP(B118,XBRLBusinessRules,6,FALSE)","v":""},{"$f":"VLOOKUP(B118,XBRLBusinessRules,7,FALSE)","v":"duration"},{"$f":"VLOOKUP(B118,XBRLBusinessRules,8,FALSE)","v":"item"},{"$f":"VLOOKUP(B118,XBRLBusinessRules,9,FALSE)","v":"true"},{"$f":"VLOOKUP(B118,XBRLBusinessRules,10,FALSE)","v":""},{"$f":"VLOOKUP(B118,XBRLBusinessRules,11,FALSE)","v":0},{"$f":"IF(P118=\"monetary\",\"INR\",\"\")","v":""},{"$f":"UPPER(LEFT(R118,1))&CYEND","v":"D2011"},{"$f":"UPPER(LEFT(R118,1))&PYEND","v":"D2010"},{"$nulls":3},{"$f":"IF(V118=\"This can be entered only in case of Consolidated instance document\",\"C\",\"\")","v":""},{"$f":"COUNTIF(TagNamePL,\"=\"&B118)","v":1},null,{"$f":"AD118-COUNTIFS(TagNamePL,B118,TagPLD,\"D\")","v":1},{"$f":"IF(OR(O118=\"true\",AE118=\"D\"),\"N\",\"Y\")","v":"N"},{"$f":"IF(OR(AND(C118=\"\",D118=\"\",(AB118=\"M\")=FALSE),AG118=\"N\"),\"N\",\"Y\")","v":"N"},{"$f":"IF(OR(AND(C118=\"\",D118=\"\",(AB118=\"M\")=FALSE),AG118=\"N\"),\"N\",\"Y\")","v":"N"},{"$f":"IF(AND(COUNTBLANK(X118:Z118)=0,AG118=\"Y\"),IF(OR(AB118=\"M\",E118<>\"\"),\"Y\",\"N\"),\"N\")","v":"N"},{"$f":"IF(AH118=\"Y\",(\"<\"&N118&\":\"&B118&\" \"&IF(F118=\"\",\"\",\"id=\"\"\"&\"TA\"&F118&\"\"\"\"&\" \")&IF(OR(P118=\"monetary\",W118<>\"\"),\"unitRef=\"\"\"&W118&\"\"\"\"&\" \",\"\")&IF(X118=\"\",\"\",\"contextRef=\"\"\"&X118&\"\"\"\"&\" \")&IF(OR(P118=\"monetary\",AA118<>\"\"),\"decimals=\"\"\"&decimals&\"\"\"\"&\" \",\"\")&\">\")&IF(C118=\"\",0,C118)&\"</\"&N118&\":\"&B118&\">\",\"\")","v":""},{"$f":"IF(AI118=\"Y\",(\"<\"&N118&\":\"&B118&\" \"&IF(H118=\"\",\"\",\"id=\"\"\"&\"TA\"&H118&\"\"\"\"&\" \")&IF(OR(P118=\"monetary\",W118<>\"\"),\"unitRef=\"\"\"&W118&\"\"\"\"&\" \",\"\")&IF(Y118=\"\",\"\",\"contextRef=\"\"\"&Y118&\"\"\"\"&\" \")&IF(OR(P118=\"monetary\",AA118<>\"\"),\"decimals=\"\"\"&decimals&\"\"\"\"&\" \",\"\")&\">\")&IF(D118=\"\",0,D118)&\"</\"&N118&\":\"&B118&\">\",\"\")","v":""},{"$f":"IF(AJ118=\"Y\",(\"<\"&N118&\":\"&B118&\" \"&IF(K118=\"\",\"\",\"id=\"\"\"&\"TA\"&K118&\"\"\"\"&\" \")&IF(OR(P118=\"monetary\",W118<>\"\"),\"unitRef=\"\"\"&W118&\"\"\"\"&\" \",\"\")&IF(Z118=\"\",\"\",\"contextRef=\"\"\"&Z118&\"\"\"\"&\" \")&IF(OR(P118=\"monetary\",AA118<>\"\"),\"decimals=\"\"\"&decimals&\"\"\"\"&\" \",\"\")&\">\")&IF(E118=\"\",0,E118)&\"</\"&N118&\":\"&B118&\">\",\"\")","v":""},{"$f":"IF(AND(AH118=\"Y\",G118<>\"\"),AP116+1,AP116)","v":0},{"$f":"IF(AND(AI118=\"Y\",I118<>\"\"),AN118+1,AN118)","v":0},{"$f":"IF(AND(AJ118=\"Y\",L118<>\"\"),AO118+1,AO118)","v":0},null,0,0,{"$f":"IF(AF118=1,0,1)","v":0},"",null,0,"","","",0,"","","",0,"","",""]
["Operating revenue, net [abstract]","OperatingRevenueNetAbstract",{"$nulls":3},"",null,"",null,null,"",null,1324,"in-gaap","true","string","","duration","item","true","",0,"","D2011","D2010",{"$nulls":3},"",2,null,1,"N","N","N","N","","","",{"$f":"IF(AND(AH119=\"Y\",G119<>\"\"),AP118+1,AP118)","v":0},{"$f":"IF(AND(AI119=\"Y\",I119<>\"\"),AN119+1,AN119)","v":0},{"$f":"IF(AND(AJ119=\"Y\",L119<>\"\"),AO119+1,AO119)","v":0},null,0,0,0,"",null,0,"","","",0,"","","",0,"","",""]
["Operating revenue, gross [abstract]","OperatingRevenueGrossAbstract",{"$nulls":3},"",null,"",null,null,"",null,1325,"in-gaap","true","string","","duration","item","true","",0,"","D2011","D2010",{"$nulls":3},"",2,null,1,"N","N","N","N","","","",{"$f":"IF(AND(AH120=\"Y\",G120<>\"\"),AP119+1,AP119)","v":0},{"$f":"IF(AND(AI120=\"Y\",I120<>\"\"),AN120+1,AN120)","v":0},{"$f":"IF(AND(AJ120=\"Y\",L120<>\"\"),AO120+1,AO120)","v":0},null,0,0,0,"",null,0,"","","",0,"","","",0,"","",""]
["Revenue sale goods, gross [abstract]","RevenueSaleGoodsGrossAbstract",{"$nulls":3},"",null,"",null,null,"",null,1326,"in-gaap","true","string","","duration","item","true","",0,"","D2011","D2010",{"$nulls":3},"",2,null,1,"N","N","N","N","","","",0,0,0,null,0,0,0,"",null,0,"","","",0,"","","",0,"","",""]
["Domestic turnover goods, gross [abstract]","DomesticTurnoverGoodsGrossAbstract",{"$nulls":3},"",null,"",null,null,"",null,1406,"in-gaap","true","string","","duration","item","true","",0,"","D2011","D2010",{"$nulls":3},"",1,null,1,"N","N","N","N","","","",0,0,0,null,0,0,0,"",null,0,"","","",0,"","","",0,"","",""]
["Domestic sale manufactured goods","DomesticSaleManufacturedGoods",{"$f":"IF(OR('17-AddlDetInStat'!D31=0,ISNUMBER('17-AddlDetInStat'!D31)=FALSE),\"\",'17-AddlDetInStat'!D31)","v":""},{"$f":"IF(OR('17-AddlDetInStat'!E31=0,ISNUMBER('17-AddlDetInStat'!E31)=FALSE),\"\",'17-AddlDetInStat'!E31)","v":""},null,"",{"$f":"IF(AH123=\"Y\",IF(VLOOKUP(A123,PLFN1,4,FALSE)=0,\"\",VLOOKUP(A123,PLFN1,4,FALSE)),\"\")","v":""},"",{"$f":"IF(AI123=\"Y\",IF(VLOOKUP(A123,PLFN1,5,FALSE)=0,\"\",VLOOKUP(A123,PLFN1,5,FALSE)),\"\")","v":""},null,"",null,1283,"in-gaap","false","monetary","credit","duration","item","true","",0,"INR","D2011","D2010",null,{"$f":"decimals","v":0},null,"",1,null,1,"Y","N","N","N","","","",0,0,0,null,0,0,0,"Domestic sale manufactured goods",null,0,"","","",0,"","","",0,"","",""]
["Domestic sale traded goods","DomesticSaleTradedGoods",{"$f":"IF(OR('17-AddlDetInStat'!D30=0,ISNUMBER('17-AddlDetInStat'!D30)=FALSE),\"\",'17-AddlDetInStat'!D30)","v":""},{"$f":"IF(OR('17-AddlDetInStat'!E30=0,ISNUMBER('17-AddlDetInStat'!E30)=FALSE),\"\",'17-AddlDetInStat'!E30)","v":""},null,{"$f":"IF(AND(AH124=\"Y\",G124<>\"\"),\"PL\"&AN124,\"\")","v":""},{"$f":"IF(AH124=\"Y\",IF(VLOOKUP(A124,PLFN1,4,FALSE)=0,\"\",VLOOKUP(A124,PLFN1,4,FALSE)),\"\")","v":""},{"$f":"IF(AND(AI124=\"Y\",I124<>\"\"),\"PL\"&AO124,\"\")","v":""},{"$f":"IF(AI124=\"Y\",IF(VLOOKUP(A124,PLFN1,5,FALSE)=0,\"\",VLOOKUP(A124,PLFN1,5,FALSE)),\"\")","v":""},null,{"$f":"IF(AND(AJ124=\"Y\",L124<>\"\"),\"PL\"&AP124,\"\")","v":""},null,1284,"in-gaap","false","monetary","credit","duration","item","true","",0,"INR","D2011","D2010",null,{"$f":"decimals","v":0},null,"",1,null,1,"Y","N","N","N","","","",0,0,0,null,0,0,0,"Domestic sale traded goods",null,0,"","","",0,"","","",0,"","",""]
["Domestic turnover goods, gross","DomesticTurnoverGoodsGross",{"$f":"IF(OR('17-AddlDetInStat'!D32=0,ISNUMBER('17-AddlDetInStat'!D32)=FALSE),\"\",'17-AddlDetInStat'!D32)","v":""},{"$f":"IF(OR('17-AddlDetInStat'!E32=0,ISNUMBER('17-AddlDetInStat'!E32)=FALSE),\"\",'17-AddlDetInStat'!E32)","v":""},null,"",{"$f":"IF(AH125=\"Y\",IF(VLOOKUP(A125,PLFN1,4,FALSE)=0,\"\",VLOOKUP(A125,PLFN1,4,FALSE)),\"\")","v":""},"",{"$f":"IF(AI125=\"Y\",IF(VLOOKUP(A125,PLFN1,5,FALSE)=0,\"\",VLOOKUP(A125,PLFN1,5,FALSE)),\"\")","v":""},null,"",null,1282,"in-gaap","false","monetary","credit","duration","item","true","",0,"INR","D2011","D2010",null,{"$f":"decimals","v":0},null,"",1,null,1,"Y","N","N","N","","","",0,0,0,null,0,0,0,"Domestic turnover goods, gross",null,0,"","","",0,"","","",0,"","",""]
["Export turnover goods, gross [abstract]","ExportTurnoverGoodsGrossAbstract",{"$nulls":3},"",null,"",null,null,"",null,1407,"in-gaap","true","string","","duration","item","true","",0,"","D2011","D2010",{"$nulls":3},"",1,null,1,"N","N","N","N","","","",0,0,0,null,0,0,0,"",null,0,"","","",0,"","","",0,"","",""]
["Export sale manufactured goods","ExportSaleManufacturedGoods",{"$f":"IF(OR('17-AddlDetInStat'!D37=0,ISNUMBER('17-AddlDetInStat'!D37)=FALSE),\"\",'17-AddlDetInStat'!D37)","v":""},{"$f":"IF(OR('17-AddlDetInStat'!E37=0,ISNUMBER('17-AddlDetInStat'!E37)=FALSE),\"\",'17-AddlDetInStat'!E37)","v":""},null,{"$f":"IF(AND(AH127=\"Y\",G127<>\"\"),\"PL\"&AN127,\"\")","v":""},{"$f":"IF(AH127=\"Y\",IF(VLOOKUP(A127,PLFN1,4,FALSE)=0,\"\",VLOOKUP(A127,PLFN1,4,FALSE)),\"\")","v":""},{"$f":"IF(AND(AI127=\"Y\",I127<>\"\"),\"PL\"&AO127,\"\")","v":""},{"$f":"IF(AI127=\"Y\",IF(VLOOKUP(A127,PLFN1,5,FALSE)=0,\"\",VLOOKUP(A127,PLFN1,5,FALSE)),\"\")","v":""},null,{"$f":"IF(AND(AJ127=\"Y\",L127<>\"\"),\"PL\"&AP127,\"\")","v":""},null,1286,"in-gaap","false","monetary","credit","duration","item","true","",0,"INR","D2011","D2010",null,{"$f":"decimals","v":0},null,"",1,null,1,"Y","N","N","N","","","",0,0,0,null,0,0,0,"Export sale manufactured goods",null,0,"","","",0,"","","",0,"","",""]
["Export sale traded goods","ExportsaleTradedgoods",{"$f":"IF(OR('17-AddlDetInStat'!D36=0,ISNUMBER('17-AddlDetInStat'!D36)=FALSE),\"\",'17-AddlDetInStat'!D36)","v":""},{"$f":"IF(OR('17-AddlDetInStat'!E36=0,ISNUMBER('17-AddlDetInStat'!E36)=FALSE),\"\",'17-AddlDetInStat'!E36)","v":""},null,"",{"$f":"IF(AH128=\"Y\",IF(VLOOKUP(A128,PLFN1,4,FALSE)=0,\"\",VLOOKUP(A128,PLFN1,4,FALSE)),\"\")","v":""},"",{"$f":"IF(AI128=\"Y\",IF(VLOOKUP(A128,PLFN1,5,FALSE)=0,\"\",VLOOKUP(A128,PLFN1,5,FALSE)),\"\")","v":""},null,"",null,1287,"in-gaap","false","monetary","credit","duration","item","true","",0,"INR","D2011","D2010",null,{"$f":"decimals","v":0},null,"",1,null,1,"Y","N","N","N","","","",0,0,0,null,0,0,0,"Export sale traded goods",null,0,"","","",0,"","","",0,"","",""]
["Export turnover goods, gross","ExportTurnoverGoodsGross",{"$f":"IF(OR('17-AddlDetInStat'!D38=0,ISNUMBER('17-AddlDetInStat'!D38)=FALSE),\"\",'17-AddlDetInStat'!D38)","v":""},{"$f":"IF(OR('17-AddlDetInStat'!E38=0,ISNUMBER('17-AddlDetInStat'!E38)=FALSE),\"\",'17-AddlDetInStat'!E38)","v":""},null,"",{"$f":"IF(AH129=\"Y\",IF(VLOOKUP(A129,PLFN1,4,FALSE)=0,\"\",VLOOKUP(A129,PLFN1,4,FALSE)),\"\")","v":""},"",{"$f":"IF(AI129=\"Y\",IF(VLOOKUP(A129,PLFN1,5,FALSE)=0,\"\",VLOOKUP(A129,PLFN1,5,FALSE)),\"\")","v":""},null,"",null,1285,"in-gaap","false","monetary","credit","duration","item","true","",0,"INR","D2011","D2010",null,{"$f":"decimals","v":0},null,"",1,null,1,"Y","N","N","N","","","",0,0,0,null,0,0,0,"Export turnover goods, gross",null,0,"","","",0,"","","",0,"","",""]
["Revenue sale goods, gross","RevenueSaleGoodsGross",{"$f":"IF(OR('17-AddlDetInStat'!D5=0,ISNUMBER('17-AddlDetInStat'!D5)=FALSE),\"\",'17-AddlDetInStat'!D5)","v":""},{"$f":"IF(OR('17-AddlDetInStat'!E5=0,ISNUMBER('17-AddlDetInStat'!E5)=FALSE),\"\",'17-AddlDetInStat'!E5)","v":""},null,"",{"$f":"IF(AH130=\"Y\",IF(VLOOKUP(A130,PLFN1,4,FALSE)=0,\"\",VLOOKUP(A130,PLFN1,4,FALSE)),\"\")","v":""},"",{"$f":"IF(AI130=\"Y\",IF(VLOOKUP(A130,PLFN1,5,FALSE)=0,\"\",VLOOKUP(A130,PLFN1,5,FALSE)),\"\")","v":""},null,"",null,945,"in-gaap","false","monetary","credit","duration","item","true","",0,"INR","D2011","D2010",null,{"$f":"decimals","v":0},null,"",2,null,1,"Y","N","N","N","","","",0,0,0,null,0,0,0,"Revenue sale goods, gross",null,0,"","","",0,"","","",0,"","",""]
["Revenue services, gross [abstract]","RevenueServicesGrossAbstract",{"$nulls":3},"",null,"",null,null,"",null,1327,"in-gaap","true","string","","duration","item","true","",0,"","D2011","D2010",{"$nulls":3},"",2,null,1,"N","N","N","N","","","",0,0,0,null,0,0,0,"",null,0,"","","",0,"","","",0,"","",""]
["Domestic revenue services","DomesticRevenueServices",{"$f":"IF(OR('17-AddlDetInStat'!D42=0,ISNUMBER('17-AddlDetInStat'!D42)=FALSE),\"\",'17-AddlDetInStat'!D42)","v":""},{"$f":"IF(OR('17-AddlDetInStat'!E42=0,ISNUMBER('17-AddlDetInStat'!E42)=FALSE),\"\",'17-AddlDetInStat'!E42)","v":""},null,{"$f":"IF(AND(AH132=\"Y\",G132<>\"\"),\"PL\"&AN132,\"\")","v":""},{"$f":"IF(AH132=\"Y\",IF(VLOOKUP(A132,PLFN1,4,FALSE)=0,\"\",VLOOKUP(A132,PLFN1,4,FALSE)),\"\")","v":""},{"$f":"IF(AND(AI132=\"Y\",I132<>\"\"),\"PL\"&AO132,\"\")","v":""},{"$f":"IF(AI132=\"Y\",IF(VLOOKUP(A132,PLFN1,5,FALSE)=0,\"\",VLOOKUP(A132,PLFN1,5,FALSE)),\"\")","v":""},null,{"$f":"IF(AND(AJ132=\"Y\",L132<>\"\"),\"PL\"&AP132,\"\")","v":""},null,1288,"in-gaap","false","monetary","credit","duration","item","true","",0,"INR","D2011","D2010",null,{"$f":"decimals","v":0},null,"",1,null,1,"Y","N","N","N","","","",0,0,0,null,{"$f":"IF(AQ132=\"P\",IF(C132<0,1,0),0)","v":0},{"$f":"IF(AQ132=\"P\",IF(D132<0,1,0),0)","v":0},0,"Domestic revenue services",null,0,"","","",0,"","","",0,"","",""]
["Export revenue services","ExportRevenueServices",{"$f":"IF(OR('17-AddlDetInStat'!D43=0,ISNUMBER('17-AddlDetInStat'!D43)=FALSE),\"\",'17-AddlDetInStat'!D43)","v":""},{"$f":"IF(OR('17-AddlDetInStat'!E43=0,ISNUMBER('17-AddlDetInStat'!E43)=FALSE),\"\",'17-AddlDetInStat'!E43)","v":""},null,"",{"$f":"IF(AH133=\"Y\",IF(VLOOKUP(A133,PLFN1,4,FALSE)=0,\"\",VLOOKUP(A133,PLFN1,4,FALSE)),\"\")","v":""},"",{"$f":"IF(AI133=\"Y\",IF(VLOOKUP(A133,PLFN1,5,FALSE)=0,\"\",VLOOKUP(A133,PLFN1,5,FALSE)),\"\")","v":""},null,"",null,1289,"in-gaap","false","monetary","credit","duration","item","true","",0,"INR","D2011","D2010",null,{"$f":"decimals","v":0},null,"",1,null,1,"Y","N","N","N","","","",0,0,0,null,0,0,0,"Export revenue services",null,0,"","","",0,"","","",0,"","",""]
["Revenue services, gross","RevenueServicesGross",{"$f":"IF(OR('17-AddlDetInStat'!D44=0,ISNUMBER('17-AddlDetInStat'!D44)=FALSE),\"\",'17-AddlDetInStat'!D44)","v":""},{"$f":"IF(OR('17-AddlDetInStat'!E44=0,ISNUMBER('17-AddlDetInStat'!E44)=FALSE),\"\",'17-AddlDetInStat'!E44)","v":""},null,"",{"$f":"IF(AH134=\"Y\",IF(VLOOKUP(A134,PLFN1,4,FALSE)=0,\"\",VLOOKUP(A134,PLFN1,4,FALSE)),\"\")","v":""},"",{"$f":"IF(AI134=\"Y\",IF(VLOOKUP(A134,PLFN1,5,FALSE)=0,\"\",VLOOKUP(A134,PLFN1,5,FALSE)),\"\")","v":""},null,"",null,949,"in-gaap","false","monetary","credit","duration","item","true","",0,"INR","D2011","D2010",null,{"$f":"decimals","v":0},null,"",2,null,1,"Y","N","N","N","","","",0,0,0,null,0,0,0,"Revenue services, gross",null,0,"","","",0,"","","",0,"","",""]
["Revenue contract [abstract]","RevenueContractAbstract",{"$nulls":3},"",null,"",null,null,"",null,1408,"in-gaap","true","string","","duration","item","true","",0,"","D2011","D2010",{"$nulls":3},"",1,null,1,"N","N","N","N","","","",0,0,0,null,0,0,0,{"$f":"IF(AG135=\"Y\",A135,\"\")","v":""},null,{"$f":"IF(F135<>\"\",\"1\",0)","v":0},{"$f":"IF(F135<>\"\",\"<link:loc xlink:href=\"&\"\"\"\"&\"#\"&\"TA\"&F135&\"\"\"\"&\" xlink:type=\"&\"\"\"\"&\"locator\"&\"\"\"\"&\" xlink:label=\"&\"\"\"\"&\"value\"&AN135&\"\"\"\"&\"/>\",\"\")","v":""},{"$f":"IF(F135<>\"\",\"<link:footnote xlink:role=\"&\"\"\"\"&\"http://www.xbrl.org/2003/role/footnote\"&\"\"\"\"&\" xml:lang=\"&\"\"\"\"&\"en\"&\"\"\"\"&\" xlink:type=\"&\"\"\"\"&\"resource\"&\"\"\"\"&\" xlink:label=\"&\"\"\"\"&\"footnote\"&AN135&\"\"\"\"&\">\"&G135&\"</link:footnote>\",\"\")","v":""},{"$f":"IF(F135<>\"\",\"<link:footnoteArc xlink:type=\"&\"\"\"\"&\"arc\"&\"\"\"\"&\" order=\"&\"\"\"\"&\"1.0\"&\"\"\"\"& \" xlink:to=\"&\"\"\"\"&\"footnote\"&AN135&\"\"\"\"& \" xlink:from=\"&\"\"\"\"&\"value\"&AN135&\"\"\"\"&\" xlink:arcrole=\"&\"\"\"\"&\"http://www.xbrl.org/2003/arcrole/fact-footnote\"&\"\"\"\"&\"/>\",\"\")","v":""},{"$f":"IF(H135<>\"\",\"1\",0)","v":0},{"$f":"IF(H135<>\"\",\"<link:loc xlink:href=\"&\"\"\"\"&\"#\"&\"TA\"&H135&\"\"\"\"&\" xlink:type=\"&\"\"\"\"&\"locator\"&\"\"\"\"&\" xlink:label=\"&\"\"\"\"&\"value\"&AO135&\"\"\"\"&\"/>\",\"\")","v":""},{"$f":"IF(H135<>\"\",\"<link:footnote xlink:role=\"&\"\"\"\"&\"http://www.xbrl.org/2003/role/footnote\"&\"\"\"\"&\" xml:lang=\"&\"\"\"\"&\"en\"&\"\"\"\"&\" xlink:type=\"&\"\"\"\"&\"resource\"&\"\"\"\"&\" xlink:label=\"&\"\"\"\"&\"footnote\"&AO135&\"\"\"\"&\">\"&I135&\"</link:footnote>\",\"\")","v":""},{"$f":"IF(H135<>\"\",\"<link:footnoteArc xlink:type=\"&\"\"\"\"&\"arc\"&\"\"\"\"&\" order=\"&\"\"\"\"&\"1.0\"&\"\"\"\"& \" xlink:to=\"&\"\"\"\"&\"footnote\"&AO135&\"\"\"\"& \" xlink:from=\"&\"\"\"\"&\"value\"&AO135&\"\"\"\"&\" xlink:arcrole=\"&\"\"\"\"&\"http://www.xbrl.org/2003/arcrole/fact-footnote\"&\"\"\"\"&\"/>\",\"\")","v":""},{"$f":"IF(K135<>\"\",\"1\",0)","v":0},{"$f":"IF(K135<>\"\",\"<link:loc xlink:href=\"&\"\"\"\"&\"#\"&\"TA\"&K135&\"\"\"\"&\" xlink:type=\"&\"\"\"\"&\"locator\"&\"\"\"\"&\" xlink:label=\"&\"\"\"\"&\"value\"&AP135&\"\"\"\"&\"/>\",\"\")","v":""},{"$f":"IF(K135<>\"\",\"<link:footnote xlink:role=\"&\"\"\"\"&\"http://www.xbrl.org/2003/role/footnote\"&\"\"\"\"&\" xml:lang=\"&\"\"\"\"&\"en\"&\"\"\"\"&\" xlink:type=\"&\"\"\"\"&\"resource\"&\"\"\"\"&\" xlink:label=\"&\"\"\"\"&\"footnote\"&AP135&\"\"\"\"&\">\"&L135&\"</link:footnote>\",\"\")","v":""},{"$f":"IF(K135<>\"\",\"<link:footnoteArc xlink:type=\"&\"\"\"\"&\"arc\"&\"\"\"\"&\" order=\"&\"\"\"\"&\"1.0\"&\"\"\"\"& \" xlink:to=\"&\"\"\"\"&\"footnote\"&AP135&\"\"\"\"& \" xlink:from=\"&\"\"\"\"&\"value\"&AP135&\"\"\"\"&\" xlink:arcrole=\"&\"\"\"\"&\"http://www.xbrl.org/2003/arcrole/fact-footnote\"&\"\"\"\"&\"/>\",\"\")","v":""}]
["Revenue domestic contracts","RevenueDomesticContracts",{"$f":"IF(OR('17-AddlDetInStat'!D48=0,ISNUMBER('17-AddlDetInStat'!D48)=FALSE),\"\",'17-AddlDetInStat'!D48)","v":""},{"$f":"IF(OR('17-AddlDetInStat'!E48=0,ISNUMBER('17-AddlDetInStat'!E48)=FALSE),\"\",'17-AddlDetInStat'!E48)","v":""},null,{"$f":"IF(AND(AH136=\"Y\",G136<>\"\"),\"PL\"&AN136,\"\")","v":""},{"$f":"IF(AH136=\"Y\",IF(VLOOKUP(A136,PLFN1,4,FALSE)=0,\"\",VLOOKUP(A136,PLFN1,4,FALSE)),\"\")","v":""},{"$f":"IF(AND(AI136=\"Y\",I136<>\"\"),\"PL\"&AO136,\"\")","v":""},{"$f":"IF(AI136=\"Y\",IF(VLOOKUP(A136,PLFN1,5,FALSE)=0,\"\",VLOOKUP(A136,PLFN1,5,FALSE)),\"\")","v":""},null,{"$f":"IF(AND(AJ136=\"Y\",L136<>\"\"),\"PL\"&AP136,\"\")","v":""},null,1290,"in-gaap","false","monetary","credit","duration","item","true","",0,"INR","D2011","D2010",null,{"$f":"decimals","v":0},null,"",1,null,1,"Y","N","N","N","","","",0,0,0,null,0,0,0,"Revenue domestic contracts",null,0,"","","",0,"","","",0,"","",""]
["Revenue foreign contracts","RevenueForeignContracts",{"$f":"IF(OR('17-AddlDetInStat'!D49=0,ISNUMBER('17-AddlDetInStat'!D49)=FALSE),\"\",'17-AddlDetInStat'!D49)","v":""},{"$f":"IF(OR('17-AddlDetInStat'!E49=0,ISNUMBER('17-AddlDetInStat'!E49)=FALSE),\"\",'17-AddlDetInStat'!E49)","v":""},null,"","","","",null,"",null,1291,"in-gaap","false","monetary","credit","duration","item","true","",0,"INR","D2011","D2010",null,0,null,"",1,null,1,"Y","N","N","N","","","",0,0,0,null,0,0,0,"Revenue foreign contracts",null,0,"","","",0,"","","",0,"","",""]
["Revenue contract","RevenueContract",{"$f":"IF(OR('17-AddlDetInStat'!D50=0,ISNUMBER('17-AddlDetInStat'!D50)=FALSE),\"\",'17-AddlDetInStat'!D50)","v":""},{"$f":"IF(OR('17-AddlDetInStat'!E50=0,ISNUMBER('17-AddlDetInStat'!E50)=FALSE),\"\",'17-AddlDetInStat'!E50)","v":""},null,"","","","",null,"",null,974,"in-gaap","false","monetary","credit","duration","item","true","",0,"INR","D2011","D2010",null,0,null,"",2,null,1,"Y","N","N","N","","","",0,0,0,null,0,0,0,"Revenue contract",null,0,"","","",0,"","","",0,"","",""]
["Revenue lease rentals","RevenueLeaseRentals",{"$f":"IF(OR('17-AddlDetInStat'!D8=0,ISNUMBER('17-AddlDetInStat'!D8)=FALSE),\"\",'17-AddlDetInStat'!D8)","v":""},{"$f":"IF(OR('17-AddlDetInStat'!E8=0,ISNUMBER('17-AddlDetInStat'!E8)=FALSE),\"\",'17-AddlDetInStat'!E8)","v":""},null,"","","","",null,"",null,975,"in-gaap","false","monetary","credit","duration","item","true","",0,"INR","D2011","D2010",null,0,null,"",2,null,1,"Y","N","N","N","","","",0,0,0,null,0,0,0,"Revenue lease rentals",null,0,"","","",0,"","","",0,"","",""]
["Revenue hire charges","RevenueHireCharges",{"$f":"IF(OR('17-AddlDetInStat'!D9=0,ISNUMBER('17-AddlDetInStat'!D9)=FALSE),\"\",'17-AddlDetInStat'!D9)","v":""},{"$f":"IF(OR('17-AddlDetInStat'!E9=0,ISNUMBER('17-AddlDetInStat'!E9)=FALSE),\"\",'17-AddlDetInStat'!E9)","v":""},null,"","","","",null,"",null,976,"in-gaap","false","monetary","credit","duration","item","true","",0,"INR","D2011","D2010",null,0,null,"",2,null,1,"Y","N","N","N","","","",0,0,0,null,0,0,0,"Revenue hire charges",null,0,"","","",0,"","","",0,"","",""]
["Revenue job work","RevenueJobWork",{"$f":"IF(OR('17-AddlDetInStat'!D10=0,ISNUMBER('17-AddlDetInStat'!D10)=FALSE),\"\",'17-AddlDetInStat'!D10)","v":""},{"$f":"IF(OR('17-AddlDetInStat'!E10=0,ISNUMBER('17-AddlDetInStat'!E10)=FALSE),\"\",'17-AddlDetInStat'!E10)","v":""},null,"","","","",null,"",null,977,"in-gaap","false","monetary","credit","duration","item","true","",0,"INR","D2011","D2010",null,0,null,"",2,null,1,"Y","N","N","N","","","",0,0,0,null,0,0,0,"Revenue job work",null,0,"","","",0,"","","",0,"","",""]
["Revenue intangible assets [abstract]","RevenueIntangibleAssetsAbstract",{"$nulls":3},"",null,"",null,null,"",null,1330,"in-gaap","true","string","","duration","item","true","",0,"","D2011","D2010",{"$nulls":3},"",2,null,1,"N","N","N","N","","","",0,0,0,null,0,0,0,"",null,0,"","","",0,"","","",0,"","",""]
["Revenue royalties","RevenueRoyalties",{"$f":"IF(OR('17-AddlDetInStat'!D54=0,ISNUMBER('17-AddlDetInStat'!D54)=FALSE),\"\",'17-AddlDetInStat'!D54)","v":""},{"$f":"IF(OR('17-AddlDetInStat'!E54=0,ISNUMBER('17-AddlDetInStat'!E54)=FALSE),\"\",'17-AddlDetInStat'!E54)","v":""},null,{"$f":"IF(AND(AH143=\"Y\",G143<>\"\"),\"PL\"&AN143,\"\")","v":""},{"$f":"IF(AH143=\"Y\",IF(VLOOKUP(A143,PLFN1,4,FALSE)=0,\"\",VLOOKUP(A143,PLFN1,4,FALSE)),\"\")","v":""},{"$f":"IF(AND(AI143=\"Y\",I143<>\"\"),\"PL\"&AO143,\"\")","v":""},{"$f":"IF(AI143=\"Y\",IF(VLOOKUP(A143,PLFN1,5,FALSE)=0,\"\",VLOOKUP(A143,PLFN1,5,FALSE)),\"\")","v":""},null,{"$f":"IF(AND(AJ143=\"Y\",L143<>\"\"),\"PL\"&AP143,\"\")","v":""},null,979,"in-gaap","false","monetary","credit","duration","item","true","",0,"INR","D2011","D2010",null,{"$f":"decimals","v":0},null,"",2,null,1,"Y","N","N","N","","","",0,0,0,null,0,0,0,"Revenue royalties",null,0,"","","",0,"","","",0,"","",""]
["Revenue technical knowhow","RevenueTechnicalKnowhow",{"$f":"IF(OR('17-AddlDetInStat'!D55=0,ISNUMBER('17-AddlDetInStat'!D55)=FALSE),\"\",'17-AddlDetInStat'!D55)","v":""},{"$f":"IF(OR('17-AddlDetInStat'!E55=0,ISNUMBER('17-AddlDetInStat'!E55)=FALSE),\"\",'17-AddlDetInStat'!E55)","v":""},null,"","","","",null,"",null,980,"in-gaap","false","monetary","credit","duration","item","true","",0,"INR","D2011","D2010",null,0,null,"",2,null,1,"Y","N","N","N","","","",0,0,0,null,0,0,0,"Revenue technical knowhow",null,0,"","","",0,"","","",0,"","",""]
["Revenue franchise","RevenueFranchise",{"$f":"IF(OR('17-AddlDetInStat'!D56=0,ISNUMBER('17-AddlDetInStat'!D56)=FALSE),\"\",'17-AddlDetInStat'!D56)","v":""},{"$f":"IF(OR('17-AddlDetInStat'!E56=0,ISNUMBER('17-AddlDetInStat'!E56)=FALSE),\"\",'17-AddlDetInStat'!E56)","v":""},null,"","","","",null,"",null,981,"in-gaap","false","monetary","credit","duration","item","true","",0,"INR","D2011","D2010",null,0,null,"",2,null,1,"Y","N","N","N","","","",0,0,0,null,0,0,0,"Revenue franchise",null,0,"","","",0,"","","",0,"","",""]
["Revenue licences","RevenueLicences",{"$f":"IF(OR('17-AddlDetInStat'!D57=0,ISNUMBER('17-AddlDetInStat'!D57)=FALSE),\"\",'17-AddlDetInStat'!D57)","v":""},{"$f":"IF(OR('17-AddlDetInStat'!E57=0,ISNUMBER('17-AddlDetInStat'!E57)=FALSE),\"\",'17-AddlDetInStat'!E57)","v":""},null,"","","","",null,"",null,982,"in-gaap","false","monetary","credit","duration","item","true","",0,"INR","D2011","D2010",null,0,null,"",2,null,1,"Y","N","N","N","","","",0,0,0,null,0,0,0,"Revenue licences",null,0,"","","",0,"","","",0,"","",""]
["Revenue contractual rights","RevenueContractualRights",{"$f":"IF(OR('17-AddlDetInStat'!D58=0,ISNUMBER('17-AddlDetInStat'!D58)=FALSE),\"\",'17-AddlDetInStat'!D58)","v":""},{"$f":"IF(OR('17-AddlDetInStat'!E58=0,ISNUMBER('17-AddlDetInStat'!E58)=FALSE),\"\",'17-AddlDetInStat'!E58)","v":""},null,"","","","",null,"",null,983,"in-gaap","false","monetary","credit","duration","item","true","",0,"INR","D2011","D2010",null,0,null,"",2,null,1,"Y","N","N","N","","","",0,0,0,null,0,0,0,"Revenue contractual rights",null,0,"","","",0,"","","",0,"","",""]
["Revenue intangible assets","RevenueIntangibleAssets",{"$f":"IF(OR('17-AddlDetInStat'!D59=0,ISNUMBER('17-AddlDetInStat'!D59)=FALSE),\"\",'17-AddlDetInStat'!D59)","v":""},{"$f":"IF(OR('17-AddlDetInStat'!E59=0,ISNUMBER('17-AddlDetInStat'!E59)=FALSE),\"\",'17-AddlDetInStat'!E59)","v":""},null,"","","","",null,"",null,978,"in-gaap","false","monetary","credit","duration","item","true","",0,"INR","D2011","D2010",null,0,null,"",2,null,1,"Y","N","N","N","","","",0,0,0,null,0,0,0,"Revenue intangible assets",null,0,"","","",0,"","","",0,"","",""]
["Other operating revenues","OtherOperatingRevenues",{"$f":"IF(OR('17-AddlDetInStat'!D12=0,ISNUMBER('17-AddlDetInStat'!D12)=FALSE),\"\",'17-AddlDetInStat'!D12)","v":""},{"$f":"IF(OR('17-AddlDetInStat'!E12=0,ISNUMBER('17-AddlDetInStat'!E12)=FALSE),\"\",'17-AddlDetInStat'!E12)","v":""},null,"","","","",null,"",null,984,"in-gaap","false","monetary","credit","duration","item","true","",0,"INR","D2011","D2010",null,0,null,"",2,null,1,"Y","N","N","N","","","",0,0,0,null,0,0,0,"Other operating revenues",null,0,"","","",0,"","","",0,"","",""]
["Operating revenue, gross","OperatingRevenueGross",{"$f":"IF(OR('17-AddlDetInStat'!D13=0,ISNUMBER('17-AddlDetInStat'!D13)=FALSE),\"\",'17-AddlDetInStat'!D13)","v":""},{"$f":"IF(OR('17-AddlDetInStat'!E13=0,ISNUMBER('17-AddlDetInStat'!E13)=FALSE),\"\",'17-AddlDetInStat'!E13)","v":""},null,"","","","",null,"",null,{"$f":"VLOOKUP(B150,XBRLBusinessRules,2,FALSE)","v":944},{"$f":"VLOOKUP(B150,XBRLBusinessRules,3,FALSE)","v":"in-gaap"},{"$f":"VLOOKUP(B150,XBRLBusinessRules,4,FALSE)","v":"false"},{"$f":"VLOOKUP(B150,XBRLBusinessRules,5,FALSE)","v":"monetary"},{"$f":"VLOOKUP(B150,XBRLBusinessRules,6,FALSE)","v":"credit"},{"$f":"VLOOKUP(B150,XBRLBusinessRules,7,FALSE)","v":"duration"},{"$f":"VLOOKUP(B150,XBRLBusinessRules,8,FALSE)","v":"item"},{"$f":"VLOOKUP(B150,XBRLBusinessRules,9,FALSE)","v":"true"},{"$f":"VLOOKUP(B150,XBRLBusinessRules,10,FALSE)","v":""},{"$f":"VLOOKUP(B150,XBRLBusinessRules,11,FALSE)","v":"This is a mandatory field."},{"$f":"IF(P150=\"monetary\",\"INR\",\"\")","v":"INR"},{"$f":"UPPER(LEFT(R150,1))&CYEND","v":"D2011"},{"$f":"UPPER(LEFT(R150,1))&PYEND","v":"D2010"},null,0,"M",{"$f":"IF(V150=\"This can be entered only in case of Consolidated instance document\",\"C\",\"\")","v":""},{"$f":"COUNTIF(TagNamePL,\"=\"&B150)","v":2},null,{"$f":"AD150-COUNTIFS(TagNamePL,B150,TagPLD,\"D\")","v":1},{"$f":"IF(OR(O150=\"true\",AE150=\"D\"),\"N\",\"Y\")","v":"Y"},"Y","Y","N","<in-gaap:OperatingRevenueGross unitRef=\"INR\" contextRef=\"D2011\" decimals=\"0\" >0</in-gaap:OperatingRevenueGross>","<in-gaap:OperatingRevenueGross unitRef=\"INR\" contextRef=\"D2010\" decimals=\"0\" >0</in-gaap:OperatingRevenueGross>","",0,0,0,null,0,0,{"$f":"IF(AF150=1,0,1)","v":0},"Operating revenue, gross",null,0,"","","",0,"","","",0,"","",""]
["Duties taxes collected [abstract]","DutiesTaxesCollectedAbstract",{"$nulls":3},"",null,"",null,null,"",null,1331,"in-gaap","true","string","","duration","item","true","",0,"","D2011","D2010",{"$nulls":3},"",2,null,1,"N","N","N","N","","","",0,0,0,null,0,0,0,"",null,0,"","","",0,"","","",0,"","",""]
["Excise duty collected","ExciseDutyCollected",{"$f":"IF(OR('17-AddlDetInStat'!D63=0,ISNUMBER('17-AddlDetInStat'!D63)=FALSE),\"\",'17-AddlDetInStat'!D63)","v":""},{"$f":"IF(OR('17-AddlDetInStat'!E63=0,ISNUMBER('17-AddlDetInStat'!E63)=FALSE),\"\",'17-AddlDetInStat'!E63)","v":""},null,{"$f":"IF(AND(AH152=\"Y\",G152<>\"\"),\"PL\"&AN152,\"\")","v":""},{"$f":"IF(AH152=\"Y\",IF(VLOOKUP(A152,PLFN1,4,FALSE)=0,\"\",VLOOKUP(A152,PLFN1,4,FALSE)),\"\")","v":""},{"$f":"IF(AND(AI152=\"Y\",I152<>\"\"),\"PL\"&AO152,\"\")","v":""},{"$f":"IF(AI152=\"Y\",IF(VLOOKUP(A152,PLFN1,5,FALSE)=0,\"\",VLOOKUP(A152,PLFN1,5,FALSE)),\"\")","v":""},null,{"$f":"IF(AND(AJ152=\"Y\",L152<>\"\"),\"PL\"&AP152,\"\")","v":""},null,986,"in-gaap","false","monetary","debit","duration","item","true","",0,"INR","D2011","D2010",null,{"$f":"decimals","v":0},null,"",2,null,1,"Y","N","N","N","","","",0,0,0,null,0,0,0,"Excise duty collected",null,0,"","","",0,"","","",0,"","",""]
["Service tax collected","ServiceTaxCollected",{"$f":"IF(OR('17-AddlDetInStat'!D64=0,ISNUMBER('17-AddlDetInStat'!D64)=FALSE),\"\",'17-AddlDetInStat'!D64)","v":""},{"$f":"IF(OR('17-AddlDetInStat'!E64=0,ISNUMBER('17-AddlDetInStat'!E64)=FALSE),\"\",'17-AddlDetInStat'!E64)","v":""},null,"","","","",null,"",null,987,"in-gaap","false","monetary","debit","duration","item","true","",0,"INR","D2011","D2010",null,0,null,"",2,null,1,"Y","N","N","N","","","",0,0,0,null,0,0,0,"Service tax collected",null,0,"","","",0,"","","",0,"","",""]
["Other duties taxes collected","OtherDutiesTaxesCollected",{"$f":"IF(OR('17-AddlDetInStat'!D65=0,ISNUMBER('17-AddlDetInStat'!D65)=FALSE),\"\",'17-AddlDetInStat'!D65)","v":""},{"$f":"IF(OR('17-AddlDetInStat'!E65=0,ISNUMBER('17-AddlDetInStat'!E65)=FALSE),\"\",'17-AddlDetInStat'!E65)","v":""},null,"","","","",null,"",null,988,"in-gaap","false","monetary","debit","duration","item","true","",0,"INR","D2011","D2010",null,0,null,"",2,null,1,"Y","N","N","N","","","",0,0,0,null,0,0,0,"Other duties taxes collected",null,0,"","","",0,"","","",0,"","",""]
["Duties taxes collected","DutiesTaxesCollected",{"$f":"IF(OR('17-AddlDetInStat'!D66=0,ISNUMBER('17-AddlDetInStat'!D66)=FALSE),\"\",'17-AddlDetInStat'!D66)","v":""},{"$f":"IF(OR('17-AddlDetInStat'!E66=0,ISNUMBER('17-AddlDetInStat'!E66)=FALSE),\"\",'17-AddlDetInStat'!E66)","v":""},null,"","","","",null,"",null,985,"in-gaap","false","monetary","debit","duration","item","true","",0,"INR","D2011","D2010",null,0,null,"",2,null,1,"Y","N","N","N","","","",0,0,0,null,0,0,0,"Duties taxes collected",null,0,"","","",0,"","","",0,"","",""]
["Interdivision transfers","InterdivisionTransfers",{"$f":"IF(OR('17-AddlDetInStat'!D15=0,ISNUMBER('17-AddlDetInStat'!D15)=FALSE),\"\",'17-AddlDetInStat'!D15)","v":""},{"$f":"IF(OR('17-AddlDetInStat'!E15=0,ISNUMBER('17-AddlDetInStat'!E15)=FALSE),\"\",'17-AddlDetInStat'!E15)","v":""},null,"","","","",null,"",null,989,"in-gaap","false","monetary","debit","duration","item","true","",0,"INR","D2011","D2010",null,0,null,"",2,null,1,"Y","N","N","N","","","",0,0,0,null,0,0,0,"Interdivision transfers",null,0,"","","",0,"","","",0,"","",""]
["Brokerage discounts rebates","BrokerageDiscountsRebates",{"$f":"IF(OR('17-AddlDetInStat'!D16=0,ISNUMBER('17-AddlDetInStat'!D16)=FALSE),\"\",'17-AddlDetInStat'!D16)","v":""},{"$f":"IF(OR('17-AddlDetInStat'!E16=0,ISNUMBER('17-AddlDetInStat'!E16)=FALSE),\"\",'17-AddlDetInStat'!E16)","v":""},null,"","","","",null,"",null,990,"in-gaap","false","monetary","debit","duration","item","true","",0,"INR","D2011","D2010",null,0,null,"",2,null,1,"Y","N","N","N","","","",0,0,0,null,0,0,0,"Brokerage discounts rebates",null,0,"","","",0,"","","",0,"","",""]
["Sales returns","SalesReturns",{"$f":"IF(OR('17-AddlDetInStat'!D17=0,ISNUMBER('17-AddlDetInStat'!D17)=FALSE),\"\",'17-AddlDetInStat'!D17)","v":""},{"$f":"IF(OR('17-AddlDetInStat'!E17=0,ISNUMBER('17-AddlDetInStat'!E17)=FALSE),\"\",'17-AddlDetInStat'!E17)","v":""},null,"","","","",null,"",null,991,"in-gaap","false","monetary","debit","duration","item","true","",0,"INR","D2011","D2010",null,0,null,"",2,null,1,"Y","N","N","N","","","",0,0,0,null,0,0,0,"Sales returns",null,0,"","","",0,"","","",0,"","",""]
["Other allowances deductions sales","OtherAllowancesDeductionsSales",{"$f":"IF(OR('17-AddlDetInStat'!D18=0,ISNUMBER('17-AddlDetInStat'!D18)=FALSE),\"\",'17-AddlDetInStat'!D18)","v":""},{"$f":"IF(OR('17-AddlDetInStat'!E18=0,ISNUMBER('17-AddlDetInStat'!E18)=FALSE),\"\",'17-AddlDetInStat'!E18)","v":""},null,"","","","",null,"",null,992,"in-gaap","false","monetary","debit","duration","item","true","",0,"INR","D2011","D2010",null,0,null,"",2,null,1,"Y","N","N","N","","","",0,0,0,null,0,0,0,"Other allowances deductions sales",null,0,"","","",0,"","","",0,"","",""]
["Share operating revenue joint ventures","ShareOperatingRevenueJointVentures",{"$f":"IF(OR('17-AddlDetInStat'!D19=0,ISNUMBER('17-AddlDetInStat'!D19)=FALSE),\"\",'17-AddlDetInStat'!D19)","v":""},{"$f":"IF(OR('17-AddlDetInStat'!E19=0,ISNUMBER('17-AddlDetInStat'!E19)=FALSE),\"\",'17-AddlDetInStat'!E19)","v":""},null,"","","","",null,"",null,993,"in-gaap","false","monetary","credit","duration","item","true","",0,"INR","D2011","D2010",null,0,null,"",2,null,1,{"$f":"IF(CONSOLCHECK=\"C\",IF(OR(O160=\"true\",AE160=\"D\"),\"N\",\"Y\"),\"N\")","v":"N"},"N","N","N","","","",0,0,0,null,0,0,0,"",null,0,"","","",0,"","","",0,"","",""]
["Operating revenue, net","OperatingRevenueNet",{"$f":"IF(OR('17-AddlDetInStat'!D20=0,ISNUMBER('17-AddlDetInStat'!D20)=FALSE),\"\",'17-AddlDetInStat'!D20)","v":""},{"$f":"IF(OR('17-AddlDetInStat'!E20=0,ISNUMBER('17-AddlDetInStat'!E20)=FALSE),\"\",'17-AddlDetInStat'!E20)","v":""},null,"","","","",null,"",null,943,"in-gaap","false","monetary","credit","duration","item","true","","This is a mandatory field.","INR","D2011","D2010",null,0,"M","",4,"D",1,"N","N","N","N","","","",0,0,0,null,0,0,0,"",null,0,"","","",0,"","","",0,"","",""]
["Receipt income investments [abstract]","ReceiptIncomeInvestmentsAbstract",{"$nulls":3},"",null,"",null,null,"",null,1333,"in-gaap","true","string","","duration","item","true","",0,"","D2011","D2010",{"$nulls":3},"",2,null,1,"N","N","N","N","","","",0,0,0,null,0,0,0,"",null,0,"","","",0,"","","",0,"","",""]
["Receipt income investments trade","ReceiptIncomeInvestmentsTrade",{"$f":"IF(OR('17-AddlDetInStat'!D70=0,ISNUMBER('17-AddlDetInStat'!D70)=FALSE),\"\",'17-AddlDetInStat'!D70)","v":""},{"$f":"IF(OR('17-AddlDetInStat'!E70=0,ISNUMBER('17-AddlDetInStat'!E70)=FALSE),\"\",'17-AddlDetInStat'!E70)","v":""},null,"",{"$f":"IF(AH163=\"Y\",IF(VLOOKUP(A163,PLFN2,4,FALSE)=0,\"\",VLOOKUP(A163,PLFN2,4,FALSE)),\"\")","v":""},"",{"$f":"IF(AI163=\"Y\",IF(VLOOKUP(A163,PLFN2,5,FALSE)=0,\"\",VLOOKUP(A163,PLFN2,5,FALSE)),\"\")","v":""},null,"",null,1296,"in-gaap","false","monetary","credit","duration","item","true","",0,"INR","D2011","D2010",null,{"$f":"decimals","v":0},null,"",1,null,1,"Y","N","N","N","","","",0,0,0,null,0,0,0,"Receipt income investments trade",null,0,"","","",0,"","","",0,"","",""]
["Receipt income investments non-trade","ReceiptIncomeInvestmentsNontrade",{"$f":"IF(OR('17-AddlDetInStat'!D71=0,ISNUMBER('17-AddlDetInStat'!D71)=FALSE),\"\",'17-AddlDetInStat'!D71)","v":""},{"$f":"IF(OR('17-AddlDetInStat'!E71=0,ISNUMBER('17-AddlDetInStat'!E71)=FALSE),\"\",'17-AddlDetInStat'!E71)","v":""},null,{"$f":"IF(AND(AH164=\"Y\",G164<>\"\"),\"PL\"&AN164,\"\")","v":""},{"$f":"IF(AH164=\"Y\",IF(VLOOKUP(A164,PLFN2,4,FALSE)=0,\"\",VLOOKUP(A164,PLFN2,4,FALSE)),\"\")","v":""},{"$f":"IF(AND(AI164=\"Y\",I164<>\"\"),\"PL\"&AO164,\"\")","v":""},{"$f":"IF(AI164=\"Y\",IF(VLOOKUP(A164,PLFN2,5,FALSE)=0,\"\",VLOOKUP(A164,PLFN2,5,FALSE)),\"\")","v":""},null,{"$f":"IF(AND(AJ164=\"Y\",L164<>\"\"),\"PL\"&AP164,\"\")","v":""},null,1297,"in-gaap","false","monetary","credit","duration","item","true","",0,"INR","D2011","D2010",null,{"$f":"decimals","v":0},null,"",1,null,1,"Y","N","N","N","","","",0,0,0,null,0,0,0,"Receipt income investments non-trade",null,0,"","","",0,"","","",0,"","",""]
["Receipt rent investment properties","ReceiptRentInvestmentProperties",{"$f":"IF(OR('17-AddlDetInStat'!D72=0,ISNUMBER('17-AddlDetInStat'!D72)=FALSE),\"\",'17-AddlDetInStat'!D72)","v":""},{"$f":"IF(OR('17-AddlDetInStat'!E72=0,ISNUMBER('17-AddlDetInStat'!E72)=FALSE),\"\",'17-AddlDetInStat'!E72)","v":""},null,"",{"$f":"IF(AH165=\"Y\",IF(VLOOKUP(A165,PLFN2,4,FALSE)=0,\"\",VLOOKUP(A165,PLFN2,4,FALSE)),\"\")","v":""},"",{"$f":"IF(AI165=\"Y\",IF(VLOOKUP(A165,PLFN2,5,FALSE)=0,\"\",VLOOKUP(A165,PLFN2,5,FALSE)),\"\")","v":""},null,"",null,1022,"in-gaap","false","monetary","credit","duration","item","true","",0,"INR","D2011","D2010",null,{"$f":"decimals","v":0},null,"",2,null,1,"Y","N","N","N","","","",0,0,0,null,0,0,0,"Receipt rent investment properties",null,0,"","","",0,"","","",0,"","",""]
["Receipt income investments","ReceiptIncomeInvestments",{"$f":"IF(OR('17-AddlDetInStat'!D73=0,ISNUMBER('17-AddlDetInStat'!D73)=FALSE),\"\",'17-AddlDetInStat'!D73)","v":""},{"$f":"IF(OR('17-AddlDetInStat'!E73=0,ISNUMBER('17-AddlDetInStat'!E73)=FALSE),\"\",'17-AddlDetInStat'!E73)","v":""},null,"",{"$f":"IF(AH166=\"Y\",IF(VLOOKUP(A166,PLFN2,4,FALSE)=0,\"\",VLOOKUP(A166,PLFN2,4,FALSE)),\"\")","v":""},"",{"$f":"IF(AI166=\"Y\",IF(VLOOKUP(A166,PLFN2,5,FALSE)=0,\"\",VLOOKUP(A166,PLFN2,5,FALSE)),\"\")","v":""},null,"",null,999,"in-gaap","false","monetary","credit","duration","item","true","",0,"INR","D2011","D2010",null,{"$f":"decimals","v":0},null,"",2,null,1,"Y","N","N","N","","","",0,0,0,null,0,0,0,"Receipt income investments",null,0,"","","",0,"","","",0,"","",""]
["Profit loss discontinuing operations, net [abstract]","ProfitLossDiscontinuingOperationsNetAbstract",{"$nulls":3},"",null,"",null,null,"",null,1409,"in-gaap","true","string","","duration","item","true","",0,"","D2011","D2010",{"$nulls":3},"",1,null,1,"N","N","N","N","","","",0,0,0,null,0,0,0,"",null,0,"","","",0,"","","",0,"","",""]
["Profit loss discontinuing operations, gross [abstract]","ProfitLossDiscontinuingOperationsGrossAbstract",{"$nulls":3},"",null,"",null,null,"",null,1410,"in-gaap","true","string","","duration","item","true","",0,"","D2011","D2010",{"$nulls":3},"",1,null,1,"N","N","N","N","","","",0,0,0,null,0,0,0,"",null,0,"","","",0,"","","",0,"","",""]
["Income loss discontinuing operations [abstract]","IncomeLossDiscontinuingOperationsAbstract",{"$nulls":3},"",null,"",null,null,"",null,1390,"in-gaap","true","string","","duration","item","true","",0,"","D2011","D2010",{"$nulls":3},"",3,"D",1,"N","N","N","N","","","",0,0,0,null,0,0,0,"",null,0,"","","",0,"","","",0,"","",""]
["Revenues related discontinuing operations","RevenuesRelatedDiscontinuingOperations",{"$f":"IF(OR('17-AddlDetInStat'!D89=0,ISNUMBER('17-AddlDetInStat'!D89)=FALSE),\"\",'17-AddlDetInStat'!D89)","v":""},{"$f":"IF(OR('17-AddlDetInStat'!E89=0,ISNUMBER('17-AddlDetInStat'!E89)=FALSE),\"\",'17-AddlDetInStat'!E89)","v":""},null,{"$f":"IF(AND(AH170=\"Y\",G170<>\"\"),\"PL\"&AN170,\"\")","v":""},{"$f":"IF(AH170=\"Y\",IF(VLOOKUP(A170,PLFN2,4,FALSE)=0,\"\",VLOOKUP(A170,PLFN2,4,FALSE)),\"\")","v":""},{"$f":"IF(AND(AI170=\"Y\",I170<>\"\"),\"PL\"&AO170,\"\")","v":""},{"$f":"IF(AI170=\"Y\",IF(VLOOKUP(A170,PLFN2,5,FALSE)=0,\"\",VLOOKUP(A170,PLFN2,5,FALSE)),\"\")","v":""},null,{"$f":"IF(AND(AJ170=\"Y\",L170<>\"\"),\"PL\"&AP170,\"\")","v":""},null,911,"in-gaap","false","monetary","credit","duration","item","true","",0,"INR","D2011","D2010",null,{"$f":"decimals","v":0},null,"",3,"D",1,"N","N","N","N","","","",0,0,0,null,0,0,0,"",null,0,"","","",0,"","","",0,"","",""]
["Expenses related discontinuing operations","ExpensesRelatedDiscontinuingOperations",{"$f":"IF(OR('17-AddlDetInStat'!D90=0,ISNUMBER('17-AddlDetInStat'!D90)=FALSE),\"\",'17-AddlDetInStat'!D90)","v":""},{"$f":"IF(OR('17-AddlDetInStat'!E90=0,ISNUMBER('17-AddlDetInStat'!E90)=FALSE),\"\",'17-AddlDetInStat'!E90)","v":""},null,"",{"$f":"IF(AH171=\"Y\",IF(VLOOKUP(A171,PLFN2,4,FALSE)=0,\"\",VLOOKUP(A171,PLFN2,4,FALSE)),\"\")","v":""},"",{"$f":"IF(AI171=\"Y\",IF(VLOOKUP(A171,PLFN2,5,FALSE)=0,\"\",VLOOKUP(A171,PLFN2,5,FALSE)),\"\")","v":""},null,"",null,912,"in-gaap","false","monetary","debit","duration","item","true","",0,"INR","D2011","D2010",null,{"$f":"decimals","v":0},null,"",3,"D",1,"N","N","N","N","","","",0,0,0,null,0,0,0,"",null,0,"","","",0,"","","",0,"","",""]
["Income loss discontinuing operations","IncomeLossDiscontinuingOperations",{"$f":"IF(OR('17-AddlDetInStat'!D91=0,ISNUMBER('17-AddlDetInStat'!D91)=FALSE),\"\",'17-AddlDetInStat'!D91)","v":""},{"$f":"IF(OR('17-AddlDetInStat'!E91=0,ISNUMBER('17-AddlDetInStat'!E91)=FALSE),\"\",'17-AddlDetInStat'!E91)","v":""},null,"",{"$f":"IF(AH172=\"Y\",IF(VLOOKUP(A172,PLFN2,4,FALSE)=0,\"\",VLOOKUP(A172,PLFN2,4,FALSE)),\"\")","v":""},"",{"$f":"IF(AI172=\"Y\",IF(VLOOKUP(A172,PLFN2,5,FALSE)=0,\"\",VLOOKUP(A172,PLFN2,5,FALSE)),\"\")","v":""},null,"",null,910,"in-gaap","false","monetary","","duration","item","true","",0,"INR","D2011","D2010",null,{"$f":"decimals","v":0},null,"",3,"D",1,"N","N","N","N","","","",0,0,0,null,0,0,0,"",null,0,"","","",0,"","","",0,"","",""]
["Income loss disposal sale discontinuing operations","IncomeLossDisposalSaleDiscontinuingOperations",{"$f":"IF(OR('17-AddlDetInStat'!D84=0,ISNUMBER('17-AddlDetInStat'!D84)=FALSE),\"\",'17-AddlDetInStat'!D84)","v":""},{"$f":"IF(OR('17-AddlDetInStat'!E84=0,ISNUMBER('17-AddlDetInStat'!E84)=FALSE),\"\",'17-AddlDetInStat'!E84)","v":""},null,"",{"$f":"IF(AH173=\"Y\",IF(VLOOKUP(A173,PLFN2,4,FALSE)=0,\"\",VLOOKUP(A173,PLFN2,4,FALSE)),\"\")","v":""},"",{"$f":"IF(AI173=\"Y\",IF(VLOOKUP(A173,PLFN2,5,FALSE)=0,\"\",VLOOKUP(A173,PLFN2,5,FALSE)),\"\")","v":""},null,"",null,913,"in-gaap","false","monetary","","duration","item","true","",0,"INR","D2011","D2010",null,{"$f":"decimals","v":0},null,"",3,"D",1,"N","N","N","N","","","",0,0,0,null,0,0,0,"",null,0,"","","",0,"","","",0,"","",""]
["Profit loss discontinuing operations, gross","ProfitLossDiscontinuingOperationsGross",{"$f":"IF(OR('17-AddlDetInStat'!D85=0,ISNUMBER('17-AddlDetInStat'!D85)=FALSE),\"\",'17-AddlDetInStat'!D85)","v":""},{"$f":"IF(OR('17-AddlDetInStat'!E85=0,ISNUMBER('17-AddlDetInStat'!E85)=FALSE),\"\",'17-AddlDetInStat'!E85)","v":""},null,"",{"$f":"IF(AH174=\"Y\",IF(VLOOKUP(A174,PLFN4,4,FALSE)=0,\"\",VLOOKUP(A174,PLFN4,4,FALSE)),\"\")","v":""},"",{"$f":"IF(AI174=\"Y\",IF(VLOOKUP(A174,PLFN4,5,FALSE)=0,\"\",VLOOKUP(A174,PLFN4,5,FALSE)),\"\")","v":""},null,"",null,1293,"in-gaap","false","monetary","","duration","item","true","",0,"INR","D2011","D2010",null,{"$f":"decimals","v":0},null,"",1,null,1,"Y","N","N","N","","","",0,0,0,null,0,0,0,"Profit loss discontinuing operations, gross",null,0,"","","",0,"","","",0,"","",""]
["Tax effect discontinuing operations [abstract]","TaxEffectDiscontinuingOperationsAbstract",{"$nulls":3},"",null,"",null,null,"",null,1405,"in-gaap","true","string","","duration","item","true","",0,"","D2011","D2010",{"$nulls":3},"",2,null,1,"N","N","N","N","","","",0,0,0,null,0,0,0,"",null,0,"","","",0,"","","",0,"","",""]
["Tax effect income loss discontinuing operations","TaxEffectIncomeLossDiscontinuingOperations",{"$f":"IF(OR('17-AddlDetInStat'!D95=0,ISNUMBER('17-AddlDetInStat'!D95)=FALSE),\"\",'17-AddlDetInStat'!D95)","v":""},{"$f":"IF(OR('17-AddlDetInStat'!E95=0,ISNUMBER('17-AddlDetInStat'!E95)=FALSE),\"\",'17-AddlDetInStat'!E95)","v":""},null,{"$f":"IF(AND(AH176=\"Y\",G176<>\"\"),\"PL\"&AN176,\"\")","v":""},{"$f":"IF(AH176=\"Y\",IF(VLOOKUP(A176,PLFN4,4,FALSE)=0,\"\",VLOOKUP(A176,PLFN4,4,FALSE)),\"\")","v":""},{"$f":"IF(AND(AI176=\"Y\",I176<>\"\"),\"PL\"&AO176,\"\")","v":""},{"$f":"IF(AI176=\"Y\",IF(VLOOKUP(A176,PLFN4,5,FALSE)=0,\"\",VLOOKUP(A176,PLFN4,5,FALSE)),\"\")","v":""},null,{"$f":"IF(AND(AJ176=\"Y\",L176<>\"\"),\"PL\"&AP176,\"\")","v":""},null,1294,"in-gaap","false","monetary","","duration","item","true","",0,"INR","D2011","D2010",null,{"$f":"decimals","v":0},null,"",2,null,1,"Y","N","N","N","","","",0,0,0,null,0,0,0,"Tax effect income loss discontinuing operations",null,0,"","","",0,"","","",0,"","",""]
["Tax effect sale disposal discontinuing operations","TaxEffectSaleDisposalDiscontinuingOperations",{"$f":"IF(OR('17-AddlDetInStat'!D96=0,ISNUMBER('17-AddlDetInStat'!D96)=FALSE),\"\",'17-AddlDetInStat'!D96)","v":""},{"$f":"IF(OR('17-AddlDetInStat'!E96=0,ISNUMBER('17-AddlDetInStat'!E96)=FALSE),\"\",'17-AddlDetInStat'!E96)","v":""},null,"",{"$f":"IF(AH177=\"Y\",IF(VLOOKUP(A177,PLFN4,4,FALSE)=0,\"\",VLOOKUP(A177,PLFN4,4,FALSE)),\"\")","v":""},"",{"$f":"IF(AI177=\"Y\",IF(VLOOKUP(A177,PLFN4,5,FALSE)=0,\"\",VLOOKUP(A177,PLFN4,5,FALSE)),\"\")","v":""},null,"",null,1295,"in-gaap","false","monetary","","duration","item","true","",0,"INR","D2011","D2010",null,{"$f":"decimals","v":0},null,"",2,null,1,"Y","N","N","N","","","",0,0,0,null,0,0,0,"Tax effect sale disposal discontinuing operations",null,0,"","","",0,"","","",0,"","",""]
["Tax effect discontinuing operations","TaxEffectDiscontinuingOperations",{"$f":"IF(OR('17-AddlDetInStat'!D97=0,ISNUMBER('17-AddlDetInStat'!D97)=FALSE),\"\",'17-AddlDetInStat'!D97)","v":""},{"$f":"IF(OR('17-AddlDetInStat'!E97=0,ISNUMBER('17-AddlDetInStat'!E97)=FALSE),\"\",'17-AddlDetInStat'!E97)","v":""},null,"",{"$f":"IF(AH178=\"Y\",IF(VLOOKUP(A178,PLFN2,4,FALSE)=0,\"\",VLOOKUP(A178,PLFN2,4,FALSE)),\"\")","v":""},"",{"$f":"IF(AI178=\"Y\",IF(VLOOKUP(A178,PLFN2,5,FALSE)=0,\"\",VLOOKUP(A178,PLFN2,5,FALSE)),\"\")","v":""},null,"",null,921,"in-gaap","false","monetary","","duration","item","true","",0,"INR","D2011","D2010",null,{"$f":"decimals","v":0},null,"",4,"D",1,"N","N","N","N","","","",0,0,0,null,0,0,0,"",null,0,"","","",0,"","","",0,"","",""]
["Profit loss discontinuing operations, net","ProfitLossDiscontinuingOperationsNet",{"$f":"IF(OR('17-AddlDetInStat'!D79=0,ISNUMBER('17-AddlDetInStat'!D79)=FALSE),\"\",'17-AddlDetInStat'!D79)","v":""},{"$f":"IF(OR('17-AddlDetInStat'!E79=0,ISNUMBER('17-AddlDetInStat'!E79)=FALSE),\"\",'17-AddlDetInStat'!E79)","v":""},null,{"$f":"IF(AND(AH179=\"Y\",G179<>\"\"),\"PL\"&AN179,\"\")","v":""},{"$f":"IF(AH179=\"Y\",IF(VLOOKUP(A179,PLFN4,4,FALSE)=0,\"\",VLOOKUP(A179,PLFN4,4,FALSE)),\"\")","v":""},{"$f":"IF(AND(AI179=\"Y\",I179<>\"\"),\"PL\"&AO179,\"\")","v":""},{"$f":"IF(AI179=\"Y\",IF(VLOOKUP(A179,PLFN4,5,FALSE)=0,\"\",VLOOKUP(A179,PLFN4,5,FALSE)),\"\")","v":""},null,"",null,1292,"in-gaap","false","monetary","debit","duration","item","true","",0,"INR","D2011","D2010",null,{"$f":"decimals","v":0},null,"",1,null,1,"Y","N","N","N","","","",0,0,0,null,0,0,0,"Profit loss discontinuing operations, net",null,0,"","","",0,"","","",0,"","",""]
["Capitalisation expenses [abstract]","CapitalisationExpensesAbstract",{"$nulls":3},"",null,"",null,null,"",null,1411,"in-gaap","true","string","","duration","item","true","",0,"","D2011","D2010",{"$nulls":3},"",1,null,1,"N","N","N","N","","","",0,0,0,null,0,0,0,"",null,0,"","","",0,"","","",0,"","",""]
["Capitalisation raw other materials","CapitalisationRawOtherMaterials",{"$f":"IF(OR('17-AddlDetInStat'!D101=0,ISNUMBER('17-AddlDetInStat'!D101)=FALSE),\"\",'17-AddlDetInStat'!D101)","v":""},{"$f":"IF(OR('17-AddlDetInStat'!E101=0,ISNUMBER('17-AddlDetInStat'!E101)=FALSE),\"\",'17-AddlDetInStat'!E101)","v":""},null,{"$f":"IF(AND(AH181=\"Y\",G181<>\"\"),\"PL\"&AN181,\"\")","v":""},{"$f":"IF(AH181=\"Y\",IF(VLOOKUP(A181,PLFN2,4,FALSE)=0,\"\",VLOOKUP(A181,PLFN2,4,FALSE)),\"\")","v":""},{"$f":"IF(AND(AI181=\"Y\",I181<>\"\"),\"PL\"&AO181,\"\")","v":""},{"$f":"IF(AI181=\"Y\",IF(VLOOKUP(A181,PLFN2,5,FALSE)=0,\"\",VLOOKUP(A181,PLFN2,5,FALSE)),\"\")","v":""},null,{"$f":"IF(AND(AJ181=\"Y\",L181<>\"\"),\"PL\"&AP181,\"\")","v":""},null,1055,"in-gaap","false","monetary","credit","duration","item","true","",0,"INR","D2011","D2010",null,{"$f":"decimals","v":0},null,"",2,"D",1,"N","N","N","N","","","",0,0,0,null,0,0,0,"",null,0,"","","",0,"","","",0,"","",""]
["Capitalisation manufacturing service cost","CapitalisationManufacturingServiceCost",{"$f":"IF(OR('17-AddlDetInStat'!D102=0,ISNUMBER('17-AddlDetInStat'!D102)=FALSE),\"\",'17-AddlDetInStat'!D102)","v":""},{"$f":"IF(OR('17-AddlDetInStat'!E102=0,ISNUMBER('17-AddlDetInStat'!E102)=FALSE),\"\",'17-AddlDetInStat'!E102)","v":""},null,"",{"$f":"IF(AH182=\"Y\",IF(VLOOKUP(A182,PLFN4,4,FALSE)=0,\"\",VLOOKUP(A182,PLFN4,4,FALSE)),\"\")","v":""},"",{"$f":"IF(AI182=\"Y\",IF(VLOOKUP(A182,PLFN4,5,FALSE)=0,\"\",VLOOKUP(A182,PLFN4,5,FALSE)),\"\")","v":""},null,"",null,{"$f":"VLOOKUP(B182,XBRLBusinessRules,2,FALSE)","v":1106},{"$f":"VLOOKUP(B182,XBRLBusinessRules,3,FALSE)","v":"in-gaap"},{"$f":"VLOOKUP(B182,XBRLBusinessRules,4,FALSE)","v":"false"},{"$f":"VLOOKUP(B182,XBRLBusinessRules,5,FALSE)","v":"monetary"},{"$f":"VLOOKUP(B182,XBRLBusinessRules,6,FALSE)","v":"credit"},{"$f":"VLOOKUP(B182,XBRLBusinessRules,7,FALSE)","v":"duration"},{"$f":"VLOOKUP(B182,XBRLBusinessRules,8,FALSE)","v":"item"},{"$f":"VLOOKUP(B182,XBRLBusinessRules,9,FALSE)","v":"true"},{"$f":"VLOOKUP(B182,XBRLBusinessRules,10,FALSE)","v":""},{"$f":"VLOOKUP(B182,XBRLBusinessRules,11,FALSE)","v":0},{"$f":"IF(P182=\"monetary\",\"INR\",\"\")","v":"INR"},{"$f":"UPPER(LEFT(R182,1))&CYEND","v":"D2011"},{"$f":"UPPER(LEFT(R182,1))&PYEND","v":"D2010"},null,{"$f":"decimals","v":0},null,{"$f":"IF(V182=\"This can be entered only in case of Consolidated instance document\",\"C\",\"\")","v":""},{"$f":"COUNTIF(TagNamePL,\"=\"&B182)","v":2},null,{"$f":"AD182-COUNTIFS(TagNamePL,B182,TagPLD,\"D\")","v":1},{"$f":"IF(OR(O182=\"true\",AE182=\"D\"),\"N\",\"Y\")","v":"Y"},{"$f":"IF(OR(AND(C182=\"\",D182=\"\",(AB182=\"M\")=FALSE),AG182=\"N\"),\"N\",\"Y\")","v":"N"},{"$f":"IF(OR(AND(C182=\"\",D182=\"\",(AB182=\"M\")=FALSE),AG182=\"N\"),\"N\",\"Y\")","v":"N"},{"$f":"IF(AND(COUNTBLANK(X182:Z182)=0,AG182=\"Y\"),IF(OR(AB182=\"M\",E182<>\"\"),\"Y\",\"N\"),\"N\")","v":"N"},{"$f":"IF(AH182=\"Y\",(\"<\"&N182&\":\"&B182&\" \"&IF(F182=\"\",\"\",\"id=\"\"\"&\"TA\"&F182&\"\"\"\"&\" \")&IF(OR(P182=\"monetary\",W182<>\"\"),\"unitRef=\"\"\"&W182&\"\"\"\"&\" \",\"\")&IF(X182=\"\",\"\",\"contextRef=\"\"\"&X182&\"\"\"\"&\" \")&IF(OR(P182=\"monetary\",AA182<>\"\"),\"decimals=\"\"\"&decimals&\"\"\"\"&\" \",\"\")&\">\")&IF(C182=\"\",0,C182)&\"</\"&N182&\":\"&B182&\">\",\"\")","v":""},{"$f":"IF(AI182=\"Y\",(\"<\"&N182&\":\"&B182&\" \"&IF(H182=\"\",\"\",\"id=\"\"\"&\"TA\"&H182&\"\"\"\"&\" \")&IF(OR(P182=\"monetary\",W182<>\"\"),\"unitRef=\"\"\"&W182&\"\"\"\"&\" \",\"\")&IF(Y182=\"\",\"\",\"contextRef=\"\"\"&Y182&\"\"\"\"&\" \")&IF(OR(P182=\"monetary\",AA182<>\"\"),\"decimals=\"\"\"&decimals&\"\"\"\"&\" \",\"\")&\">\")&IF(D182=\"\",0,D182)&\"</\"&N182&\":\"&B182&\">\",\"\")","v":""},{"$f":"IF(AJ182=\"Y\",(\"<\"&N182&\":\"&B182&\" \"&IF(K182=\"\",\"\",\"id=\"\"\"&\"TA\"&K182&\"\"\"\"&\" \")&IF(OR(P182=\"monetary\",W182<>\"\"),\"unitRef=\"\"\"&W182&\"\"\"\"&\" \",\"\")&IF(Z182=\"\",\"\",\"contextRef=\"\"\"&Z182&\"\"\"\"&\" \")&IF(OR(P182=\"monetary\",AA182<>\"\"),\"decimals=\"\"\"&decimals&\"\"\"\"&\" \",\"\")&\">\")&IF(E182=\"\",0,E182)&\"</\"&N182&\":\"&B182&\">\",\"\")","v":""},0,0,0,null,0,0,{"$f":"IF(AF182=1,0,1)","v":0},"Capitalisation manufacturing service cost",null,0,"","","",0,"","","",0,"","",""]
["Capitalisation employee expenses","CapitalisationEmployeeExpenses",{"$f":"IF(OR('17-AddlDetInStat'!D103=0,ISNUMBER('17-AddlDetInStat'!D103)=FALSE),\"\",'17-AddlDetInStat'!D103)","v":""},{"$f":"IF(OR('17-AddlDetInStat'!E103=0,ISNUMBER('17-AddlDetInStat'!E103)=FALSE),\"\",'17-AddlDetInStat'!E103)","v":""},null,"",{"$f":"IF(AH183=\"Y\",IF(VLOOKUP(A183,PLFN2,4,FALSE)=0,\"\",VLOOKUP(A183,PLFN2,4,FALSE)),\"\")","v":""},"",{"$f":"IF(AI183=\"Y\",IF(VLOOKUP(A183,PLFN2,5,FALSE)=0,\"\",VLOOKUP(A183,PLFN2,5,FALSE)),\"\")","v":""},null,"",null,1124,"in-gaap","false","monetary","credit","duration","item","true","",0,"INR","D2011","D2010",null,{"$f":"decimals","v":0},null,"",2,"D",1,"N","N","N","N","","","",0,0,0,null,0,0,0,"",null,0,"","","",0,"","","",0,"","",""]
["Capitalisation administration selling expenses","CapitalisationAdministrationSellingExpenses",{"$f":"IF(OR('17-AddlDetInStat'!D104=0,ISNUMBER('17-AddlDetInStat'!D104)=FALSE),\"\",'17-AddlDetInStat'!D104)","v":""},{"$f":"IF(OR('17-AddlDetInStat'!E104=0,ISNUMBER('17-AddlDetInStat'!E104)=FALSE),\"\",'17-AddlDetInStat'!E104)","v":""},null,"",{"$f":"IF(AH184=\"Y\",IF(VLOOKUP(A184,PLFN4,4,FALSE)=0,\"\",VLOOKUP(A184,PLFN4,4,FALSE)),\"\")","v":""},"",{"$f":"IF(AI184=\"Y\",IF(VLOOKUP(A184,PLFN4,5,FALSE)=0,\"\",VLOOKUP(A184,PLFN4,5,FALSE)),\"\")","v":""},null,"",null,1215,"in-gaap","false","monetary","credit","duration","item","true","",0,"INR","D2011","D2010",null,{"$f":"decimals","v":0},null,"",2,null,1,"Y","N","N","N","","","",{"$f":"IF(AND(AH184=\"Y\",G184<>\"\"),AP183+1,AP183)","v":0},{"$f":"IF(AND(AI184=\"Y\",I184<>\"\"),AN184+1,AN184)","v":0},{"$f":"IF(AND(AJ184=\"Y\",L184<>\"\"),AO184+1,AO184)","v":0},null,0,0,0,"Capitalisation administration selling expenses",null,0,"","","",0,"","","",0,"","",""]
["Capitalisation expenses","CapitalisationExpenses",{"$f":"IF(OR('17-AddlDetInStat'!D105=0,ISNUMBER('17-AddlDetInStat'!D105)=FALSE),\"\",'17-AddlDetInStat'!D105)","v":""},{"$f":"IF(OR('17-AddlDetInStat'!E105=0,ISNUMBER('17-AddlDetInStat'!E105)=FALSE),\"\",'17-AddlDetInStat'!E105)","v":""},null,"",{"$f":"IF(AH185=\"Y\",IF(VLOOKUP(A185,PLFN4,4,FALSE)=0,\"\",VLOOKUP(A185,PLFN4,4,FALSE)),\"\")","v":""},"",{"$f":"IF(AI185=\"Y\",IF(VLOOKUP(A185,PLFN4,5,FALSE)=0,\"\",VLOOKUP(A185,PLFN4,5,FALSE)),\"\")","v":""},null,"",null,1298,"in-gaap","false","monetary","credit","duration","item","true","",0,"INR","D2011","D2010",null,{"$f":"decimals","v":0},null,"",1,null,1,"Y","N","N","N","","","",0,0,0,null,0,0,0,"Capitalisation expenses",null,0,"","","",0,"","","",0,"","",""]
["Amounts transferred reserves [abstract]","AmountsTransferredReservesAbstract",{"$nulls":3},{"$f":"IF(AND(AH186=\"Y\",G186<>\"\"),\"PL\"&AN186,\"\")","v":""},null,{"$f":"IF(AND(AI186=\"Y\",I186<>\"\"),\"PL\"&AO186,\"\")","v":""},null,null,{"$f":"IF(AND(AJ186=\"Y\",L186<>\"\"),\"PL\"&AP186,\"\")","v":""},null,1395,"in-gaap","true","string","","duration","item","true","",0,"","D2011","D2010",{"$nulls":3},"",1,null,1,"N","N","N","N","","","",0,0,0,null,0,0,0,"",null,0,"","","",0,"","","",0,"","",""]
["Amount transferred from general reserve","AmountTransferredfromGeneralReserve",{"$f":"IF(OR('17-AddlDetInStat'!D109=0,ISNUMBER('17-AddlDetInStat'!D109)=FALSE),\"\",'17-AddlDetInStat'!D109)","v":""},{"$f":"IF(OR('17-AddlDetInStat'!E109=0,ISNUMBER('17-AddlDetInStat'!E109)=FALSE),\"\",'17-AddlDetInStat'!E109)","v":""},null,"",{"$f":"IF(AH187=\"Y\",IF(VLOOKUP(A187,PLFN4,4,FALSE)=0,\"\",VLOOKUP(A187,PLFN4,4,FALSE)),\"\")","v":""},"",{"$f":"IF(AI187=\"Y\",IF(VLOOKUP(A187,PLFN4,5,FALSE)=0,\"\",VLOOKUP(A187,PLFN4,5,FALSE)),\"\")","v":""},null,"",null,1278,"in-gaap","false","monetary","credit","duration","item","true","",0,"INR","D2011","D2010",null,{"$f":"decimals","v":0},null,"",1,null,1,"Y","N","N","N","","","",0,0,0,null,0,0,0,"Amount transferred from general reserve",null,0,"","","",0,"","","",0,"","",""]
["Amount transferred from capital reserves","AmountTransferredfromCapitalReserves",{"$f":"IF(OR('17-AddlDetInStat'!D110=0,ISNUMBER('17-AddlDetInStat'!D110)=FALSE),\"\",'17-AddlDetInStat'!D110)","v":""},{"$f":"IF(OR('17-AddlDetInStat'!E110=0,ISNUMBER('17-AddlDetInStat'!E110)=FALSE),\"\",'17-AddlDetInStat'!E110)","v":""},null,{"$f":"IF(AND(AH188=\"Y\",G188<>\"\"),\"PL\"&AN188,\"\")","v":""},{"$f":"IF(AH188=\"Y\",IF(VLOOKUP(A188,PLFN4,4,FALSE)=0,\"\",VLOOKUP(A188,PLFN4,4,FALSE)),\"\")","v":""},{"$f":"IF(AND(AI188=\"Y\",I188<>\"\"),\"PL\"&AO188,\"\")","v":""},{"$f":"IF(AI188=\"Y\",IF(VLOOKUP(A188,PLFN4,5,FALSE)=0,\"\",VLOOKUP(A188,PLFN4,5,FALSE)),\"\")","v":""},null,"",null,1279,"in-gaap","false","monetary","credit","duration","item","true","",0,"INR","D2011","D2010",null,{"$f":"decimals","v":0},null,"",1,null,1,"Y","N","N","N","","","",0,0,0,null,0,0,0,"Amount transferred from capital reserves",null,0,"","","",0,"","","",0,"","",""]
["Amount transferred special source","AmountTransferredSpecialSource",{"$f":"IF(OR('17-AddlDetInStat'!D111=0,ISNUMBER('17-AddlDetInStat'!D111)=FALSE),\"\",'17-AddlDetInStat'!D111)","v":""},{"$f":"IF(OR('17-AddlDetInStat'!E111=0,ISNUMBER('17-AddlDetInStat'!E111)=FALSE),\"\",'17-AddlDetInStat'!E111)","v":""},null,"",{"$f":"IF(AH189=\"Y\",IF(VLOOKUP(A189,PLFN4,4,FALSE)=0,\"\",VLOOKUP(A189,PLFN4,4,FALSE)),\"\")","v":""},"",{"$f":"IF(AI189=\"Y\",IF(VLOOKUP(A189,PLFN4,5,FALSE)=0,\"\",VLOOKUP(A189,PLFN4,5,FALSE)),\"\")","v":""},null,"",null,1280,"in-gaap","false","monetary","credit","duration","item","true","",0,"INR","D2011","D2010",null,{"$f":"decimals","v":0},null,"",1,null,1,"Y","N","N","N","","","",0,0,0,null,0,0,0,"Amount transferred special source",null,0,"","","",0,"","","",0,"","",""]
["Amounts transferred from other reserves","AmountsTransferredfromOtherReserves",{"$f":"IF(OR('17-AddlDetInStat'!D112=0,ISNUMBER('17-AddlDetInStat'!D112)=FALSE),\"\",'17-AddlDetInStat'!D112)","v":""},{"$f":"IF(OR('17-AddlDetInStat'!E112=0,ISNUMBER('17-AddlDetInStat'!E112)=FALSE),\"\",'17-AddlDetInStat'!E112)","v":""},null,"",{"$f":"IF(AH190=\"Y\",IF(VLOOKUP(A190,PLFN4,4,FALSE)=0,\"\",VLOOKUP(A190,PLFN4,4,FALSE)),\"\")","v":""},"",{"$f":"IF(AI190=\"Y\",IF(VLOOKUP(A190,PLFN4,5,FALSE)=0,\"\",VLOOKUP(A190,PLFN4,5,FALSE)),\"\")","v":""},null,"",null,1281,"in-gaap","false","monetary","credit","duration","item","true","",0,"INR","D2011","D2010",null,{"$f":"decimals","v":0},null,"",1,null,1,"Y","N","N","N","","","",0,0,0,null,0,0,0,"Amounts transferred from other reserves",null,0,"","","",0,"","","",0,"","",""]
["Amounts transferred reserves","AmountsTransferredReserves",{"$f":"IF(OR('17-AddlDetInStat'!D113=0,ISNUMBER('17-AddlDetInStat'!D113)=FALSE),\"\",'17-AddlDetInStat'!D113)","v":""},{"$f":"IF(OR('17-AddlDetInStat'!E113=0,ISNUMBER('17-AddlDetInStat'!E113)=FALSE),\"\",'17-AddlDetInStat'!E113)","v":""},null,"",{"$f":"IF(AH191=\"Y\",IF(VLOOKUP(A191,PLFN4,4,FALSE)=0,\"\",VLOOKUP(A191,PLFN4,4,FALSE)),\"\")","v":""},"",{"$f":"IF(AI191=\"Y\",IF(VLOOKUP(A191,PLFN4,5,FALSE)=0,\"\",VLOOKUP(A191,PLFN4,5,FALSE)),\"\")","v":""},null,"",null,1277,"in-gaap","false","monetary","credit","duration","item","true","",0,"INR","D2011","D2010",null,{"$f":"decimals","v":0},null,"",3,"D",1,"N","N","N","N","","","",0,0,0,null,0,0,0,"",null,0,"","","",0,"","","",0,"","",""]
["Appropriations [abstract]","AppropriationsAbstract",{"$nulls":3},"",null,"",null,null,"",null,1396,"in-gaap","true","string","","duration","item","true","",0,"","D2011","D2010",{"$nulls":3},"",1,null,1,"N","N","N","N","","","",0,0,0,null,0,0,0,"",null,0,"","","",0,"","","",0,"","",""]
["Appropriations reserves [abstract]","AppropriationsReservesAbstract",{"$nulls":3},"",null,"",null,null,"",null,1397,"in-gaap","true","string","","duration","item","true","",0,"","D2011","D2010",{"$nulls":3},"",1,null,1,"N","N","N","N","","","",0,0,0,null,0,0,0,"",null,0,"","","",0,"","","",0,"","",""]
["Appropriations general reserve","AppropriationsGeneralReserve",{"$f":"IF(OR('17-AddlDetInStat'!D123=0,ISNUMBER('17-AddlDetInStat'!D123)=FALSE),\"\",'17-AddlDetInStat'!D123)","v":""},{"$f":"IF(OR('17-AddlDetInStat'!E123=0,ISNUMBER('17-AddlDetInStat'!E123)=FALSE),\"\",'17-AddlDetInStat'!E123)","v":""},null,{"$f":"IF(AND(AH194=\"Y\",G194<>\"\"),\"PL\"&AN194,\"\")","v":""},{"$f":"IF(AH194=\"Y\",IF(VLOOKUP(A194,PLFN4,4,FALSE)=0,\"\",VLOOKUP(A194,PLFN4,4,FALSE)),\"\")","v":""},{"$f":"IF(AND(AI194=\"Y\",I194<>\"\"),\"PL\"&AO194,\"\")","v":""},{"$f":"IF(AI194=\"Y\",IF(VLOOKUP(A194,PLFN4,5,FALSE)=0,\"\",VLOOKUP(A194,PLFN4,5,FALSE)),\"\")","v":""},null,"",null,1263,"in-gaap","false","monetary","debit","duration","item","true","",0,"INR","D2011","D2010",null,{"$f":"decimals","v":0},null,"",1,null,1,"Y","N","N","N","","","",0,0,0,null,0,0,0,"Appropriations general reserve",null,0,"","","",0,"","","",0,"","",""]
["Appropriations statutory reserve","AppropriationsStatutoryReserve",{"$f":"IF(OR('17-AddlDetInStat'!D124=0,ISNUMBER('17-AddlDetInStat'!D124)=FALSE),\"\",'17-AddlDetInStat'!D124)","v":""},{"$f":"IF(OR('17-AddlDetInStat'!E124=0,ISNUMBER('17-AddlDetInStat'!E124)=FALSE),\"\",'17-AddlDetInStat'!E124)","v":""},null,"","","","",null,"",null,1264,"in-gaap","false","monetary","debit","duration","item","true","",0,"INR","D2011","D2010",null,0,null,"",1,null,1,"Y","N","N","N","","","",0,0,0,null,0,0,0,"Appropriations statutory reserve",null,0,"","","",0,"","","",0,"","",""]
["Appropriations capital reserve","AppropriationsCapitalReserve",{"$f":"IF(OR('17-AddlDetInStat'!D125=0,ISNUMBER('17-AddlDetInStat'!D125)=FALSE),\"\",'17-AddlDetInStat'!D125)","v":""},{"$f":"IF(OR('17-AddlDetInStat'!E125=0,ISNUMBER('17-AddlDetInStat'!E125)=FALSE),\"\",'17-AddlDetInStat'!E125)","v":""},null,"","","","",null,"",null,1265,"in-gaap","false","monetary","debit","duration","item","true","",0,"INR","D2011","D2010",null,0,null,"",1,null,1,"Y","N","N","N","","","",0,0,0,null,{"$f":"IF(AQ196=\"P\",IF(C196<0,1,0),0)","v":0},{"$f":"IF(AQ196=\"P\",IF(D196<0,1,0),0)","v":0},0,"Appropriations capital reserve",null,0,"","","",0,"","","",0,"","",""]
["Appropriations capital redemption reserve","AppropriationsCapitalRedemptionReserve",{"$f":"IF(OR('17-AddlDetInStat'!D126=0,ISNUMBER('17-AddlDetInStat'!D126)=FALSE),\"\",'17-AddlDetInStat'!D126)","v":""},{"$f":"IF(OR('17-AddlDetInStat'!E126=0,ISNUMBER('17-AddlDetInStat'!E126)=FALSE),\"\",'17-AddlDetInStat'!E126)","v":""},null,"","","","",null,"",null,1266,"in-gaap","false","monetary","debit","duration","item","true","",0,"INR","D2011","D2010",null,0,null,"",1,null,1,"Y","N","N","N","","","",0,0,0,null,0,0,0,"Appropriations capital redemption reserve",null,0,"","","",0,"","","",0,"","",""]
["Appropriations debenture redemption reserve","AppropriationsDebentureRedemptionReserve",{"$f":"IF(OR('17-AddlDetInStat'!D127=0,ISNUMBER('17-AddlDetInStat'!D127)=FALSE),\"\",'17-AddlDetInStat'!D127)","v":""},{"$f":"IF(OR('17-AddlDetInStat'!E127=0,ISNUMBER('17-AddlDetInStat'!E127)=FALSE),\"\",'17-AddlDetInStat'!E127)","v":""},null,"","","","",null,"",null,1267,"in-gaap","false","monetary","debit","duration","item","true","",0,"INR","D2011","D2010",null,0,null,"",1,null,1,"Y","N","N","N","","","",0,0,0,null,0,0,0,"Appropriations debenture redemption reserve",null,0,"","","",0,"","","",0,"","",""]
["Appropriations other reserves","AppropriationsOtherReserves",{"$f":"IF(OR('17-AddlDetInStat'!D128=0,ISNUMBER('17-AddlDetInStat'!D128)=FALSE),\"\",'17-AddlDetInStat'!D128)","v":""},{"$f":"IF(OR('17-AddlDetInStat'!E128=0,ISNUMBER('17-AddlDetInStat'!E128)=FALSE),\"\",'17-AddlDetInStat'!E128)","v":""},null,"","","","",null,"",null,1268,"in-gaap","false","monetary","debit","duration","item","true","",0,"INR","D2011","D2010",null,0,null,"",1,null,1,"Y","N","N","N","","","",0,0,0,null,0,0,0,{"$f":"IF(AG199=\"Y\",A199,\"\")","v":"Appropriations other reserves"},null,{"$f":"IF(F199<>\"\",\"1\",0)","v":0},{"$f":"IF(F199<>\"\",\"<link:loc xlink:href=\"&\"\"\"\"&\"#\"&\"TA\"&F199&\"\"\"\"&\" xlink:type=\"&\"\"\"\"&\"locator\"&\"\"\"\"&\" xlink:label=\"&\"\"\"\"&\"value\"&AN199&\"\"\"\"&\"/>\",\"\")","v":""},{"$f":"IF(F199<>\"\",\"<link:footnote xlink:role=\"&\"\"\"\"&\"http://www.xbrl.org/2003/role/footnote\"&\"\"\"\"&\" xml:lang=\"&\"\"\"\"&\"en\"&\"\"\"\"&\" xlink:type=\"&\"\"\"\"&\"resource\"&\"\"\"\"&\" xlink:label=\"&\"\"\"\"&\"footnote\"&AN199&\"\"\"\"&\">\"&G199&\"</link:footnote>\",\"\")","v":""},{"$f":"IF(F199<>\"\",\"<link:footnoteArc xlink:type=\"&\"\"\"\"&\"arc\"&\"\"\"\"&\" order=\"&\"\"\"\"&\"1.0\"&\"\"\"\"& \" xlink:to=\"&\"\"\"\"&\"footnote\"&AN199&\"\"\"\"& \" xlink:from=\"&\"\"\"\"&\"value\"&AN199&\"\"\"\"&\" xlink:arcrole=\"&\"\"\"\"&\"http://www.xbrl.org/2003/arcrole/fact-footnote\"&\"\"\"\"&\"/>\",\"\")","v":""},{"$f":"IF(H199<>\"\",\"1\",0)","v":0},{"$f":"IF(H199<>\"\",\"<link:loc xlink:href=\"&\"\"\"\"&\"#\"&\"TA\"&H199&\"\"\"\"&\" xlink:type=\"&\"\"\"\"&\"locator\"&\"\"\"\"&\" xlink:label=\"&\"\"\"\"&\"value\"&AO199&\"\"\"\"&\"/>\",\"\")","v":""},{"$f":"IF(H199<>\"\",\"<link:footnote xlink:role=\"&\"\"\"\"&\"http://www.xbrl.org/2003/role/footnote\"&\"\"\"\"&\" xml:lang=\"&\"\"\"\"&\"en\"&\"\"\"\"&\" xlink:type=\"&\"\"\"\"&\"resource\"&\"\"\"\"&\" xlink:label=\"&\"\"\"\"&\"footnote\"&AO199&\"\"\"\"&\">\"&I199&\"</link:footnote>\",\"\")","v":""},{"$f":"IF(H199<>\"\",\"<link:footnoteArc xlink:type=\"&\"\"\"\"&\"arc\"&\"\"\"\"&\" order=\"&\"\"\"\"&\"1.0\"&\"\"\"\"& \" xlink:to=\"&\"\"\"\"&\"footnote\"&AO199&\"\"\"\"& \" xlink:from=\"&\"\"\"\"&\"value\"&AO199&\"\"\"\"&\" xlink:arcrole=\"&\"\"\"\"&\"http://www.xbrl.org/2003/arcrole/fact-footnote\"&\"\"\"\"&\"/>\",\"\")","v":""},{"$f":"IF(K199<>\"\",\"1\",0)","v":0},{"$f":"IF(K199<>\"\",\"<link:loc xlink:href=\"&\"\"\"\"&\"#\"&\"TA\"&K199&\"\"\"\"&\" xlink:type=\"&\"\"\"\"&\"locator\"&\"\"\"\"&\" xlink:label=\"&\"\"\"\"&\"value\"&AP199&\"\"\"\"&\"/>\",\"\")","v":""},{"$f":"IF(K199<>\"\",\"<link:footnote xlink:role=\"&\"\"\"\"&\"http://www.xbrl.org/2003/role/footnote\"&\"\"\"\"&\" xml:lang=\"&\"\"\"\"&\"en\"&\"\"\"\"&\" xlink:type=\"&\"\"\"\"&\"resource\"&\"\"\"\"&\" xlink:label=\"&\"\"\"\"&\"footnote\"&AP199&\"\"\"\"&\">\"&L199&\"</link:footnote>\",\"\")","v":""},{"$f":"IF(K199<>\"\",\"<link:footnoteArc xlink:type=\"&\"\"\"\"&\"arc\"&\"\"\"\"&\" order=\"&\"\"\"\"&\"1.0\"&\"\"\"\"& \" xlink:to=\"&\"\"\"\"&\"footnote\"&AP199&\"\"\"\"& \" xlink:from=\"&\"\"\"\"&\"value\"&AP199&\"\"\"\"&\" xlink:arcrole=\"&\"\"\"\"&\"http://www.xbrl.org/2003/arcrole/fact-footnote\"&\"\"\"\"&\"/>\",\"\")","v":""}]
["Appropriations reserves","AppropriationsReserves",{"$f":"IF(OR('17-AddlDetInStat'!D129=0,ISNUMBER('17-AddlDetInStat'!D129)=FALSE),\"\",'17-AddlDetInStat'!D129)","v":""},{"$f":"IF(OR('17-AddlDetInStat'!E129=0,ISNUMBER('17-AddlDetInStat'!E129)=FALSE),\"\",'17-AddlDetInStat'!E129)","v":""},null,"","","","",null,"",null,1262,"in-gaap","false","monetary","debit","duration","item","true","",0,"INR","D2011","D2010",null,0,null,"",1,null,1,"Y","N","N","N","","","",0,0,0,null,0,0,0,"Appropriations reserves",null,0,"","","",0,"","","",0,"","",""]
["Appropriations equity dividend [abstract]","AppropriationsEquityDividendAbstract",{"$nulls":3},"",null,"",null,null,"",null,1398,"in-gaap","true","string","","duration","item","true","",0,"","D2011","D2010",{"$nulls":3},"",1,null,1,"N","N","N","N","","","",0,0,0,null,0,0,0,"",null,0,"","","",0,"","","",0,"","",""]
["Appropriations interim dividend","AppropriationsInterimDividend",{"$f":"IF(OR('17-AddlDetInStat'!D141=0,ISNUMBER('17-AddlDetInStat'!D141)=FALSE),\"\",'17-AddlDetInStat'!D141)","v":""},{"$f":"IF(OR('17-AddlDetInStat'!E141=0,ISNUMBER('17-AddlDetInStat'!E141)=FALSE),\"\",'17-AddlDetInStat'!E141)","v":""},null,{"$f":"IF(AND(AH202=\"Y\",G202<>\"\"),\"PL\"&AN202,\"\")","v":""},{"$f":"IF(AH202=\"Y\",IF(VLOOKUP(A202,PLFN4,4,FALSE)=0,\"\",VLOOKUP(A202,PLFN4,4,FALSE)),\"\")","v":""},{"$f":"IF(AND(AI202=\"Y\",I202<>\"\"),\"PL\"&AO202,\"\")","v":""},{"$f":"IF(AI202=\"Y\",IF(VLOOKUP(A202,PLFN4,5,FALSE)=0,\"\",VLOOKUP(A202,PLFN4,5,FALSE)),\"\")","v":""},null,"",null,1270,"in-gaap","false","monetary","debit","duration","item","true","",0,"INR","D2011","D2010",null,{"$f":"decimals","v":0},null,"",1,null,1,"Y","N","N","N","","","",0,0,0,null,0,0,0,"Appropriations interim dividend",null,0,"","","",0,"","","",0,"","",""]
["Appropriations final dividend","AppropriationsFinalDividend",{"$f":"IF(OR('17-AddlDetInStat'!D142=0,ISNUMBER('17-AddlDetInStat'!D142)=FALSE),\"\",'17-AddlDetInStat'!D142)","v":""},{"$f":"IF(OR('17-AddlDetInStat'!E142=0,ISNUMBER('17-AddlDetInStat'!E142)=FALSE),\"\",'17-AddlDetInStat'!E142)","v":""},null,"",{"$f":"IF(AH203=\"Y\",IF(VLOOKUP(A203,PLFN4,4,FALSE)=0,\"\",VLOOKUP(A203,PLFN4,4,FALSE)),\"\")","v":""},"",{"$f":"IF(AI203=\"Y\",IF(VLOOKUP(A203,PLFN4,5,FALSE)=0,\"\",VLOOKUP(A203,PLFN4,5,FALSE)),\"\")","v":""},null,"",null,1271,"in-gaap","false","monetary","debit","duration","item","true","",0,"INR","D2011","D2010",null,{"$f":"decimals","v":0},null,"",1,null,1,"Y","N","N","N","","","",0,0,0,null,0,0,0,"Appropriations final dividend",null,0,"","","",0,"","","",0,"","",""]
["Appropriations equity dividend","AppropriationsEquityDividend",{"$f":"IF(OR('17-AddlDetInStat'!D143=0,ISNUMBER('17-AddlDetInStat'!D143)=FALSE),\"\",'17-AddlDetInStat'!D143)","v":""},{"$f":"IF(OR('17-AddlDetInStat'!E143=0,ISNUMBER('17-AddlDetInStat'!E143)=FALSE),\"\",'17-AddlDetInStat'!E143)","v":""},null,"",{"$f":"IF(AH204=\"Y\",IF(VLOOKUP(A204,PLFN4,4,FALSE)=0,\"\",VLOOKUP(A204,PLFN4,4,FALSE)),\"\")","v":""},"",{"$f":"IF(AI204=\"Y\",IF(VLOOKUP(A204,PLFN4,5,FALSE)=0,\"\",VLOOKUP(A204,PLFN4,5,FALSE)),\"\")","v":""},null,"",null,1269,"in-gaap","false","monetary","debit","duration","item","true","",0,"INR","D2011","D2010",null,{"$f":"decimals","v":0},null,"",1,null,1,"Y","N","N","N","","","",0,0,0,null,0,0,0,"Appropriations equity dividend",null,0,"","","",0,"","","",0,"","",""]
["Appropriations preferred dividend","AppropriationsPreferredDividend",{"$f":"IF(OR('17-AddlDetInStat'!D134=0,ISNUMBER('17-AddlDetInStat'!D134)=FALSE),\"\",'17-AddlDetInStat'!D134)","v":""},{"$f":"IF(OR('17-AddlDetInStat'!E134=0,ISNUMBER('17-AddlDetInStat'!E134)=FALSE),\"\",'17-AddlDetInStat'!E134)","v":""},null,"",{"$f":"IF(AH205=\"Y\",IF(VLOOKUP(A205,PLFN4,4,FALSE)=0,\"\",VLOOKUP(A205,PLFN4,4,FALSE)),\"\")","v":""},"",{"$f":"IF(AI205=\"Y\",IF(VLOOKUP(A205,PLFN4,5,FALSE)=0,\"\",VLOOKUP(A205,PLFN4,5,FALSE)),\"\")","v":""},null,"",null,1272,"in-gaap","false","monetary","debit","duration","item","true","",0,"INR","D2011","D2010",null,{"$f":"decimals","v":0},null,"",1,null,1,"Y","N","N","N","","","",0,0,0,null,0,0,0,"Appropriations preferred dividend",null,0,"","","",0,"","","",0,"","",""]
["Appropriations special dividend","AppropriationsSpecialDividend",{"$f":"IF(OR('17-AddlDetInStat'!D135=0,ISNUMBER('17-AddlDetInStat'!D135)=FALSE),\"\",'17-AddlDetInStat'!D135)","v":""},{"$f":"IF(OR('17-AddlDetInStat'!E135=0,ISNUMBER('17-AddlDetInStat'!E135)=FALSE),\"\",'17-AddlDetInStat'!E135)","v":""},null,"",{"$f":"IF(AH206=\"Y\",IF(VLOOKUP(A206,PLFN4,4,FALSE)=0,\"\",VLOOKUP(A206,PLFN4,4,FALSE)),\"\")","v":""},"",{"$f":"IF(AI206=\"Y\",IF(VLOOKUP(A206,PLFN4,5,FALSE)=0,\"\",VLOOKUP(A206,PLFN4,5,FALSE)),\"\")","v":""},null,"",null,1273,"in-gaap","false","monetary","debit","duration","item","true","",0,"INR","D2011","D2010",null,{"$f":"decimals","v":0},null,"",1,null,1,"Y","N","N","N","","","",0,0,0,null,0,0,0,"Appropriations special dividend",null,0,"","","",0,"","","",0,"","",""]
["Appropriations dividend distribution tax [abstract]","AppropriationsDividendDistributionTaxAbstract",{"$nulls":3},"",null,"",null,null,"",null,1399,"in-gaap","true","string","","duration","item","true","",0,"","D2011","D2010",{"$nulls":3},"",1,null,1,"N","N","N","N","","","",0,0,0,null,0,0,0,"",null,0,"","","",0,"","","",0,"","",""]
["Appropriations equity dividend distribution tax","AppropriationsEquityDividendDistributionTax",{"$f":"IF(OR('17-AddlDetInStat'!D147=0,ISNUMBER('17-AddlDetInStat'!D147)=FALSE),\"\",'17-AddlDetInStat'!D147)","v":""},{"$f":"IF(OR('17-AddlDetInStat'!E147=0,ISNUMBER('17-AddlDetInStat'!E147)=FALSE),\"\",'17-AddlDetInStat'!E147)","v":""},null,{"$f":"IF(AND(AH208=\"Y\",G208<>\"\"),\"PL\"&AN208,\"\")","v":""},{"$f":"IF(AH208=\"Y\",IF(VLOOKUP(A208,PLFN4,4,FALSE)=0,\"\",VLOOKUP(A208,PLFN4,4,FALSE)),\"\")","v":""},{"$f":"IF(AND(AI208=\"Y\",I208<>\"\"),\"PL\"&AO208,\"\")","v":""},{"$f":"IF(AI208=\"Y\",IF(VLOOKUP(A208,PLFN4,5,FALSE)=0,\"\",VLOOKUP(A208,PLFN4,5,FALSE)),\"\")","v":""},null,"",null,1275,"in-gaap","false","monetary","debit","duration","item","true","",0,"INR","D2011","D2010",null,{"$f":"decimals","v":0},null,"",1,null,1,"Y","N","N","N","","","",0,0,0,null,0,0,0,"Appropriations equity dividend distribution tax",null,0,"","","",0,"","","",0,"","",""]
["Appropriations preference dividend distribution tax","AppropriationsPreferenceDividendDistributionTax",{"$f":"IF(OR('17-AddlDetInStat'!D148=0,ISNUMBER('17-AddlDetInStat'!D148)=FALSE),\"\",'17-AddlDetInStat'!D148)","v":""},{"$f":"IF(OR('17-AddlDetInStat'!E148=0,ISNUMBER('17-AddlDetInStat'!E148)=FALSE),\"\",'17-AddlDetInStat'!E148)","v":""},null,"",{"$f":"IF(AH209=\"Y\",IF(VLOOKUP(A209,PLFN4,4,FALSE)=0,\"\",VLOOKUP(A209,PLFN4,4,FALSE)),\"\")","v":""},"",{"$f":"IF(AI209=\"Y\",IF(VLOOKUP(A209,PLFN4,5,FALSE)=0,\"\",VLOOKUP(A209,PLFN4,5,FALSE)),\"\")","v":""},null,"",null,1276,"in-gaap","false","monetary","debit","duration","item","true","",0,"INR","D2011","D2010",null,{"$f":"decimals","v":0},null,"",1,null,1,"Y","N","N","N","","","",0,0,0,null,0,0,0,"Appropriations preference dividend distribution tax",null,0,"","","",0,"","","",0,"","",""]
["Appropriations dividend distribution tax","AppropriationsDividendDistributionTax",{"$f":"IF(OR('17-AddlDetInStat'!D149=0,ISNUMBER('17-AddlDetInStat'!D149)=FALSE),\"\",'17-AddlDetInStat'!D149)","v":""},{"$f":"IF(OR('17-AddlDetInStat'!E149=0,ISNUMBER('17-AddlDetInStat'!E149)=FALSE),\"\",'17-AddlDetInStat'!E149)","v":""},null,"",{"$f":"IF(AH210=\"Y\",IF(VLOOKUP(A210,PLFN4,4,FALSE)=0,\"\",VLOOKUP(A210,PLFN4,4,FALSE)),\"\")","v":""},"",{"$f":"IF(AI210=\"Y\",IF(VLOOKUP(A210,PLFN4,5,FALSE)=0,\"\",VLOOKUP(A210,PLFN4,5,FALSE)),\"\")","v":""},null,"",null,1274,"in-gaap","false","monetary","debit","duration","item","true","",0,"INR","D2011","D2010",null,{"$f":"decimals","v":0},null,"",1,null,1,"Y","N","N","N","","","",0,0,0,null,0,0,0,"Appropriations dividend distribution tax",null,0,"","","",0,"","","",0,"","",""]
["Appropriations","Appropriations",{"$f":"IF(OR('17-AddlDetInStat'!D119=0,ISNUMBER('17-AddlDetInStat'!D119)=FALSE),\"\",'17-AddlDetInStat'!D119)","v":""},{"$f":"IF(OR('17-AddlDetInStat'!E119=0,ISNUMBER('17-AddlDetInStat'!E119)=FALSE),\"\",'17-AddlDetInStat'!E119)","v":""},null,"",{"$f":"IF(AH211=\"Y\",IF(VLOOKUP(A211,PLFN4,4,FALSE)=0,\"\",VLOOKUP(A211,PLFN4,4,FALSE)),\"\")","v":""},"",{"$f":"IF(AI211=\"Y\",IF(VLOOKUP(A211,PLFN4,5,FALSE)=0,\"\",VLOOKUP(A211,PLFN4,5,FALSE)),\"\")","v":""},null,"",null,1261,"in-gaap","false","monetary","debit","duration","item","true","",0,"INR","D2011","D2010",null,{"$f":"decimals","v":0},null,"",3,"D",1,"N","N","N","N","","","",0,0,0,null,0,0,0,"",null,0,"","","",0,"","","",0,"","",""]
["Other additional details regarding income statement","OtherAdditionalDetailsRegardingIncomeStatement",{"$nulls":3},"",{"$f":"IF(AH212=\"Y\",IF(VLOOKUP(A212,PLFN4,4,FALSE)=0,\"\",VLOOKUP(A212,PLFN4,4,FALSE)),\"\")","v":""},"",{"$f":"IF(AI212=\"Y\",IF(VLOOKUP(A212,PLFN4,5,FALSE)=0,\"\",VLOOKUP(A212,PLFN4,5,FALSE)),\"\")","v":""},null,"",null,2858,"in-gaap","false","string","","duration","item","true","",0,"","D2011","D2010",null,{"$f":"decimals","v":0},null,"",1,null,1,"Y","N","N","N","","","",0,0,0,null,0,0,0,"Other additional details regarding income statement",null,0,"","","",0,"","","",0,"","",""]
["Details of goods [abstract]","DetailsOfGoodsAbstract",{"$nulls":3},{"$f":"IF(AH213=\"Y\",\"PL\"&AN213,\"\")","v":""},null,{"$f":"IF(AI213=\"Y\",\"PL\"&AO213,\"\")","v":""},null,null,{"$f":"IF(AJ213=\"Y\",\"PL\"&AP213,\"\")","v":""},null,2870,"in-gaap","true","string","","duration","item","true","",0,"","D2011","D2010",{"$nulls":3},"",1,null,1,"N","N","N","N","","","",0,0,0,null,0,0,0,null,null,0,"","","",0,"","","",0,"","",""]
["Details of goods","DetailsOfGoods",{"$nulls":3},{"$f":"IF(AH214=\"Y\",\"PL\"&AN214,\"\")","v":""},null,{"$f":"IF(AI214=\"Y\",\"PL\"&AO214,\"\")","v":""},null,null,{"$f":"IF(AJ214=\"Y\",\"PL\"&AP214,\"\")","v":""},null,{"$f":"VLOOKUP(B214,XBRLBusinessRules,2,FALSE)","v":2871},{"$f":"VLOOKUP(B214,XBRLBusinessRules,3,FALSE)","v":"in-gaap"},{"$f":"VLOOKUP(B214,XBRLBusinessRules,4,FALSE)","v":""},{"$f":"VLOOKUP(B214,XBRLBusinessRules,5,FALSE)","v":""},{"$f":"VLOOKUP(B214,XBRLBusinessRules,6,FALSE)","v":""},{"$f":"VLOOKUP(B214,XBRLBusinessRules,7,FALSE)","v":""},{"$f":"VLOOKUP(B214,XBRLBusinessRules,8,FALSE)","v":"tuple"},{"$f":"VLOOKUP(B214,XBRLBusinessRules,9,FALSE)","v":"true"},{"$f":"VLOOKUP(B214,XBRLBusinessRules,10,FALSE)","v":""},{"$f":"VLOOKUP(B214,XBRLBusinessRules,11,FALSE)","v":0},{"$f":"IF(P214=\"monetary\",\"INR\",\"\")","v":""},{"$f":"UPPER(LEFT(R214,1))&CYEND","v":"2011"},{"$f":"UPPER(LEFT(R214,1))&PYEND","v":"2010"},{"$nulls":3},{"$f":"IF(V214=\"This can be entered only in case of Consolidated instance document\",\"C\",\"\")","v":""},{"$f":"COUNTIF(TagNamePL,\"=\"&B214)","v":1},null,{"$f":"AD214-COUNTIFS(TagNamePL,B214,TagPLD,\"D\")","v":1},{"$f":"IF(OR(O214=\"true\",AE214=\"D\"),\"N\",\"Y\")","v":"Y"},"N","N","N","","","",{"$nulls":4},0,0,{"$f":"IF(AF214=1,0,1)","v":0},null,null,0,"","","",0,"","","",0,"","",""]
["Class of goods","ClassOfGoods",{"$nulls":3},"",null,"",null,null,"",null,2872,"in-gaap","false","string","","duration","item","true","",0,"","D2011","D2010",{"$nulls":3},"",1,null,1,"Y","N","N","N","","","",{"$nulls":4},0,0,0,null,null,0,"","","",0,"","","",0,"","",""]
["Nature of goods","NatureOfGoods",{"$nulls":3},"",null,"",null,null,"",null,2873,"in-gaap","false","in-ca-types:TypeOfGoods","","duration","item","true","Produced, Traded",0,"","D2011","D2010",{"$nulls":3},"",1,null,1,"Y","N","N","N","","","",{"$nulls":4},0,0,0,null,null,0,"","","",0,"","","",0,"","",""]
["Value of goods sold","ValueOfGoodsSold",{"$nulls":3},"",null,"",null,null,"",null,2874,"in-gaap","false","monetary","","duration","item","true","",0,"INR","D2011","D2010",{"$nulls":3},"",1,null,1,"Y","N","N","N","","","",{"$nulls":4},0,0,0,null,null,0,"","","",0,"","","",0,"","",""]
["Quantity of goods sold","QuantityOfGoodsSold",{"$nulls":3},"",null,"",null,null,"",null,2875,"in-gaap","false","decimal","","duration","item","true","",0,"","D2011","D2010",{"$nulls":3},"",1,null,1,"Y","N","N","N","","","",{"$nulls":4},0,0,0,null,null,0,"","","",0,"","","",0,"","",""]
["Value of goods purchased or produced","ValueOfGoodsPurchasedOrProduced",{"$nulls":3},"",null,"",null,null,"",null,2876,"in-gaap","false","monetary","","duration","item","true","",0,"INR","D2011","D2010",{"$nulls":3},"",1,null,1,"Y","N","N","N","","","",{"$nulls":4},0,0,0,null,null,0,"","","",0,"","","",0,"","",""]
["Quantity of goods purchased or produced","QuantityOfGoodsPurchasedOrProduced",{"$nulls":3},"",null,"",null,null,"",null,2877,"in-gaap","false","decimal","","duration","item","true","",0,"","D2011","D2010",{"$nulls":3},"",1,null,1,"Y","N","N","N","","","",{"$nulls":4},0,0,0,null,null,0,"","","",0,"","","",0,"","",""]
["Value of stock of goods","ValueOfStockOfGoods",{"$nulls":3},"",null,"",null,null,"",null,2878,"in-gaap","false","monetary","","instant","item","true","",0,"INR","I2011","I2010",{"$nulls":3},"",1,null,1,"Y","N","N","N","","","",{"$nulls":4},0,0,0,null,null,0,"","","",0,"","","",0,"","",""]
["Quantity of stock of goods","QuantityOfStockOfGoods",{"$nulls":3},"",null,"",null,null,"",null,2879,"in-gaap","false","decimal","","instant","item","true","",0,"","I2011","I2010",{"$nulls":3},"",1,null,1,"Y","N","N","N","","","",{"$nulls":4},0,0,0,null,null,0,"","","",0,"","","",0,"","",""]
["Unit of measurement of goods","UnitOfMeasurementOfGoods",{"$nulls":3},"",null,"",null,null,"",null,2880,"in-gaap","false","string","","duration","item","true","",0,"","D2011","D2010",{"$nulls":3},"",1,null,1,"Y","N","N","N","","","",{"$nulls":4},0,0,0,null,null,0,"","","",0,"","","",0,"","",""]
["Details of raw materials consumed [abstract]","DetailsOfRawMaterialsConsumedAbstract",{"$nulls":3},"",null,"",null,null,"",null,2881,"in-gaap","true","string","","duration","item","true","",0,"","D2011","D2010",{"$nulls":3},"",1,null,1,"N","N","N","N","","","",{"$nulls":4},0,0,0,null,null,0,"","","",0,"","","",0,"","",""]
["Details of raw materials consumed","DetailsOfRawMaterialsConsumed",{"$nulls":3},"",null,"",null,null,"",null,2882,"in-gaap","","","","","tuple","true","",0,"","2011","2010",{"$nulls":3},"",1,null,1,"Y","N","N","N","","","",{"$nulls":4},0,0,0,null,null,0,"","","",0,"","","",0,"","",""]
["Class of raw materials consumed","ClassOfRawMaterialsConsumed",{"$nulls":3},"",null,"",null,null,"",null,2883,"in-gaap","false","string","","duration","item","true","",0,"","D2011","D2010",{"$nulls":3},"",1,null,1,"Y","N","N","N","","","",{"$nulls":4},0,0,0,null,null,0,"","","",0,"","","",0,"","",""]
["Value of raw materials consumed","ValueOfRawMaterialsConsumed",{"$nulls":3},"",null,"",null,null,"",null,2884,"in-gaap","false","monetary","","duration","item","true","",0,"INR","D2011","D2010",{"$nulls":3},"",1,null,1,"Y","N","N","N","","","",{"$nulls":4},0,0,0,null,null,0,"","","",0,"","","",0,"","",""]
["Quantity of raw materials consumed","QuantityOfRawMaterialsConsumed",{"$nulls":3},"",null,"",null,null,"",null,2885,"in-gaap","false","decimal","","duration","item","true","",0,"","D2011","D2010",{"$nulls":3},"",1,null,1,"Y","N","N","N","","","",{"$nulls":4},0,0,0,null,null,0,"","","",0,"","","",0,"","",""]
["Unit of measurement of raw materials consumed","UnitOfMeasurementOfRawMaterialsConsumed",{"$nulls":3},"",null,"",null,null,"",null,2886,"in-gaap","false","string","","duration","item","true","",0,"","D2011","D2010",{"$nulls":3},"",1,null,1,"Y","N","N","N","","","",{"$nulls":4},0,0,0,null,null,0,"","","",0,"","","",0,"","",""]
["[200100] Schedule - Income","ScheduleIncome"]
["Other income [abstract]","OtherIncomeAbstract",{"$nulls":3},{"$f":"IF(AND(AH231=\"Y\",G231<>\"\"),\"PL\"&AN231,\"\")","v":""},null,{"$f":"IF(AND(AI231=\"Y\",I231<>\"\"),\"PL\"&AO231,\"\")","v":""},null,null,{"$f":"IF(AND(AJ231=\"Y\",L231<>\"\"),\"PL\"&AP231,\"\")","v":""},null,{"$f":"VLOOKUP(B231,XBRLBusinessRules,2,FALSE)","v":1332},{"$f":"VLOOKUP(B231,XBRLBusinessRules,3,FALSE)","v":"in-gaap"},{"$f":"VLOOKUP(B231,XBRLBusinessRules,4,FALSE)","v":"true"},{"$f":"VLOOKUP(B231,XBRLBusinessRules,5,FALSE)","v":"string"},{"$f":"VLOOKUP(B231,XBRLBusinessRules,6,FALSE)","v":""},{"$f":"VLOOKUP(B231,XBRLBusinessRules,7,FALSE)","v":"duration"},{"$f":"VLOOKUP(B231,XBRLBusinessRules,8,FALSE)","v":"item"},{"$f":"VLOOKUP(B231,XBRLBusinessRules,9,FALSE)","v":"true"},{"$f":"VLOOKUP(B231,XBRLBusinessRules,10,FALSE)","v":""},{"$f":"VLOOKUP(B231,XBRLBusinessRules,11,FALSE)","v":0},{"$f":"IF(P231=\"monetary\",\"INR\",\"\")","v":""},{"$f":"UPPER(LEFT(R231,1))&CYEND","v":"D2011"},{"$f":"UPPER(LEFT(R231,1))&PYEND","v":"D2010"},{"$nulls":3},{"$f":"IF(V231=\"This can be entered only in case of Consolidated instance document\",\"C\",\"\")","v":""},{"$f":"COUNTIF(TagNamePL,\"=\"&B231)","v":1},null,{"$f":"AD231-COUNTIFS(TagNamePL,B231,TagPLD,\"D\")","v":1},{"$f":"IF(OR(O231=\"true\",AE231=\"D\"),\"N\",\"Y\")","v":"N"},{"$f":"IF(OR(AND(C231=\"\",D231=\"\",(AB231=\"M\")=FALSE),AG231=\"N\"),\"N\",\"Y\")","v":"N"},{"$f":"IF(OR(AND(C231=\"\",D231=\"\",(AB231=\"M\")=FALSE),AG231=\"N\"),\"N\",\"Y\")","v":"N"},{"$f":"IF(AND(COUNTBLANK(X231:Z231)=0,AG231=\"Y\"),IF(OR(AB231=\"M\",E231<>\"\"),\"Y\",\"N\"),\"N\")","v":"N"},{"$f":"IF(AH231=\"Y\",(\"<\"&N231&\":\"&B231&\" \"&IF(F231=\"\",\"\",\"id=\"\"\"&\"TA\"&F231&\"\"\"\"&\" \")&IF(OR(P231=\"monetary\",W231<>\"\"),\"unitRef=\"\"\"&W231&\"\"\"\"&\" \",\"\")&IF(X231=\"\",\"\",\"contextRef=\"\"\"&X231&\"\"\"\"&\" \")&IF(OR(P231=\"monetary\",AA231<>\"\"),\"decimals=\"\"\"&decimals&\"\"\"\"&\" \",\"\")&\">\")&IF(C231=\"\",0,C231)&\"</\"&N231&\":\"&B231&\">\",\"\")","v":""},{"$f":"IF(AI231=\"Y\",(\"<\"&N231&\":\"&B231&\" \"&IF(H231=\"\",\"\",\"id=\"\"\"&\"TA\"&H231&\"\"\"\"&\" \")&IF(OR(P231=\"monetary\",W231<>\"\"),\"unitRef=\"\"\"&W231&\"\"\"\"&\" \",\"\")&IF(Y231=\"\",\"\",\"contextRef=\"\"\"&Y231&\"\"\"\"&\" \")&IF(OR(P231=\"monetary\",AA231<>\"\"),\"decimals=\"\"\"&decimals&\"\"\"\"&\" \",\"\")&\">\")&IF(D231=\"\",0,D231)&\"</\"&N231&\":\"&B231&\">\",\"\")","v":""},{"$f":"IF(AJ231=\"Y\",(\"<\"&N231&\":\"&B231&\" \"&IF(K231=\"\",\"\",\"id=\"\"\"&\"TA\"&K231&\"\"\"\"&\" \")&IF(OR(P231=\"monetary\",W231<>\"\"),\"unitRef=\"\"\"&W231&\"\"\"\"&\" \",\"\")&IF(Z231=\"\",\"\",\"contextRef=\"\"\"&Z231&\"\"\"\"&\" \")&IF(OR(P231=\"monetary\",AA231<>\"\"),\"decimals=\"\"\"&decimals&\"\"\"\"&\" \",\"\")&\">\")&IF(E231=\"\",0,E231)&\"</\"&N231&\":\"&B231&\">\",\"\")","v":""},{"$f":"IF(AND(AH231=\"Y\",G231<>\"\"),AP213+1,AP213)","v":0},{"$f":"IF(AND(AI231=\"Y\",I231<>\"\"),AN231+1,AN231)","v":0},{"$f":"IF(AND(AJ231=\"Y\",L231<>\"\"),AO231+1,AO231)","v":0},null,0,0,{"$f":"IF(AF231=1,0,1)","v":0},{"$f":"IF(AG231=\"Y\",A231,\"\")","v":""},null,0,"","","",0,"","","",0,"","",""]
["Receipt government grants subsidies","ReceiptGovernmentGrantsSubsidies",{"$f":"IF(OR('15-OtherIncome'!D4=0,ISNUMBER('15-OtherIncome'!D4)=FALSE),\"\",'15-OtherIncome'!D4)","v":""},{"$f":"IF(OR('15-OtherIncome'!E4=0,ISNUMBER('15-OtherIncome'!E4)=FALSE),\"\",'15-OtherIncome'!E4)","v":""},null,"",{"$f":"IF(AH232=\"Y\",IF(VLOOKUP(A232,PLFN2,4,FALSE)=0,\"\",VLOOKUP(A232,PLFN2,4,FALSE)),\"\")","v":""},"",{"$f":"IF(AI232=\"Y\",IF(VLOOKUP(A232,PLFN2,5,FALSE)=0,\"\",VLOOKUP(A232,PLFN2,5,FALSE)),\"\")","v":""},null,"",null,995,"in-gaap","false","monetary","credit","duration","item","true","",0,"INR","D2011","D2010",null,{"$f":"decimals","v":0},null,"",1,null,1,"Y","N","N","N","","","",{"$f":"IF(AND(AH232=\"Y\",G232<>\"\"),AP231+1,AP231)","v":0},{"$f":"IF(AND(AI232=\"Y\",I232<>\"\"),AN232+1,AN232)","v":0},{"$f":"IF(AND(AJ232=\"Y\",L232<>\"\"),AO232+1,AO232)","v":0},null,0,0,0,"Receipt government grants subsidies",null,0,"","","",0,"","","",0,"","",""]
["Receipt export incentives","ReceiptExportIncentives",{"$f":"IF(OR('15-OtherIncome'!D5=0,ISNUMBER('15-OtherIncome'!D5)=FALSE),\"\",'15-OtherIncome'!D5)","v":""},{"$f":"IF(OR('15-OtherIncome'!E5=0,ISNUMBER('15-OtherIncome'!E5)=FALSE),\"\",'15-OtherIncome'!E5)","v":""},null,"",{"$f":"IF(AH233=\"Y\",IF(VLOOKUP(A233,PLFN2,4,FALSE)=0,\"\",VLOOKUP(A233,PLFN2,4,FALSE)),\"\")","v":""},"",{"$f":"IF(AI233=\"Y\",IF(VLOOKUP(A233,PLFN2,5,FALSE)=0,\"\",VLOOKUP(A233,PLFN2,5,FALSE)),\"\")","v":""},null,"",null,996,"in-gaap","false","monetary","credit","duration","item","true","",0,"INR","D2011","D2010",null,{"$f":"decimals","v":0},null,"",1,null,1,"Y","N","N","N","","","",{"$f":"IF(AND(AH233=\"Y\",G233<>\"\"),AP232+1,AP232)","v":0},{"$f":"IF(AND(AI233=\"Y\",I233<>\"\"),AN233+1,AN233)","v":0},{"$f":"IF(AND(AJ233=\"Y\",L233<>\"\"),AO233+1,AO233)","v":0},null,0,0,0,"Receipt export incentives",null,0,"","","",0,"","","",0,"","",""]
["Receipt import entitlements","ReceiptImportEntitlements",{"$f":"IF(OR('15-OtherIncome'!D6=0,ISNUMBER('15-OtherIncome'!D6)=FALSE),\"\",'15-OtherIncome'!D6)","v":""},{"$f":"IF(OR('15-OtherIncome'!E6=0,ISNUMBER('15-OtherIncome'!E6)=FALSE),\"\",'15-OtherIncome'!E6)","v":""},null,"",{"$f":"IF(AH234=\"Y\",IF(VLOOKUP(A234,PLFN2,4,FALSE)=0,\"\",VLOOKUP(A234,PLFN2,4,FALSE)),\"\")","v":""},"",{"$f":"IF(AI234=\"Y\",IF(VLOOKUP(A234,PLFN2,5,FALSE)=0,\"\",VLOOKUP(A234,PLFN2,5,FALSE)),\"\")","v":""},null,"",null,997,"in-gaap","false","monetary","credit","duration","item","true","",0,"INR","D2011","D2010",null,{"$f":"decimals","v":0},null,"",1,null,1,"Y","N","N","N","","","",0,0,0,null,0,0,0,"Receipt import entitlements",null,0,"","","",0,"","","",0,"","",""]
["Receipt insurance claims","ReceiptInsuranceClaims",{"$f":"IF(OR('15-OtherIncome'!D7=0,ISNUMBER('15-OtherIncome'!D7)=FALSE),\"\",'15-OtherIncome'!D7)","v":""},{"$f":"IF(OR('15-OtherIncome'!E7=0,ISNUMBER('15-OtherIncome'!E7)=FALSE),\"\",'15-OtherIncome'!E7)","v":""},null,"",{"$f":"IF(AH235=\"Y\",IF(VLOOKUP(A235,PLFN2,4,FALSE)=0,\"\",VLOOKUP(A235,PLFN2,4,FALSE)),\"\")","v":""},"",{"$f":"IF(AI235=\"Y\",IF(VLOOKUP(A235,PLFN2,5,FALSE)=0,\"\",VLOOKUP(A235,PLFN2,5,FALSE)),\"\")","v":""},null,"",null,998,"in-gaap","false","monetary","credit","duration","item","true","",0,"INR","D2011","D2010",null,{"$f":"decimals","v":0},null,"",1,null,1,"Y","N","N","N","","","",0,0,0,null,0,0,0,"Receipt insurance claims",null,0,"","","",0,"","","",0,"","",""]
["Receipt income investments [abstract]","ReceiptIncomeInvestmentsAbstract",{"$nulls":3},"",null,"",null,null,"",null,1333,"in-gaap","true","string","","duration","item","true","",0,"","D2011","D2010",{"$nulls":3},"",2,"D",1,"N","N","N","N","","","",0,0,0,null,0,0,0,"",null,0,"","","",0,"","","",0,"","",""]
["Receipt income long-term investments [abstract]","ReceiptIncomeLongTermInvestmentsAbstract",{"$nulls":3},"",null,"",null,null,"",null,1334,"in-gaap","true","string","","duration","item","true","",0,"","D2011","D2010",{"$nulls":3},"",1,null,1,"N","N","N","N","","","",0,0,0,null,0,0,0,"",null,0,"","","",0,"","","",0,"","",""]
["Receipt interest long-term investments [abstract]","ReceiptInterestLongTermInvestmentsAbstract",{"$nulls":3},"",null,"",null,null,"",null,1335,"in-gaap","true","string","","duration","item","true","",0,"","D2011","D2010",{"$nulls":3},"",1,null,1,"N","N","N","N","","","",0,0,0,null,0,0,0,"",null,0,"","","",0,"","","",0,"","",""]
["Receipt interest long-term bank deposits","ReceiptInterestLongTermBankDeposits",{"$f":"IF(OR('15-OtherIncome'!D53=0,ISNUMBER('15-OtherIncome'!D53)=FALSE),\"\",'15-OtherIncome'!D53)","v":""},{"$f":"IF(OR('15-OtherIncome'!E53=0,ISNUMBER('15-OtherIncome'!E53)=FALSE),\"\",'15-OtherIncome'!E53)","v":""},null,"",{"$f":"IF(AH239=\"Y\",IF(VLOOKUP(A239,PLFN2,4,FALSE)=0,\"\",VLOOKUP(A239,PLFN2,4,FALSE)),\"\")","v":""},"",{"$f":"IF(AI239=\"Y\",IF(VLOOKUP(A239,PLFN2,5,FALSE)=0,\"\",VLOOKUP(A239,PLFN2,5,FALSE)),\"\")","v":""},null,"",null,1002,"in-gaap","false","monetary","credit","duration","item","true","",0,"INR","D2011","D2010",null,{"$f":"decimals","v":0},null,"",1,null,1,"Y","N","N","N","","","",0,0,0,null,0,0,0,"Receipt interest long-term bank deposits",null,0,"","","",0,"","","",0,"","",""]
["Receipt interest long-term intercorporate deposits","ReceiptInterestLongTermIntercorporateDeposits",{"$f":"IF(OR('15-OtherIncome'!D54=0,ISNUMBER('15-OtherIncome'!D54)=FALSE),\"\",'15-OtherIncome'!D54)","v":""},{"$f":"IF(OR('15-OtherIncome'!E54=0,ISNUMBER('15-OtherIncome'!E54)=FALSE),\"\",'15-OtherIncome'!E54)","v":""},null,"","","","",null,"",null,1003,"in-gaap","false","monetary","credit","duration","item","true","",0,"INR","D2011","D2010",null,0,null,"",1,null,1,"Y","N","N","N","","","",0,0,0,null,0,0,0,"Receipt interest long-term intercorporate deposits",null,0,"","","",0,"","","",0,"","",""]
["Receipt interest long-term debt securities","ReceiptInterestLongTermDebtSecurities",{"$f":"IF(OR('15-OtherIncome'!D55=0,ISNUMBER('15-OtherIncome'!D55)=FALSE),\"\",'15-OtherIncome'!D55)","v":""},{"$f":"IF(OR('15-OtherIncome'!E55=0,ISNUMBER('15-OtherIncome'!E55)=FALSE),\"\",'15-OtherIncome'!E55)","v":""},null,"","","","",null,"",null,1004,"in-gaap","false","monetary","credit","duration","item","true","",0,"INR","D2011","D2010",null,0,null,"",1,null,1,"Y","N","N","N","","","",0,0,0,null,0,0,0,"Receipt interest long-term debt securities",null,0,"","","",0,"","","",0,"","",""]
["Receipt interest long-term government securities","ReceiptInterestLongTermGovernmentSecurities",{"$f":"IF(OR('15-OtherIncome'!D56=0,ISNUMBER('15-OtherIncome'!D56)=FALSE),\"\",'15-OtherIncome'!D56)","v":""},{"$f":"IF(OR('15-OtherIncome'!E56=0,ISNUMBER('15-OtherIncome'!E56)=FALSE),\"\",'15-OtherIncome'!E56)","v":""},null,"","","","",null,"",null,1005,"in-gaap","false","monetary","credit","duration","item","true","",0,"INR","D2011","D2010",null,0,null,"",1,null,1,"Y","N","N","N","","","",0,0,0,null,0,0,0,"Receipt interest long-term government securities",null,0,"","","",0,"","","",0,"","",""]
["Receipt interest other long-term investments","ReceiptInterestOtherLongTermInvestments",{"$f":"IF(OR('15-OtherIncome'!D57=0,ISNUMBER('15-OtherIncome'!D57)=FALSE),\"\",'15-OtherIncome'!D57)","v":""},{"$f":"IF(OR('15-OtherIncome'!E57=0,ISNUMBER('15-OtherIncome'!E57)=FALSE),\"\",'15-OtherIncome'!E57)","v":""},null,"","","","",null,"",null,1006,"in-gaap","false","monetary","credit","duration","item","true","",0,"INR","D2011","D2010",null,0,null,"",1,null,1,"Y","N","N","N","","","",0,0,0,null,0,0,0,"Receipt interest other long-term investments",null,0,"","","",0,"","","",0,"","",""]
["Receipt interest long-term investments","ReceiptInterestLongTermInvestments",{"$f":"IF(OR('15-OtherIncome'!D58=0,ISNUMBER('15-OtherIncome'!D58)=FALSE),\"\",'15-OtherIncome'!D58)","v":""},{"$f":"IF(OR('15-OtherIncome'!E58=0,ISNUMBER('15-OtherIncome'!E58)=FALSE),\"\",'15-OtherIncome'!E58)","v":""},null,"","","","",null,"",null,1001,"in-gaap","false","monetary","credit","duration","item","true","",0,"INR","D2011","D2010",null,0,null,"",1,null,1,"Y","N","N","N","","","",0,0,0,null,0,0,0,"Receipt interest long-term investments",null,0,"","","",0,"","","",0,"","",""]
["Receipt dividend long-term investments [abstract]","ReceiptDividendLongTermInvestmentsAbstract",{"$nulls":3},"",null,"",null,null,"",null,1336,"in-gaap","true","string","","duration","item","true","",0,"","D2011","D2010",{"$nulls":3},"",1,null,1,"N","N","N","N","","","",0,0,0,null,0,0,0,"",null,0,"","","",0,"","","",0,"","",""]
["Receipt dividend long-term equity securities","ReceiptDividendLongTermEquitySecurities",{"$f":"IF(OR('15-OtherIncome'!D62=0,ISNUMBER('15-OtherIncome'!D62)=FALSE),\"\",'15-OtherIncome'!D62)","v":""},{"$f":"IF(OR('15-OtherIncome'!E62=0,ISNUMBER('15-OtherIncome'!E62)=FALSE),\"\",'15-OtherIncome'!E62)","v":""},null,"",{"$f":"IF(AH246=\"Y\",IF(VLOOKUP(A246,PLFN2,4,FALSE)=0,\"\",VLOOKUP(A246,PLFN2,4,FALSE)),\"\")","v":""},"",{"$f":"IF(AI246=\"Y\",IF(VLOOKUP(A246,PLFN2,5,FALSE)=0,\"\",VLOOKUP(A246,PLFN2,5,FALSE)),\"\")","v":""},null,"",null,1008,"in-gaap","false","monetary","credit","duration","item","true","",0,"INR","D2011","D2010",null,{"$f":"decimals","v":0},null,"",1,null,1,"Y","N","N","N","","","",0,0,0,null,0,0,0,"Receipt dividend long-term equity securities",null,0,"","","",0,"","","",0,"","",""]
["Receipt dividend long-term mutual funds","ReceiptDividendLongTermMutualFunds",{"$f":"IF(OR('15-OtherIncome'!D63=0,ISNUMBER('15-OtherIncome'!D63)=FALSE),\"\",'15-OtherIncome'!D63)","v":""},{"$f":"IF(OR('15-OtherIncome'!E63=0,ISNUMBER('15-OtherIncome'!E63)=FALSE),\"\",'15-OtherIncome'!E63)","v":""},null,"",{"$f":"IF(AH247=\"Y\",IF(VLOOKUP(A247,PLFN2,4,FALSE)=0,\"\",VLOOKUP(A247,PLFN2,4,FALSE)),\"\")","v":""},"",{"$f":"IF(AI247=\"Y\",IF(VLOOKUP(A247,PLFN2,5,FALSE)=0,\"\",VLOOKUP(A247,PLFN2,5,FALSE)),\"\")","v":""},null,"",null,1009,"in-gaap","false","monetary","credit","duration","item","true","",0,"INR","D2011","D2010",null,{"$f":"decimals","v":0},null,"",1,null,1,"Y","N","N","N","","","",0,0,0,null,0,0,0,"Receipt dividend long-term mutual funds",null,0,"","","",0,"","","",0,"","",""]
["Receipt dividend other long-term investments","ReceiptDividendOtherLongTermInvestments",{"$f":"IF(OR('15-OtherIncome'!D64=0,ISNUMBER('15-OtherIncome'!D64)=FALSE),\"\",'15-OtherIncome'!D64)","v":""},{"$f":"IF(OR('15-OtherIncome'!E64=0,ISNUMBER('15-OtherIncome'!E64)=FALSE),\"\",'15-OtherIncome'!E64)","v":""},null,"",{"$f":"IF(AH248=\"Y\",IF(VLOOKUP(A248,PLFN2,4,FALSE)=0,\"\",VLOOKUP(A248,PLFN2,4,FALSE)),\"\")","v":""},"",{"$f":"IF(AI248=\"Y\",IF(VLOOKUP(A248,PLFN2,5,FALSE)=0,\"\",VLOOKUP(A248,PLFN2,5,FALSE)),\"\")","v":""},null,"",null,1010,"in-gaap","false","monetary","credit","duration","item","true","",0,"INR","D2011","D2010",null,{"$f":"decimals","v":0},null,"",1,null,1,"Y","N","N","N","","","",0,0,0,null,0,0,0,"Receipt dividend other long-term investments",null,0,"","","",0,"","","",0,"","",""]
["Receipt dividend long-term investments","ReceiptDividendLongTermInvestments",{"$f":"IF(OR('15-OtherIncome'!D65=0,ISNUMBER('15-OtherIncome'!D65)=FALSE),\"\",'15-OtherIncome'!D65)","v":""},{"$f":"IF(OR('15-OtherIncome'!E65=0,ISNUMBER('15-OtherIncome'!E65)=FALSE),\"\",'15-OtherIncome'!E65)","v":""},null,"",{"$f":"IF(AH249=\"Y\",IF(VLOOKUP(A249,PLFN2,4,FALSE)=0,\"\",VLOOKUP(A249,PLFN2,4,FALSE)),\"\")","v":""},"",{"$f":"IF(AI249=\"Y\",IF(VLOOKUP(A249,PLFN2,5,FALSE)=0,\"\",VLOOKUP(A249,PLFN2,5,FALSE)),\"\")","v":""},null,"",null,1007,"in-gaap","false","monetary","credit","duration","item","true","",0,"INR","D2011","D2010",null,{"$f":"decimals","v":0},null,"",1,null,1,"Y","N","N","N","","","",0,0,0,null,0,0,0,"Receipt dividend long-term investments",null,0,"","","",0,"","","",0,"","",""]
["Receipt income long-term investments","ReceiptIncomeLongTermInvestments",{"$f":"IF(OR('15-OtherIncome'!D49=0,ISNUMBER('15-OtherIncome'!D49)=FALSE),\"\",'15-OtherIncome'!D49)","v":""},{"$f":"IF(OR('15-OtherIncome'!E49=0,ISNUMBER('15-OtherIncome'!E49)=FALSE),\"\",'15-OtherIncome'!E49)","v":""},null,"",{"$f":"IF(AH250=\"Y\",IF(VLOOKUP(A250,PLFN2,4,FALSE)=0,\"\",VLOOKUP(A250,PLFN2,4,FALSE)),\"\")","v":""},"",{"$f":"IF(AI250=\"Y\",IF(VLOOKUP(A250,PLFN2,5,FALSE)=0,\"\",VLOOKUP(A250,PLFN2,5,FALSE)),\"\")","v":""},null,"",null,1000,"in-gaap","false","monetary","credit","duration","item","true","",0,"INR","D2011","D2010",null,{"$f":"decimals","v":0},null,"",1,null,1,"Y","N","N","N","","","",0,0,0,null,0,0,0,"Receipt income long-term investments",null,0,"","","",0,"","","",0,"","",""]
["Receipt income current investments [abstract]","ReceiptIncomeCurrentInvestmentsAbstract",{"$nulls":3},"",null,"",null,null,"",null,1337,"in-gaap","true","string","","duration","item","true","",0,"","D2011","D2010",{"$nulls":3},"",1,null,1,"N","N","N","N","","","",0,0,0,null,0,0,0,"",null,0,"","","",0,"","","",0,"","",""]
["Receipt interest current investments [abstract]","ReceiptInterestCurrentInvestmentsAbstract",{"$nulls":3},"",null,"",null,null,"",null,1338,"in-gaap","true","string","","duration","item","true","",0,"","D2011","D2010",{"$nulls":3},"",1,null,1,"N","N","N","N","","","",0,0,0,null,0,0,0,"",null,0,"","","",0,"","","",0,"","",""]
["Receipt interest current bank deposits","ReceiptInterestCurrentBankDeposits",{"$f":"IF(OR('15-OtherIncome'!D75=0,ISNUMBER('15-OtherIncome'!D75)=FALSE),\"\",'15-OtherIncome'!D75)","v":""},{"$f":"IF(OR('15-OtherIncome'!E75=0,ISNUMBER('15-OtherIncome'!E75)=FALSE),\"\",'15-OtherIncome'!E75)","v":""},null,"",{"$f":"IF(AH253=\"Y\",IF(VLOOKUP(A253,PLFN2,4,FALSE)=0,\"\",VLOOKUP(A253,PLFN2,4,FALSE)),\"\")","v":""},"",{"$f":"IF(AI253=\"Y\",IF(VLOOKUP(A253,PLFN2,5,FALSE)=0,\"\",VLOOKUP(A253,PLFN2,5,FALSE)),\"\")","v":""},null,"",null,1013,"in-gaap","false","monetary","credit","duration","item","true","",0,"INR","D2011","D2010",null,{"$f":"decimals","v":0},null,"",1,null,1,"Y","N","N","N","","","",0,0,0,null,0,0,0,"Receipt interest current bank deposits",null,0,"","","",0,"","","",0,"","",""]
["Receipt interest current intercorporate deposits","ReceiptInterestCurrentIntercorporateDeposits",{"$f":"IF(OR('15-OtherIncome'!D76=0,ISNUMBER('15-OtherIncome'!D76)=FALSE),\"\",'15-OtherIncome'!D76)","v":""},{"$f":"IF(OR('15-OtherIncome'!E76=0,ISNUMBER('15-OtherIncome'!E76)=FALSE),\"\",'15-OtherIncome'!E76)","v":""},null,"","","","",null,"",null,1014,"in-gaap","false","monetary","credit","duration","item","true","",0,"INR","D2011","D2010",null,0,null,"",1,null,1,"Y","N","N","N","","","",0,0,0,null,0,0,0,"Receipt interest current intercorporate deposits",null,0,"","","",0,"","","",0,"","",""]
["Receipt interest current debt securities","ReceiptInterestCurrentDebtSecurities",{"$f":"IF(OR('15-OtherIncome'!D77=0,ISNUMBER('15-OtherIncome'!D77)=FALSE),\"\",'15-OtherIncome'!D77)","v":""},{"$f":"IF(OR('15-OtherIncome'!E77=0,ISNUMBER('15-OtherIncome'!E77)=FALSE),\"\",'15-OtherIncome'!E77)","v":""},null,"","","","",null,"",null,1015,"in-gaap","false","monetary","credit","duration","item","true","",0,"INR","D2011","D2010",null,0,null,"",1,null,1,"Y","N","N","N","","","",0,0,0,null,0,0,0,"Receipt interest current debt securities",null,0,"","","",0,"","","",0,"","",""]
["Receipt interest current government securities","ReceiptInterestCurrentGovernmentSecurities",{"$f":"IF(OR('15-OtherIncome'!D78=0,ISNUMBER('15-OtherIncome'!D78)=FALSE),\"\",'15-OtherIncome'!D78)","v":""},{"$f":"IF(OR('15-OtherIncome'!E78=0,ISNUMBER('15-OtherIncome'!E78)=FALSE),\"\",'15-OtherIncome'!E78)","v":""},null,"","","","",null,"",null,1016,"in-gaap","false","monetary","credit","duration","item","true","",0,"INR","D2011","D2010",null,0,null,"",1,null,1,"Y","N","N","N","","","",0,0,0,null,0,0,0,"Receipt interest current government securities",null,0,"","","",0,"","","",0,"","",""]
["Receipt interest other current investments","ReceiptInterestOtherCurrentInvestments",{"$f":"IF(OR('15-OtherIncome'!D79=0,ISNUMBER('15-OtherIncome'!D79)=FALSE),\"\",'15-OtherIncome'!D79)","v":""},{"$f":"IF(OR('15-OtherIncome'!E79=0,ISNUMBER('15-OtherIncome'!E79)=FALSE),\"\",'15-OtherIncome'!E79)","v":""},null,"","","","",null,"",null,1017,"in-gaap","false","monetary","credit","duration","item","true","",0,"INR","D2011","D2010",null,0,null,"",1,null,1,"Y","N","N","N","","","",0,0,0,null,0,0,0,"Receipt interest other current investments",null,0,"","","",0,"","","",0,"","",""]
["Receipt interest current investments","ReceiptInterestCurrentInvestments",{"$f":"IF(OR('15-OtherIncome'!D80=0,ISNUMBER('15-OtherIncome'!D80)=FALSE),\"\",'15-OtherIncome'!D80)","v":""},{"$f":"IF(OR('15-OtherIncome'!E80=0,ISNUMBER('15-OtherIncome'!E80)=FALSE),\"\",'15-OtherIncome'!E80)","v":""},null,"","","","",null,"",null,1012,"in-gaap","false","monetary","credit","duration","item","true","",0,"INR","D2011","D2010",null,0,null,"",1,null,1,"Y","N","N","N","","","",0,0,0,null,0,0,0,"Receipt interest current investments",null,0,"","","",0,"","","",0,"","",""]
["Receipts dividend current investments [abstract]","ReceiptsDividendCurrentInvestmentsAbstract",{"$nulls":3},"",null,"",null,null,"",null,1339,"in-gaap","true","string","","duration","item","true","",0,"","D2011","D2010",{"$nulls":3},"",1,null,1,"N","N","N","N","","","",0,0,0,null,0,0,0,"",null,0,"","","",0,"","","",0,"","",""]
["Receipt dividend current equity securities","ReceiptDividendCurrentEquitySecurities",{"$f":"IF(OR('15-OtherIncome'!D84=0,ISNUMBER('15-OtherIncome'!D84)=FALSE),\"\",'15-OtherIncome'!D84)","v":""},{"$f":"IF(OR('15-OtherIncome'!E84=0,ISNUMBER('15-OtherIncome'!E84)=FALSE),\"\",'15-OtherIncome'!E84)","v":""},null,"",{"$f":"IF(AH260=\"Y\",IF(VLOOKUP(A260,PLFN2,4,FALSE)=0,\"\",VLOOKUP(A260,PLFN2,4,FALSE)),\"\")","v":""},"",{"$f":"IF(AI260=\"Y\",IF(VLOOKUP(A260,PLFN2,5,FALSE)=0,\"\",VLOOKUP(A260,PLFN2,5,FALSE)),\"\")","v":""},null,"",null,1019,"in-gaap","false","monetary","credit","duration","item","true","",0,"INR","D2011","D2010",null,{"$f":"decimals","v":0},null,"",1,null,1,"Y","N","N","N","","","",0,0,0,null,{"$f":"IF(AQ260=\"P\",IF(C260<0,1,0),0)","v":0},{"$f":"IF(AQ260=\"P\",IF(D260<0,1,0),0)","v":0},0,"Receipt dividend current equity securities",null,0,"","","",0,"","","",0,"","",""]
["Receipt dividend current mutual funds","ReceiptDividendCurrentMutualFunds",{"$f":"IF(OR('15-OtherIncome'!D85=0,ISNUMBER('15-OtherIncome'!D85)=FALSE),\"\",'15-OtherIncome'!D85)","v":""},{"$f":"IF(OR('15-OtherIncome'!E85=0,ISNUMBER('15-OtherIncome'!E85)=FALSE),\"\",'15-OtherIncome'!E85)","v":""},null,"","","","",null,"",null,1020,"in-gaap","false","monetary","credit","duration","item","true","",0,"INR","D2011","D2010",null,0,null,"",1,null,1,"Y","N","N","N","","","",0,0,0,null,0,0,0,"Receipt dividend current mutual funds",null,0,"","","",0,"","","",0,"","",""]
["Receipt dividend other current investments","ReceiptDividendOtherCurrentInvestments",{"$f":"IF(OR('15-OtherIncome'!D86=0,ISNUMBER('15-OtherIncome'!D86)=FALSE),\"\",'15-OtherIncome'!D86)","v":""},{"$f":"IF(OR('15-OtherIncome'!E86=0,ISNUMBER('15-OtherIncome'!E86)=FALSE),\"\",'15-OtherIncome'!E86)","v":""},null,"","","","",null,"",null,1021,"in-gaap","false","monetary","credit","duration","item","true","",0,"INR","D2011","D2010",null,0,null,"",1,null,1,"Y","N","N","N","","","",0,0,0,null,0,0,0,"Receipt dividend other current investments",null,0,"","","",0,"","","",0,"","",""]
["Receipts dividend current investments","ReceiptsDividendCurrentInvestments",{"$f":"IF(OR('15-OtherIncome'!D87=0,ISNUMBER('15-OtherIncome'!D87)=FALSE),\"\",'15-OtherIncome'!D87)","v":""},{"$f":"IF(OR('15-OtherIncome'!E87=0,ISNUMBER('15-OtherIncome'!E87)=FALSE),\"\",'15-OtherIncome'!E87)","v":""},null,"","","","",null,"",null,{"$f":"VLOOKUP(B263,XBRLBusinessRules,2,FALSE)","v":1018},{"$f":"VLOOKUP(B263,XBRLBusinessRules,3,FALSE)","v":"in-gaap"},{"$f":"VLOOKUP(B263,XBRLBusinessRules,4,FALSE)","v":"false"},{"$f":"VLOOKUP(B263,XBRLBusinessRules,5,FALSE)","v":"monetary"},{"$f":"VLOOKUP(B263,XBRLBusinessRules,6,FALSE)","v":"credit"},{"$f":"VLOOKUP(B263,XBRLBusinessRules,7,FALSE)","v":"duration"},{"$f":"VLOOKUP(B263,XBRLBusinessRules,8,FALSE)","v":"item"},{"$f":"VLOOKUP(B263,XBRLBusinessRules,9,FALSE)","v":"true"},{"$f":"VLOOKUP(B263,XBRLBusinessRules,10,FALSE)","v":""},{"$f":"VLOOKUP(B263,XBRLBusinessRules,11,FALSE)","v":0},{"$f":"IF(P263=\"monetary\",\"INR\",\"\")","v":"INR"},{"$f":"UPPER(LEFT(R263,1))&CYEND","v":"D2011"},{"$f":"UPPER(LEFT(R263,1))&PYEND","v":"D2010"},null,0,null,{"$f":"IF(V263=\"This can be entered only in case of Consolidated instance document\",\"C\",\"\")","v":""},{"$f":"COUNTIF(TagNamePL,\"=\"&B263)","v":1},null,{"$f":"AD263-COUNTIFS(TagNamePL,B263,TagPLD,\"D\")","v":1},{"$f":"IF(OR(O263=\"true\",AE263=\"D\"),\"N\",\"Y\")","v":"Y"},"N","N","N","","","",0,0,0,null,0,0,{"$f":"IF(AF263=1,0,1)","v":0},"Receipts dividend current investments",null,{"$f":"IF(F263<>\"\",\"1\",0)","v":0},{"$f":"IF(F263<>\"\",\"<link:loc xlink:href=\"&\"\"\"\"&\"#\"&\"TA\"&F263&\"\"\"\"&\" xlink:type=\"&\"\"\"\"&\"locator\"&\"\"\"\"&\" xlink:label=\"&\"\"\"\"&\"value\"&AN263&\"\"\"\"&\"/>\",\"\")","v":""},{"$f":"IF(F263<>\"\",\"<link:footnote xlink:role=\"&\"\"\"\"&\"http://www.xbrl.org/2003/role/footnote\"&\"\"\"\"&\" xml:lang=\"&\"\"\"\"&\"en\"&\"\"\"\"&\" xlink:type=\"&\"\"\"\"&\"resource\"&\"\"\"\"&\" xlink:label=\"&\"\"\"\"&\"footnote\"&AN263&\"\"\"\"&\">\"&G263&\"</link:footnote>\",\"\")","v":""},{"$f":"IF(F263<>\"\",\"<link:footnoteArc xlink:type=\"&\"\"\"\"&\"arc\"&\"\"\"\"&\" order=\"&\"\"\"\"&\"1.0\"&\"\"\"\"& \" xlink:to=\"&\"\"\"\"&\"footnote\"&AN263&\"\"\"\"& \" xlink:from=\"&\"\"\"\"&\"value\"&AN263&\"\"\"\"&\" xlink:arcrole=\"&\"\"\"\"&\"http://www.xbrl.org/2003/arcrole/fact-footnote\"&\"\"\"\"&\"/>\",\"\")","v":""},{"$f":"IF(H263<>\"\",\"1\",0)","v":0},{"$f":"IF(H263<>\"\",\"<link:loc xlink:href=\"&\"\"\"\"&\"#\"&\"TA\"&H263&\"\"\"\"&\" xlink:type=\"&\"\"\"\"&\"locator\"&\"\"\"\"&\" xlink:label=\"&\"\"\"\"&\"value\"&AO263&\"\"\"\"&\"/>\",\"\")","v":""},{"$f":"IF(H263<>\"\",\"<link:footnote xlink:role=\"&\"\"\"\"&\"http://www.xbrl.org/2003/role/footnote\"&\"\"\"\"&\" xml:lang=\"&\"\"\"\"&\"en\"&\"\"\"\"&\" xlink:type=\"&\"\"\"\"&\"resource\"&\"\"\"\"&\" xlink:label=\"&\"\"\"\"&\"footnote\"&AO263&\"\"\"\"&\">\"&I263&\"</link:footnote>\",\"\")","v":""},{"$f":"IF(H263<>\"\",\"<link:footnoteArc xlink:type=\"&\"\"\"\"&\"arc\"&\"\"\"\"&\" order=\"&\"\"\"\"&\"1.0\"&\"\"\"\"& \" xlink:to=\"&\"\"\"\"&\"footnote\"&AO263&\"\"\"\"& \" xlink:from=\"&\"\"\"\"&\"value\"&AO263&\"\"\"\"&\" xlink:arcrole=\"&\"\"\"\"&\"http://www.xbrl.org/2003/arcrole/fact-footnote\"&\"\"\"\"&\"/>\",\"\")","v":""},{"$f":"IF(K263<>\"\",\"1\",0)","v":0},{"$f":"IF(K263<>\"\",\"<link:loc xlink:href=\"&\"\"\"\"&\"#\"&\"TA\"&K263&\"\"\"\"&\" xlink:type=\"&\"\"\"\"&\"locator\"&\"\"\"\"&\" xlink:label=\"&\"\"\"\"&\"value\"&AP263&\"\"\"\"&\"/>\",\"\")","v":""},{"$f":"IF(K263<>\"\",\"<link:footnote xlink:role=\"&\"\"\"\"&\"http://www.xbrl.org/2003/role/footnote\"&\"\"\"\"&\" xml:lang=\"&\"\"\"\"&\"en\"&\"\"\"\"&\" xlink:type=\"&\"\"\"\"&\"resource\"&\"\"\"\"&\" xlink:label=\"&\"\"\"\"&\"footnote\"&AP263&\"\"\"\"&\">\"&L263&\"</link:footnote>\",\"\")","v":""},{"$f":"IF(K263<>\"\",\"<link:footnoteArc xlink:type=\"&\"\"\"\"&\"arc\"&\"\"\"\"&\" order=\"&\"\"\"\"&\"1.0\"&\"\"\"\"& \" xlink:to=\"&\"\"\"\"&\"footnote\"&AP263&\"\"\"\"& \" xlink:from=\"&\"\"\"\"&\"value\"&AP263&\"\"\"\"&\" xlink:arcrole=\"&\"\"\"\"&\"http://www.xbrl.org/2003/arcrole/fact-footnote\"&\"\"\"\"&\"/>\",\"\")","v":""}]
["Receipt income current investments","ReceiptIncomeCurrentInvestments",{"$f":"IF(OR('15-OtherIncome'!D71=0,ISNUMBER('15-OtherIncome'!D71)=FALSE),\"\",'15-OtherIncome'!D71)","v":""},{"$f":"IF(OR('15-OtherIncome'!E71=0,ISNUMBER('15-OtherIncome'!E71)=FALSE),\"\",'15-OtherIncome'!E71)","v":""},null,"","","","",null,"",null,1011,"in-gaap","false","monetary","credit","duration","item","true","",0,"INR","D2011","D2010",null,0,null,"",1,null,1,"Y","N","N","N","","","",0,0,0,null,0,0,0,"Receipt income current investments",null,0,"","","",0,"","","",0,"","",""]
["Receipt rent investment properties","ReceiptRentInvestmentProperties",{"$f":"IF(OR('15-OtherIncome'!D34=0,ISNUMBER('15-OtherIncome'!D34)=FALSE),\"\",'15-OtherIncome'!D34)","v":""},{"$f":"IF(OR('15-OtherIncome'!E34=0,ISNUMBER('15-OtherIncome'!E34)=FALSE),\"\",'15-OtherIncome'!E34)","v":""},null,"","","","",null,"",null,1022,"in-gaap","false","monetary","credit","duration","item","true","",0,"INR","D2011","D2010",null,0,null,"",2,"D",1,"N","N","N","N","","","",0,0,0,null,0,0,0,"",null,0,"","","",0,"","","",0,"","",""]
["Receipt income investments","ReceiptIncomeInvestments",{"$f":"IF(OR('15-OtherIncome'!D35=0,ISNUMBER('15-OtherIncome'!D35)=FALSE),\"\",'15-OtherIncome'!D35)","v":""},{"$f":"IF(OR('15-OtherIncome'!E35=0,ISNUMBER('15-OtherIncome'!E35)=FALSE),\"\",'15-OtherIncome'!E35)","v":""},null,"","","","",null,"",null,999,"in-gaap","false","monetary","credit","duration","item","true","",0,"INR","D2011","D2010",null,0,null,"",2,"D",1,"N","N","N","N","","","",0,0,0,null,0,0,0,"",null,0,"","","",0,"","","",0,"","",""]
["Receipt income subsidiaries","ReceiptIncomeSubsidiaries",{"$f":"IF(OR('15-OtherIncome'!D9=0,ISNUMBER('15-OtherIncome'!D9)=FALSE),\"\",'15-OtherIncome'!D9)","v":""},{"$f":"IF(OR('15-OtherIncome'!E9=0,ISNUMBER('15-OtherIncome'!E9)=FALSE),\"\",'15-OtherIncome'!E9)","v":""},null,"","","","",null,"",null,1023,"in-gaap","false","monetary","credit","duration","item","true","",0,"INR","D2011","D2010",null,0,null,"",1,null,1,"Y","N","N","N","","","",0,0,0,null,0,0,0,"Receipt income subsidiaries",null,0,"","","",0,"","","",0,"","",""]
["Receipt interest income tax refund","ReceiptInterestIncomeTaxRefund",{"$f":"IF(OR('15-OtherIncome'!D10=0,ISNUMBER('15-OtherIncome'!D10)=FALSE),\"\",'15-OtherIncome'!D10)","v":""},{"$f":"IF(OR('15-OtherIncome'!E10=0,ISNUMBER('15-OtherIncome'!E10)=FALSE),\"\",'15-OtherIncome'!E10)","v":""},null,"","","","",null,"",null,1024,"in-gaap","false","monetary","credit","duration","item","true","",0,"INR","D2011","D2010",null,0,null,"",1,null,1,"Y","N","N","N","","","",0,0,0,null,0,0,0,"Receipt interest income tax refund",null,0,"","","",0,"","","",0,"","",""]
["Receipts brokerage commission","ReceiptsBrokerageCommission",{"$f":"IF(OR('15-OtherIncome'!D11=0,ISNUMBER('15-OtherIncome'!D11)=FALSE),\"\",'15-OtherIncome'!D11)","v":""},{"$f":"IF(OR('15-OtherIncome'!E11=0,ISNUMBER('15-OtherIncome'!E11)=FALSE),\"\",'15-OtherIncome'!E11)","v":""},null,"","","","",null,"",null,1025,"in-gaap","false","monetary","credit","duration","item","true","",0,"INR","D2011","D2010",null,0,null,"",1,null,1,"Y","N","N","N","","","",0,0,0,null,0,0,0,"Receipts brokerage commission",null,0,"","","",0,"","","",0,"","",""]
["Sales tax benefit","SalesTaxBenefit",{"$f":"IF(OR('15-OtherIncome'!D12=0,ISNUMBER('15-OtherIncome'!D12)=FALSE),\"\",'15-OtherIncome'!D12)","v":""},{"$f":"IF(OR('15-OtherIncome'!E12=0,ISNUMBER('15-OtherIncome'!E12)=FALSE),\"\",'15-OtherIncome'!E12)","v":""},null,"","","","",null,"",null,1026,"in-gaap","false","monetary","credit","duration","item","true","",0,"INR","D2011","D2010",null,0,null,"",1,null,1,"Y","N","N","N","","","",0,0,0,null,0,0,0,"Sales tax benefit",null,0,"","","",0,"","","",0,"","",""]
["Foreign exchange difference income","ForeignExchangeDifferenceIncome",{"$f":"IF(OR('15-OtherIncome'!D13=0,ISNUMBER('15-OtherIncome'!D13)=FALSE),\"\",'15-OtherIncome'!D13)","v":""},{"$f":"IF(OR('15-OtherIncome'!E13=0,ISNUMBER('15-OtherIncome'!E13)=FALSE),\"\",'15-OtherIncome'!E13)","v":""},null,"","","","",null,"",null,1027,"in-gaap","false","monetary","credit","duration","item","true","",0,"INR","D2011","D2010",null,0,null,"",1,null,1,"Y","N","N","N","","","",0,0,0,null,0,0,0,"Foreign exchange difference income",null,0,"","","",0,"","","",0,"","",""]
["Profit sale redemption investments [abstract]","ProfitSaleRedemptionInvestmentsAbstract",{"$nulls":3},"",null,"",null,null,"",null,1340,"in-gaap","true","string","","duration","item","true","",0,"","D2011","D2010",{"$nulls":3},"",1,null,1,"N","N","N","N","","","",0,0,0,null,0,0,0,"",null,0,"","","",0,"","","",0,"","",""]
["Profit sale redemption long-term investments","ProfitSaleRedemptionLongTermInvestments",{"$f":"IF(OR('15-OtherIncome'!D91=0,ISNUMBER('15-OtherIncome'!D91)=FALSE),\"\",'15-OtherIncome'!D91)","v":""},{"$f":"IF(OR('15-OtherIncome'!E91=0,ISNUMBER('15-OtherIncome'!E91)=FALSE),\"\",'15-OtherIncome'!E91)","v":""},null,"",{"$f":"IF(AH273=\"Y\",IF(VLOOKUP(A273,PLFN2,4,FALSE)=0,\"\",VLOOKUP(A273,PLFN2,4,FALSE)),\"\")","v":""},"",{"$f":"IF(AI273=\"Y\",IF(VLOOKUP(A273,PLFN2,5,FALSE)=0,\"\",VLOOKUP(A273,PLFN2,5,FALSE)),\"\")","v":""},null,"",null,1029,"in-gaap","false","monetary","credit","duration","item","true","",0,"INR","D2011","D2010",null,{"$f":"decimals","v":0},null,"",1,null,1,"Y","N","N","N","","","",0,0,0,null,0,0,0,"Profit sale redemption long-term investments",null,0,"","","",0,"","","",0,"","",""]
["Profit sale redemption current investments","ProfitSaleRedemptionCurrentInvestments",{"$f":"IF(OR('15-OtherIncome'!D92=0,ISNUMBER('15-OtherIncome'!D92)=FALSE),\"\",'15-OtherIncome'!D92)","v":""},{"$f":"IF(OR('15-OtherIncome'!E92=0,ISNUMBER('15-OtherIncome'!E92)=FALSE),\"\",'15-OtherIncome'!E92)","v":""},null,"",{"$f":"IF(AH274=\"Y\",IF(VLOOKUP(A274,PLFN2,4,FALSE)=0,\"\",VLOOKUP(A274,PLFN2,4,FALSE)),\"\")","v":""},"",{"$f":"IF(AI274=\"Y\",IF(VLOOKUP(A274,PLFN2,5,FALSE)=0,\"\",VLOOKUP(A274,PLFN2,5,FALSE)),\"\")","v":""},null,"",null,1030,"in-gaap","false","monetary","credit","duration","item","true","",0,"INR","D2011","D2010",null,{"$f":"decimals","v":0},null,"",1,null,1,"Y","N","N","N","","","",0,0,0,null,0,0,0,"Profit sale redemption current investments",null,0,"","","",0,"","","",0,"","",""]
["Profit sale redemption investments","ProfitSaleRedemptionInvestments",{"$f":"IF(OR('15-OtherIncome'!D93=0,ISNUMBER('15-OtherIncome'!D93)=FALSE),\"\",'15-OtherIncome'!D93)","v":""},{"$f":"IF(OR('15-OtherIncome'!E93=0,ISNUMBER('15-OtherIncome'!E93)=FALSE),\"\",'15-OtherIncome'!E93)","v":""},null,"",{"$f":"IF(AH275=\"Y\",IF(VLOOKUP(A275,PLFN2,4,FALSE)=0,\"\",VLOOKUP(A275,PLFN2,4,FALSE)),\"\")","v":""},"",{"$f":"IF(AI275=\"Y\",IF(VLOOKUP(A275,PLFN2,5,FALSE)=0,\"\",VLOOKUP(A275,PLFN2,5,FALSE)),\"\")","v":""},null,"",null,1028,"in-gaap","false","monetary","credit","duration","item","true","",0,"INR","D2011","D2010",null,{"$f":"decimals","v":0},null,"",1,null,1,"Y","N","N","N","","","",0,0,0,null,0,0,0,"Profit sale redemption investments",null,0,"","","",0,"","","",0,"","",""]
["Profit sale disposal fixed assets [abstract]","ProfitSaleDisposalFixedAssetsAbstract",{"$nulls":3},"",null,"",null,null,"",null,1341,"in-gaap","true","string","","duration","item","true","",0,"","D2011","D2010",{"$nulls":3},"",1,null,1,"N","N","N","N","","","",0,0,0,null,0,0,0,"",null,0,"","","",0,"","","",0,"","",""]
["Profit sale disposal tangible fixed assets","ProfitSaleDisposalTangibleFixedAssets",{"$f":"IF(OR('15-OtherIncome'!D97=0,ISNUMBER('15-OtherIncome'!D97)=FALSE),\"\",'15-OtherIncome'!D97)","v":""},{"$f":"IF(OR('15-OtherIncome'!E97=0,ISNUMBER('15-OtherIncome'!E97)=FALSE),\"\",'15-OtherIncome'!E97)","v":""},null,"",{"$f":"IF(AH277=\"Y\",IF(VLOOKUP(A277,PLFN2,4,FALSE)=0,\"\",VLOOKUP(A277,PLFN2,4,FALSE)),\"\")","v":""},"",{"$f":"IF(AI277=\"Y\",IF(VLOOKUP(A277,PLFN2,5,FALSE)=0,\"\",VLOOKUP(A277,PLFN2,5,FALSE)),\"\")","v":""},null,"",null,1032,"in-gaap","false","monetary","credit","duration","item","true","",0,"INR","D2011","D2010",null,{"$f":"decimals","v":0},null,"",1,null,1,"Y","N","N","N","","","",0,0,0,null,0,0,0,"Profit sale disposal tangible fixed assets",null,0,"","","",0,"","","",0,"","",""]
["Profit sale disposal intangible fixed assets","ProfitSaleDisposalIntangibleFixedAssets",{"$f":"IF(OR('15-OtherIncome'!D98=0,ISNUMBER('15-OtherIncome'!D98)=FALSE),\"\",'15-OtherIncome'!D98)","v":""},{"$f":"IF(OR('15-OtherIncome'!E98=0,ISNUMBER('15-OtherIncome'!E98)=FALSE),\"\",'15-OtherIncome'!E98)","v":""},null,"",{"$f":"IF(AH278=\"Y\",IF(VLOOKUP(A278,PLFN2,4,FALSE)=0,\"\",VLOOKUP(A278,PLFN2,4,FALSE)),\"\")","v":""},"",{"$f":"IF(AI278=\"Y\",IF(VLOOKUP(A278,PLFN2,5,FALSE)=0,\"\",VLOOKUP(A278,PLFN2,5,FALSE)),\"\")","v":""},null,"",null,1033,"in-gaap","false","monetary","credit","duration","item","true","",0,"INR","D2011","D2010",null,{"$f":"decimals","v":0},null,"",1,null,1,"Y","N","N","N","","","",0,0,0,null,0,0,0,"Profit sale disposal intangible fixed assets",null,0,"","","",0,"","","",0,"","",""]
["Profit sale disposal fixed assets","ProfitSaleDisposalFixedAssets",{"$f":"IF(OR('15-OtherIncome'!D99=0,ISNUMBER('15-OtherIncome'!D99)=FALSE),\"\",'15-OtherIncome'!D99)","v":""},{"$f":"IF(OR('15-OtherIncome'!E99=0,ISNUMBER('15-OtherIncome'!E99)=FALSE),\"\",'15-OtherIncome'!E99)","v":""},null,"",{"$f":"IF(AH279=\"Y\",IF(VLOOKUP(A279,PLFN2,4,FALSE)=0,\"\",VLOOKUP(A279,PLFN2,4,FALSE)),\"\")","v":""},"",{"$f":"IF(AI279=\"Y\",IF(VLOOKUP(A279,PLFN2,5,FALSE)=0,\"\",VLOOKUP(A279,PLFN2,5,FALSE)),\"\")","v":""},null,"",null,1031,"in-gaap","false","monetary","credit","duration","item","true","",0,"INR","D2011","D2010",null,{"$f":"decimals","v":0},null,"",1,null,1,"Y","N","N","N","","","",0,0,0,null,0,0,0,"Profit sale disposal fixed assets",null,0,"","","",0,"","","",0,"","",""]
["Receipts job work","ReceiptsJobWork",{"$f":"IF(OR('15-OtherIncome'!D16=0,ISNUMBER('15-OtherIncome'!D16)=FALSE),\"\",'15-OtherIncome'!D16)","v":""},{"$f":"IF(OR('15-OtherIncome'!E16=0,ISNUMBER('15-OtherIncome'!E16)=FALSE),\"\",'15-OtherIncome'!E16)","v":""},null,"",{"$f":"IF(AH280=\"Y\",IF(VLOOKUP(A280,PLFN2,4,FALSE)=0,\"\",VLOOKUP(A280,PLFN2,4,FALSE)),\"\")","v":""},"",{"$f":"IF(AI280=\"Y\",IF(VLOOKUP(A280,PLFN2,5,FALSE)=0,\"\",VLOOKUP(A280,PLFN2,5,FALSE)),\"\")","v":""},null,"",null,1034,"in-gaap","false","monetary","credit","duration","item","true","",0,"INR","D2011","D2010",null,{"$f":"decimals","v":0},null,"",1,null,1,"Y","N","N","N","","","",0,0,0,null,0,0,0,"Receipts job work",null,0,"","","",0,"","","",0,"","",""]
["Receipts hire charges","ReceiptsHireCharges",{"$f":"IF(OR('15-OtherIncome'!D17=0,ISNUMBER('15-OtherIncome'!D17)=FALSE),\"\",'15-OtherIncome'!D17)","v":""},{"$f":"IF(OR('15-OtherIncome'!E17=0,ISNUMBER('15-OtherIncome'!E17)=FALSE),\"\",'15-OtherIncome'!E17)","v":""},null,"",{"$f":"IF(AH281=\"Y\",IF(VLOOKUP(A281,PLFN2,4,FALSE)=0,\"\",VLOOKUP(A281,PLFN2,4,FALSE)),\"\")","v":""},"",{"$f":"IF(AI281=\"Y\",IF(VLOOKUP(A281,PLFN2,5,FALSE)=0,\"\",VLOOKUP(A281,PLFN2,5,FALSE)),\"\")","v":""},null,"",null,1035,"in-gaap","false","monetary","credit","duration","item","true","",0,"INR","D2011","D2010",null,{"$f":"decimals","v":0},null,"",1,null,1,"Y","N","N","N","","","",0,0,0,null,0,0,0,"Receipts hire charges",null,0,"","","",0,"","","",0,"","",""]
["Receipts intangible assets [abstract]","ReceiptsIntangibleAssetsAbstract",{"$nulls":3},"",null,"",null,null,"",null,1342,"in-gaap","true","string","","duration","item","true","",0,"","D2011","D2010",{"$nulls":3},"",1,null,1,"N","N","N","N","","","",0,0,0,null,0,0,0,"",null,0,"","","",0,"","","",0,"","",""]
["Receipts technical knowhow","ReceiptsTechnicalKnowhow",{"$f":"IF(OR('15-OtherIncome'!D103=0,ISNUMBER('15-OtherIncome'!D103)=FALSE),\"\",'15-OtherIncome'!D103)","v":""},{"$f":"IF(OR('15-OtherIncome'!E103=0,ISNUMBER('15-OtherIncome'!E103)=FALSE),\"\",'15-OtherIncome'!E103)","v":""},null,"",{"$f":"IF(AH283=\"Y\",IF(VLOOKUP(A283,PLFN2,4,FALSE)=0,\"\",VLOOKUP(A283,PLFN2,4,FALSE)),\"\")","v":""},"",{"$f":"IF(AI283=\"Y\",IF(VLOOKUP(A283,PLFN2,5,FALSE)=0,\"\",VLOOKUP(A283,PLFN2,5,FALSE)),\"\")","v":""},null,"",null,1037,"in-gaap","false","monetary","credit","duration","item","true","",0,"INR","D2011","D2010",null,{"$f":"decimals","v":0},null,"",1,null,1,"Y","N","N","N","","","",0,0,0,null,0,0,0,"Receipts technical knowhow",null,0,"","","",0,"","","",0,"","",""]
["Receipts franchise","ReceiptsFranchise",{"$f":"IF(OR('15-OtherIncome'!D104=0,ISNUMBER('15-OtherIncome'!D104)=FALSE),\"\",'15-OtherIncome'!D104)","v":""},{"$f":"IF(OR('15-OtherIncome'!E104=0,ISNUMBER('15-OtherIncome'!E104)=FALSE),\"\",'15-OtherIncome'!E104)","v":""},null,"","","","",null,"",null,1038,"in-gaap","false","monetary","credit","duration","item","true","",0,"INR","D2011","D2010",null,0,null,"",1,null,1,"Y","N","N","N","","","",0,0,0,null,0,0,0,"Receipts franchise",null,0,"","","",0,"","","",0,"","",""]
["Receipts licences","ReceiptsLicences",{"$f":"IF(OR('15-OtherIncome'!D105=0,ISNUMBER('15-OtherIncome'!D105)=FALSE),\"\",'15-OtherIncome'!D105)","v":""},{"$f":"IF(OR('15-OtherIncome'!E105=0,ISNUMBER('15-OtherIncome'!E105)=FALSE),\"\",'15-OtherIncome'!E105)","v":""},null,"","","","",null,"",null,1039,"in-gaap","false","monetary","credit","duration","item","true","",0,"INR","D2011","D2010",null,0,null,"",1,null,1,"Y","N","N","N","","","",0,0,0,null,0,0,0,"Receipts licences",null,0,"","","",0,"","","",0,"","",""]
["Receipts contractual rights","ReceiptsContractualRights",{"$f":"IF(OR('15-OtherIncome'!D106=0,ISNUMBER('15-OtherIncome'!D106)=FALSE),\"\",'15-OtherIncome'!D106)","v":""},{"$f":"IF(OR('15-OtherIncome'!E106=0,ISNUMBER('15-OtherIncome'!E106)=FALSE),\"\",'15-OtherIncome'!E106)","v":""},null,"","","","",null,"",null,1040,"in-gaap","false","monetary","credit","duration","item","true","",0,"INR","D2011","D2010",null,0,null,"",1,null,1,"Y","N","N","N","","","",0,0,0,null,0,0,0,"Receipts contractual rights",null,0,"","","",0,"","","",0,"","",""]
["Receipts royalties","ReceiptsRoyalties",{"$f":"IF(OR('15-OtherIncome'!D107=0,ISNUMBER('15-OtherIncome'!D107)=FALSE),\"\",'15-OtherIncome'!D107)","v":""},{"$f":"IF(OR('15-OtherIncome'!E107=0,ISNUMBER('15-OtherIncome'!E107)=FALSE),\"\",'15-OtherIncome'!E107)","v":""},null,"","","","",null,"",null,1041,"in-gaap","false","monetary","credit","duration","item","true","",0,"INR","D2011","D2010",null,0,null,"",1,null,1,"Y","N","N","N","","","",0,0,0,null,0,0,0,"Receipts royalties",null,0,"","","",0,"","","",0,"","",""]
["Receipts intangible assets","ReceiptsIntangibleAssets",{"$f":"IF(OR('15-OtherIncome'!D108=0,ISNUMBER('15-OtherIncome'!D108)=FALSE),\"\",'15-OtherIncome'!D108)","v":""},{"$f":"IF(OR('15-OtherIncome'!E108=0,ISNUMBER('15-OtherIncome'!E108)=FALSE),\"\",'15-OtherIncome'!E108)","v":""},null,"","","","",null,"",null,1036,"in-gaap","false","monetary","credit","duration","item","true","",0,"INR","D2011","D2010",null,0,null,"",1,null,1,"Y","N","N","N","","","",0,0,0,null,0,0,0,"Receipts intangible assets",null,0,"","","",0,"","","",0,"","",""]
["Receipts repairs maintenance","ReceiptsRepairsMaintenance",{"$f":"IF(OR('15-OtherIncome'!D19=0,ISNUMBER('15-OtherIncome'!D19)=FALSE),\"\",'15-OtherIncome'!D19)","v":""},{"$f":"IF(OR('15-OtherIncome'!E19=0,ISNUMBER('15-OtherIncome'!E19)=FALSE),\"\",'15-OtherIncome'!E19)","v":""},null,"","","","",null,"",null,1042,"in-gaap","false","monetary","credit","duration","item","true","",0,"INR","D2011","D2010",null,0,null,"",1,null,1,"Y","N","N","N","","","",0,0,0,null,0,0,0,"Receipts repairs maintenance",null,0,"","","",0,"","","",0,"","",""]
["Receipts membership subscriptions fees","ReceiptsMembershipSubscriptionsFees",{"$f":"IF(OR('15-OtherIncome'!D20=0,ISNUMBER('15-OtherIncome'!D20)=FALSE),\"\",'15-OtherIncome'!D20)","v":""},{"$f":"IF(OR('15-OtherIncome'!E20=0,ISNUMBER('15-OtherIncome'!E20)=FALSE),\"\",'15-OtherIncome'!E20)","v":""},null,"","","","",null,"",null,1043,"in-gaap","false","monetary","credit","duration","item","true","",0,"INR","D2011","D2010",null,0,null,"",1,null,1,"Y","N","N","N","","","",0,0,0,null,0,0,0,"Receipts membership subscriptions fees",null,0,"","","",0,"","","",0,"","",""]
["Receipts erectioning commissioning","ReceiptsErectioningCommissioning",{"$f":"IF(OR('15-OtherIncome'!D21=0,ISNUMBER('15-OtherIncome'!D21)=FALSE),\"\",'15-OtherIncome'!D21)","v":""},{"$f":"IF(OR('15-OtherIncome'!E21=0,ISNUMBER('15-OtherIncome'!E21)=FALSE),\"\",'15-OtherIncome'!E21)","v":""},null,"","","","",null,"",null,1044,"in-gaap","false","monetary","credit","duration","item","true","",0,"INR","D2011","D2010",null,0,null,"",1,null,1,"Y","N","N","N","","","",0,0,0,null,0,0,0,"Receipts erectioning commissioning",null,0,"","","",0,"","","",0,"","",""]
["Excess provisions written back","ExcessProvisionsWrittenBack",{"$f":"IF(OR('15-OtherIncome'!D22=0,ISNUMBER('15-OtherIncome'!D22)=FALSE),\"\",'15-OtherIncome'!D22)","v":""},{"$f":"IF(OR('15-OtherIncome'!E22=0,ISNUMBER('15-OtherIncome'!E22)=FALSE),\"\",'15-OtherIncome'!E22)","v":""},null,"","","","",null,"",null,1321,"in-gaap","false","monetary","credit","duration","item","true","",0,"INR","D2011","D2010",null,0,null,"",1,null,1,"Y","N","N","N","","","",0,0,0,null,0,0,0,"Excess provisions written back",null,0,"","","",0,"","","",0,"","",""]
["Other receipts","OtherReceipts",{"$f":"IF(OR('15-OtherIncome'!D23=0,ISNUMBER('15-OtherIncome'!D23)=FALSE),\"\",'15-OtherIncome'!D23)","v":""},{"$f":"IF(OR('15-OtherIncome'!E23=0,ISNUMBER('15-OtherIncome'!E23)=FALSE),\"\",'15-OtherIncome'!E23)","v":""},null,"","","","",null,"",null,1045,"in-gaap","false","monetary","credit","duration","item","true","",0,"INR","D2011","D2010",null,0,null,"",1,null,1,"Y","N","N","N","","","",0,0,0,null,0,0,0,"Other receipts",null,0,"","","",0,"","","",0,"","",""]
["Tax deducted at sources other income","TaxDeductedatSourcesOtherIncome",{"$f":"IF(OR('15-OtherIncome'!D26=0,ISNUMBER('15-OtherIncome'!D26)=FALSE),\"\",'15-OtherIncome'!D26)","v":""},{"$f":"IF(OR('15-OtherIncome'!E26=0,ISNUMBER('15-OtherIncome'!E26)=FALSE),\"\",'15-OtherIncome'!E26)","v":""},null,"","","","",null,"",null,1046,"in-gaap","false","monetary","debit","duration","item","true","",0,"INR","D2011","D2010",null,0,null,"",1,null,1,"Y","N","N","N","","","",0,0,0,null,0,0,0,"Tax deducted at sources other income",null,0,"","","",0,"","","",0,"","",""]
["Other allowances deduction other income","OtherAllowancesDeductionOtherIncome",{"$f":"IF(OR('15-OtherIncome'!D27=0,ISNUMBER('15-OtherIncome'!D27)=FALSE),\"\",'15-OtherIncome'!D27)","v":""},{"$f":"IF(OR('15-OtherIncome'!E27=0,ISNUMBER('15-OtherIncome'!E27)=FALSE),\"\",'15-OtherIncome'!E27)","v":""},null,{"$f":"IF(AND(AH295=\"Y\",G295<>\"\"),\"PL\"&AN295,\"\")","v":""},"",{"$f":"IF(AND(AI295=\"Y\",I295<>\"\"),\"PL\"&AO295,\"\")","v":""},"",null,{"$f":"IF(AND(AJ295=\"Y\",L295<>\"\"),\"PL\"&AP295,\"\")","v":""},null,{"$f":"VLOOKUP(B295,XBRLBusinessRules,2,FALSE)","v":1047},{"$f":"VLOOKUP(B295,XBRLBusinessRules,3,FALSE)","v":"in-gaap"},{"$f":"VLOOKUP(B295,XBRLBusinessRules,4,FALSE)","v":"false"},{"$f":"VLOOKUP(B295,XBRLBusinessRules,5,FALSE)","v":"monetary"},{"$f":"VLOOKUP(B295,XBRLBusinessRules,6,FALSE)","v":"debit"},{"$f":"VLOOKUP(B295,XBRLBusinessRules,7,FALSE)","v":"duration"},{"$f":"VLOOKUP(B295,XBRLBusinessRules,8,FALSE)","v":"item"},{"$f":"VLOOKUP(B295,XBRLBusinessRules,9,FALSE)","v":"true"},{"$f":"VLOOKUP(B295,XBRLBusinessRules,10,FALSE)","v":""},{"$f":"VLOOKUP(B295,XBRLBusinessRules,11,FALSE)","v":0},{"$f":"IF(P295=\"monetary\",\"INR\",\"\")","v":"INR"},{"$f":"UPPER(LEFT(R295,1))&CYEND","v":"D2011"},{"$f":"UPPER(LEFT(R295,1))&PYEND","v":"D2010"},null,0,null,{"$f":"IF(V295=\"This can be entered only in case of Consolidated instance document\",\"C\",\"\")","v":""},{"$f":"COUNTIF(TagNamePL,\"=\"&B295)","v":1},null,{"$f":"AD295-COUNTIFS(TagNamePL,B295,TagPLD,\"D\")","v":1},{"$f":"IF(OR(O295=\"true\",AE295=\"D\"),\"N\",\"Y\")","v":"Y"},{"$f":"IF(OR(AND(C295=\"\",D295=\"\",(AB295=\"M\")=FALSE),AG295=\"N\"),\"N\",\"Y\")","v":"N"},{"$f":"IF(OR(AND(C295=\"\",D295=\"\",(AB295=\"M\")=FALSE),AG295=\"N\"),\"N\",\"Y\")","v":"N"},{"$f":"IF(AND(COUNTBLANK(X295:Z295)=0,AG295=\"Y\"),IF(OR(AB295=\"M\",E295<>\"\"),\"Y\",\"N\"),\"N\")","v":"N"},{"$f":"IF(AH295=\"Y\",(\"<\"&N295&\":\"&B295&\" \"&IF(F295=\"\",\"\",\"id=\"\"\"&\"TA\"&F295&\"\"\"\"&\" \")&IF(OR(P295=\"monetary\",W295<>\"\"),\"unitRef=\"\"\"&W295&\"\"\"\"&\" \",\"\")&IF(X295=\"\",\"\",\"contextRef=\"\"\"&X295&\"\"\"\"&\" \")&IF(OR(P295=\"monetary\",AA295<>\"\"),\"decimals=\"\"\"&decimals&\"\"\"\"&\" \",\"\")&\">\")&IF(C295=\"\",0,C295)&\"</\"&N295&\":\"&B295&\">\",\"\")","v":""},{"$f":"IF(AI295=\"Y\",(\"<\"&N295&\":\"&B295&\" \"&IF(H295=\"\",\"\",\"id=\"\"\"&\"TA\"&H295&\"\"\"\"&\" \")&IF(OR(P295=\"monetary\",W295<>\"\"),\"unitRef=\"\"\"&W295&\"\"\"\"&\" \",\"\")&IF(Y295=\"\",\"\",\"contextRef=\"\"\"&Y295&\"\"\"\"&\" \")&IF(OR(P295=\"monetary\",AA295<>\"\"),\"decimals=\"\"\"&decimals&\"\"\"\"&\" \",\"\")&\">\")&IF(D295=\"\",0,D295)&\"</\"&N295&\":\"&B295&\">\",\"\")","v":""},{"$f":"IF(AJ295=\"Y\",(\"<\"&N295&\":\"&B295&\" \"&IF(K295=\"\",\"\",\"id=\"\"\"&\"TA\"&K295&\"\"\"\"&\" \")&IF(OR(P295=\"monetary\",W295<>\"\"),\"unitRef=\"\"\"&W295&\"\"\"\"&\" \",\"\")&IF(Z295=\"\",\"\",\"contextRef=\"\"\"&Z295&\"\"\"\"&\" \")&IF(OR(P295=\"monetary\",AA295<>\"\"),\"decimals=\"\"\"&decimals&\"\"\"\"&\" \",\"\")&\">\")&IF(E295=\"\",0,E295)&\"</\"&N295&\":\"&B295&\">\",\"\")","v":""},0,0,0,null,0,0,{"$f":"IF(AF295=1,0,1)","v":0},{"$f":"IF(AG295=\"Y\",A295,\"\")","v":"Other allowances deduction other income"},null,0,"","","",0,"","","",0,"","",""]
["Share other income joint ventures","ShareOtherIncomeJointVentures",{"$f":"IF(OR('15-OtherIncome'!D24=0,ISNUMBER('15-OtherIncome'!D24)=FALSE),\"\",'15-OtherIncome'!D24)","v":""},{"$f":"IF(OR('15-OtherIncome'!E24=0,ISNUMBER('15-OtherIncome'!E24)=FALSE),\"\",'15-OtherIncome'!E24)","v":""},null,"","","","",null,"",null,1048,"in-gaap","false","monetary","credit","duration","item","true","",0,"INR","D2011","D2010",null,0,null,"",1,null,1,{"$f":"IF(CONSOLCHECK=\"C\",IF(OR(O296=\"true\",AE296=\"D\"),\"N\",\"Y\"),\"N\")","v":"N"},"N","N","N","","","",0,0,0,null,0,0,0,"",null,0,"","","",0,"","","",0,"","",""]
["Other income","OtherIncome",{"$f":"IF(OR('15-OtherIncome'!D28=0,ISNUMBER('15-OtherIncome'!D28)=FALSE),\"\",'15-OtherIncome'!D28)","v":""},{"$f":"IF(OR('15-OtherIncome'!E28=0,ISNUMBER('15-OtherIncome'!E28)=FALSE),\"\",'15-OtherIncome'!E28)","v":""},null,{"$f":"IF(AND(AH297=\"Y\",G297<>\"\"),\"PL\"&AN297,\"\")","v":""},{"$f":"IF(AH297=\"Y\",IF(VLOOKUP(A297,PLFN2,4,FALSE)=0,\"\",VLOOKUP(A297,PLFN2,4,FALSE)),\"\")","v":""},{"$f":"IF(AND(AI297=\"Y\",I297<>\"\"),\"PL\"&AO297,\"\")","v":""},"",null,"",null,994,"in-gaap","false","monetary","credit","duration","item","true","","This is a mandatory field.","INR","D2011","D2010",null,0,"M","",3,"D",1,"N","N","N","N","","","",{"$f":"IF(AND(AH297=\"Y\",G297<>\"\"),AP296+1,AP296)","v":0},{"$f":"IF(AND(AI297=\"Y\",I297<>\"\"),AN297+1,AN297)","v":0},{"$f":"IF(AND(AJ297=\"Y\",L297<>\"\"),AO297+1,AO297)","v":0},null,0,0,0,"",null,0,"","","",0,"","","",0,"","",""]
["Operating revenue, net [abstract]","OperatingRevenueNetAbstract",{"$nulls":3},{"$f":"IF(AND(AH298=\"Y\",G298<>\"\"),\"PL\"&AN298,\"\")","v":""},null,{"$f":"IF(AND(AI298=\"Y\",I298<>\"\"),\"PL\"&AO298,\"\")","v":""},null,null,{"$f":"IF(AND(AJ298=\"Y\",L298<>\"\"),\"PL\"&AP298,\"\")","v":""},null,1324,"in-gaap","true","string","","duration","item","true","",0,"","D2011","D2010",{"$nulls":3},"",2,"D",1,"N","N","N","N","","","",0,0,0,null,0,0,0,"",null,0,"","","",0,"","","",0,"","",""]
["Operating revenue, gross [abstract]","OperatingRevenueGrossAbstract",{"$nulls":3},"",null,"",null,null,"",null,1325,"in-gaap","true","string","","duration","item","true","",0,"","D2011","D2010",{"$nulls":3},"",2,"D",1,"N","N","N","N","","","",0,0,0,null,0,0,0,"",null,0,"","","",0,"","","",0,"","",""]
["Revenue sale goods, gross [abstract]","RevenueSaleGoodsGrossAbstract",{"$nulls":3},"",null,"",null,null,"",null,1326,"in-gaap","true","string","","duration","item","true","",0,"","D2011","D2010",{"$nulls":3},"",2,"D",1,"N","N","N","N","","","",0,0,0,null,0,0,0,"",null,0,"","","",0,"","","",0,"","",""]
["Revenue sale manufactured goods","RevenueSaleManufacturedGoods",{"$f":"IF(OR('14-OperatingRevenue'!D28=0,ISNUMBER('14-OperatingRevenue'!D28)=FALSE),\"\",'14-OperatingRevenue'!D28)","v":""},{"$f":"IF(OR('14-OperatingRevenue'!E28=0,ISNUMBER('14-OperatingRevenue'!E28)=FALSE),\"\",'14-OperatingRevenue'!E28)","v":""},null,"",{"$f":"IF(AH301=\"Y\",IF(VLOOKUP(A301,PLFN1,4,FALSE)=0,\"\",VLOOKUP(A301,PLFN1,4,FALSE)),\"\")","v":""},"",{"$f":"IF(AI301=\"Y\",IF(VLOOKUP(A301,PLFN1,5,FALSE)=0,\"\",VLOOKUP(A301,PLFN1,5,FALSE)),\"\")","v":""},null,"",null,946,"in-gaap","false","monetary","credit","duration","item","true","",0,"INR","D2011","D2010",null,{"$f":"decimals","v":0},null,"",1,null,1,"Y","N","N","N","","","",0,0,0,null,0,0,0,"Revenue sale manufactured goods",null,0,"","","",0,"","","",0,"","",""]
["Revenue sale traded goods","RevenueSaleTradedGoods",{"$f":"IF(OR('14-OperatingRevenue'!D29=0,ISNUMBER('14-OperatingRevenue'!D29)=FALSE),\"\",'14-OperatingRevenue'!D29)","v":""},{"$f":"IF(OR('14-OperatingRevenue'!E29=0,ISNUMBER('14-OperatingRevenue'!E29)=FALSE),\"\",'14-OperatingRevenue'!E29)","v":""},null,{"$f":"IF(AND(AH302=\"Y\",G302<>\"\"),\"PL\"&AN302,\"\")","v":""},{"$f":"IF(AH302=\"Y\",IF(VLOOKUP(A302,PLFN1,4,FALSE)=0,\"\",VLOOKUP(A302,PLFN1,4,FALSE)),\"\")","v":""},{"$f":"IF(AND(AI302=\"Y\",I302<>\"\"),\"PL\"&AO302,\"\")","v":""},{"$f":"IF(AI302=\"Y\",IF(VLOOKUP(A302,PLFN1,5,FALSE)=0,\"\",VLOOKUP(A302,PLFN1,5,FALSE)),\"\")","v":""},null,{"$f":"IF(AND(AJ302=\"Y\",L302<>\"\"),\"PL\"&AP302,\"\")","v":""},null,947,"in-gaap","false","monetary","credit","duration","item","true","",0,"INR","D2011","D2010",null,{"$f":"decimals","v":0},null,"",1,null,1,"Y","N","N","N","","","",0,0,0,null,0,0,0,"Revenue sale traded goods",null,0,"","","",0,"","","",0,"","",""]
["Revenue sale other goods","RevenueSaleOtherGoods",{"$f":"IF(OR('14-OperatingRevenue'!D30=0,ISNUMBER('14-OperatingRevenue'!D30)=FALSE),\"\",'14-OperatingRevenue'!D30)","v":""},{"$f":"IF(OR('14-OperatingRevenue'!E30=0,ISNUMBER('14-OperatingRevenue'!E30)=FALSE),\"\",'14-OperatingRevenue'!E30)","v":""},null,"",{"$f":"IF(AH303=\"Y\",IF(VLOOKUP(A303,PLFN1,4,FALSE)=0,\"\",VLOOKUP(A303,PLFN1,4,FALSE)),\"\")","v":""},"",{"$f":"IF(AI303=\"Y\",IF(VLOOKUP(A303,PLFN1,5,FALSE)=0,\"\",VLOOKUP(A303,PLFN1,5,FALSE)),\"\")","v":""},null,"",null,948,"in-gaap","false","monetary","credit","duration","item","true","",0,"INR","D2011","D2010",null,{"$f":"decimals","v":0},null,"",1,null,1,"Y","N","N","N","","","",0,0,0,null,0,0,0,"Revenue sale other goods",null,0,"","","",0,"","","",0,"","",""]
["Revenue sale goods, gross","RevenueSaleGoodsGross",{"$f":"IF(OR('14-OperatingRevenue'!D31=0,ISNUMBER('14-OperatingRevenue'!D31)=FALSE),\"\",'14-OperatingRevenue'!D31)","v":""},{"$f":"IF(OR('14-OperatingRevenue'!E31=0,ISNUMBER('14-OperatingRevenue'!E31)=FALSE),\"\",'14-OperatingRevenue'!E31)","v":""},null,"",{"$f":"IF(AH304=\"Y\",IF(VLOOKUP(A304,PLFN1,4,FALSE)=0,\"\",VLOOKUP(A304,PLFN1,4,FALSE)),\"\")","v":""},"",{"$f":"IF(AI304=\"Y\",IF(VLOOKUP(A304,PLFN1,5,FALSE)=0,\"\",VLOOKUP(A304,PLFN1,5,FALSE)),\"\")","v":""},null,"",null,945,"in-gaap","false","monetary","credit","duration","item","true","",0,"INR","D2011","D2010",null,{"$f":"decimals","v":0},null,"",2,"D",1,"N","N","N","N","","","",0,0,0,null,0,0,0,"",null,0,"","","",0,"","","",0,"","",""]
["Revenue services, gross [abstract]","RevenueServicesGrossAbstract",{"$nulls":3},"",null,"",null,null,"",null,1327,"in-gaap","true","string","","duration","item","true","",0,"","D2011","D2010",{"$nulls":3},"",2,"D",1,"N","N","N","N","","","",0,0,0,null,0,0,0,"",null,0,"","","",0,"","","",0,"","",""]
["Revenue communication services","RevenueCommunicationServices",{"$f":"IF(OR('14-OperatingRevenue'!D47=0,ISNUMBER('14-OperatingRevenue'!D47)=FALSE),\"\",'14-OperatingRevenue'!D47)","v":""},{"$f":"IF(OR('14-OperatingRevenue'!E47=0,ISNUMBER('14-OperatingRevenue'!E47)=FALSE),\"\",'14-OperatingRevenue'!E47)","v":""},null,{"$f":"IF(AND(AH306=\"Y\",G306<>\"\"),\"PL\"&AN306,\"\")","v":""},{"$f":"IF(AH306=\"Y\",IF(VLOOKUP(A306,PLFN1,4,FALSE)=0,\"\",VLOOKUP(A306,PLFN1,4,FALSE)),\"\")","v":""},{"$f":"IF(AND(AI306=\"Y\",I306<>\"\"),\"PL\"&AO306,\"\")","v":""},{"$f":"IF(AI306=\"Y\",IF(VLOOKUP(A306,PLFN1,5,FALSE)=0,\"\",VLOOKUP(A306,PLFN1,5,FALSE)),\"\")","v":""},null,{"$f":"IF(AND(AJ306=\"Y\",L306<>\"\"),\"PL\"&AP306,\"\")","v":""},null,950,"in-gaap","false","monetary","credit","duration","item","true","",0,"INR","D2011","D2010",null,{"$f":"decimals","v":0},null,"",1,null,1,"Y","N","N","N","","","",0,0,0,null,0,0,0,"Revenue communication services",null,0,"","","",0,"","","",0,"","",""]
["Revenue logistics transport services [abstract]","RevenueLogisticsTransportServicesAbstract",{"$nulls":3},"",null,"",null,null,"",null,1328,"in-gaap","true","string","","duration","item","true","",0,"","D2011","D2010",{"$nulls":3},"",1,null,1,"N","N","N","N","","","",0,0,0,null,0,0,0,"",null,0,"","","",0,"","","",0,"","",""]
["Revenue roadway operations","RevenueRoadwayOperations",{"$f":"IF(OR('14-OperatingRevenue'!D69=0,ISNUMBER('14-OperatingRevenue'!D69)=FALSE),\"\",'14-OperatingRevenue'!D69)","v":""},{"$f":"IF(OR('14-OperatingRevenue'!E69=0,ISNUMBER('14-OperatingRevenue'!E69)=FALSE),\"\",'14-OperatingRevenue'!E69)","v":""},null,{"$f":"IF(AND(AH308=\"Y\",G308<>\"\"),\"PL\"&AN308,\"\")","v":""},{"$f":"IF(AH308=\"Y\",IF(VLOOKUP(A308,PLFN1,4,FALSE)=0,\"\",VLOOKUP(A308,PLFN1,4,FALSE)),\"\")","v":""},{"$f":"IF(AND(AI308=\"Y\",I308<>\"\"),\"PL\"&AO308,\"\")","v":""},{"$f":"IF(AI308=\"Y\",IF(VLOOKUP(A308,PLFN1,5,FALSE)=0,\"\",VLOOKUP(A308,PLFN1,5,FALSE)),\"\")","v":""},null,{"$f":"IF(AND(AJ308=\"Y\",L308<>\"\"),\"PL\"&AP308,\"\")","v":""},null,952,"in-gaap","false","monetary","credit","duration","item","true","",0,"INR","D2011","D2010",null,{"$f":"decimals","v":0},null,"",1,null,1,"Y","N","N","N","","","",0,0,0,null,0,0,0,"Revenue roadway operations",null,0,"","","",0,"","","",0,"","",""]
["Revenue waterway operations","RevenueWaterwayOperations",{"$f":"IF(OR('14-OperatingRevenue'!D70=0,ISNUMBER('14-OperatingRevenue'!D70)=FALSE),\"\",'14-OperatingRevenue'!D70)","v":""},{"$f":"IF(OR('14-OperatingRevenue'!E70=0,ISNUMBER('14-OperatingRevenue'!E70)=FALSE),\"\",'14-OperatingRevenue'!E70)","v":""},null,"","","","",null,"",null,953,"in-gaap","false","monetary","credit","duration","item","true","",0,"INR","D2011","D2010",null,0,null,"",1,null,1,"Y","N","N","N","","","",0,0,0,null,0,0,0,"Revenue waterway operations",null,0,"","","",0,"","","",0,"","",""]
["Revenue airway operations","RevenueAirwayOperations",{"$f":"IF(OR('14-OperatingRevenue'!D71=0,ISNUMBER('14-OperatingRevenue'!D71)=FALSE),\"\",'14-OperatingRevenue'!D71)","v":""},{"$f":"IF(OR('14-OperatingRevenue'!E71=0,ISNUMBER('14-OperatingRevenue'!E71)=FALSE),\"\",'14-OperatingRevenue'!E71)","v":""},null,"","","","",null,"",null,954,"in-gaap","false","monetary","credit","duration","item","true","",0,"INR","D2011","D2010",null,0,null,"",1,null,1,"Y","N","N","N","","","",0,0,0,null,0,0,0,"Revenue airway operations",null,0,"","","",0,"","","",0,"","",""]
["Revenue logistics transport services","RevenueLogisticsTransportServices",{"$f":"IF(OR('14-OperatingRevenue'!D72=0,ISNUMBER('14-OperatingRevenue'!D72)=FALSE),\"\",'14-OperatingRevenue'!D72)","v":""},{"$f":"IF(OR('14-OperatingRevenue'!E72=0,ISNUMBER('14-OperatingRevenue'!E72)=FALSE),\"\",'14-OperatingRevenue'!E72)","v":""},null,"","","","",null,"",null,951,"in-gaap","false","monetary","credit","duration","item","true","",0,"INR","D2011","D2010",null,0,null,"",1,null,1,"Y","N","N","N","","","",0,0,0,null,0,0,0,"Revenue logistics transport services",null,0,"","","",0,"","","",0,"","",""]
["Revenue courier services","RevenueCourierServices",{"$f":"IF(OR('14-OperatingRevenue'!D49=0,ISNUMBER('14-OperatingRevenue'!D49)=FALSE),\"\",'14-OperatingRevenue'!D49)","v":""},{"$f":"IF(OR('14-OperatingRevenue'!E49=0,ISNUMBER('14-OperatingRevenue'!E49)=FALSE),\"\",'14-OperatingRevenue'!E49)","v":""},null,"","","","",null,"",null,955,"in-gaap","false","monetary","credit","duration","item","true","",0,"INR","D2011","D2010",null,0,null,"",1,null,1,"Y","N","N","N","","","",0,0,0,null,0,0,0,"Revenue courier services",null,0,"","","",0,"","","",0,"","",""]
["Revenue infrastructure services","RevenueInfrastructureServices",{"$f":"IF(OR('14-OperatingRevenue'!D50=0,ISNUMBER('14-OperatingRevenue'!D50)=FALSE),\"\",'14-OperatingRevenue'!D50)","v":""},{"$f":"IF(OR('14-OperatingRevenue'!E50=0,ISNUMBER('14-OperatingRevenue'!E50)=FALSE),\"\",'14-OperatingRevenue'!E50)","v":""},null,"","","","",null,"",null,956,"in-gaap","false","monetary","credit","duration","item","true","",0,"INR","D2011","D2010",null,0,null,"",1,null,1,"Y","N","N","N","","","",0,0,0,null,0,0,0,"Revenue infrastructure services",null,0,"","","",0,"","","",0,"","",""]
["Revenue information technology services [abstract]","RevenueInformationTechnologyServicesAbstract",{"$nulls":3},"",null,"",null,null,"",null,1329,"in-gaap","true","string","","duration","item","true","",0,"","D2011","D2010",{"$nulls":3},"",1,null,1,"N","N","N","N","","","",0,0,0,null,0,0,0,"",null,0,"","","",0,"","","",0,"","",""]
["Revenue software development","RevenueSoftwareDevelopment",{"$f":"IF(OR('14-OperatingRevenue'!D77=0,ISNUMBER('14-OperatingRevenue'!D77)=FALSE),\"\",'14-OperatingRevenue'!D77)","v":""},{"$f":"IF(OR('14-OperatingRevenue'!E77=0,ISNUMBER('14-OperatingRevenue'!E77)=FALSE),\"\",'14-OperatingRevenue'!E77)","v":""},null,{"$f":"IF(AND(AH315=\"Y\",G315<>\"\"),\"PL\"&AN315,\"\")","v":""},{"$f":"IF(AH315=\"Y\",IF(VLOOKUP(A315,PLFN1,4,FALSE)=0,\"\",VLOOKUP(A315,PLFN1,4,FALSE)),\"\")","v":""},{"$f":"IF(AND(AI315=\"Y\",I315<>\"\"),\"PL\"&AO315,\"\")","v":""},{"$f":"IF(AI315=\"Y\",IF(VLOOKUP(A315,PLFN1,5,FALSE)=0,\"\",VLOOKUP(A315,PLFN1,5,FALSE)),\"\")","v":""},null,{"$f":"IF(AND(AJ315=\"Y\",L315<>\"\"),\"PL\"&AP315,\"\")","v":""},null,958,"in-gaap","false","monetary","credit","duration","item","true","",0,"INR","D2011","D2010",null,{"$f":"decimals","v":0},null,"",1,null,1,"Y","N","N","N","","","",0,0,0,null,0,0,0,"Revenue software development",null,0,"","","",0,"","","",0,"","",""]
["Revenue hardware maintenance","RevenueHardwareMaintenance",{"$f":"IF(OR('14-OperatingRevenue'!D78=0,ISNUMBER('14-OperatingRevenue'!D78)=FALSE),\"\",'14-OperatingRevenue'!D78)","v":""},{"$f":"IF(OR('14-OperatingRevenue'!E78=0,ISNUMBER('14-OperatingRevenue'!E78)=FALSE),\"\",'14-OperatingRevenue'!E78)","v":""},null,"","","","",null,"",null,959,"in-gaap","false","monetary","credit","duration","item","true","",0,"INR","D2011","D2010",null,0,null,"",1,null,1,"Y","N","N","N","","","",0,0,0,null,0,0,0,"Revenue hardware maintenance",null,0,"","","",0,"","","",0,"","",""]
["Revenue information technology consultancy","RevenueInformationTechnologyConsultancy",{"$f":"IF(OR('14-OperatingRevenue'!D79=0,ISNUMBER('14-OperatingRevenue'!D79)=FALSE),\"\",'14-OperatingRevenue'!D79)","v":""},{"$f":"IF(OR('14-OperatingRevenue'!E79=0,ISNUMBER('14-OperatingRevenue'!E79)=FALSE),\"\",'14-OperatingRevenue'!E79)","v":""},null,"","","","",null,"",null,960,"in-gaap","false","monetary","credit","duration","item","true","",0,"INR","D2011","D2010",null,0,null,"",1,null,1,"Y","N","N","N","","","",0,0,0,null,0,0,0,"Revenue information technology consultancy",null,0,"","","",0,"","","",0,"","",""]
["Revenue information technology services","RevenueInformationTechnologyServices",{"$f":"IF(OR('14-OperatingRevenue'!D80=0,ISNUMBER('14-OperatingRevenue'!D80)=FALSE),\"\",'14-OperatingRevenue'!D80)","v":""},{"$f":"IF(OR('14-OperatingRevenue'!E80=0,ISNUMBER('14-OperatingRevenue'!E80)=FALSE),\"\",'14-OperatingRevenue'!E80)","v":""},null,"","","","",null,"",null,957,"in-gaap","false","monetary","credit","duration","item","true","",0,"INR","D2011","D2010",null,0,null,"",1,null,1,"Y","N","N","N","","","",0,0,0,null,0,0,0,"Revenue information technology services",null,0,"","","",0,"","","",0,"","",""]
["Revenue hotels","RevenueHotels",{"$f":"IF(OR('14-OperatingRevenue'!D52=0,ISNUMBER('14-OperatingRevenue'!D52)=FALSE),\"\",'14-OperatingRevenue'!D52)","v":""},{"$f":"IF(OR('14-OperatingRevenue'!E52=0,ISNUMBER('14-OperatingRevenue'!E52)=FALSE),\"\",'14-OperatingRevenue'!E52)","v":""},null,"","","","",null,"",null,961,"in-gaap","false","monetary","credit","duration","item","true","",0,"INR","D2011","D2010",null,0,null,"",1,null,1,"Y","N","N","N","","","",0,0,0,null,0,0,0,"Revenue hotels",null,0,"","","",0,"","","",0,"","",""]
["Revenue hospitals healthcare clinics","RevenueHospitalsHealthcareClinics",{"$f":"IF(OR('14-OperatingRevenue'!D53=0,ISNUMBER('14-OperatingRevenue'!D53)=FALSE),\"\",'14-OperatingRevenue'!D53)","v":""},{"$f":"IF(OR('14-OperatingRevenue'!E53=0,ISNUMBER('14-OperatingRevenue'!E53)=FALSE),\"\",'14-OperatingRevenue'!E53)","v":""},null,"","","","",null,"",null,962,"in-gaap","false","monetary","credit","duration","item","true","",0,"INR","D2011","D2010",null,0,null,"",1,null,1,"Y","N","N","N","","","",0,0,0,null,0,0,0,"Revenue hospitals healthcare clinics",null,0,"","","",0,"","","",0,"","",""]
["Revenue entertainment","RevenueEntertainment",{"$f":"IF(OR('14-OperatingRevenue'!D54=0,ISNUMBER('14-OperatingRevenue'!D54)=FALSE),\"\",'14-OperatingRevenue'!D54)","v":""},{"$f":"IF(OR('14-OperatingRevenue'!E54=0,ISNUMBER('14-OperatingRevenue'!E54)=FALSE),\"\",'14-OperatingRevenue'!E54)","v":""},null,"","","","",null,"",null,963,"in-gaap","false","monetary","credit","duration","item","true","",0,"INR","D2011","D2010",null,0,null,"",1,null,1,"Y","N","N","N","","","",0,0,0,null,0,0,0,"Revenue entertainment",null,0,"","","",0,"","","",0,"","",""]
["Revenue repairs maintenance","RevenueRepairsMaintenance",{"$f":"IF(OR('14-OperatingRevenue'!D55=0,ISNUMBER('14-OperatingRevenue'!D55)=FALSE),\"\",'14-OperatingRevenue'!D55)","v":""},{"$f":"IF(OR('14-OperatingRevenue'!E55=0,ISNUMBER('14-OperatingRevenue'!E55)=FALSE),\"\",'14-OperatingRevenue'!E55)","v":""},null,"","","","",null,"",null,964,"in-gaap","false","monetary","credit","duration","item","true","",0,"INR","D2011","D2010",null,0,null,"",1,null,1,"Y","N","N","N","","","",0,0,0,null,0,0,0,"Revenue repairs maintenance",null,0,"","","",0,"","","",0,"","",""]
["Revenue educational activities","RevenueEducationalActivities",{"$f":"IF(OR('14-OperatingRevenue'!D56=0,ISNUMBER('14-OperatingRevenue'!D56)=FALSE),\"\",'14-OperatingRevenue'!D56)","v":""},{"$f":"IF(OR('14-OperatingRevenue'!E56=0,ISNUMBER('14-OperatingRevenue'!E56)=FALSE),\"\",'14-OperatingRevenue'!E56)","v":""},null,"","","","",null,"",null,965,"in-gaap","false","monetary","credit","duration","item","true","",0,"INR","D2011","D2010",null,0,null,"",1,null,1,"Y","N","N","N","","","",0,0,0,null,0,0,0,"Revenue educational activities",null,0,"","","",0,"","","",0,"","",""]
["Revenue membership subscriptions fees","RevenueMembershipSubscriptionsFees",{"$f":"IF(OR('14-OperatingRevenue'!D57=0,ISNUMBER('14-OperatingRevenue'!D57)=FALSE),\"\",'14-OperatingRevenue'!D57)","v":""},{"$f":"IF(OR('14-OperatingRevenue'!E57=0,ISNUMBER('14-OperatingRevenue'!E57)=FALSE),\"\",'14-OperatingRevenue'!E57)","v":""},null,"","","","",null,"",null,966,"in-gaap","false","monetary","credit","duration","item","true","",0,"INR","D2011","D2010",null,0,null,"",1,null,1,"Y","N","N","N","","","",0,0,0,null,{"$f":"IF(AQ324=\"P\",IF(C324<0,1,0),0)","v":0},{"$f":"IF(AQ324=\"P\",IF(D324<0,1,0),0)","v":0},0,"Revenue membership subscriptions fees",null,0,"","","",0,"","","",0,"","",""]
["Revenue admission fees","RevenueAdmissionFees",{"$f":"IF(OR('14-OperatingRevenue'!D58=0,ISNUMBER('14-OperatingRevenue'!D58)=FALSE),\"\",'14-OperatingRevenue'!D58)","v":""},{"$f":"IF(OR('14-OperatingRevenue'!E58=0,ISNUMBER('14-OperatingRevenue'!E58)=FALSE),\"\",'14-OperatingRevenue'!E58)","v":""},null,"","","","",null,"",null,967,"in-gaap","false","monetary","credit","duration","item","true","",0,"INR","D2011","D2010",null,0,null,"",1,null,1,"Y","N","N","N","","","",0,0,0,null,0,0,0,"Revenue admission fees",null,0,"","","",0,"","","",0,"","",""]
["Revenue erectioning commissioning","RevenueErectioningCommissioning",{"$f":"IF(OR('14-OperatingRevenue'!D59=0,ISNUMBER('14-OperatingRevenue'!D59)=FALSE),\"\",'14-OperatingRevenue'!D59)","v":""},{"$f":"IF(OR('14-OperatingRevenue'!E59=0,ISNUMBER('14-OperatingRevenue'!E59)=FALSE),\"\",'14-OperatingRevenue'!E59)","v":""},null,"","","","",null,"",null,968,"in-gaap","false","monetary","credit","duration","item","true","",0,"INR","D2011","D2010",null,0,null,"",1,null,1,"Y","N","N","N","","","",0,0,0,null,0,0,0,"Revenue erectioning commissioning",null,0,"","","",0,"","","",0,"","",""]
["Revenue agencies","RevenueAgencies",{"$f":"IF(OR('14-OperatingRevenue'!D60=0,ISNUMBER('14-OperatingRevenue'!D60)=FALSE),\"\",'14-OperatingRevenue'!D60)","v":""},{"$f":"IF(OR('14-OperatingRevenue'!E60=0,ISNUMBER('14-OperatingRevenue'!E60)=FALSE),\"\",'14-OperatingRevenue'!E60)","v":""},null,"","","","",null,"",null,{"$f":"VLOOKUP(B327,XBRLBusinessRules,2,FALSE)","v":969},{"$f":"VLOOKUP(B327,XBRLBusinessRules,3,FALSE)","v":"in-gaap"},{"$f":"VLOOKUP(B327,XBRLBusinessRules,4,FALSE)","v":"false"},{"$f":"VLOOKUP(B327,XBRLBusinessRules,5,FALSE)","v":"monetary"},{"$f":"VLOOKUP(B327,XBRLBusinessRules,6,FALSE)","v":"credit"},{"$f":"VLOOKUP(B327,XBRLBusinessRules,7,FALSE)","v":"duration"},{"$f":"VLOOKUP(B327,XBRLBusinessRules,8,FALSE)","v":"item"},{"$f":"VLOOKUP(B327,XBRLBusinessRules,9,FALSE)","v":"true"},{"$f":"VLOOKUP(B327,XBRLBusinessRules,10,FALSE)","v":""},{"$f":"VLOOKUP(B327,XBRLBusinessRules,11,FALSE)","v":0},{"$f":"IF(P327=\"monetary\",\"INR\",\"\")","v":"INR"},{"$f":"UPPER(LEFT(R327,1))&CYEND","v":"D2011"},{"$f":"UPPER(LEFT(R327,1))&PYEND","v":"D2010"},null,0,null,{"$f":"IF(V327=\"This can be entered only in case of Consolidated instance document\",\"C\",\"\")","v":""},{"$f":"COUNTIF(TagNamePL,\"=\"&B327)","v":1},null,{"$f":"AD327-COUNTIFS(TagNamePL,B327,TagPLD,\"D\")","v":1},{"$f":"IF(OR(O327=\"true\",AE327=\"D\"),\"N\",\"Y\")","v":"Y"},"N","N","N","","","",0,0,0,null,0,0,{"$f":"IF(AF327=1,0,1)","v":0},"Revenue agencies",null,{"$f":"IF(F327<>\"\",\"1\",0)","v":0},{"$f":"IF(F327<>\"\",\"<link:loc xlink:href=\"&\"\"\"\"&\"#\"&\"TA\"&F327&\"\"\"\"&\" xlink:type=\"&\"\"\"\"&\"locator\"&\"\"\"\"&\" xlink:label=\"&\"\"\"\"&\"value\"&AN327&\"\"\"\"&\"/>\",\"\")","v":""},{"$f":"IF(F327<>\"\",\"<link:footnote xlink:role=\"&\"\"\"\"&\"http://www.xbrl.org/2003/role/footnote\"&\"\"\"\"&\" xml:lang=\"&\"\"\"\"&\"en\"&\"\"\"\"&\" xlink:type=\"&\"\"\"\"&\"resource\"&\"\"\"\"&\" xlink:label=\"&\"\"\"\"&\"footnote\"&AN327&\"\"\"\"&\">\"&G327&\"</link:footnote>\",\"\")","v":""},{"$f":"IF(F327<>\"\",\"<link:footnoteArc xlink:type=\"&\"\"\"\"&\"arc\"&\"\"\"\"&\" order=\"&\"\"\"\"&\"1.0\"&\"\"\"\"& \" xlink:to=\"&\"\"\"\"&\"footnote\"&AN327&\"\"\"\"& \" xlink:from=\"&\"\"\"\"&\"value\"&AN327&\"\"\"\"&\" xlink:arcrole=\"&\"\"\"\"&\"http://www.xbrl.org/2003/arcrole/fact-footnote\"&\"\"\"\"&\"/>\",\"\")","v":""},{"$f":"IF(H327<>\"\",\"1\",0)","v":0},{"$f":"IF(H327<>\"\",\"<link:loc xlink:href=\"&\"\"\"\"&\"#\"&\"TA\"&H327&\"\"\"\"&\" xlink:type=\"&\"\"\"\"&\"locator\"&\"\"\"\"&\" xlink:label=\"&\"\"\"\"&\"value\"&AO327&\"\"\"\"&\"/>\",\"\")","v":""},{"$f":"IF(H327<>\"\",\"<link:footnote xlink:role=\"&\"\"\"\"&\"http://www.xbrl.org/2003/role/footnote\"&\"\"\"\"&\" xml:lang=\"&\"\"\"\"&\"en\"&\"\"\"\"&\" xlink:type=\"&\"\"\"\"&\"resource\"&\"\"\"\"&\" xlink:label=\"&\"\"\"\"&\"footnote\"&AO327&\"\"\"\"&\">\"&I327&\"</link:footnote>\",\"\")","v":""},{"$f":"IF(H327<>\"\",\"<link:footnoteArc xlink:type=\"&\"\"\"\"&\"arc\"&\"\"\"\"&\" order=\"&\"\"\"\"&\"1.0\"&\"\"\"\"& \" xlink:to=\"&\"\"\"\"&\"footnote\"&AO327&\"\"\"\"& \" xlink:from=\"&\"\"\"\"&\"value\"&AO327&\"\"\"\"&\" xlink:arcrole=\"&\"\"\"\"&\"http://www.xbrl.org/2003/arcrole/fact-footnote\"&\"\"\"\"&\"/>\",\"\")","v":""},{"$f":"IF(K327<>\"\",\"1\",0)","v":0},{"$f":"IF(K327<>\"\",\"<link:loc xlink:href=\"&\"\"\"\"&\"#\"&\"TA\"&K327&\"\"\"\"&\" xlink:type=\"&\"\"\"\"&\"locator\"&\"\"\"\"&\" xlink:label=\"&\"\"\"\"&\"value\"&AP327&\"\"\"\"&\"/>\",\"\")","v":""},{"$f":"IF(K327<>\"\",\"<link:footnote xlink:role=\"&\"\"\"\"&\"http://www.xbrl.org/2003/role/footnote\"&\"\"\"\"&\" xml:lang=\"&\"\"\"\"&\"en\"&\"\"\"\"&\" xlink:type=\"&\"\"\"\"&\"resource\"&\"\"\"\"&\" xlink:label=\"&\"\"\"\"&\"footnote\"&AP327&\"\"\"\"&\">\"&L327&\"</link:footnote>\",\"\")","v":""},{"$f":"IF(K327<>\"\",\"<link:footnoteArc xlink:type=\"&\"\"\"\"&\"arc\"&\"\"\"\"&\" order=\"&\"\"\"\"&\"1.0\"&\"\"\"\"& \" xlink:to=\"&\"\"\"\"&\"footnote\"&AP327&\"\"\"\"& \" xlink:from=\"&\"\"\"\"&\"value\"&AP327&\"\"\"\"&\" xlink:arcrole=\"&\"\"\"\"&\"http://www.xbrl.org/2003/arcrole/fact-footnote\"&\"\"\"\"&\"/>\",\"\")","v":""}]
["Revenue advertising publicity","RevenueAdvertisingPublicity",{"$f":"IF(OR('14-OperatingRevenue'!D61=0,ISNUMBER('14-OperatingRevenue'!D61)=FALSE),\"\",'14-OperatingRevenue'!D61)","v":""},{"$f":"IF(OR('14-OperatingRevenue'!E61=0,ISNUMBER('14-OperatingRevenue'!E61)=FALSE),\"\",'14-OperatingRevenue'!E61)","v":""},null,"","","","",null,"",null,970,"in-gaap","false","monetary","credit","duration","item","true","",0,"INR","D2011","D2010",null,0,null,"",1,null,1,"Y","N","N","N","","","",0,0,0,null,0,0,0,"Revenue advertising publicity",null,0,"","","",0,"","","",0,"","",""]
["Revenue value added services","RevenueValueAddedServices",{"$f":"IF(OR('14-OperatingRevenue'!D62=0,ISNUMBER('14-OperatingRevenue'!D62)=FALSE),\"\",'14-OperatingRevenue'!D62)","v":""},{"$f":"IF(OR('14-OperatingRevenue'!E62=0,ISNUMBER('14-OperatingRevenue'!E62)=FALSE),\"\",'14-OperatingRevenue'!E62)","v":""},null,"","","","",null,"",null,971,"in-gaap","false","monetary","credit","duration","item","true","",0,"INR","D2011","D2010",null,0,null,"",1,null,1,"Y","N","N","N","","","",0,0,0,null,0,0,0,"Revenue value added services",null,0,"","","",0,"","","",0,"","",""]
["Revenue real estate property development","RevenueRealEstatePropertyDevelopment",{"$f":"IF(OR('14-OperatingRevenue'!D63=0,ISNUMBER('14-OperatingRevenue'!D63)=FALSE),\"\",'14-OperatingRevenue'!D63)","v":""},{"$f":"IF(OR('14-OperatingRevenue'!E63=0,ISNUMBER('14-OperatingRevenue'!E63)=FALSE),\"\",'14-OperatingRevenue'!E63)","v":""},null,"","","","",null,"",null,972,"in-gaap","false","monetary","credit","duration","item","true","",0,"INR","D2011","D2010",null,0,null,"",1,null,1,"Y","N","N","N","","","",0,0,0,null,0,0,0,"Revenue real estate property development",null,0,"","","",0,"","","",0,"","",""]
["Revenue other services","RevenueOtherServices",{"$f":"IF(OR('14-OperatingRevenue'!D64=0,ISNUMBER('14-OperatingRevenue'!D64)=FALSE),\"\",'14-OperatingRevenue'!D64)","v":""},{"$f":"IF(OR('14-OperatingRevenue'!E64=0,ISNUMBER('14-OperatingRevenue'!E64)=FALSE),\"\",'14-OperatingRevenue'!E64)","v":""},null,"","","","",null,"",null,973,"in-gaap","false","monetary","credit","duration","item","true","",0,"INR","D2011","D2010",null,0,null,"",1,null,1,"Y","N","N","N","","","",0,0,0,null,0,0,0,"Revenue other services",null,0,"","","",0,"","","",0,"","",""]
["Revenue services, gross","RevenueServicesGross",{"$f":"IF(OR('14-OperatingRevenue'!D65=0,ISNUMBER('14-OperatingRevenue'!D65)=FALSE),\"\",'14-OperatingRevenue'!D65)","v":""},{"$f":"IF(OR('14-OperatingRevenue'!E65=0,ISNUMBER('14-OperatingRevenue'!E65)=FALSE),\"\",'14-OperatingRevenue'!E65)","v":""},null,"","","","",null,"",null,949,"in-gaap","false","monetary","credit","duration","item","true","",0,"INR","D2011","D2010",null,0,null,"",2,"D",1,"N","N","N","N","","","",0,0,0,null,0,0,0,"",null,0,"","","",0,"","","",0,"","",""]
["Revenue contract","RevenueContract",{"$f":"IF(OR('14-OperatingRevenue'!D18=0,ISNUMBER('14-OperatingRevenue'!D18)=FALSE),\"\",'14-OperatingRevenue'!D18)","v":""},{"$f":"IF(OR('14-OperatingRevenue'!E18=0,ISNUMBER('14-OperatingRevenue'!E18)=FALSE),\"\",'14-OperatingRevenue'!E18)","v":""},null,"","","","",null,"",null,974,"in-gaap","false","monetary","credit","duration","item","true","",0,"INR","D2011","D2010",null,0,null,"",2,"D",1,"N","N","N","N","","","",0,0,0,null,0,0,0,"",null,0,"","","",0,"","","",0,"","",""]
["Revenue lease rentals","RevenueLeaseRentals",{"$f":"IF(OR('14-OperatingRevenue'!D19=0,ISNUMBER('14-OperatingRevenue'!D19)=FALSE),\"\",'14-OperatingRevenue'!D19)","v":""},{"$f":"IF(OR('14-OperatingRevenue'!E19=0,ISNUMBER('14-OperatingRevenue'!E19)=FALSE),\"\",'14-OperatingRevenue'!E19)","v":""},null,"","","","",null,"",null,975,"in-gaap","false","monetary","credit","duration","item","true","",0,"INR","D2011","D2010",null,0,null,"",2,"D",1,"N","N","N","N","","","",0,0,0,null,0,0,0,"",null,0,"","","",0,"","","",0,"","",""]
["Revenue hire charges","RevenueHireCharges",{"$f":"IF(OR('14-OperatingRevenue'!D20=0,ISNUMBER('14-OperatingRevenue'!D20)=FALSE),\"\",'14-OperatingRevenue'!D20)","v":""},{"$f":"IF(OR('14-OperatingRevenue'!E20=0,ISNUMBER('14-OperatingRevenue'!E20)=FALSE),\"\",'14-OperatingRevenue'!E20)","v":""},null,"","","","",null,"",null,976,"in-gaap","false","monetary","credit","duration","item","true","",0,"INR","D2011","D2010",null,0,null,"",2,"D",1,"N","N","N","N","","","",0,0,0,null,0,0,0,"",null,0,"","","",0,"","","",0,"","",""]
["Revenue job work","RevenueJobWork",{"$f":"IF(OR('14-OperatingRevenue'!D21=0,ISNUMBER('14-OperatingRevenue'!D21)=FALSE),\"\",'14-OperatingRevenue'!D21)","v":""},{"$f":"IF(OR('14-OperatingRevenue'!E21=0,ISNUMBER('14-OperatingRevenue'!E21)=FALSE),\"\",'14-OperatingRevenue'!E21)","v":""},null,"","","","",null,"",null,977,"in-gaap","false","monetary","credit","duration","item","true","",0,"INR","D2011","D2010",null,0,null,"",2,"D",1,"N","N","N","N","","","",0,0,0,null,0,0,0,"",null,0,"","","",0,"","","",0,"","",""]
["Revenue intangible assets [abstract]","RevenueIntangibleAssetsAbstract",{"$nulls":3},"",null,"",null,null,"",null,1330,"in-gaap","true","string","","duration","item","true","",0,"","D2011","D2010",{"$nulls":3},"",2,"D",1,"N","N","N","N","","","",0,0,0,null,0,0,0,"",null,0,"","","",0,"","","",0,"","",""]
["Revenue royalties","RevenueRoyalties",{"$f":"IF(OR('14-OperatingRevenue'!D90=0,ISNUMBER('14-OperatingRevenue'!D90)=FALSE),\"\",'14-OperatingRevenue'!D90)","v":""},{"$f":"IF(OR('14-OperatingRevenue'!E90=0,ISNUMBER('14-OperatingRevenue'!E90)=FALSE),\"\",'14-OperatingRevenue'!E90)","v":""},null,{"$f":"IF(AND(AH338=\"Y\",G338<>\"\"),\"PL\"&AN338,\"\")","v":""},{"$f":"IF(AH338=\"Y\",IF(VLOOKUP(A338,PLFN1,4,FALSE)=0,\"\",VLOOKUP(A338,PLFN1,4,FALSE)),\"\")","v":""},{"$f":"IF(AND(AI338=\"Y\",I338<>\"\"),\"PL\"&AO338,\"\")","v":""},{"$f":"IF(AI338=\"Y\",IF(VLOOKUP(A338,PLFN1,5,FALSE)=0,\"\",VLOOKUP(A338,PLFN1,5,FALSE)),\"\")","v":""},null,{"$f":"IF(AND(AJ338=\"Y\",L338<>\"\"),\"PL\"&AP338,\"\")","v":""},null,979,"in-gaap","false","monetary","credit","duration","item","true","",0,"INR","D2011","D2010",null,{"$f":"decimals","v":0},null,"",2,"D",1,"N","N","N","N","","","",0,0,0,null,0,0,0,"",null,0,"","","",0,"","","",0,"","",""]
["Revenue technical knowhow","RevenueTechnicalKnowhow",{"$f":"IF(OR('14-OperatingRevenue'!D91=0,ISNUMBER('14-OperatingRevenue'!D91)=FALSE),\"\",'14-OperatingRevenue'!D91)","v":""},{"$f":"IF(OR('14-OperatingRevenue'!E91=0,ISNUMBER('14-OperatingRevenue'!E91)=FALSE),\"\",'14-OperatingRevenue'!E91)","v":""},null,"","","","",null,"",null,980,"in-gaap","false","monetary","credit","duration","item","true","",0,"INR","D2011","D2010",null,0,null,"",2,"D",1,"N","N","N","N","","","",0,0,0,null,0,0,0,"",null,0,"","","",0,"","","",0,"","",""]
["Revenue franchise","RevenueFranchise",{"$f":"IF(OR('14-OperatingRevenue'!D92=0,ISNUMBER('14-OperatingRevenue'!D92)=FALSE),\"\",'14-OperatingRevenue'!D92)","v":""},{"$f":"IF(OR('14-OperatingRevenue'!E92=0,ISNUMBER('14-OperatingRevenue'!E92)=FALSE),\"\",'14-OperatingRevenue'!E92)","v":""},null,"","","","",null,"",null,981,"in-gaap","false","monetary","credit","duration","item","true","",0,"INR","D2011","D2010",null,0,null,"",2,"D",1,"N","N","N","N","","","",0,0,0,null,0,0,0,"",null,0,"","","",0,"","","",0,"","",""]
["Revenue licences","RevenueLicences",{"$f":"IF(OR('14-OperatingRevenue'!D93=0,ISNUMBER('14-OperatingRevenue'!D93)=FALSE),\"\",'14-OperatingRevenue'!D93)","v":""},{"$f":"IF(OR('14-OperatingRevenue'!E93=0,ISNUMBER('14-OperatingRevenue'!E93)=FALSE),\"\",'14-OperatingRevenue'!E93)","v":""},null,"","","","",null,"",null,982,"in-gaap","false","monetary","credit","duration","item","true","",0,"INR","D2011","D2010",null,0,null,"",2,"D",1,"N","N","N","N","","","",0,0,0,null,0,0,0,"",null,0,"","","",0,"","","",0,"","",""]
["Revenue contractual rights","RevenueContractualRights",{"$f":"IF(OR('14-OperatingRevenue'!D94=0,ISNUMBER('14-OperatingRevenue'!D94)=FALSE),\"\",'14-OperatingRevenue'!D94)","v":""},{"$f":"IF(OR('14-OperatingRevenue'!E94=0,ISNUMBER('14-OperatingRevenue'!E94)=FALSE),\"\",'14-OperatingRevenue'!E94)","v":""},null,"","","","",null,"",null,983,"in-gaap","false","monetary","credit","duration","item","true","",0,"INR","D2011","D2010",null,0,null,"",2,"D",1,"N","N","N","N","","","",0,0,0,null,0,0,0,"",null,0,"","","",0,"","","",0,"","",""]
["Revenue intangible assets","RevenueIntangibleAssets",{"$f":"IF(OR('14-OperatingRevenue'!D95=0,ISNUMBER('14-OperatingRevenue'!D95)=FALSE),\"\",'14-OperatingRevenue'!D95)","v":""},{"$f":"IF(OR('14-OperatingRevenue'!E95=0,ISNUMBER('14-OperatingRevenue'!E95)=FALSE),\"\",'14-OperatingRevenue'!E95)","v":""},null,"","","","",null,"",null,978,"in-gaap","false","monetary","credit","duration","item","true","",0,"INR","D2011","D2010",null,0,null,"",2,"D",1,"N","N","N","N","","","",0,0,0,null,0,0,0,"",null,0,"","","",0,"","","",0,"","",""]
["Other operating revenues","OtherOperatingRevenues",{"$f":"IF(OR('14-OperatingRevenue'!D23=0,ISNUMBER('14-OperatingRevenue'!D23)=FALSE),\"\",'14-OperatingRevenue'!D23)","v":""},{"$f":"IF(OR('14-OperatingRevenue'!E23=0,ISNUMBER('14-OperatingRevenue'!E23)=FALSE),\"\",'14-OperatingRevenue'!E23)","v":""},null,"","","","",null,"",null,984,"in-gaap","false","monetary","credit","duration","item","true","",0,"INR","D2011","D2010",null,0,null,"",2,"D",1,"N","N","N","N","","","",0,0,0,null,0,0,0,"",null,0,"","","",0,"","","",0,"","",""]
["Operating revenue, gross","OperatingRevenueGross",{"$f":"IF(OR('14-OperatingRevenue'!D24=0,ISNUMBER('14-OperatingRevenue'!D24)=FALSE),\"\",'14-OperatingRevenue'!D24)","v":""},{"$f":"IF(OR('14-OperatingRevenue'!E24=0,ISNUMBER('14-OperatingRevenue'!E24)=FALSE),\"\",'14-OperatingRevenue'!E24)","v":""},null,"","","","",null,"",null,944,"in-gaap","false","monetary","credit","duration","item","true","","This is a mandatory field.","INR","D2011","D2010",null,0,"M","",2,"D",1,"N","N","N","N","","","",0,0,0,null,0,0,0,"",null,0,"","","",0,"","","",0,"","",""]
["Duties taxes collected [abstract]","DutiesTaxesCollectedAbstract",{"$nulls":3},"",null,"",null,null,"",null,1331,"in-gaap","true","string","","duration","item","true","",0,"","D2011","D2010",{"$nulls":3},"",2,"D",1,"N","N","N","N","","","",0,0,0,null,0,0,0,"",null,0,"","","",0,"","","",0,"","",""]
["Excise duty collected","ExciseDutyCollected",{"$f":"IF(OR('14-OperatingRevenue'!D99=0,ISNUMBER('14-OperatingRevenue'!D99)=FALSE),\"\",'14-OperatingRevenue'!D99)","v":""},{"$f":"IF(OR('14-OperatingRevenue'!E99=0,ISNUMBER('14-OperatingRevenue'!E99)=FALSE),\"\",'14-OperatingRevenue'!E99)","v":""},null,{"$f":"IF(AND(AH347=\"Y\",G347<>\"\"),\"PL\"&AN347,\"\")","v":""},{"$f":"IF(AH347=\"Y\",IF(VLOOKUP(A347,PLFN1,4,FALSE)=0,\"\",VLOOKUP(A347,PLFN1,4,FALSE)),\"\")","v":""},{"$f":"IF(AND(AI347=\"Y\",I347<>\"\"),\"PL\"&AO347,\"\")","v":""},{"$f":"IF(AI347=\"Y\",IF(VLOOKUP(A347,PLFN1,5,FALSE)=0,\"\",VLOOKUP(A347,PLFN1,5,FALSE)),\"\")","v":""},null,{"$f":"IF(AND(AJ347=\"Y\",L347<>\"\"),\"PL\"&AP347,\"\")","v":""},null,986,"in-gaap","false","monetary","debit","duration","item","true","",0,"INR","D2011","D2010",null,{"$f":"decimals","v":0},null,"",2,"D",1,"N","N","N","N","","","",0,0,0,null,0,0,0,"",null,0,"","","",0,"","","",0,"","",""]
["Service tax collected","ServiceTaxCollected",{"$f":"IF(OR('14-OperatingRevenue'!D100=0,ISNUMBER('14-OperatingRevenue'!D100)=FALSE),\"\",'14-OperatingRevenue'!D100)","v":""},{"$f":"IF(OR('14-OperatingRevenue'!E100=0,ISNUMBER('14-OperatingRevenue'!E100)=FALSE),\"\",'14-OperatingRevenue'!E100)","v":""},null,"","","","",null,"",null,987,"in-gaap","false","monetary","debit","duration","item","true","",0,"INR","D2011","D2010",null,0,null,"",2,"D",1,"N","N","N","N","","","",0,0,0,null,0,0,0,"",null,0,"","","",0,"","","",0,"","",""]
["Other duties taxes collected","OtherDutiesTaxesCollected",{"$f":"IF(OR('14-OperatingRevenue'!D101=0,ISNUMBER('14-OperatingRevenue'!D101)=FALSE),\"\",'14-OperatingRevenue'!D101)","v":""},{"$f":"IF(OR('14-OperatingRevenue'!E101=0,ISNUMBER('14-OperatingRevenue'!E101)=FALSE),\"\",'14-OperatingRevenue'!E101)","v":""},null,"","","","",null,"",null,988,"in-gaap","false","monetary","debit","duration","item","true","",0,"INR","D2011","D2010",null,0,null,"",2,"D",1,"N","N","N","N","","","",0,0,0,null,0,0,0,"",null,0,"","","",0,"","","",0,"","",""]
["Duties taxes collected","DutiesTaxesCollected",{"$f":"IF(OR('14-OperatingRevenue'!D102=0,ISNUMBER('14-OperatingRevenue'!D102)=FALSE),\"\",'14-OperatingRevenue'!D102)","v":""},{"$f":"IF(OR('14-OperatingRevenue'!E102=0,ISNUMBER('14-OperatingRevenue'!E102)=FALSE),\"\",'14-OperatingRevenue'!E102)","v":""},null,"","","","",null,"",null,985,"in-gaap","false","monetary","debit","duration","item","true","",0,"INR","D2011","D2010",null,0,null,"",2,"D",1,"N","N","N","N","","","",0,0,0,null,0,0,0,"",null,0,"","","",0,"","","",0,"","",""]
["Interdivision transfers","InterdivisionTransfers",{"$f":"IF(OR('14-OperatingRevenue'!D6=0,ISNUMBER('14-OperatingRevenue'!D6)=FALSE),\"\",'14-OperatingRevenue'!D6)","v":""},{"$f":"IF(OR('14-OperatingRevenue'!E6=0,ISNUMBER('14-OperatingRevenue'!E6)=FALSE),\"\",'14-OperatingRevenue'!E6)","v":""},null,"","","","",null,"",null,989,"in-gaap","false","monetary","debit","duration","item","true","",0,"INR","D2011","D2010",null,0,null,"",2,"D",1,"N","N","N","N","","","",0,0,0,null,0,0,0,"",null,0,"","","",0,"","","",0,"","",""]
["Brokerage discounts rebates","BrokerageDiscountsRebates",{"$f":"IF(OR('14-OperatingRevenue'!D7=0,ISNUMBER('14-OperatingRevenue'!D7)=FALSE),\"\",'14-OperatingRevenue'!D7)","v":""},{"$f":"IF(OR('14-OperatingRevenue'!E7=0,ISNUMBER('14-OperatingRevenue'!E7)=FALSE),\"\",'14-OperatingRevenue'!E7)","v":""},null,"","","","",null,"",null,990,"in-gaap","false","monetary","debit","duration","item","true","",0,"INR","D2011","D2010",null,0,null,"",2,"D",1,"N","N","N","N","","","",0,0,0,null,0,0,0,"",null,0,"","","",0,"","","",0,"","",""]
["Sales returns","SalesReturns",{"$f":"IF(OR('14-OperatingRevenue'!D8=0,ISNUMBER('14-OperatingRevenue'!D8)=FALSE),\"\",'14-OperatingRevenue'!D8)","v":""},{"$f":"IF(OR('14-OperatingRevenue'!E8=0,ISNUMBER('14-OperatingRevenue'!E8)=FALSE),\"\",'14-OperatingRevenue'!E8)","v":""},null,"","","","",null,"",null,991,"in-gaap","false","monetary","debit","duration","item","true","",0,"INR","D2011","D2010",null,0,null,"",2,"D",1,"N","N","N","N","","","",0,0,0,null,0,0,0,"",null,0,"","","",0,"","","",0,"","",""]
["Other allowances deductions sales","OtherAllowancesDeductionsSales",{"$f":"IF(OR('14-OperatingRevenue'!D9=0,ISNUMBER('14-OperatingRevenue'!D9)=FALSE),\"\",'14-OperatingRevenue'!D9)","v":""},{"$f":"IF(OR('14-OperatingRevenue'!E9=0,ISNUMBER('14-OperatingRevenue'!E9)=FALSE),\"\",'14-OperatingRevenue'!E9)","v":""},null,"","","","",null,"",null,992,"in-gaap","false","monetary","debit","duration","item","true","",0,"INR","D2011","D2010",null,0,null,"",2,"D",1,"N","N","N","N","","","",0,0,0,null,0,0,0,"",null,0,"","","",0,"","","",0,"","",""]
["Share operating revenue joint ventures","ShareOperatingRevenueJointVentures",{"$f":"IF(OR('14-OperatingRevenue'!D10=0,ISNUMBER('14-OperatingRevenue'!D10)=FALSE),\"\",'14-OperatingRevenue'!D10)","v":""},{"$f":"IF(OR('14-OperatingRevenue'!E10=0,ISNUMBER('14-OperatingRevenue'!E10)=FALSE),\"\",'14-OperatingRevenue'!E10)","v":""},null,"","","","",null,"",null,993,"in-gaap","false","monetary","credit","duration","item","true","",0,"INR","D2011","D2010",null,0,null,"",2,"D",1,{"$f":"IF(CONSOLCHECK=\"C\",IF(OR(O355=\"true\",AE355=\"D\"),\"N\",\"Y\"),\"N\")","v":"N"},"N","N","N","","","",0,0,0,null,0,0,0,"",null,0,"","","",0,"","","",0,"","",""]
["Operating revenue, net","OperatingRevenueNet",{"$f":"IF(OR('14-OperatingRevenue'!D11=0,ISNUMBER('14-OperatingRevenue'!D11)=FALSE),\"\",'14-OperatingRevenue'!D11)","v":""},{"$f":"IF(OR('14-OperatingRevenue'!E11=0,ISNUMBER('14-OperatingRevenue'!E11)=FALSE),\"\",'14-OperatingRevenue'!E11)","v":""},null,"","","","",null,"",null,943,"in-gaap","false","monetary","credit","duration","item","true","","This is a mandatory field.","INR","D2011","D2010",null,0,"M","",4,"D",1,"N","N","N","N","","","",0,0,0,null,0,0,0,"",null,0,"","","",0,"","","",0,"","",""]
["[200200] Schedule - Expenditure","ScheduleExpenditure"]
["Consumption materials changes inventories [abstract]","ConsumptionMaterialsChangesInventoriesAbstract",{"$nulls":3},{"$f":"IF(AND(AH358=\"Y\",G358<>\"\"),\"PL\"&AN358,\"\")","v":""},null,{"$f":"IF(AND(AI358=\"Y\",I358<>\"\"),\"PL\"&AO358,\"\")","v":""},null,null,{"$f":"IF(AND(AJ358=\"Y\",L358<>\"\"),\"PL\"&AP358,\"\")","v":""},null,{"$f":"VLOOKUP(B358,XBRLBusinessRules,2,FALSE)","v":1344},{"$f":"VLOOKUP(B358,XBRLBusinessRules,3,FALSE)","v":"in-gaap"},{"$f":"VLOOKUP(B358,XBRLBusinessRules,4,FALSE)","v":"true"},{"$f":"VLOOKUP(B358,XBRLBusinessRules,5,FALSE)","v":"string"},{"$f":"VLOOKUP(B358,XBRLBusinessRules,6,FALSE)","v":""},{"$f":"VLOOKUP(B358,XBRLBusinessRules,7,FALSE)","v":"duration"},{"$f":"VLOOKUP(B358,XBRLBusinessRules,8,FALSE)","v":"item"},{"$f":"VLOOKUP(B358,XBRLBusinessRules,9,FALSE)","v":"true"},{"$f":"VLOOKUP(B358,XBRLBusinessRules,10,FALSE)","v":""},{"$f":"VLOOKUP(B358,XBRLBusinessRules,11,FALSE)","v":0},{"$f":"IF(P358=\"monetary\",\"INR\",\"\")","v":""},{"$f":"UPPER(LEFT(R358,1))&CYEND","v":"D2011"},{"$f":"UPPER(LEFT(R358,1))&PYEND","v":"D2010"},{"$nulls":3},{"$f":"IF(V358=\"This can be entered only in case of Consolidated instance document\",\"C\",\"\")","v":""},{"$f":"COUNTIF(TagNamePL,\"=\"&B358)","v":1},null,{"$f":"AD358-COUNTIFS(TagNamePL,B358,TagPLD,\"D\")","v":1},{"$f":"IF(OR(O358=\"true\",AE358=\"D\"),\"N\",\"Y\")","v":"N"},{"$f":"IF(OR(AND(C358=\"\",D358=\"\",(AB358=\"M\")=FALSE),AG358=\"N\"),\"N\",\"Y\")","v":"N"},{"$f":"IF(OR(AND(C358=\"\",D358=\"\",(AB358=\"M\")=FALSE),AG358=\"N\"),\"N\",\"Y\")","v":"N"},{"$f":"IF(AND(COUNTBLANK(X358:Z358)=0,AG358=\"Y\"),IF(OR(AB358=\"M\",E358<>\"\"),\"Y\",\"N\"),\"N\")","v":"N"},{"$f":"IF(AH358=\"Y\",(\"<\"&N358&\":\"&B358&\" \"&IF(F358=\"\",\"\",\"id=\"\"\"&\"TA\"&F358&\"\"\"\"&\" \")&IF(OR(P358=\"monetary\",W358<>\"\"),\"unitRef=\"\"\"&W358&\"\"\"\"&\" \",\"\")&IF(X358=\"\",\"\",\"contextRef=\"\"\"&X358&\"\"\"\"&\" \")&IF(OR(P358=\"monetary\",AA358<>\"\"),\"decimals=\"\"\"&decimals&\"\"\"\"&\" \",\"\")&\">\")&IF(C358=\"\",0,C358)&\"</\"&N358&\":\"&B358&\">\",\"\")","v":""},{"$f":"IF(AI358=\"Y\",(\"<\"&N358&\":\"&B358&\" \"&IF(H358=\"\",\"\",\"id=\"\"\"&\"TA\"&H358&\"\"\"\"&\" \")&IF(OR(P358=\"monetary\",W358<>\"\"),\"unitRef=\"\"\"&W358&\"\"\"\"&\" \",\"\")&IF(Y358=\"\",\"\",\"contextRef=\"\"\"&Y358&\"\"\"\"&\" \")&IF(OR(P358=\"monetary\",AA358<>\"\"),\"decimals=\"\"\"&decimals&\"\"\"\"&\" \",\"\")&\">\")&IF(D358=\"\",0,D358)&\"</\"&N358&\":\"&B358&\">\",\"\")","v":""},{"$f":"IF(AJ358=\"Y\",(\"<\"&N358&\":\"&B358&\" \"&IF(K358=\"\",\"\",\"id=\"\"\"&\"TA\"&K358&\"\"\"\"&\" \")&IF(OR(P358=\"monetary\",W358<>\"\"),\"unitRef=\"\"\"&W358&\"\"\"\"&\" \",\"\")&IF(Z358=\"\",\"\",\"contextRef=\"\"\"&Z358&\"\"\"\"&\" \")&IF(OR(P358=\"monetary\",AA358<>\"\"),\"decimals=\"\"\"&decimals&\"\"\"\"&\" \",\"\")&\">\")&IF(E358=\"\",0,E358)&\"</\"&N358&\":\"&B358&\">\",\"\")","v":""},{"$f":"IF(AND(AH358=\"Y\",G358<>\"\"),AP356+1,AP356)","v":0},{"$f":"IF(AND(AI358=\"Y\",I358<>\"\"),AN358+1,AN358)","v":0},{"$f":"IF(AND(AJ358=\"Y\",L358<>\"\"),AO358+1,AO358)","v":0},null,0,0,{"$f":"IF(AF358=1,0,1)","v":0},{"$f":"IF(AG358=\"Y\",A358,\"\")","v":""},null,0,"","","",0,"","","",0,"","",""]
["Consumption raw other materials [abstract]","ConsumptionRawOtherMaterialsAbstract",{"$nulls":3},"",null,"",null,null,"",null,1345,"in-gaap","true","string","","duration","item","true","",0,"","D2011","D2010",{"$nulls":3},"",1,null,1,"N","N","N","N","","","",{"$f":"IF(AND(AH359=\"Y\",G359<>\"\"),AP358+1,AP358)","v":0},0,0,null,0,0,0,"",null,0,"","","",0,"","","",0,"","",""]
["Consumption raw materials [abstract]","ConsumptionRawMaterialsAbstract",{"$nulls":3},"",null,"",null,null,"",null,1346,"in-gaap","true","string","","duration","item","true","",0,"","D2011","D2010",{"$nulls":3},"",1,null,1,"N","N","N","N","","","",0,0,0,null,0,0,0,"",null,0,"","","",0,"","","",0,"","",""]
["Stock of Raw Materials, Opening Balance","StockRawMaterials",{"$f":"IF(OR('16-Expenditure'!D36=0,ISNUMBER('16-Expenditure'!D36)=FALSE),\"\",'16-Expenditure'!D36)","v":""},{"$f":"IF(OR('16-Expenditure'!E36=0,ISNUMBER('16-Expenditure'!E36)=FALSE),\"\",'16-Expenditure'!E36)","v":""},null,"",{"$f":"IF(AH361=\"Y\",IF(VLOOKUP(A361,PLFN1,4,FALSE)=0,\"\",VLOOKUP(A361,PLFN1,4,FALSE)),\"\")","v":""},"",{"$f":"IF(AI361=\"Y\",IF(VLOOKUP(A361,PLFN1,5,FALSE)=0,\"\",VLOOKUP(A361,PLFN1,5,FALSE)),\"\")","v":""},null,"",null,1302,"in-gaap","false","monetary","debit","instant","item","true","",0,"INR","I2011","I2010",null,{"$f":"decimals","v":0},null,"",2,"D",1,"N","N","N","N","","","",0,0,0,null,0,0,0,"",null,0,"","","",0,"","","",0,"","",""]
["Purchase raw materials during year","PurchaseRawMaterialsDuringYear",{"$f":"IF(OR('16-Expenditure'!D37=0,ISNUMBER('16-Expenditure'!D37)=FALSE),\"\",'16-Expenditure'!D37)","v":""},{"$f":"IF(OR('16-Expenditure'!E37=0,ISNUMBER('16-Expenditure'!E37)=FALSE),\"\",'16-Expenditure'!E37)","v":""},null,{"$f":"IF(AND(AH362=\"Y\",G362<>\"\"),\"PL\"&AN362,\"\")","v":""},{"$f":"IF(AH362=\"Y\",IF(VLOOKUP(A362,PLFN3,4,FALSE)=0,\"\",VLOOKUP(A362,PLFN3,4,FALSE)),\"\")","v":""},{"$f":"IF(AND(AI362=\"Y\",I362<>\"\"),\"PL\"&AO362,\"\")","v":""},{"$f":"IF(AI362=\"Y\",IF(VLOOKUP(A362,PLFN3,5,FALSE)=0,\"\",VLOOKUP(A362,PLFN3,5,FALSE)),\"\")","v":""},null,{"$f":"IF(AND(AJ362=\"Y\",L362<>\"\"),\"PL\"&AP362,\"\")","v":""},null,1303,"in-gaap","false","monetary","debit","duration","item","true","",0,"INR","D2011","D2010",null,0,null,"",1,null,1,"Y","N","N","N","","","",0,0,0,null,0,0,0,"Purchase raw materials during year",null,0,"","","",0,"","","",0,"","",""]
["Incidental expenses purchase raw material","IncidentalExpensesPurchaseRawMaterial",{"$f":"IF(OR('16-Expenditure'!D38=0,ISNUMBER('16-Expenditure'!D38)=FALSE),\"\",'16-Expenditure'!D38)","v":""},{"$f":"IF(OR('16-Expenditure'!E38=0,ISNUMBER('16-Expenditure'!E38)=FALSE),\"\",'16-Expenditure'!E38)","v":""},null,{"$f":"IF(AND(AH363=\"Y\",G363<>\"\"),\"PL\"&AN363,\"\")","v":""},{"$f":"IF(AH363=\"Y\",IF(VLOOKUP(A363,PLFN3,4,FALSE)=0,\"\",VLOOKUP(A363,PLFN3,4,FALSE)),\"\")","v":""},{"$f":"IF(AND(AI363=\"Y\",I363<>\"\"),\"PL\"&AO363,\"\")","v":""},"",null,{"$f":"IF(AND(AJ363=\"Y\",L363<>\"\"),\"PL\"&AP363,\"\")","v":""},null,1304,"in-gaap","false","monetary","debit","duration","item","true","",0,"INR","D2011","D2010",null,0,null,"",1,null,1,"Y","N","N","N","","","",0,0,0,null,0,0,0,"Incidental expenses purchase raw material",null,0,"","","",0,"","","",0,"","",""]
["Transfer sale raw materials","TransferSaleRawMaterials",{"$f":"IF(OR('16-Expenditure'!D41=0,ISNUMBER('16-Expenditure'!D41)=FALSE),\"\",'16-Expenditure'!D41)","v":""},{"$f":"IF(OR('16-Expenditure'!E41=0,ISNUMBER('16-Expenditure'!E41)=FALSE),\"\",'16-Expenditure'!E41)","v":""},null,"","","","",null,"",null,1305,"in-gaap","false","monetary","credit","duration","item","true","",0,"INR","D2011","D2010",null,0,null,"",1,null,1,"Y","N","N","N","","","",0,0,0,null,0,0,0,"Transfer sale raw materials",null,0,"","","",0,"","","",0,"","",""]
["Return raw materials purchased","ReturnRawMaterialsPurchased",{"$f":"IF(OR('16-Expenditure'!D42=0,ISNUMBER('16-Expenditure'!D42)=FALSE),\"\",'16-Expenditure'!D42)","v":""},{"$f":"IF(OR('16-Expenditure'!E42=0,ISNUMBER('16-Expenditure'!E42)=FALSE),\"\",'16-Expenditure'!E42)","v":""},null,"","","","",null,"",null,1306,"in-gaap","false","monetary","credit","duration","item","true","",0,"INR","D2011","D2010",null,0,null,"",1,null,1,"Y","N","N","N","","","",0,0,0,null,0,0,0,"Return raw materials purchased",null,0,"","","",0,"","","",0,"","",""]
["Adjustments raw materials","AdjustmentsRawMaterials",{"$f":"IF(OR('16-Expenditure'!D39=0,ISNUMBER('16-Expenditure'!D39)=FALSE),\"\",'16-Expenditure'!D39)","v":""},{"$f":"IF(OR('16-Expenditure'!E39=0,ISNUMBER('16-Expenditure'!E39)=FALSE),\"\",'16-Expenditure'!E39)","v":""},null,"","","","",null,"",null,1307,"in-gaap","false","monetary","","duration","item","true","",0,"INR","D2011","D2010",null,0,null,"",1,null,1,"Y","N","N","N","","","",0,0,0,null,0,0,0,"Adjustments raw materials",null,0,"","","",0,"","","",0,"","",""]
["Stock of Raw Materials, Closing Balance","StockRawMaterials",{"$f":"IF(OR('16-Expenditure'!D43=0,ISNUMBER('16-Expenditure'!D43)=FALSE),\"\",'16-Expenditure'!D43)","v":""},{"$f":"IF(OR('16-Expenditure'!E43=0,ISNUMBER('16-Expenditure'!E43)=FALSE),\"\",'16-Expenditure'!E43)","v":""},{"$f":"D361","v":""},"","","","",null,"",{"$f":"IF(AJ367=\"Y\",IF('16-Expenditure'!F491<>\"\",'16-Expenditure'!F491,\"\"),\"\")","v":""},1302,"in-gaap","false","monetary","debit","instant","item","true","",0,"INR","I2011","I2010",{"$f":"UPPER(LEFT(S367,1))&PYEND2","v":"I2009"},0,null,"",2,null,1,"Y","N","N","N","","","",0,0,0,null,0,0,0,"Stock of Raw Materials, Closing Balance",null,0,"","","",0,"","","",0,"","",""]
["Consumption raw materials","ConsumptionRawMaterials",{"$f":"IF(OR('16-Expenditure'!D44=0,ISNUMBER('16-Expenditure'!D44)=FALSE),\"\",'16-Expenditure'!D44)","v":""},{"$f":"IF(OR('16-Expenditure'!E44=0,ISNUMBER('16-Expenditure'!E44)=FALSE),\"\",'16-Expenditure'!E44)","v":""},null,"","","","",null,"",null,1051,"in-gaap","false","monetary","debit","duration","item","true","","This is a mandatory field.","INR","D2011","D2010",null,0,"M","",1,null,1,"Y","Y","Y","N","<in-gaap:ConsumptionRawMaterials unitRef=\"INR\" contextRef=\"D2011\" decimals=\"0\" >0</in-gaap:ConsumptionRawMaterials>","<in-gaap:ConsumptionRawMaterials unitRef=\"INR\" contextRef=\"D2010\" decimals=\"0\" >0</in-gaap:ConsumptionRawMaterials>","",0,0,0,null,0,0,0,"Consumption raw materials",null,0,"","","",0,"","","",0,"","",""]
["Consumption packing materials [abstract]","ConsumptionPackingMaterialsAbstract",{"$nulls":3},"",null,"",null,null,"",null,1347,"in-gaap","true","string","","duration","item","true","",0,"","D2011","D2010",{"$nulls":3},"",1,null,1,"N","N","N","N","","","",0,0,0,null,0,0,0,"",null,0,"","","",0,"","","",0,"","",""]
["Stock of Packing Materials, Opening Balance","StockPackingMaterials",{"$f":"IF(OR('16-Expenditure'!D48=0,ISNUMBER('16-Expenditure'!D48)=FALSE),\"\",'16-Expenditure'!D48)","v":""},{"$f":"IF(OR('16-Expenditure'!E48=0,ISNUMBER('16-Expenditure'!E48)=FALSE),\"\",'16-Expenditure'!E48)","v":""},null,"",{"$f":"IF(AH370=\"Y\",IF(VLOOKUP(A370,PLFN3,4,FALSE)=0,\"\",VLOOKUP(A370,PLFN3,4,FALSE)),\"\")","v":""},"",{"$f":"IF(AI370=\"Y\",IF(VLOOKUP(A370,PLFN3,5,FALSE)=0,\"\",VLOOKUP(A370,PLFN3,5,FALSE)),\"\")","v":""},null,"",null,1308,"in-gaap","false","monetary","debit","instant","item","true","",0,"INR","I2011","I2010",null,{"$f":"decimals","v":0},null,"",2,"D",1,"N","N","N","N","","","",0,0,0,null,0,0,0,"",null,0,"","","",0,"","","",0,"","",""]
["Purchase packing materials during year","PurchasePackingMaterialsDuringYear",{"$f":"IF(OR('16-Expenditure'!D49=0,ISNUMBER('16-Expenditure'!D49)=FALSE),\"\",'16-Expenditure'!D49)","v":""},{"$f":"IF(OR('16-Expenditure'!E49=0,ISNUMBER('16-Expenditure'!E49)=FALSE),\"\",'16-Expenditure'!E49)","v":""},null,"",{"$f":"IF(AH371=\"Y\",IF(VLOOKUP(A371,PLFN3,4,FALSE)=0,\"\",VLOOKUP(A371,PLFN3,4,FALSE)),\"\")","v":""},"",{"$f":"IF(AI371=\"Y\",IF(VLOOKUP(A371,PLFN3,5,FALSE)=0,\"\",VLOOKUP(A371,PLFN3,5,FALSE)),\"\")","v":""},null,"",null,1309,"in-gaap","false","monetary","debit","duration","item","true","",0,"INR","D2011","D2010",null,{"$f":"decimals","v":0},null,"",1,null,1,"Y","N","N","N","","","",0,0,0,null,0,0,0,"Purchase packing materials during year",null,0,"","","",0,"","","",0,"","",""]
["Stock of Packing Materials, Closing Balance","StockPackingMaterials",{"$f":"IF(OR('16-Expenditure'!D51=0,ISNUMBER('16-Expenditure'!D51)=FALSE),\"\",'16-Expenditure'!D51)","v":""},{"$f":"IF(OR('16-Expenditure'!E51=0,ISNUMBER('16-Expenditure'!E51)=FALSE),\"\",'16-Expenditure'!E51)","v":""},{"$f":"D370","v":""},"",{"$f":"IF(AH372=\"Y\",IF(VLOOKUP(A372,PLFN3,4,FALSE)=0,\"\",VLOOKUP(A372,PLFN3,4,FALSE)),\"\")","v":""},"",{"$f":"IF(AI372=\"Y\",IF(VLOOKUP(A372,PLFN3,5,FALSE)=0,\"\",VLOOKUP(A372,PLFN3,5,FALSE)),\"\")","v":""},null,"",{"$f":"IF(AJ372=\"Y\",IF('16-Expenditure'!F494<>\"\",'16-Expenditure'!F494,\"\"),\"\")","v":""},1308,"in-gaap","false","monetary","debit","instant","item","true","",0,"INR","I2011","I2010",{"$f":"UPPER(LEFT(S372,1))&PYEND2","v":"I2009"},{"$f":"decimals","v":0},null,"",2,null,1,"Y","N","N","N","","","",0,0,0,null,0,0,0,"Stock of Packing Materials, Closing Balance",null,0,"","","",0,"","","",0,"","",""]
["Consumption packing materials","ConsumptionPackingMaterials",{"$f":"IF(OR('16-Expenditure'!D52=0,ISNUMBER('16-Expenditure'!D52)=FALSE),\"\",'16-Expenditure'!D52)","v":""},{"$f":"IF(OR('16-Expenditure'!E52=0,ISNUMBER('16-Expenditure'!E52)=FALSE),\"\",'16-Expenditure'!E52)","v":""},null,"",{"$f":"IF(AH373=\"Y\",IF(VLOOKUP(A373,PLFN3,4,FALSE)=0,\"\",VLOOKUP(A373,PLFN3,4,FALSE)),\"\")","v":""},"",{"$f":"IF(AI373=\"Y\",IF(VLOOKUP(A373,PLFN3,5,FALSE)=0,\"\",VLOOKUP(A373,PLFN3,5,FALSE)),\"\")","v":""},null,"",null,1052,"in-gaap","false","monetary","debit","duration","item","true","",0,"INR","D2011","D2010",null,{"$f":"decimals","v":0},null,"",1,null,1,"Y","N","N","N","","","",0,0,0,null,0,0,0,"Consumption packing materials",null,0,"","","",0,"","","",0,"","",""]
["Consumption stores spares [abstract]","ConsumptionStoresSparesAbstract",{"$nulls":3},"",null,"",null,null,"",null,1348,"in-gaap","true","string","","duration","item","true","",0,"","D2011","D2010",{"$nulls":3},"",1,null,1,"N","N","N","N","","","",0,0,0,null,0,0,0,"",null,0,"","","",0,"","","",0,"","",""]
["Stock of Stores and Spares, Opening Balance","StockStoresSpares",{"$f":"IF(OR('16-Expenditure'!D56=0,ISNUMBER('16-Expenditure'!D56)=FALSE),\"\",'16-Expenditure'!D56)","v":""},{"$f":"IF(OR('16-Expenditure'!E56=0,ISNUMBER('16-Expenditure'!E56)=FALSE),\"\",'16-Expenditure'!E56)","v":""},null,"",{"$f":"IF(AH375=\"Y\",IF(VLOOKUP(A375,PLFN3,4,FALSE)=0,\"\",VLOOKUP(A375,PLFN3,4,FALSE)),\"\")","v":""},"",{"$f":"IF(AI375=\"Y\",IF(VLOOKUP(A375,PLFN3,5,FALSE)=0,\"\",VLOOKUP(A375,PLFN3,5,FALSE)),\"\")","v":""},null,"",null,1310,"in-gaap","false","monetary","debit","instant","item","true","",0,"INR","I2011","I2010",null,{"$f":"decimals","v":0},null,"",2,"D",1,"N","N","N","N","","","",0,0,0,null,0,0,0,"",null,0,"","","",0,"","","",0,"","",""]
["Purchase stores spares during year","PurchaseStoresSparesDuringYear",{"$f":"IF(OR('16-Expenditure'!D57=0,ISNUMBER('16-Expenditure'!D57)=FALSE),\"\",'16-Expenditure'!D57)","v":""},{"$f":"IF(OR('16-Expenditure'!E57=0,ISNUMBER('16-Expenditure'!E57)=FALSE),\"\",'16-Expenditure'!E57)","v":""},null,"",{"$f":"IF(AH376=\"Y\",IF(VLOOKUP(A376,PLFN3,4,FALSE)=0,\"\",VLOOKUP(A376,PLFN3,4,FALSE)),\"\")","v":""},"",{"$f":"IF(AI376=\"Y\",IF(VLOOKUP(A376,PLFN3,5,FALSE)=0,\"\",VLOOKUP(A376,PLFN3,5,FALSE)),\"\")","v":""},null,"",null,1311,"in-gaap","false","monetary","debit","duration","item","true","",0,"INR","D2011","D2010",null,{"$f":"decimals","v":0},null,"",1,null,1,"Y","N","N","N","","","",0,0,0,null,0,0,0,"Purchase stores spares during year",null,0,"","","",0,"","","",0,"","",""]
["Stock of Stores and Spares, Closing Balance","StockStoresSpares",{"$f":"IF(OR('16-Expenditure'!D59=0,ISNUMBER('16-Expenditure'!D59)=FALSE),\"\",'16-Expenditure'!D59)","v":""},{"$f":"IF(OR('16-Expenditure'!E59=0,ISNUMBER('16-Expenditure'!E59)=FALSE),\"\",'16-Expenditure'!E59)","v":""},{"$f":"D375","v":""},"",{"$f":"IF(AH377=\"Y\",IF(VLOOKUP(A377,PLFN3,4,FALSE)=0,\"\",VLOOKUP(A377,PLFN3,4,FALSE)),\"\")","v":""},"",{"$f":"IF(AI377=\"Y\",IF(VLOOKUP(A377,PLFN3,5,FALSE)=0,\"\",VLOOKUP(A377,PLFN3,5,FALSE)),\"\")","v":""},null,"",{"$f":"IF(AJ377=\"Y\",IF('16-Expenditure'!F497<>\"\",'16-Expenditure'!F497,\"\"),\"\")","v":""},1310,"in-gaap","false","monetary","debit","instant","item","true","",0,"INR","I2011","I2010",{"$f":"UPPER(LEFT(S377,1))&PYEND2","v":"I2009"},{"$f":"decimals","v":0},null,"",2,null,1,"Y","N","N","N","","","",0,0,0,null,0,0,0,"Stock of Stores and Spares, Closing Balance",null,0,"","","",0,"","","",0,"","",""]
["Consumption stores spares","ConsumptionStoresSpares",{"$f":"IF(OR('16-Expenditure'!D60=0,ISNUMBER('16-Expenditure'!D60)=FALSE),\"\",'16-Expenditure'!D60)","v":""},{"$f":"IF(OR('16-Expenditure'!E60=0,ISNUMBER('16-Expenditure'!E60)=FALSE),\"\",'16-Expenditure'!E60)","v":""},null,"",{"$f":"IF(AH378=\"Y\",IF(VLOOKUP(A378,PLFN3,4,FALSE)=0,\"\",VLOOKUP(A378,PLFN3,4,FALSE)),\"\")","v":""},"",{"$f":"IF(AI378=\"Y\",IF(VLOOKUP(A378,PLFN3,5,FALSE)=0,\"\",VLOOKUP(A378,PLFN3,5,FALSE)),\"\")","v":""},null,"",null,1053,"in-gaap","false","monetary","debit","duration","item","true","","This is a mandatory field.","INR","D2011","D2010",null,{"$f":"decimals","v":0},"M","",1,null,1,"Y","Y","Y","N","<in-gaap:ConsumptionStoresSpares unitRef=\"INR\" contextRef=\"D2011\" decimals=\"0\" >0</in-gaap:ConsumptionStoresSpares>","<in-gaap:ConsumptionStoresSpares unitRef=\"INR\" contextRef=\"D2010\" decimals=\"0\" >0</in-gaap:ConsumptionStoresSpares>","",0,0,0,null,0,0,0,"Consumption stores spares",null,0,"","","",0,"","","",0,"","",""]
["Consumption other materials [abstract]","ConsumptionOtherMaterialsAbstract",{"$nulls":3},"",null,"",null,null,"",null,1349,"in-gaap","true","string","","duration","item","true","",0,"","D2011","D2010",{"$nulls":3},"",1,null,1,"N","N","N","N","","","",0,0,0,null,0,0,0,"",null,0,"","","",0,"","","",0,"","",""]
["Stock of Other Materials, Opening Balance","StockOtherMaterials",{"$f":"IF(OR('16-Expenditure'!D64=0,ISNUMBER('16-Expenditure'!D64)=FALSE),\"\",'16-Expenditure'!D64)","v":""},{"$f":"IF(OR('16-Expenditure'!E64=0,ISNUMBER('16-Expenditure'!E64)=FALSE),\"\",'16-Expenditure'!E64)","v":""},null,"",{"$f":"IF(AH380=\"Y\",IF(VLOOKUP(A380,PLFN3,4,FALSE)=0,\"\",VLOOKUP(A380,PLFN3,4,FALSE)),\"\")","v":""},"",{"$f":"IF(AI380=\"Y\",IF(VLOOKUP(A380,PLFN3,5,FALSE)=0,\"\",VLOOKUP(A380,PLFN3,5,FALSE)),\"\")","v":""},null,"",null,1312,"in-gaap","false","monetary","debit","instant","item","true","",0,"INR","I2011","I2010",null,{"$f":"decimals","v":0},null,"",2,"D",1,"N","N","N","N","","","",0,0,0,null,0,0,0,"",null,0,"","","",0,"","","",0,"","",""]
["Purchase other materials during year","PurchaseOtherMaterialsDuringYear",{"$f":"IF(OR('16-Expenditure'!D65=0,ISNUMBER('16-Expenditure'!D65)=FALSE),\"\",'16-Expenditure'!D65)","v":""},{"$f":"IF(OR('16-Expenditure'!E65=0,ISNUMBER('16-Expenditure'!E65)=FALSE),\"\",'16-Expenditure'!E65)","v":""},null,"","","","",null,"",null,1313,"in-gaap","false","monetary","debit","duration","item","true","",0,"INR","D2011","D2010",null,0,null,"",1,null,1,"Y","N","N","N","","","",0,0,0,null,0,0,0,"Purchase other materials during year",null,0,"","","",0,"","","",0,"","",""]
["Stock of Other Materials, Closing Balance","StockOtherMaterials",{"$f":"IF(OR('16-Expenditure'!D67=0,ISNUMBER('16-Expenditure'!D67)=FALSE),\"\",'16-Expenditure'!D67)","v":""},{"$f":"IF(OR('16-Expenditure'!E67=0,ISNUMBER('16-Expenditure'!E67)=FALSE),\"\",'16-Expenditure'!E67)","v":""},{"$f":"D380","v":""},"","","","",null,"",{"$f":"IF(AJ382=\"Y\",IF('16-Expenditure'!F500<>\"\",'16-Expenditure'!F500,\"\"),\"\")","v":""},1312,"in-gaap","false","monetary","debit","instant","item","true","",0,"INR","I2011","I2010",{"$f":"UPPER(LEFT(S382,1))&PYEND2","v":"I2009"},0,null,"",2,null,1,"Y","N","N","N","","","",0,0,0,null,0,0,0,"Stock of Other Materials, Closing Balance",null,0,"","","",0,"","","",0,"","",""]
["Consumption other materials","ConsumptionOtherMaterials",{"$f":"IF(OR('16-Expenditure'!D68=0,ISNUMBER('16-Expenditure'!D68)=FALSE),\"\",'16-Expenditure'!D68)","v":""},{"$f":"IF(OR('16-Expenditure'!E68=0,ISNUMBER('16-Expenditure'!E68)=FALSE),\"\",'16-Expenditure'!E68)","v":""},null,"","","","",null,"",null,1054,"in-gaap","false","monetary","debit","duration","item","true","",0,"INR","D2011","D2010",null,0,null,"",1,null,1,"Y","N","N","N","","","",0,0,0,null,0,0,0,"Consumption other materials",null,0,"","","",0,"","","",0,"","",""]
["Capitalisation raw other materials","CapitalisationRawOtherMaterials",{"$f":"IF(OR('16-Expenditure'!D31=0,ISNUMBER('16-Expenditure'!D31)=FALSE),\"\",'16-Expenditure'!D31)","v":""},{"$f":"IF(OR('16-Expenditure'!E31=0,ISNUMBER('16-Expenditure'!E31)=FALSE),\"\",'16-Expenditure'!E31)","v":""},null,"","","","",null,"",null,1055,"in-gaap","false","monetary","credit","duration","item","true","",0,"INR","D2011","D2010",null,0,null,"",2,null,1,"Y","N","N","N","","","",0,0,0,null,0,0,0,"Capitalisation raw other materials",null,0,"","","",0,"","","",0,"","",""]
["Consumption raw other materials","ConsumptionRawOtherMaterials",{"$f":"IF(OR('16-Expenditure'!D32=0,ISNUMBER('16-Expenditure'!D32)=FALSE),\"\",'16-Expenditure'!D32)","v":""},{"$f":"IF(OR('16-Expenditure'!E32=0,ISNUMBER('16-Expenditure'!E32)=FALSE),\"\",'16-Expenditure'!E32)","v":""},null,"","","","",null,"",null,1050,"in-gaap","false","monetary","debit","duration","item","true","",0,"INR","D2011","D2010",null,0,null,"",1,null,1,"Y","N","N","N","","","",0,0,0,null,0,0,0,"Consumption raw other materials",null,0,"","","",0,"","","",0,"","",""]
["Cost traded goods [abstract]","CostTradedGoodsAbstract",{"$nulls":3},"",null,"",null,null,"",null,1350,"in-gaap","true","string","","duration","item","true","",0,"","D2011","D2010",{"$nulls":3},"",1,null,1,"N","N","N","N","","","",0,0,0,null,0,0,0,"",null,0,"","","",0,"","","",0,"","",""]
["Stock of Traded Goods, Opening Balance","StockTradedGoods",{"$f":"IF(OR('16-Expenditure'!D72=0,ISNUMBER('16-Expenditure'!D72)=FALSE),\"\",'16-Expenditure'!D72)","v":""},{"$f":"IF(OR('16-Expenditure'!E72=0,ISNUMBER('16-Expenditure'!E72)=FALSE),\"\",'16-Expenditure'!E72)","v":""},null,"",{"$f":"IF(AH387=\"Y\",IF(VLOOKUP(A387,PLFN3,4,FALSE)=0,\"\",VLOOKUP(A387,PLFN3,4,FALSE)),\"\")","v":""},"",{"$f":"IF(AI387=\"Y\",IF(VLOOKUP(A387,PLFN3,5,FALSE)=0,\"\",VLOOKUP(A387,PLFN3,5,FALSE)),\"\")","v":""},null,"",null,1314,"in-gaap","false","monetary","debit","instant","item","true","",0,"INR","I2011","I2010",null,{"$f":"decimals","v":0},null,"",2,"D",1,"N","N","N","N","","","",0,0,0,null,0,0,0,"",null,0,"","","",0,"","","",0,"","",""]
["Purchase traded goods during year","PurchaseTradedGoodsDuringYear",{"$f":"IF(OR('16-Expenditure'!D73=0,ISNUMBER('16-Expenditure'!D73)=FALSE),\"\",'16-Expenditure'!D73)","v":""},{"$f":"IF(OR('16-Expenditure'!E73=0,ISNUMBER('16-Expenditure'!E73)=FALSE),\"\",'16-Expenditure'!E73)","v":""},null,"",{"$f":"IF(AH388=\"Y\",IF(VLOOKUP(A388,PLFN3,4,FALSE)=0,\"\",VLOOKUP(A388,PLFN3,4,FALSE)),\"\")","v":""},"",{"$f":"IF(AI388=\"Y\",IF(VLOOKUP(A388,PLFN3,5,FALSE)=0,\"\",VLOOKUP(A388,PLFN3,5,FALSE)),\"\")","v":""},null,"",null,1315,"in-gaap","false","monetary","debit","duration","item","true","",0,"INR","D2011","D2010",null,{"$f":"decimals","v":0},null,"",1,null,1,"Y","N","N","N","","","",0,0,0,null,{"$f":"IF(AQ388=\"P\",IF(C388<0,1,0),0)","v":0},{"$f":"IF(AQ388=\"P\",IF(D388<0,1,0),0)","v":0},0,"Purchase traded goods during year",null,0,"","","",0,"","","",0,"","",""]
["Stock of Traded Goods, Closing Balance","StockTradedGoods",{"$f":"IF(OR('16-Expenditure'!D75=0,ISNUMBER('16-Expenditure'!D75)=FALSE),\"\",'16-Expenditure'!D75)","v":""},{"$f":"IF(OR('16-Expenditure'!E75=0,ISNUMBER('16-Expenditure'!E75)=FALSE),\"\",'16-Expenditure'!E75)","v":""},{"$f":"D387","v":""},"",{"$f":"IF(AH389=\"Y\",IF(VLOOKUP(A389,PLFN3,4,FALSE)=0,\"\",VLOOKUP(A389,PLFN3,4,FALSE)),\"\")","v":""},"",{"$f":"IF(AI389=\"Y\",IF(VLOOKUP(A389,PLFN3,5,FALSE)=0,\"\",VLOOKUP(A389,PLFN3,5,FALSE)),\"\")","v":""},null,"",{"$f":"IF(AJ389=\"Y\",IF('16-Expenditure'!F505<>\"\",'16-Expenditure'!F505,\"\"),\"\")","v":""},1314,"in-gaap","false","monetary","debit","instant","item","true","",0,"INR","I2011","I2010",{"$f":"UPPER(LEFT(S389,1))&PYEND2","v":"I2009"},{"$f":"decimals","v":0},null,"",2,null,1,"Y","N","N","N","","","",0,0,0,null,0,0,0,"Stock of Traded Goods, Closing Balance",null,0,"","","",0,"","","",0,"","",""]
["Cost traded goods","CostTradedGoods",{"$f":"IF(OR('16-Expenditure'!D76=0,ISNUMBER('16-Expenditure'!D76)=FALSE),\"\",'16-Expenditure'!D76)","v":""},{"$f":"IF(OR('16-Expenditure'!E76=0,ISNUMBER('16-Expenditure'!E76)=FALSE),\"\",'16-Expenditure'!E76)","v":""},null,"",{"$f":"IF(AH390=\"Y\",IF(VLOOKUP(A390,PLFN3,4,FALSE)=0,\"\",VLOOKUP(A390,PLFN3,4,FALSE)),\"\")","v":""},"",{"$f":"IF(AI390=\"Y\",IF(VLOOKUP(A390,PLFN3,5,FALSE)=0,\"\",VLOOKUP(A390,PLFN3,5,FALSE)),\"\")","v":""},null,"",null,1056,"in-gaap","false","monetary","debit","duration","item","true",{"$f":"VLOOKUP(B390,XBRLBusinessRules,10,FALSE)","v":""},"This is a mandatory field.","INR","D2011","D2010",null,null,"M","",1,null,1,"Y","Y","Y","N","<in-gaap:CostTradedGoods unitRef=\"INR\" contextRef=\"D2011\" decimals=\"0\" >0</in-gaap:CostTradedGoods>","<in-gaap:CostTradedGoods unitRef=\"INR\" contextRef=\"D2010\" decimals=\"0\" >0</in-gaap:CostTradedGoods>","",0,0,0,null,0,0,0,"Cost traded goods",null,0,"","","",0,"","","",0,"","",""]
["Increase decrease inventories [abstract]","IncreaseDecreaseInventoriesAbstract",{"$nulls":3},"",null,"",null,null,"",null,1351,"in-gaap","true","string","","duration","item","true","",0,"","D2011","D2010",{"$nulls":3},"",1,null,1,"N","N","N","N","","","",0,0,0,null,0,0,0,"",null,{"$f":"IF(F391<>\"\",\"1\",0)","v":0},{"$f":"IF(F391<>\"\",\"<link:loc xlink:href=\"&\"\"\"\"&\"#\"&\"TA\"&F391&\"\"\"\"&\" xlink:type=\"&\"\"\"\"&\"locator\"&\"\"\"\"&\" xlink:label=\"&\"\"\"\"&\"value\"&AN391&\"\"\"\"&\"/>\",\"\")","v":""},{"$f":"IF(F391<>\"\",\"<link:footnote xlink:role=\"&\"\"\"\"&\"http://www.xbrl.org/2003/role/footnote\"&\"\"\"\"&\" xml:lang=\"&\"\"\"\"&\"en\"&\"\"\"\"&\" xlink:type=\"&\"\"\"\"&\"resource\"&\"\"\"\"&\" xlink:label=\"&\"\"\"\"&\"footnote\"&AN391&\"\"\"\"&\">\"&G391&\"</link:footnote>\",\"\")","v":""},{"$f":"IF(F391<>\"\",\"<link:footnoteArc xlink:type=\"&\"\"\"\"&\"arc\"&\"\"\"\"&\" order=\"&\"\"\"\"&\"1.0\"&\"\"\"\"& \" xlink:to=\"&\"\"\"\"&\"footnote\"&AN391&\"\"\"\"& \" xlink:from=\"&\"\"\"\"&\"value\"&AN391&\"\"\"\"&\" xlink:arcrole=\"&\"\"\"\"&\"http://www.xbrl.org/2003/arcrole/fact-footnote\"&\"\"\"\"&\"/>\",\"\")","v":""},{"$f":"IF(H391<>\"\",\"1\",0)","v":0},{"$f":"IF(H391<>\"\",\"<link:loc xlink:href=\"&\"\"\"\"&\"#\"&\"TA\"&H391&\"\"\"\"&\" xlink:type=\"&\"\"\"\"&\"locator\"&\"\"\"\"&\" xlink:label=\"&\"\"\"\"&\"value\"&AO391&\"\"\"\"&\"/>\",\"\")","v":""},{"$f":"IF(H391<>\"\",\"<link:footnote xlink:role=\"&\"\"\"\"&\"http://www.xbrl.org/2003/role/footnote\"&\"\"\"\"&\" xml:lang=\"&\"\"\"\"&\"en\"&\"\"\"\"&\" xlink:type=\"&\"\"\"\"&\"resource\"&\"\"\"\"&\" xlink:label=\"&\"\"\"\"&\"footnote\"&AO391&\"\"\"\"&\">\"&I391&\"</link:footnote>\",\"\")","v":""},{"$f":"IF(H391<>\"\",\"<link:footnoteArc xlink:type=\"&\"\"\"\"&\"arc\"&\"\"\"\"&\" order=\"&\"\"\"\"&\"1.0\"&\"\"\"\"& \" xlink:to=\"&\"\"\"\"&\"footnote\"&AO391&\"\"\"\"& \" xlink:from=\"&\"\"\"\"&\"value\"&AO391&\"\"\"\"&\" xlink:arcrole=\"&\"\"\"\"&\"http://www.xbrl.org/2003/arcrole/fact-footnote\"&\"\"\"\"&\"/>\",\"\")","v":""},{"$f":"IF(K391<>\"\",\"1\",0)","v":0},{"$f":"IF(K391<>\"\",\"<link:loc xlink:href=\"&\"\"\"\"&\"#\"&\"TA\"&K391&\"\"\"\"&\" xlink:type=\"&\"\"\"\"&\"locator\"&\"\"\"\"&\" xlink:label=\"&\"\"\"\"&\"value\"&AP391&\"\"\"\"&\"/>\",\"\")","v":""},{"$f":"IF(K391<>\"\",\"<link:footnote xlink:role=\"&\"\"\"\"&\"http://www.xbrl.org/2003/role/footnote\"&\"\"\"\"&\" xml:lang=\"&\"\"\"\"&\"en\"&\"\"\"\"&\" xlink:type=\"&\"\"\"\"&\"resource\"&\"\"\"\"&\" xlink:label=\"&\"\"\"\"&\"footnote\"&AP391&\"\"\"\"&\">\"&L391&\"</link:footnote>\",\"\")","v":""},{"$f":"IF(K391<>\"\",\"<link:footnoteArc xlink:type=\"&\"\"\"\"&\"arc\"&\"\"\"\"&\" order=\"&\"\"\"\"&\"1.0\"&\"\"\"\"& \" xlink:to=\"&\"\"\"\"&\"footnote\"&AP391&\"\"\"\"& \" xlink:from=\"&\"\"\"\"&\"value\"&AP391&\"\"\"\"&\" xlink:arcrole=\"&\"\"\"\"&\"http://www.xbrl.org/2003/arcrole/fact-footnote\"&\"\"\"\"&\"/>\",\"\")","v":""}]
["Increase decrease finished goods [abstract]","IncreaseDecreaseFinishedGoodsAbstract",{"$nulls":3},"",null,"",null,null,"",null,1352,"in-gaap","true","string","","duration","item","true","",0,"","D2011","D2010",{"$nulls":3},"",1,null,1,"N","N","N","N","","","",0,0,0,null,0,0,0,"",null,0,"","","",0,"","","",0,"","",""]
["Stock of Finished Goods, Opening Balance","StockFinishedGoods",{"$f":"IF(OR('16-Expenditure'!D88=0,ISNUMBER('16-Expenditure'!D88)=FALSE),\"\",'16-Expenditure'!D88)","v":""},{"$f":"IF(OR('16-Expenditure'!E88=0,ISNUMBER('16-Expenditure'!E88)=FALSE),\"\",'16-Expenditure'!E88)","v":""},null,"",{"$f":"IF(AH393=\"Y\",IF(VLOOKUP(A393,PLFN3,4,FALSE)=0,\"\",VLOOKUP(A393,PLFN3,4,FALSE)),\"\")","v":""},"",{"$f":"IF(AI393=\"Y\",IF(VLOOKUP(A393,PLFN3,5,FALSE)=0,\"\",VLOOKUP(A393,PLFN3,5,FALSE)),\"\")","v":""},null,"",null,1316,"in-gaap","false","monetary","debit","instant","item","true","",0,"INR","I2011","I2010",null,{"$f":"decimals","v":0},null,"",2,"D",1,"N","N","N","N","","","",0,0,0,null,0,0,0,"",null,0,"","","",0,"","","",0,"","",""]
["Purchase of finished goods during period","PurchaseOfFinishedGoodsDuringPeriod",{"$f":"IF(OR('16-Expenditure'!D89=0,ISNUMBER('16-Expenditure'!D89)=FALSE),\"\",'16-Expenditure'!D89)","v":""},{"$f":"IF(OR('16-Expenditure'!E89=0,ISNUMBER('16-Expenditure'!E89)=FALSE),\"\",'16-Expenditure'!E89)","v":""},null,"",{"$f":"IF(AH394=\"Y\",IF(VLOOKUP(A394,PLFN3,4,FALSE)=0,\"\",VLOOKUP(A394,PLFN3,4,FALSE)),\"\")","v":""},"",{"$f":"IF(AI394=\"Y\",IF(VLOOKUP(A394,PLFN3,5,FALSE)=0,\"\",VLOOKUP(A394,PLFN3,5,FALSE)),\"\")","v":""},null,"",null,3024,"in-gaap","false","monetary","debit","duration","item","true","",0,"INR","D2011","D2010",null,{"$f":"decimals","v":0},null,null,1,null,1,"Y","N","N","N","","","",0,0,0,null,0,0,0,"Purchase of finished goods during period",null,0,"","","",0,"","","",0,"","",""]
["Stock of Finished Goods, Closing Balance","StockFinishedGoods",{"$f":"IF(OR('16-Expenditure'!D90=0,ISNUMBER('16-Expenditure'!D90)=FALSE),\"\",'16-Expenditure'!D90)","v":""},{"$f":"IF(OR('16-Expenditure'!E90=0,ISNUMBER('16-Expenditure'!E90)=FALSE),\"\",'16-Expenditure'!E90)","v":""},{"$f":"D393","v":""},"",{"$f":"IF(AH395=\"Y\",IF(VLOOKUP(A395,PLFN3,4,FALSE)=0,\"\",VLOOKUP(A395,PLFN3,4,FALSE)),\"\")","v":""},"",{"$f":"IF(AI395=\"Y\",IF(VLOOKUP(A395,PLFN3,5,FALSE)=0,\"\",VLOOKUP(A395,PLFN3,5,FALSE)),\"\")","v":""},null,"",{"$f":"IF(AJ395=\"Y\",IF('16-Expenditure'!F508<>\"\",'16-Expenditure'!F508,\"\"),\"\")","v":""},1316,"in-gaap","false","monetary","debit","instant","item","true","",0,"INR","I2011","I2010",{"$f":"UPPER(LEFT(S395,1))&PYEND2","v":"I2009"},{"$f":"decimals","v":0},null,{"$f":"IF(V395=\"This can be entered only in case of Consolidated instance document\",\"C\",\"\")","v":""},2,null,1,"Y","N","N","N","","","",0,0,0,null,0,0,0,"Stock of Finished Goods, Closing Balance",null,0,"","","",0,"","","",0,"","",""]
["Increase decrease finished goods","IncreaseDecreaseFinishedGoods",{"$f":"IF(OR('16-Expenditure'!D91=0,ISNUMBER('16-Expenditure'!D91)=FALSE),\"\",'16-Expenditure'!D91)","v":""},{"$f":"IF(OR('16-Expenditure'!E91=0,ISNUMBER('16-Expenditure'!E91)=FALSE),\"\",'16-Expenditure'!E91)","v":""},null,"",{"$f":"IF(AH396=\"Y\",IF(VLOOKUP(A396,PLFN3,4,FALSE)=0,\"\",VLOOKUP(A396,PLFN3,4,FALSE)),\"\")","v":""},"",{"$f":"IF(AI396=\"Y\",IF(VLOOKUP(A396,PLFN3,5,FALSE)=0,\"\",VLOOKUP(A396,PLFN3,5,FALSE)),\"\")","v":""},null,"",null,1058,"in-gaap","false","monetary","debit","duration","item","true","","This is a mandatory field.","INR","D2011","D2010",null,null,"M","",1,null,1,"Y","Y","Y","N","<in-gaap:IncreaseDecreaseFinishedGoods unitRef=\"INR\" contextRef=\"D2011\" decimals=\"0\" >0</in-gaap:IncreaseDecreaseFinishedGoods>","<in-gaap:IncreaseDecreaseFinishedGoods unitRef=\"INR\" contextRef=\"D2010\" decimals=\"0\" >0</in-gaap:IncreaseDecreaseFinishedGoods>","",0,0,0,null,0,0,0,"Increase decrease finished goods",null,0,"","","",0,"","","",0,"","",""]
["Increase decrease work-in progress [abstract]","IncreaseDecreaseWorkinProgressAbstract",{"$nulls":3},"",null,"",null,null,"",null,1353,"in-gaap","true","string","","duration","item","true","",0,"","D2011","D2010",{"$nulls":3},"",1,null,1,"N","N","N","N","","","",0,0,0,null,0,0,0,"",null,0,"","","",0,"","","",0,"","",""]
["Stock of Work-in-Progress, Opening Balance","StockWorkinProgress",{"$f":"IF(OR('16-Expenditure'!D95=0,ISNUMBER('16-Expenditure'!D95)=FALSE),\"\",'16-Expenditure'!D95)","v":""},{"$f":"IF(OR('16-Expenditure'!E95=0,ISNUMBER('16-Expenditure'!E95)=FALSE),\"\",'16-Expenditure'!E95)","v":""},null,"",{"$f":"IF(AH398=\"Y\",IF(VLOOKUP(A398,PLFN3,4,FALSE)=0,\"\",VLOOKUP(A398,PLFN3,4,FALSE)),\"\")","v":""},"",{"$f":"IF(AI398=\"Y\",IF(VLOOKUP(A398,PLFN3,5,FALSE)=0,\"\",VLOOKUP(A398,PLFN3,5,FALSE)),\"\")","v":""},null,"",null,1317,"in-gaap","false","monetary","debit","instant","item","true","",0,"INR","I2011","I2010",null,{"$f":"decimals","v":0},null,"",2,"D",1,"N","N","N","N","","","",0,0,0,null,0,0,0,"",null,0,"","","",0,"","","",0,"","",""]
["Stock of Work-in-Progress, Closing Balance","StockWorkinProgress",{"$f":"IF(OR('16-Expenditure'!D96=0,ISNUMBER('16-Expenditure'!D96)=FALSE),\"\",'16-Expenditure'!D96)","v":""},{"$f":"IF(OR('16-Expenditure'!E96=0,ISNUMBER('16-Expenditure'!E96)=FALSE),\"\",'16-Expenditure'!E96)","v":""},{"$f":"D398","v":""},"",{"$f":"IF(AH399=\"Y\",IF(VLOOKUP(A399,PLFN3,4,FALSE)=0,\"\",VLOOKUP(A399,PLFN3,4,FALSE)),\"\")","v":""},"",{"$f":"IF(AI399=\"Y\",IF(VLOOKUP(A399,PLFN3,5,FALSE)=0,\"\",VLOOKUP(A399,PLFN3,5,FALSE)),\"\")","v":""},null,"",{"$f":"IF(AJ399=\"Y\",IF('16-Expenditure'!F510<>\"\",'16-Expenditure'!F510,\"\"),\"\")","v":""},1317,"in-gaap","false","monetary","debit","instant","item","true","",0,"INR","I2011","I2010",{"$f":"UPPER(LEFT(S399,1))&PYEND2","v":"I2009"},{"$f":"decimals","v":0},null,"",2,null,1,"Y","N","N","N","","","",0,0,0,null,0,0,0,"Stock of Work-in-Progress, Closing Balance",null,0,"","","",0,"","","",0,"","",""]
["Increase decrease work-in progress","IncreaseDecreaseWorkinProgress",{"$f":"IF(OR('16-Expenditure'!D97=0,ISNUMBER('16-Expenditure'!D97)=FALSE),\"\",'16-Expenditure'!D97)","v":""},{"$f":"IF(OR('16-Expenditure'!E97=0,ISNUMBER('16-Expenditure'!E97)=FALSE),\"\",'16-Expenditure'!E97)","v":""},null,"",{"$f":"IF(AH400=\"Y\",IF(VLOOKUP(A400,PLFN3,4,FALSE)=0,\"\",VLOOKUP(A400,PLFN3,4,FALSE)),\"\")","v":""},"",{"$f":"IF(AI400=\"Y\",IF(VLOOKUP(A400,PLFN3,5,FALSE)=0,\"\",VLOOKUP(A400,PLFN3,5,FALSE)),\"\")","v":""},null,"",null,1059,"in-gaap","false","monetary","debit","duration","item","true","","This is a mandatory field.","INR","D2011","D2010",null,{"$f":"decimals","v":0},"M","",1,null,1,"Y","Y","Y","N","<in-gaap:IncreaseDecreaseWorkinProgress unitRef=\"INR\" contextRef=\"D2011\" decimals=\"0\" >0</in-gaap:IncreaseDecreaseWorkinProgress>","<in-gaap:IncreaseDecreaseWorkinProgress unitRef=\"INR\" contextRef=\"D2010\" decimals=\"0\" >0</in-gaap:IncreaseDecreaseWorkinProgress>","",0,0,0,null,0,0,0,"Increase decrease work-in progress",null,0,"","","",0,"","","",0,"","",""]
["Increase decrease other inventories [abstract]","IncreaseDecreaseOtherInventoriesAbstract",{"$nulls":3},"",null,"",null,null,"",null,1354,"in-gaap","true","string","","duration","item","true","",0,"","D2011","D2010",{"$nulls":3},"",1,null,1,"N","N","N","N","","","",0,0,0,null,0,0,0,"",null,0,"","","",0,"","","",0,"","",""]
["Stock of Other Inventories, Opening Balance","StockOtherInventories",{"$f":"IF(OR('16-Expenditure'!D101=0,ISNUMBER('16-Expenditure'!D101)=FALSE),\"\",'16-Expenditure'!D101)","v":""},{"$f":"IF(OR('16-Expenditure'!E101=0,ISNUMBER('16-Expenditure'!E101)=FALSE),\"\",'16-Expenditure'!E101)","v":""},null,"",{"$f":"IF(AH402=\"Y\",IF(VLOOKUP(A402,PLFN3,4,FALSE)=0,\"\",VLOOKUP(A402,PLFN3,4,FALSE)),\"\")","v":""},"",{"$f":"IF(AI402=\"Y\",IF(VLOOKUP(A402,PLFN3,5,FALSE)=0,\"\",VLOOKUP(A402,PLFN3,5,FALSE)),\"\")","v":""},null,"",null,1318,"in-gaap","false","monetary","debit","instant","item","true","",0,"INR","I2011","I2010",null,{"$f":"decimals","v":0},null,"",2,"D",1,"N","N","N","N","","","",0,0,0,null,0,0,0,"",null,0,"","","",0,"","","",0,"","",""]
["Stock of Other Inventories, Closing Balance","StockOtherInventories",{"$f":"IF(OR('16-Expenditure'!D102=0,ISNUMBER('16-Expenditure'!D102)=FALSE),\"\",'16-Expenditure'!D102)","v":""},{"$f":"IF(OR('16-Expenditure'!E102=0,ISNUMBER('16-Expenditure'!E102)=FALSE),\"\",'16-Expenditure'!E102)","v":""},{"$f":"D402","v":""},"","","","",null,"",{"$f":"IF(AJ403=\"Y\",IF('16-Expenditure'!F512<>\"\",'16-Expenditure'!F512,\"\"),\"\")","v":""},1318,"in-gaap","false","monetary","debit","instant","item","true","",0,"INR","I2011","I2010",{"$f":"UPPER(LEFT(S403,1))&PYEND2","v":"I2009"},0,null,"",2,null,1,"Y","N","N","N","","","",0,0,0,null,0,0,0,"Stock of Other Inventories, Closing Balance",null,0,"","","",0,"","","",0,"","",""]
["Increase decrease other inventories","IncreaseDecreaseOtherInventories",{"$f":"IF(OR('16-Expenditure'!D103=0,ISNUMBER('16-Expenditure'!D103)=FALSE),\"\",'16-Expenditure'!D103)","v":""},{"$f":"IF(OR('16-Expenditure'!E103=0,ISNUMBER('16-Expenditure'!E103)=FALSE),\"\",'16-Expenditure'!E103)","v":""},null,"","","","",null,"",null,1060,"in-gaap","false","monetary","debit","duration","item","true","",0,"INR","D2011","D2010",null,0,null,"",1,null,1,"Y","N","N","N","","","",0,0,0,null,0,0,0,"Increase decrease other inventories",null,0,"","","",0,"","","",0,"","",""]
["Increase decrease excise duty inventories","IncreaseDecreaseExciseDutyInventories",{"$f":"IF(OR('16-Expenditure'!D83=0,ISNUMBER('16-Expenditure'!D83)=FALSE),\"\",'16-Expenditure'!D83)","v":""},{"$f":"IF(OR('16-Expenditure'!E83=0,ISNUMBER('16-Expenditure'!E83)=FALSE),\"\",'16-Expenditure'!E83)","v":""},null,"","","","",null,"",null,1061,"in-gaap","false","monetary","debit","duration","item","true","",0,"INR","D2011","D2010",null,0,null,"",1,null,1,"Y","N","N","N","","","",0,0,0,null,0,0,0,"Increase decrease excise duty inventories",null,0,"","","",0,"","","",0,"","",""]
["Increase decrease inventories","IncreaseDecreaseInventories",{"$f":"IF(OR('16-Expenditure'!D84=0,ISNUMBER('16-Expenditure'!D84)=FALSE),\"\",'16-Expenditure'!D84)","v":""},{"$f":"IF(OR('16-Expenditure'!E84=0,ISNUMBER('16-Expenditure'!E84)=FALSE),\"\",'16-Expenditure'!E84)","v":""},null,"","","","",null,"",null,1057,"in-gaap","false","monetary","debit","duration","item","true","",0,"INR","D2011","D2010",null,0,null,"",1,null,1,"Y","N","N","N","","","",0,0,0,null,0,0,0,"Increase decrease inventories",null,0,"","","",0,"","","",0,"","",""]
["Share materials stocks joint ventures","ShareMaterialsStocksJointVentures",{"$f":"IF(OR('16-Expenditure'!D21=0,ISNUMBER('16-Expenditure'!D21)=FALSE),\"\",'16-Expenditure'!D21)","v":""},{"$f":"IF(OR('16-Expenditure'!E21=0,ISNUMBER('16-Expenditure'!E21)=FALSE),\"\",'16-Expenditure'!E21)","v":""},null,"","","","",null,"",null,1062,"in-gaap","false","monetary","debit","duration","item","true","",0,"INR","D2011","D2010",null,0,null,"",1,null,1,{"$f":"IF(CONSOLCHECK=\"C\",IF(OR(O407=\"true\",AE407=\"D\"),\"N\",\"Y\"),\"N\")","v":"N"},"N","N","N","","","",0,0,0,null,0,0,0,"",null,0,"","","",0,"","","",0,"","",""]
["Consumption materials changes inventories","ConsumptionMaterialsChangesInventories",{"$f":"IF(OR('16-Expenditure'!D22=0,ISNUMBER('16-Expenditure'!D22)=FALSE),\"\",'16-Expenditure'!D22)","v":""},{"$f":"IF(OR('16-Expenditure'!E22=0,ISNUMBER('16-Expenditure'!E22)=FALSE),\"\",'16-Expenditure'!E22)","v":""},null,"","","","",null,"",null,1049,"in-gaap","false","monetary","debit","duration","item","true","","This is a mandatory field.","INR","D2011","D2010",null,0,"M","",3,"D",1,"N","N","N","N","","","",0,0,0,null,0,0,0,"",null,0,"","","",0,"","","",0,"","",""]
["Contract cost [abstract]","ContractCostAbstract",{"$nulls":3},"",null,"",null,null,"",null,1355,"in-gaap","true","string","","duration","item","true","",0,"","D2011","D2010",{"$nulls":3},"",1,null,1,"N","N","N","N","","","",0,0,0,null,0,0,0,"",null,0,"","","",0,"","","",0,"","",""]
["Site labour supervision cost contracts","SiteLabourSupervisionCostContracts",{"$f":"IF(OR('16-Expenditure'!D107=0,ISNUMBER('16-Expenditure'!D107)=FALSE),\"\",'16-Expenditure'!D107)","v":""},{"$f":"IF(OR('16-Expenditure'!E107=0,ISNUMBER('16-Expenditure'!E107)=FALSE),\"\",'16-Expenditure'!E107)","v":""},null,"",{"$f":"IF(AH410=\"Y\",IF(VLOOKUP(A410,PLFN3,4,FALSE)=0,\"\",VLOOKUP(A410,PLFN3,4,FALSE)),\"\")","v":""},"",{"$f":"IF(AI410=\"Y\",IF(VLOOKUP(A410,PLFN3,5,FALSE)=0,\"\",VLOOKUP(A410,PLFN3,5,FALSE)),\"\")","v":""},null,"",null,1064,"in-gaap","false","monetary","debit","duration","item","true","",0,"INR","D2011","D2010",null,{"$f":"decimals","v":0},null,"",1,null,1,"Y","N","N","N","","","",0,0,0,null,0,0,0,"Site labour supervision cost contracts",null,0,"","","",0,"","","",0,"","",""]
["Material cost contract","MaterialCostContract",{"$f":"IF(OR('16-Expenditure'!D108=0,ISNUMBER('16-Expenditure'!D108)=FALSE),\"\",'16-Expenditure'!D108)","v":""},{"$f":"IF(OR('16-Expenditure'!E108=0,ISNUMBER('16-Expenditure'!E108)=FALSE),\"\",'16-Expenditure'!E108)","v":""},null,"","","","",null,"",null,1065,"in-gaap","false","monetary","debit","duration","item","true","",0,"INR","D2011","D2010",null,0,null,"",1,null,1,"Y","N","N","N","","","",0,0,0,null,0,0,0,"Material cost contract",null,0,"","","",0,"","","",0,"","",""]
["Depreciation assets contracts","DepreciationAssetsContracts",{"$f":"IF(OR('16-Expenditure'!D109=0,ISNUMBER('16-Expenditure'!D109)=FALSE),\"\",'16-Expenditure'!D109)","v":""},{"$f":"IF(OR('16-Expenditure'!E109=0,ISNUMBER('16-Expenditure'!E109)=FALSE),\"\",'16-Expenditure'!E109)","v":""},null,"","","","",null,"",null,1066,"in-gaap","false","monetary","debit","duration","item","true","",0,"INR","D2011","D2010",null,0,null,"",1,null,1,"Y","N","N","N","","","",0,0,0,null,0,0,0,"Depreciation assets contracts",null,0,"","","",0,"","","",0,"","",""]
["Cost transportation assets contracts","CostTransportationAssetsContracts",{"$f":"IF(OR('16-Expenditure'!D110=0,ISNUMBER('16-Expenditure'!D110)=FALSE),\"\",'16-Expenditure'!D110)","v":""},{"$f":"IF(OR('16-Expenditure'!E110=0,ISNUMBER('16-Expenditure'!E110)=FALSE),\"\",'16-Expenditure'!E110)","v":""},null,"","","","",null,"",null,1067,"in-gaap","false","monetary","debit","duration","item","true","",0,"INR","D2011","D2010",null,0,null,"",1,null,1,"Y","N","N","N","","","",0,0,0,null,0,0,0,"Cost transportation assets contracts",null,0,"","","",0,"","","",0,"","",""]
["Hire charges assets contracts","HireChargesAssetsContracts",{"$f":"IF(OR('16-Expenditure'!D111=0,ISNUMBER('16-Expenditure'!D111)=FALSE),\"\",'16-Expenditure'!D111)","v":""},{"$f":"IF(OR('16-Expenditure'!E111=0,ISNUMBER('16-Expenditure'!E111)=FALSE),\"\",'16-Expenditure'!E111)","v":""},null,"","","","",null,"",null,1068,"in-gaap","false","monetary","debit","duration","item","true","",0,"INR","D2011","D2010",null,0,null,"",1,null,1,"Y","N","N","N","","","",0,0,0,null,0,0,0,"Hire charges assets contracts",null,0,"","","",0,"","","",0,"","",""]
["Cost design technical assistance contracts","CostDesignTechnicalAssistanceContracts",{"$f":"IF(OR('16-Expenditure'!D112=0,ISNUMBER('16-Expenditure'!D112)=FALSE),\"\",'16-Expenditure'!D112)","v":""},{"$f":"IF(OR('16-Expenditure'!E112=0,ISNUMBER('16-Expenditure'!E112)=FALSE),\"\",'16-Expenditure'!E112)","v":""},null,"","","","",null,"",null,1069,"in-gaap","false","monetary","debit","duration","item","true","",0,"INR","D2011","D2010",null,0,null,"",1,null,1,"Y","N","N","N","","","",0,0,0,null,0,0,0,"Cost design technical assistance contracts",null,0,"","","",0,"","","",0,"","",""]
["Warranty cost contracts","WarrantycostContracts",{"$f":"IF(OR('16-Expenditure'!D113=0,ISNUMBER('16-Expenditure'!D113)=FALSE),\"\",'16-Expenditure'!D113)","v":""},{"$f":"IF(OR('16-Expenditure'!E113=0,ISNUMBER('16-Expenditure'!E113)=FALSE),\"\",'16-Expenditure'!E113)","v":""},null,"","","","",null,"",null,1070,"in-gaap","false","monetary","debit","duration","item","true","",0,"INR","D2011","D2010",null,0,null,"",1,null,1,"Y","N","N","N","","","",0,0,0,null,0,0,0,"Warranty cost contracts",null,0,"","","",0,"","","",0,"","",""]
["Other claims contracts","OtherClaimsContracts",{"$f":"IF(OR('16-Expenditure'!D114=0,ISNUMBER('16-Expenditure'!D114)=FALSE),\"\",'16-Expenditure'!D114)","v":""},{"$f":"IF(OR('16-Expenditure'!E114=0,ISNUMBER('16-Expenditure'!E114)=FALSE),\"\",'16-Expenditure'!E114)","v":""},null,"","","","",null,"",null,1071,"in-gaap","false","monetary","debit","duration","item","true","",0,"INR","D2011","D2010",null,0,null,"",1,null,1,"Y","N","N","N","","","",0,0,0,null,0,0,0,"Other claims contracts",null,0,"","","",0,"","","",0,"","",""]
["Sale material scrap other assets contracts","SaleMaterialScrapOtherAssetsContracts",{"$f":"IF(OR('16-Expenditure'!D115=0,ISNUMBER('16-Expenditure'!D115)=FALSE),\"\",'16-Expenditure'!D115)","v":""},{"$f":"IF(OR('16-Expenditure'!E115=0,ISNUMBER('16-Expenditure'!E115)=FALSE),\"\",'16-Expenditure'!E115)","v":""},null,"","","","",null,"",null,1072,"in-gaap","false","monetary","credit","duration","item","true","",0,"INR","D2011","D2010",null,0,null,"",1,null,1,"Y","N","N","N","","","",0,0,0,null,0,0,0,"Sale material scrap other assets contracts",null,0,"","","",0,"","","",0,"","",""]
["Overhead costs apportioned contracts [abstract]","OverheadCostsApportionedContractsAbstract",{"$nulls":3},"",null,"",null,null,"",null,1356,"in-gaap","true","string","","duration","item","true","",0,"","D2011","D2010",{"$nulls":3},"",1,null,1,"N","N","N","N","","","",0,0,0,null,0,0,0,"",null,0,"","","",0,"","","",0,"","",""]
["Insurance cost apportioned contract","InsurancecostApportionedContract",{"$f":"IF(OR('16-Expenditure'!D121=0,ISNUMBER('16-Expenditure'!D121)=FALSE),\"\",'16-Expenditure'!D121)","v":""},{"$f":"IF(OR('16-Expenditure'!E121=0,ISNUMBER('16-Expenditure'!E121)=FALSE),\"\",'16-Expenditure'!E121)","v":""},null,"",{"$f":"IF(AH420=\"Y\",IF(VLOOKUP(A420,PLFN3,4,FALSE)=0,\"\",VLOOKUP(A420,PLFN3,4,FALSE)),\"\")","v":""},"",{"$f":"IF(AI420=\"Y\",IF(VLOOKUP(A420,PLFN3,5,FALSE)=0,\"\",VLOOKUP(A420,PLFN3,5,FALSE)),\"\")","v":""},null,"",null,1074,"in-gaap","false","monetary","debit","duration","item","true","",0,"INR","D2011","D2010",null,{"$f":"decimals","v":0},null,"",1,null,1,"Y","N","N","N","","","",0,0,0,null,0,0,0,"Insurance cost apportioned contract",null,0,"","","",0,"","","",0,"","",""]
["Design technical assistance apportioned contracts","DesignTechnicalAssistanceApportionedContracts",{"$f":"IF(OR('16-Expenditure'!D122=0,ISNUMBER('16-Expenditure'!D122)=FALSE),\"\",'16-Expenditure'!D122)","v":""},{"$f":"IF(OR('16-Expenditure'!E122=0,ISNUMBER('16-Expenditure'!E122)=FALSE),\"\",'16-Expenditure'!E122)","v":""},null,"",{"$f":"IF(AH421=\"Y\",IF(VLOOKUP(A421,PLFN3,4,FALSE)=0,\"\",VLOOKUP(A421,PLFN3,4,FALSE)),\"\")","v":""},"",{"$f":"IF(AI421=\"Y\",IF(VLOOKUP(A421,PLFN3,5,FALSE)=0,\"\",VLOOKUP(A421,PLFN3,5,FALSE)),\"\")","v":""},null,"",null,1075,"in-gaap","false","monetary","debit","duration","item","true","",0,"INR","D2011","D2010",null,{"$f":"decimals","v":0},null,"",1,null,1,"Y","N","N","N","","","",0,0,0,null,0,0,0,"Design technical assistance apportioned contracts",null,0,"","","",0,"","","",0,"","",""]
["Other overheads apportioned contracts","OtherOverheadsApportionedContracts",{"$f":"IF(OR('16-Expenditure'!D123=0,ISNUMBER('16-Expenditure'!D123)=FALSE),\"\",'16-Expenditure'!D123)","v":""},{"$f":"IF(OR('16-Expenditure'!E123=0,ISNUMBER('16-Expenditure'!E123)=FALSE),\"\",'16-Expenditure'!E123)","v":""},null,{"$f":"IF(AND(AH422=\"Y\",G422<>\"\"),\"PL\"&AN422,\"\")","v":""},{"$f":"IF(AH422=\"Y\",IF(VLOOKUP(A422,PLFN3,4,FALSE)=0,\"\",VLOOKUP(A422,PLFN3,4,FALSE)),\"\")","v":""},{"$f":"IF(AND(AI422=\"Y\",I422<>\"\"),\"PL\"&AO422,\"\")","v":""},{"$f":"IF(AI422=\"Y\",IF(VLOOKUP(A422,PLFN3,5,FALSE)=0,\"\",VLOOKUP(A422,PLFN3,5,FALSE)),\"\")","v":""},null,{"$f":"IF(AND(AJ422=\"Y\",L422<>\"\"),\"PL\"&AP422,\"\")","v":""},null,{"$f":"VLOOKUP(B422,XBRLBusinessRules,2,FALSE)","v":1076},{"$f":"VLOOKUP(B422,XBRLBusinessRules,3,FALSE)","v":"in-gaap"},{"$f":"VLOOKUP(B422,XBRLBusinessRules,4,FALSE)","v":"false"},{"$f":"VLOOKUP(B422,XBRLBusinessRules,5,FALSE)","v":"monetary"},{"$f":"VLOOKUP(B422,XBRLBusinessRules,6,FALSE)","v":"debit"},{"$f":"VLOOKUP(B422,XBRLBusinessRules,7,FALSE)","v":"duration"},{"$f":"VLOOKUP(B422,XBRLBusinessRules,8,FALSE)","v":"item"},{"$f":"VLOOKUP(B422,XBRLBusinessRules,9,FALSE)","v":"true"},{"$f":"VLOOKUP(B422,XBRLBusinessRules,10,FALSE)","v":""},{"$f":"VLOOKUP(B422,XBRLBusinessRules,11,FALSE)","v":0},{"$f":"IF(P422=\"monetary\",\"INR\",\"\")","v":"INR"},{"$f":"UPPER(LEFT(R422,1))&CYEND","v":"D2011"},{"$f":"UPPER(LEFT(R422,1))&PYEND","v":"D2010"},null,{"$f":"decimals","v":0},null,"",{"$f":"COUNTIF(TagNamePL,\"=\"&B422)","v":1},null,{"$f":"AD422-COUNTIFS(TagNamePL,B422,TagPLD,\"D\")","v":1},{"$f":"IF(OR(O422=\"true\",AE422=\"D\"),\"N\",\"Y\")","v":"Y"},{"$f":"IF(OR(AND(C422=\"\",D422=\"\",(AB422=\"M\")=FALSE),AG422=\"N\"),\"N\",\"Y\")","v":"N"},{"$f":"IF(OR(AND(C422=\"\",D422=\"\",(AB422=\"M\")=FALSE),AG422=\"N\"),\"N\",\"Y\")","v":"N"},{"$f":"IF(AND(COUNTBLANK(X422:Z422)=0,AG422=\"Y\"),IF(OR(AB422=\"M\",E422<>\"\"),\"Y\",\"N\"),\"N\")","v":"N"},{"$f":"IF(AH422=\"Y\",(\"<\"&N422&\":\"&B422&\" \"&IF(F422=\"\",\"\",\"id=\"\"\"&\"TA\"&F422&\"\"\"\"&\" \")&IF(OR(P422=\"monetary\",W422<>\"\"),\"unitRef=\"\"\"&W422&\"\"\"\"&\" \",\"\")&IF(X422=\"\",\"\",\"contextRef=\"\"\"&X422&\"\"\"\"&\" \")&IF(OR(P422=\"monetary\",AA422<>\"\"),\"decimals=\"\"\"&decimals&\"\"\"\"&\" \",\"\")&\">\")&IF(C422=\"\",0,C422)&\"</\"&N422&\":\"&B422&\">\",\"\")","v":""},{"$f":"IF(AI422=\"Y\",(\"<\"&N422&\":\"&B422&\" \"&IF(H422=\"\",\"\",\"id=\"\"\"&\"TA\"&H422&\"\"\"\"&\" \")&IF(OR(P422=\"monetary\",W422<>\"\"),\"unitRef=\"\"\"&W422&\"\"\"\"&\" \",\"\")&IF(Y422=\"\",\"\",\"contextRef=\"\"\"&Y422&\"\"\"\"&\" \")&IF(OR(P422=\"monetary\",AA422<>\"\"),\"decimals=\"\"\"&decimals&\"\"\"\"&\" \",\"\")&\">\")&IF(D422=\"\",0,D422)&\"</\"&N422&\":\"&B422&\">\",\"\")","v":""},{"$f":"IF(AJ422=\"Y\",(\"<\"&N422&\":\"&B422&\" \"&IF(K422=\"\",\"\",\"id=\"\"\"&\"TA\"&K422&\"\"\"\"&\" \")&IF(OR(P422=\"monetary\",W422<>\"\"),\"unitRef=\"\"\"&W422&\"\"\"\"&\" \",\"\")&IF(Z422=\"\",\"\",\"contextRef=\"\"\"&Z422&\"\"\"\"&\" \")&IF(OR(P422=\"monetary\",AA422<>\"\"),\"decimals=\"\"\"&decimals&\"\"\"\"&\" \",\"\")&\">\")&IF(E422=\"\",0,E422)&\"</\"&N422&\":\"&B422&\">\",\"\")","v":""},0,{"$f":"IF(AND(AI422=\"Y\",I422<>\"\"),AN422+1,AN422)","v":0},{"$f":"IF(AND(AJ422=\"Y\",L422<>\"\"),AO422+1,AO422)","v":0},null,0,0,{"$f":"IF(AF422=1,0,1)","v":0},{"$f":"IF(AG422=\"Y\",A422,\"\")","v":"Other overheads apportioned contracts"},null,0,"","","",0,"","","",0,"","",""]
["Overhead costs apportioned contracts","OverheadCostsApportionedContracts",{"$f":"IF(OR('16-Expenditure'!D124=0,ISNUMBER('16-Expenditure'!D124)=FALSE),\"\",'16-Expenditure'!D124)","v":""},{"$f":"IF(OR('16-Expenditure'!E124=0,ISNUMBER('16-Expenditure'!E124)=FALSE),\"\",'16-Expenditure'!E124)","v":""},null,"",{"$f":"IF(AH423=\"Y\",IF(VLOOKUP(A423,PLFN3,4,FALSE)=0,\"\",VLOOKUP(A423,PLFN3,4,FALSE)),\"\")","v":""},"",{"$f":"IF(AI423=\"Y\",IF(VLOOKUP(A423,PLFN3,5,FALSE)=0,\"\",VLOOKUP(A423,PLFN3,5,FALSE)),\"\")","v":""},null,"",null,1073,"in-gaap","false","monetary","debit","duration","item","true","",0,"INR","D2011","D2010",null,{"$f":"decimals","v":0},null,"",1,null,1,"Y","N","N","N","","","",{"$f":"IF(AND(AH423=\"Y\",G423<>\"\"),AP422+1,AP422)","v":0},0,0,null,0,0,0,"Overhead costs apportioned contracts",null,0,"","","",0,"","","",0,"","",""]
["Contract cost","ContractCost",{"$f":"IF(OR('16-Expenditure'!D117=0,ISNUMBER('16-Expenditure'!D117)=FALSE),\"\",'16-Expenditure'!D117)","v":""},{"$f":"IF(OR('16-Expenditure'!E117=0,ISNUMBER('16-Expenditure'!E117)=FALSE),\"\",'16-Expenditure'!E117)","v":""},null,"",{"$f":"IF(AH424=\"Y\",IF(VLOOKUP(A424,PLFN3,4,FALSE)=0,\"\",VLOOKUP(A424,PLFN3,4,FALSE)),\"\")","v":""},"",{"$f":"IF(AI424=\"Y\",IF(VLOOKUP(A424,PLFN3,5,FALSE)=0,\"\",VLOOKUP(A424,PLFN3,5,FALSE)),\"\")","v":""},null,"",null,1063,"in-gaap","false","monetary","debit","duration","item","true","",0,"INR","D2011","D2010",null,{"$f":"decimals","v":0},null,"",3,"D",1,"N","N","N","N","","","",0,0,0,null,0,0,0,"",null,0,"","","",0,"","","",0,"","",""]
["Manufacturing service costs [abstract]","ManufacturingServiceCostsAbstract",{"$nulls":3},{"$f":"IF(AND(AH425=\"Y\",G425<>\"\"),\"PL\"&AN425,\"\")","v":""},null,{"$f":"IF(AND(AI425=\"Y\",I425<>\"\"),\"PL\"&AO425,\"\")","v":""},null,null,{"$f":"IF(AND(AJ425=\"Y\",L425<>\"\"),\"PL\"&AP425,\"\")","v":""},null,1358,"in-gaap","true","string","","duration","item","true","",0,"","D2011","D2010",{"$nulls":3},"",1,null,1,"N","N","N","N","","","",0,0,0,null,0,0,0,"",null,0,"","","",0,"","","",0,"","",""]
["Cost power fuel","CostPowerFuel",{"$f":"IF(OR('16-Expenditure'!D128=0,ISNUMBER('16-Expenditure'!D128)=FALSE),\"\",'16-Expenditure'!D128)","v":""},{"$f":"IF(OR('16-Expenditure'!E128=0,ISNUMBER('16-Expenditure'!E128)=FALSE),\"\",'16-Expenditure'!E128)","v":""},null,"",{"$f":"IF(AH426=\"Y\",IF(VLOOKUP(A426,PLFN3,4,FALSE)=0,\"\",VLOOKUP(A426,PLFN3,4,FALSE)),\"\")","v":""},"",{"$f":"IF(AI426=\"Y\",IF(VLOOKUP(A426,PLFN3,5,FALSE)=0,\"\",VLOOKUP(A426,PLFN3,5,FALSE)),\"\")","v":""},null,"",null,1078,"in-gaap","false","monetary","debit","duration","item","true","","This is a mandatory field.","INR","D2011","D2010",null,{"$f":"decimals","v":0},"M","",1,null,1,"Y","Y","Y","N","<in-gaap:CostPowerFuel unitRef=\"INR\" contextRef=\"D2011\" decimals=\"0\" >0</in-gaap:CostPowerFuel>","<in-gaap:CostPowerFuel unitRef=\"INR\" contextRef=\"D2010\" decimals=\"0\" >0</in-gaap:CostPowerFuel>","",0,0,0,null,0,0,0,"Cost power fuel",null,0,"","","",0,"","","",0,"","",""]
["Cost repairs maintenance [abstract]","CostRepairsMaintenanceAbstract",{"$nulls":3},"",null,"",null,null,"",null,1359,"in-gaap","true","string","","duration","item","true","",0,"","D2011","D2010",{"$nulls":3},"",1,null,1,"N","N","N","N","","","",0,0,0,null,0,0,0,"",null,0,"","","",0,"","","",0,"","",""]
["Cost repairs maintenance factory building","CostRepairsMaintenanceFactoryBuilding",{"$f":"IF(OR('16-Expenditure'!D151=0,ISNUMBER('16-Expenditure'!D151)=FALSE),\"\",'16-Expenditure'!D151)","v":""},{"$f":"IF(OR('16-Expenditure'!E151=0,ISNUMBER('16-Expenditure'!E151)=FALSE),\"\",'16-Expenditure'!E151)","v":""},null,"",{"$f":"IF(AH428=\"Y\",IF(VLOOKUP(A428,PLFN3,4,FALSE)=0,\"\",VLOOKUP(A428,PLFN3,4,FALSE)),\"\")","v":""},"",{"$f":"IF(AI428=\"Y\",IF(VLOOKUP(A428,PLFN3,5,FALSE)=0,\"\",VLOOKUP(A428,PLFN3,5,FALSE)),\"\")","v":""},null,"",null,1080,"in-gaap","false","monetary","debit","duration","item","true","",0,"INR","D2011","D2010",null,{"$f":"decimals","v":0},null,"",1,null,1,"Y","N","N","N","","","",0,0,0,null,0,0,0,"Cost repairs maintenance factory building",null,0,"","","",0,"","","",0,"","",""]
["Cost repairs maintenance plant machinery","CostRepairsMaintenancePlantMachinery",{"$f":"IF(OR('16-Expenditure'!D152=0,ISNUMBER('16-Expenditure'!D152)=FALSE),\"\",'16-Expenditure'!D152)","v":""},{"$f":"IF(OR('16-Expenditure'!E152=0,ISNUMBER('16-Expenditure'!E152)=FALSE),\"\",'16-Expenditure'!E152)","v":""},null,"",{"$f":"IF(AH429=\"Y\",IF(VLOOKUP(A429,PLFN3,4,FALSE)=0,\"\",VLOOKUP(A429,PLFN3,4,FALSE)),\"\")","v":""},"",{"$f":"IF(AI429=\"Y\",IF(VLOOKUP(A429,PLFN3,5,FALSE)=0,\"\",VLOOKUP(A429,PLFN3,5,FALSE)),\"\")","v":""},null,"",null,1081,"in-gaap","false","monetary","debit","duration","item","true","",0,"INR","D2011","D2010",null,{"$f":"decimals","v":0},null,"",1,null,1,"Y","N","N","N","","","",0,0,0,null,0,0,0,"Cost repairs maintenance plant machinery",null,0,"","","",0,"","","",0,"","",""]
["Cost repairs maintenance other assets","CostRepairsMaintenanceOtherAssets",{"$f":"IF(OR('16-Expenditure'!D153=0,ISNUMBER('16-Expenditure'!D153)=FALSE),\"\",'16-Expenditure'!D153)","v":""},{"$f":"IF(OR('16-Expenditure'!E153=0,ISNUMBER('16-Expenditure'!E153)=FALSE),\"\",'16-Expenditure'!E153)","v":""},null,"",{"$f":"IF(AH430=\"Y\",IF(VLOOKUP(A430,PLFN3,4,FALSE)=0,\"\",VLOOKUP(A430,PLFN3,4,FALSE)),\"\")","v":""},"",{"$f":"IF(AI430=\"Y\",IF(VLOOKUP(A430,PLFN3,5,FALSE)=0,\"\",VLOOKUP(A430,PLFN3,5,FALSE)),\"\")","v":""},null,"",null,1082,"in-gaap","false","monetary","debit","duration","item","true","",0,"INR","D2011","D2010",null,{"$f":"decimals","v":0},null,"",1,null,1,"Y","N","N","N","","","",0,0,0,null,0,0,0,"Cost repairs maintenance other assets",null,0,"","","",0,"","","",0,"","",""]
["Cost repairs maintenance","CostRepairsMaintenance",{"$f":"IF(OR('16-Expenditure'!D154=0,ISNUMBER('16-Expenditure'!D154)=FALSE),\"\",'16-Expenditure'!D154)","v":""},{"$f":"IF(OR('16-Expenditure'!E154=0,ISNUMBER('16-Expenditure'!E154)=FALSE),\"\",'16-Expenditure'!E154)","v":""},null,"",{"$f":"IF(AH431=\"Y\",IF(VLOOKUP(A431,PLFN3,4,FALSE)=0,\"\",VLOOKUP(A431,PLFN3,4,FALSE)),\"\")","v":""},"",{"$f":"IF(AI431=\"Y\",IF(VLOOKUP(A431,PLFN3,5,FALSE)=0,\"\",VLOOKUP(A431,PLFN3,5,FALSE)),\"\")","v":""},null,"",null,1079,"in-gaap","false","monetary","debit","duration","item","true","","This is a mandatory field.","INR","D2011","D2010",null,{"$f":"decimals","v":0},"M","",1,null,1,"Y","Y","Y","N","<in-gaap:CostRepairsMaintenance unitRef=\"INR\" contextRef=\"D2011\" decimals=\"0\" >0</in-gaap:CostRepairsMaintenance>","<in-gaap:CostRepairsMaintenance unitRef=\"INR\" contextRef=\"D2010\" decimals=\"0\" >0</in-gaap:CostRepairsMaintenance>","",0,0,0,null,0,0,0,"Cost repairs maintenance",null,0,"","","",0,"","","",0,"","",""]
["Cost information technology [abstract]","CostInformationTechnologyAbstract",{"$nulls":3},"",null,"",null,null,"",null,1360,"in-gaap","true","string","","duration","item","true","",0,"","D2011","D2010",{"$nulls":3},"",1,null,1,"N","N","N","N","","","",0,0,0,null,0,0,0,"",null,0,"","","",0,"","","",0,"","",""]
["Cost software","CostSoftware",{"$f":"IF(OR('16-Expenditure'!D158=0,ISNUMBER('16-Expenditure'!D158)=FALSE),\"\",'16-Expenditure'!D158)","v":""},{"$f":"IF(OR('16-Expenditure'!E158=0,ISNUMBER('16-Expenditure'!E158)=FALSE),\"\",'16-Expenditure'!E158)","v":""},null,"",{"$f":"IF(AH433=\"Y\",IF(VLOOKUP(A433,PLFN3,4,FALSE)=0,\"\",VLOOKUP(A433,PLFN3,4,FALSE)),\"\")","v":""},"",{"$f":"IF(AI433=\"Y\",IF(VLOOKUP(A433,PLFN3,5,FALSE)=0,\"\",VLOOKUP(A433,PLFN3,5,FALSE)),\"\")","v":""},null,"",null,1084,"in-gaap","false","monetary","debit","duration","item","true","",0,"INR","D2011","D2010",null,{"$f":"decimals","v":0},null,"",1,null,1,"Y","N","N","N","","","",0,0,0,null,0,0,0,"Cost software",null,0,"","","",0,"","","",0,"","",""]
["Cost hardware","CostHardware",{"$f":"IF(OR('16-Expenditure'!D159=0,ISNUMBER('16-Expenditure'!D159)=FALSE),\"\",'16-Expenditure'!D159)","v":""},{"$f":"IF(OR('16-Expenditure'!E159=0,ISNUMBER('16-Expenditure'!E159)=FALSE),\"\",'16-Expenditure'!E159)","v":""},null,"",{"$f":"IF(AH434=\"Y\",IF(VLOOKUP(A434,PLFN3,4,FALSE)=0,\"\",VLOOKUP(A434,PLFN3,4,FALSE)),\"\")","v":""},"",{"$f":"IF(AI434=\"Y\",IF(VLOOKUP(A434,PLFN3,5,FALSE)=0,\"\",VLOOKUP(A434,PLFN3,5,FALSE)),\"\")","v":""},null,"",null,1085,"in-gaap","false","monetary","debit","duration","item","true","",0,"INR","D2011","D2010",null,{"$f":"decimals","v":0},null,"",1,null,1,"Y","N","N","N","","","",0,0,0,null,0,0,0,"Cost hardware",null,0,"","","",0,"","","",0,"","",""]
["Cost communication connectivity","CostCommunicationConnectivity",{"$f":"IF(OR('16-Expenditure'!D160=0,ISNUMBER('16-Expenditure'!D160)=FALSE),\"\",'16-Expenditure'!D160)","v":""},{"$f":"IF(OR('16-Expenditure'!E160=0,ISNUMBER('16-Expenditure'!E160)=FALSE),\"\",'16-Expenditure'!E160)","v":""},null,"",{"$f":"IF(AH435=\"Y\",IF(VLOOKUP(A435,PLFN3,4,FALSE)=0,\"\",VLOOKUP(A435,PLFN3,4,FALSE)),\"\")","v":""},"",{"$f":"IF(AI435=\"Y\",IF(VLOOKUP(A435,PLFN3,5,FALSE)=0,\"\",VLOOKUP(A435,PLFN3,5,FALSE)),\"\")","v":""},null,"",null,1086,"in-gaap","false","monetary","debit","duration","item","true","",0,"INR","D2011","D2010",null,{"$f":"decimals","v":0},null,"",1,null,1,"Y","N","N","N","","","",0,0,0,null,0,0,0,"Cost communication connectivity",null,0,"","","",0,"","","",0,"","",""]
["Cost information technology","CostInformationTechnology",{"$f":"IF(OR('16-Expenditure'!D161=0,ISNUMBER('16-Expenditure'!D161)=FALSE),\"\",'16-Expenditure'!D161)","v":""},{"$f":"IF(OR('16-Expenditure'!E161=0,ISNUMBER('16-Expenditure'!E161)=FALSE),\"\",'16-Expenditure'!E161)","v":""},null,"",{"$f":"IF(AH436=\"Y\",IF(VLOOKUP(A436,PLFN3,4,FALSE)=0,\"\",VLOOKUP(A436,PLFN3,4,FALSE)),\"\")","v":""},"",{"$f":"IF(AI436=\"Y\",IF(VLOOKUP(A436,PLFN3,5,FALSE)=0,\"\",VLOOKUP(A436,PLFN3,5,FALSE)),\"\")","v":""},null,"",null,1083,"in-gaap","false","monetary","debit","duration","item","true","",0,"INR","D2011","D2010",null,{"$f":"decimals","v":0},null,"",1,null,1,"Y","N","N","N","","","",0,0,0,null,0,0,0,"Cost information technology",null,0,"","","",0,"","","",0,"","",""]
["Cost insurance","CostInsurance",{"$f":"IF(OR('16-Expenditure'!D131=0,ISNUMBER('16-Expenditure'!D131)=FALSE),\"\",'16-Expenditure'!D131)","v":""},{"$f":"IF(OR('16-Expenditure'!E131=0,ISNUMBER('16-Expenditure'!E131)=FALSE),\"\",'16-Expenditure'!E131)","v":""},null,"",{"$f":"IF(AH437=\"Y\",IF(VLOOKUP(A437,PLFN3,4,FALSE)=0,\"\",VLOOKUP(A437,PLFN3,4,FALSE)),\"\")","v":""},"",{"$f":"IF(AI437=\"Y\",IF(VLOOKUP(A437,PLFN3,5,FALSE)=0,\"\",VLOOKUP(A437,PLFN3,5,FALSE)),\"\")","v":""},null,"",null,1087,"in-gaap","false","monetary","debit","duration","item","true","","This is a mandatory field.","INR","D2011","D2010",null,{"$f":"decimals","v":0},"M","",1,null,1,"Y","Y","Y","N","<in-gaap:CostInsurance unitRef=\"INR\" contextRef=\"D2011\" decimals=\"0\" >0</in-gaap:CostInsurance>","<in-gaap:CostInsurance unitRef=\"INR\" contextRef=\"D2010\" decimals=\"0\" >0</in-gaap:CostInsurance>","",0,0,0,null,0,0,0,"Cost insurance",null,0,"","","",0,"","","",0,"","",""]
["Cost transportation [abstract]","CostTransportationAbstract",{"$nulls":3},"",null,"",null,null,"",null,1361,"in-gaap","true","string","","duration","item","true","",0,"","D2011","D2010",{"$nulls":3},"",1,null,1,"N","N","N","N","","","",0,0,0,null,0,0,0,"",null,0,"","","",0,"","","",0,"","",""]
["Cost freight","CostFreight",{"$f":"IF(OR('16-Expenditure'!D165=0,ISNUMBER('16-Expenditure'!D165)=FALSE),\"\",'16-Expenditure'!D165)","v":""},{"$f":"IF(OR('16-Expenditure'!E165=0,ISNUMBER('16-Expenditure'!E165)=FALSE),\"\",'16-Expenditure'!E165)","v":""},null,"",{"$f":"IF(AH439=\"Y\",IF(VLOOKUP(A439,PLFN3,4,FALSE)=0,\"\",VLOOKUP(A439,PLFN3,4,FALSE)),\"\")","v":""},"",{"$f":"IF(AI439=\"Y\",IF(VLOOKUP(A439,PLFN3,5,FALSE)=0,\"\",VLOOKUP(A439,PLFN3,5,FALSE)),\"\")","v":""},null,"",null,1089,"in-gaap","false","monetary","debit","duration","item","true","",0,"INR","D2011","D2010",null,{"$f":"decimals","v":0},null,"",1,null,1,"Y","N","N","N","","","",0,0,0,null,0,0,0,"Cost freight",null,0,"","","",0,"","","",0,"","",""]
["Cost octroi","CostOctroi",{"$f":"IF(OR('16-Expenditure'!D166=0,ISNUMBER('16-Expenditure'!D166)=FALSE),\"\",'16-Expenditure'!D166)","v":""},{"$f":"IF(OR('16-Expenditure'!E166=0,ISNUMBER('16-Expenditure'!E166)=FALSE),\"\",'16-Expenditure'!E166)","v":""},null,"","","","",null,"",null,1090,"in-gaap","false","monetary","debit","duration","item","true","",0,"INR","D2011","D2010",null,0,null,"",1,null,1,"Y","N","N","N","","","",0,0,0,null,0,0,0,"Cost octroi",null,0,"","","",0,"","","",0,"","",""]
["Cost loading unloading","CostLoadingUnloading",{"$f":"IF(OR('16-Expenditure'!D167=0,ISNUMBER('16-Expenditure'!D167)=FALSE),\"\",'16-Expenditure'!D167)","v":""},{"$f":"IF(OR('16-Expenditure'!E167=0,ISNUMBER('16-Expenditure'!E167)=FALSE),\"\",'16-Expenditure'!E167)","v":""},null,"","","","",null,"",null,1091,"in-gaap","false","monetary","debit","duration","item","true","",0,"INR","D2011","D2010",null,0,null,"",1,null,1,"Y","N","N","N","","","",0,0,0,null,0,0,0,"Cost loading unloading",null,0,"","","",0,"","","",0,"","",""]
["Cost other transporting","CostOtherTransporting",{"$f":"IF(OR('16-Expenditure'!D168=0,ISNUMBER('16-Expenditure'!D168)=FALSE),\"\",'16-Expenditure'!D168)","v":""},{"$f":"IF(OR('16-Expenditure'!E168=0,ISNUMBER('16-Expenditure'!E168)=FALSE),\"\",'16-Expenditure'!E168)","v":""},null,"","","","",null,"",null,1092,"in-gaap","false","monetary","debit","duration","item","true","",0,"INR","D2011","D2010",null,0,null,"",1,null,1,"Y","N","N","N","","","",0,0,0,null,0,0,0,"Cost other transporting",null,0,"","","",0,"","","",0,"","",""]
["Cost transportation","CostTransportation",{"$f":"IF(OR('16-Expenditure'!D169=0,ISNUMBER('16-Expenditure'!D169)=FALSE),\"\",'16-Expenditure'!D169)","v":""},{"$f":"IF(OR('16-Expenditure'!E169=0,ISNUMBER('16-Expenditure'!E169)=FALSE),\"\",'16-Expenditure'!E169)","v":""},null,"","","","",null,"",null,1088,"in-gaap","false","monetary","debit","duration","item","true","",0,"INR","D2011","D2010",null,0,null,"",1,null,1,"Y","N","N","N","","","",0,0,0,null,0,0,0,"Cost transportation",null,0,"","","",0,"","","",0,"","",""]
["Cost lease rentals","CostLeaseRentals",{"$f":"IF(OR('16-Expenditure'!D133=0,ISNUMBER('16-Expenditure'!D133)=FALSE),\"\",'16-Expenditure'!D133)","v":""},{"$f":"IF(OR('16-Expenditure'!E133=0,ISNUMBER('16-Expenditure'!E133)=FALSE),\"\",'16-Expenditure'!E133)","v":""},null,"","","","",null,"",null,1093,"in-gaap","false","monetary","debit","duration","item","true","",0,"INR","D2011","D2010",null,0,null,"",1,null,1,"Y","N","N","N","","","",0,0,0,null,0,0,0,"Cost lease rentals",null,0,"","","",0,"","","",0,"","",""]
["Cost effluent disposal","CostEffluentDisposal",{"$f":"IF(OR('16-Expenditure'!D134=0,ISNUMBER('16-Expenditure'!D134)=FALSE),\"\",'16-Expenditure'!D134)","v":""},{"$f":"IF(OR('16-Expenditure'!E134=0,ISNUMBER('16-Expenditure'!E134)=FALSE),\"\",'16-Expenditure'!E134)","v":""},null,"","","","",null,"",null,1094,"in-gaap","false","monetary","debit","duration","item","true","",0,"INR","D2011","D2010",null,0,null,"",1,null,1,"Y","N","N","N","","","",0,0,0,null,0,0,0,"Cost effluent disposal",null,0,"","","",0,"","","",0,"","",""]
["Cost site restoration reclamation","CostSiteRestorationReclamation",{"$f":"IF(OR('16-Expenditure'!D135=0,ISNUMBER('16-Expenditure'!D135)=FALSE),\"\",'16-Expenditure'!D135)","v":""},{"$f":"IF(OR('16-Expenditure'!E135=0,ISNUMBER('16-Expenditure'!E135)=FALSE),\"\",'16-Expenditure'!E135)","v":""},null,"","","","",null,"",null,1095,"in-gaap","false","monetary","debit","duration","item","true","",0,"INR","D2011","D2010",null,0,null,"",1,null,1,"Y","N","N","N","","","",0,0,0,null,0,0,0,"Cost site restoration reclamation",null,0,"","","",0,"","","",0,"","",""]
["Cost warehousing","CostWarehousing",{"$f":"IF(OR('16-Expenditure'!D136=0,ISNUMBER('16-Expenditure'!D136)=FALSE),\"\",'16-Expenditure'!D136)","v":""},{"$f":"IF(OR('16-Expenditure'!E136=0,ISNUMBER('16-Expenditure'!E136)=FALSE),\"\",'16-Expenditure'!E136)","v":""},null,"","","","",null,"",null,1096,"in-gaap","false","monetary","debit","duration","item","true","",0,"INR","D2011","D2010",null,0,null,"",1,null,1,"Y","N","N","N","","","",0,0,0,null,0,0,0,"Cost warehousing",null,0,"","","",0,"","","",0,"","",""]
["Cost taxes other levies by government local authorities [abstract]","CostTaxesOtherLeviesByGovernmentLocalAuthoritiesAbstract",{"$nulls":3},"",null,"",null,null,"",null,1362,"in-gaap","true","string","","duration","item","true","",0,"","D2011","D2010",{"$nulls":3},"",1,null,1,"N","N","N","N","","","",0,0,0,null,0,0,0,"",null,0,"","","",0,"","","",0,"","",""]
["Central excise duty","CentralExciseDuty",{"$f":"IF(OR('16-Expenditure'!D173=0,ISNUMBER('16-Expenditure'!D173)=FALSE),\"\",'16-Expenditure'!D173)","v":""},{"$f":"IF(OR('16-Expenditure'!E173=0,ISNUMBER('16-Expenditure'!E173)=FALSE),\"\",'16-Expenditure'!E173)","v":""},null,"",{"$f":"IF(AH449=\"Y\",IF(VLOOKUP(A449,PLFN3,4,FALSE)=0,\"\",VLOOKUP(A449,PLFN3,4,FALSE)),\"\")","v":""},"",{"$f":"IF(AI449=\"Y\",IF(VLOOKUP(A449,PLFN3,5,FALSE)=0,\"\",VLOOKUP(A449,PLFN3,5,FALSE)),\"\")","v":""},null,"",null,1098,"in-gaap","false","monetary","debit","duration","item","true","",0,"INR","D2011","D2010",null,{"$f":"decimals","v":0},null,"",1,null,1,"Y","N","N","N","","","",0,0,0,null,0,0,0,"Central excise duty",null,0,"","","",0,"","","",0,"","",""]
["Purchase tax","PurchaseTax",{"$f":"IF(OR('16-Expenditure'!D174=0,ISNUMBER('16-Expenditure'!D174)=FALSE),\"\",'16-Expenditure'!D174)","v":""},{"$f":"IF(OR('16-Expenditure'!E174=0,ISNUMBER('16-Expenditure'!E174)=FALSE),\"\",'16-Expenditure'!E174)","v":""},null,"","","","",null,"",null,1099,"in-gaap","false","monetary","debit","duration","item","true","",0,"INR","D2011","D2010",null,0,null,"",1,null,1,"Y","N","N","N","","","",0,0,0,null,0,0,0,"Purchase tax",null,0,"","","",0,"","","",0,"","",""]
["Other cess taxes","OtherCessTaxes",{"$f":"IF(OR('16-Expenditure'!D175=0,ISNUMBER('16-Expenditure'!D175)=FALSE),\"\",'16-Expenditure'!D175)","v":""},{"$f":"IF(OR('16-Expenditure'!E175=0,ISNUMBER('16-Expenditure'!E175)=FALSE),\"\",'16-Expenditure'!E175)","v":""},null,"","","","",null,"",null,1100,"in-gaap","false","monetary","debit","duration","item","true","",0,"INR","D2011","D2010",null,0,null,"",1,null,1,"Y","N","N","N","","","",0,0,0,null,0,0,0,"Other cess taxes",null,0,"","","",0,"","","",0,"","",""]
["Cost taxes other levies by government local authorities","CostTaxesOtherLeviesByGovernmentLocalAuthorities",{"$f":"IF(OR('16-Expenditure'!D176=0,ISNUMBER('16-Expenditure'!D176)=FALSE),\"\",'16-Expenditure'!D176)","v":""},{"$f":"IF(OR('16-Expenditure'!E176=0,ISNUMBER('16-Expenditure'!E176)=FALSE),\"\",'16-Expenditure'!E176)","v":""},null,"","","","",null,"",null,1097,"in-gaap","false","monetary","debit","duration","item","true","",0,"INR","D2011","D2010",null,0,null,"",1,null,1,"Y","N","N","N","","","",0,0,0,null,{"$f":"IF(AQ452=\"P\",IF(C452<0,1,0),0)","v":0},{"$f":"IF(AQ452=\"P\",IF(D452<0,1,0),0)","v":0},0,"Cost taxes other levies by government local authorities",null,0,"","","",0,"","","",0,"","",""]
["Cost water charges","CostWaterCharges",{"$f":"IF(OR('16-Expenditure'!D138=0,ISNUMBER('16-Expenditure'!D138)=FALSE),\"\",'16-Expenditure'!D138)","v":""},{"$f":"IF(OR('16-Expenditure'!E138=0,ISNUMBER('16-Expenditure'!E138)=FALSE),\"\",'16-Expenditure'!E138)","v":""},null,"","","","",null,"",null,1101,"in-gaap","false","monetary","debit","duration","item","true","",0,"INR","D2011","D2010",null,0,null,"",1,null,1,"Y","N","N","N","","","",0,0,0,null,0,0,0,"Cost water charges",null,0,"","","",0,"","","",0,"","",""]
["Cost reimbursable expenses","CostReimbursableExpenses",{"$f":"IF(OR('16-Expenditure'!D139=0,ISNUMBER('16-Expenditure'!D139)=FALSE),\"\",'16-Expenditure'!D139)","v":""},{"$f":"IF(OR('16-Expenditure'!E139=0,ISNUMBER('16-Expenditure'!E139)=FALSE),\"\",'16-Expenditure'!E139)","v":""},null,"","","","",null,"",null,1102,"in-gaap","false","monetary","debit","duration","item","true","",0,"INR","D2011","D2010",null,0,null,"",1,null,1,"Y","N","N","N","","","",0,0,0,null,0,0,0,"Cost reimbursable expenses",null,0,"","","",0,"","","",0,"","",""]
["Cost technical services","CostTechnicalServices",{"$f":"IF(OR('16-Expenditure'!D140=0,ISNUMBER('16-Expenditure'!D140)=FALSE),\"\",'16-Expenditure'!D140)","v":""},{"$f":"IF(OR('16-Expenditure'!E140=0,ISNUMBER('16-Expenditure'!E140)=FALSE),\"\",'16-Expenditure'!E140)","v":""},null,"","","","",null,"",null,1103,"in-gaap","false","monetary","debit","duration","item","true","",0,"INR","D2011","D2010",null,0,null,"",1,null,1,"Y","N","N","N","","","",0,0,0,null,0,0,0,"Cost technical services",null,{"$f":"IF(F455<>\"\",\"1\",0)","v":0},{"$f":"IF(F455<>\"\",\"<link:loc xlink:href=\"&\"\"\"\"&\"#\"&\"TA\"&F455&\"\"\"\"&\" xlink:type=\"&\"\"\"\"&\"locator\"&\"\"\"\"&\" xlink:label=\"&\"\"\"\"&\"value\"&AN455&\"\"\"\"&\"/>\",\"\")","v":""},{"$f":"IF(F455<>\"\",\"<link:footnote xlink:role=\"&\"\"\"\"&\"http://www.xbrl.org/2003/role/footnote\"&\"\"\"\"&\" xml:lang=\"&\"\"\"\"&\"en\"&\"\"\"\"&\" xlink:type=\"&\"\"\"\"&\"resource\"&\"\"\"\"&\" xlink:label=\"&\"\"\"\"&\"footnote\"&AN455&\"\"\"\"&\">\"&G455&\"</link:footnote>\",\"\")","v":""},{"$f":"IF(F455<>\"\",\"<link:footnoteArc xlink:type=\"&\"\"\"\"&\"arc\"&\"\"\"\"&\" order=\"&\"\"\"\"&\"1.0\"&\"\"\"\"& \" xlink:to=\"&\"\"\"\"&\"footnote\"&AN455&\"\"\"\"& \" xlink:from=\"&\"\"\"\"&\"value\"&AN455&\"\"\"\"&\" xlink:arcrole=\"&\"\"\"\"&\"http://www.xbrl.org/2003/arcrole/fact-footnote\"&\"\"\"\"&\"/>\",\"\")","v":""},{"$f":"IF(H455<>\"\",\"1\",0)","v":0},{"$f":"IF(H455<>\"\",\"<link:loc xlink:href=\"&\"\"\"\"&\"#\"&\"TA\"&H455&\"\"\"\"&\" xlink:type=\"&\"\"\"\"&\"locator\"&\"\"\"\"&\" xlink:label=\"&\"\"\"\"&\"value\"&AO455&\"\"\"\"&\"/>\",\"\")","v":""},{"$f":"IF(H455<>\"\",\"<link:footnote xlink:role=\"&\"\"\"\"&\"http://www.xbrl.org/2003/role/footnote\"&\"\"\"\"&\" xml:lang=\"&\"\"\"\"&\"en\"&\"\"\"\"&\" xlink:type=\"&\"\"\"\"&\"resource\"&\"\"\"\"&\" xlink:label=\"&\"\"\"\"&\"footnote\"&AO455&\"\"\"\"&\">\"&I455&\"</link:footnote>\",\"\")","v":""},{"$f":"IF(H455<>\"\",\"<link:footnoteArc xlink:type=\"&\"\"\"\"&\"arc\"&\"\"\"\"&\" order=\"&\"\"\"\"&\"1.0\"&\"\"\"\"& \" xlink:to=\"&\"\"\"\"&\"footnote\"&AO455&\"\"\"\"& \" xlink:from=\"&\"\"\"\"&\"value\"&AO455&\"\"\"\"&\" xlink:arcrole=\"&\"\"\"\"&\"http://www.xbrl.org/2003/arcrole/fact-footnote\"&\"\"\"\"&\"/>\",\"\")","v":""},{"$f":"IF(K455<>\"\",\"1\",0)","v":0},{"$f":"IF(K455<>\"\",\"<link:loc xlink:href=\"&\"\"\"\"&\"#\"&\"TA\"&K455&\"\"\"\"&\" xlink:type=\"&\"\"\"\"&\"locator\"&\"\"\"\"&\" xlink:label=\"&\"\"\"\"&\"value\"&AP455&\"\"\"\"&\"/>\",\"\")","v":""},{"$f":"IF(K455<>\"\",\"<link:footnote xlink:role=\"&\"\"\"\"&\"http://www.xbrl.org/2003/role/footnote\"&\"\"\"\"&\" xml:lang=\"&\"\"\"\"&\"en\"&\"\"\"\"&\" xlink:type=\"&\"\"\"\"&\"resource\"&\"\"\"\"&\" xlink:label=\"&\"\"\"\"&\"footnote\"&AP455&\"\"\"\"&\">\"&L455&\"</link:footnote>\",\"\")","v":""},{"$f":"IF(K455<>\"\",\"<link:footnoteArc xlink:type=\"&\"\"\"\"&\"arc\"&\"\"\"\"&\" order=\"&\"\"\"\"&\"1.0\"&\"\"\"\"& \" xlink:to=\"&\"\"\"\"&\"footnote\"&AP455&\"\"\"\"& \" xlink:from=\"&\"\"\"\"&\"value\"&AP455&\"\"\"\"&\" xlink:arcrole=\"&\"\"\"\"&\"http://www.xbrl.org/2003/arcrole/fact-footnote\"&\"\"\"\"&\"/>\",\"\")","v":""}]
["Cost Royalty","CostRoyalty",{"$f":"IF(OR('16-Expenditure'!D141=0,ISNUMBER('16-Expenditure'!D141)=FALSE),\"\",'16-Expenditure'!D141)","v":""},{"$f":"IF(OR('16-Expenditure'!E141=0,ISNUMBER('16-Expenditure'!E141)=FALSE),\"\",'16-Expenditure'!E141)","v":""},null,"","","","",null,"",null,3023,"in-gaap","false","monetary","debit","duration","item","true",null,0,"INR","D2011","D2010",null,0,null,null,1,null,1,"Y","N","N","N","","","",0,0,0,null,0,0,0,"Cost Royalty",null,0,"","","",0,"","","",0,"","",""]
["Other manufacturing service costs","OtherManufacturingServiceCosts",{"$f":"IF(OR('16-Expenditure'!D142=0,ISNUMBER('16-Expenditure'!D142)=FALSE),\"\",'16-Expenditure'!D142)","v":""},{"$f":"IF(OR('16-Expenditure'!E142=0,ISNUMBER('16-Expenditure'!E142)=FALSE),\"\",'16-Expenditure'!E142)","v":""},null,"","","","",null,"",null,1104,"in-gaap","false","monetary","debit","duration","item","true",{"$f":"VLOOKUP(B457,XBRLBusinessRules,10,FALSE)","v":""},0,"INR","D2011","D2010",null,0,null,"",1,null,1,"Y","N","N","N","","","",0,0,0,null,0,0,0,"Other manufacturing service costs",null,0,"","","",0,"","","",0,"","",""]
["Allowances manufacturing service cost","AllowancesManufacturingServiceCost",{"$f":"IF(OR('16-Expenditure'!D145=0,ISNUMBER('16-Expenditure'!D145)=FALSE),\"\",'16-Expenditure'!D145)","v":""},{"$f":"IF(OR('16-Expenditure'!E145=0,ISNUMBER('16-Expenditure'!E145)=FALSE),\"\",'16-Expenditure'!E145)","v":""},null,"","","","",null,"",null,1105,"in-gaap","false","monetary","credit","duration","item","true","",0,"INR","D2011","D2010",null,0,null,"",1,null,1,"Y","N","N","N","","","",0,0,0,null,0,0,0,"Allowances manufacturing service cost",null,0,"","","",0,"","","",0,"","",""]
["Capitalisation manufacturing service cost","CapitalisationManufacturingServiceCost",{"$f":"IF(OR('16-Expenditure'!D146=0,ISNUMBER('16-Expenditure'!D146)=FALSE),\"\",'16-Expenditure'!D146)","v":""},{"$f":"IF(OR('16-Expenditure'!E146=0,ISNUMBER('16-Expenditure'!E146)=FALSE),\"\",'16-Expenditure'!E146)","v":""},null,"","","","",null,"",null,1106,"in-gaap","false","monetary","credit","duration","item","true","",0,"INR","D2011","D2010",null,0,null,"",2,"D",1,"N","N","N","N","","","",0,0,0,null,0,0,0,"",null,0,"","","",0,"","","",0,"","",""]
["Share manufacturing service cost joint ventures","ShareManufacturingServiceCostJointVentures",{"$f":"IF(OR('16-Expenditure'!D143=0,ISNUMBER('16-Expenditure'!D143)=FALSE),\"\",'16-Expenditure'!D143)","v":""},{"$f":"IF(OR('16-Expenditure'!E143=0,ISNUMBER('16-Expenditure'!E143)=FALSE),\"\",'16-Expenditure'!E143)","v":""},null,"","","","",null,"",null,1107,"in-gaap","false","monetary","debit","duration","item","true","",0,"INR","D2011","D2010",null,0,null,{"$f":"IF(V460=\"This can be entered only in case of Consolidated instance document\",\"C\",\"\")","v":""},1,null,1,{"$f":"IF(CONSOLCHECK=\"C\",IF(OR(O460=\"true\",AE460=\"D\"),\"N\",\"Y\"),\"N\")","v":"N"},"N","N","N","","","",0,0,0,null,0,0,0,"",null,0,"","","",0,"","","",0,"","",""]
["Manufacturing service costs","ManufacturingServiceCosts",{"$f":"IF(OR('16-Expenditure'!D147=0,ISNUMBER('16-Expenditure'!D147)=FALSE),\"\",'16-Expenditure'!D147)","v":""},{"$f":"IF(OR('16-Expenditure'!E147=0,ISNUMBER('16-Expenditure'!E147)=FALSE),\"\",'16-Expenditure'!E147)","v":""},null,"","","","",null,"",null,1077,"in-gaap","false","monetary","debit","duration","item","true","","This is a mandatory field.","INR","D2011","D2010",null,0,"M","",3,"D",1,"N","N","N","N","","","",0,0,0,null,0,0,0,"",null,0,"","","",0,"","","",0,"","",""]
["Administrative selling other expenses [abstract]","AdministrativeSellingOtherExpensesAbstract",{"$nulls":3},"",null,"",null,null,"",null,1366,"in-gaap","true","string","","duration","item","true","",0,"","D2011","D2010",{"$nulls":3},"",1,null,1,"N","N","N","N","","","",0,0,0,null,0,0,0,"",null,0,"","","",0,"","","",0,"","",""]
["Administrative general expenses [abstract]","AdministrativeGeneralExpensesAbstract",{"$nulls":3},"",null,"",null,null,"",null,1367,"in-gaap","true","string","","duration","item","true","",0,"","D2011","D2010",{"$nulls":3},"",1,null,1,"N","N","N","N","","","",0,0,0,null,0,0,0,"",null,0,"","","",0,"","","",0,"","",""]
["Subscriptions membership fees","SubscriptionsMembershipFees",{"$f":"IF(OR('16-Expenditure'!D196=0,ISNUMBER('16-Expenditure'!D196)=FALSE),\"\",'16-Expenditure'!D196)","v":""},{"$f":"IF(OR('16-Expenditure'!E196=0,ISNUMBER('16-Expenditure'!E196)=FALSE),\"\",'16-Expenditure'!E196)","v":""},null,"",{"$f":"IF(AH464=\"Y\",IF(VLOOKUP(A464,PLFN3,4,FALSE)=0,\"\",VLOOKUP(A464,PLFN3,4,FALSE)),\"\")","v":""},"",{"$f":"IF(AI464=\"Y\",IF(VLOOKUP(A464,PLFN3,5,FALSE)=0,\"\",VLOOKUP(A464,PLFN3,5,FALSE)),\"\")","v":""},null,"",null,1128,"in-gaap","false","monetary","debit","duration","item","true","",0,"INR","D2011","D2010",null,{"$f":"decimals","v":0},null,"",1,null,1,"Y","N","N","N","","","",0,0,0,null,0,0,0,"Subscriptions membership fees",null,0,"","","",0,"","","",0,"","",""]
["Electricity expenses","ElectricityExpenses",{"$f":"IF(OR('16-Expenditure'!D197=0,ISNUMBER('16-Expenditure'!D197)=FALSE),\"\",'16-Expenditure'!D197)","v":""},{"$f":"IF(OR('16-Expenditure'!E197=0,ISNUMBER('16-Expenditure'!E197)=FALSE),\"\",'16-Expenditure'!E197)","v":""},null,"","","","",null,"",null,1129,"in-gaap","false","monetary","debit","duration","item","true","",0,"INR","D2011","D2010",null,0,null,"",1,null,1,"Y","N","N","N","","","",0,0,0,null,0,0,0,"Electricity expenses",null,0,"","","",0,"","","",0,"","",""]
["Telephone postage","TelephonePostage",{"$f":"IF(OR('16-Expenditure'!D198=0,ISNUMBER('16-Expenditure'!D198)=FALSE),\"\",'16-Expenditure'!D198)","v":""},{"$f":"IF(OR('16-Expenditure'!E198=0,ISNUMBER('16-Expenditure'!E198)=FALSE),\"\",'16-Expenditure'!E198)","v":""},null,"","","","",null,"",null,1130,"in-gaap","false","monetary","debit","duration","item","true","",0,"INR","D2011","D2010",null,0,null,"",1,null,1,"Y","N","N","N","","","",0,0,0,null,0,0,0,"Telephone postage",null,0,"","","",0,"","","",0,"","",""]
["Printing stationery","PrintingStationery",{"$f":"IF(OR('16-Expenditure'!D199=0,ISNUMBER('16-Expenditure'!D199)=FALSE),\"\",'16-Expenditure'!D199)","v":""},{"$f":"IF(OR('16-Expenditure'!E199=0,ISNUMBER('16-Expenditure'!E199)=FALSE),\"\",'16-Expenditure'!E199)","v":""},null,"","","","",null,"",null,1131,"in-gaap","false","monetary","debit","duration","item","true","",0,"INR","D2011","D2010",null,0,null,"",1,null,1,"Y","N","N","N","","","",0,0,0,null,0,0,0,"Printing stationery",null,0,"","","",0,"","","",0,"","",""]
["Information technology expenses","InformationTechnologyExpenses",{"$f":"IF(OR('16-Expenditure'!D200=0,ISNUMBER('16-Expenditure'!D200)=FALSE),\"\",'16-Expenditure'!D200)","v":""},{"$f":"IF(OR('16-Expenditure'!E200=0,ISNUMBER('16-Expenditure'!E200)=FALSE),\"\",'16-Expenditure'!E200)","v":""},null,"","","","",null,"",null,1132,"in-gaap","false","monetary","debit","duration","item","true","",0,"INR","D2011","D2010",null,0,null,"",1,null,1,"Y","N","N","N","","","",0,0,0,null,0,0,0,"Information technology expenses",null,0,"","","",0,"","","",0,"","",""]
["Travelling conveyance","TravellingConveyance",{"$f":"IF(OR('16-Expenditure'!D201=0,ISNUMBER('16-Expenditure'!D201)=FALSE),\"\",'16-Expenditure'!D201)","v":""},{"$f":"IF(OR('16-Expenditure'!E201=0,ISNUMBER('16-Expenditure'!E201)=FALSE),\"\",'16-Expenditure'!E201)","v":""},null,"","","","",null,"",null,1133,"in-gaap","false","monetary","debit","duration","item","true","",0,"INR","D2011","D2010",null,0,null,"",1,null,1,"Y","N","N","N","","","",0,0,0,null,0,0,0,"Travelling conveyance",null,0,"","","",0,"","","",0,"","",""]
["Catering canteen expenses","CateringCanteenExpenses",{"$f":"IF(OR('16-Expenditure'!D202=0,ISNUMBER('16-Expenditure'!D202)=FALSE),\"\",'16-Expenditure'!D202)","v":""},{"$f":"IF(OR('16-Expenditure'!E202=0,ISNUMBER('16-Expenditure'!E202)=FALSE),\"\",'16-Expenditure'!E202)","v":""},null,"","","","",null,"",null,1134,"in-gaap","false","monetary","debit","duration","item","true","",0,"INR","D2011","D2010",null,0,null,"",1,null,1,"Y","N","N","N","","","",0,0,0,null,0,0,0,"Catering canteen expenses",null,0,"","","",0,"","","",0,"","",""]
["Entertainment expenses","EntertainmentExpenses",{"$f":"IF(OR('16-Expenditure'!D203=0,ISNUMBER('16-Expenditure'!D203)=FALSE),\"\",'16-Expenditure'!D203)","v":""},{"$f":"IF(OR('16-Expenditure'!E203=0,ISNUMBER('16-Expenditure'!E203)=FALSE),\"\",'16-Expenditure'!E203)","v":""},null,"","","","",null,"",null,1135,"in-gaap","false","monetary","debit","duration","item","true","",0,"INR","D2011","D2010",null,0,null,"",1,null,1,"Y","N","N","N","","","",0,0,0,null,0,0,0,"Entertainment expenses",null,0,"","","",0,"","","",0,"","",""]
["Legal professional charges","LegalProfessionalCharges",{"$f":"IF(OR('16-Expenditure'!D204=0,ISNUMBER('16-Expenditure'!D204)=FALSE),\"\",'16-Expenditure'!D204)","v":""},{"$f":"IF(OR('16-Expenditure'!E204=0,ISNUMBER('16-Expenditure'!E204)=FALSE),\"\",'16-Expenditure'!E204)","v":""},null,"","","","",null,"",null,1136,"in-gaap","false","monetary","debit","duration","item","true","",0,"INR","D2011","D2010",null,0,null,"",1,null,1,"Y","N","N","N","","","",0,0,0,null,0,0,0,"Legal professional charges",null,0,"","","",0,"","","",0,"","",""]
["Insurance expenses","InsuranceExpenses",{"$f":"IF(OR('16-Expenditure'!D205=0,ISNUMBER('16-Expenditure'!D205)=FALSE),\"\",'16-Expenditure'!D205)","v":""},{"$f":"IF(OR('16-Expenditure'!E205=0,ISNUMBER('16-Expenditure'!E205)=FALSE),\"\",'16-Expenditure'!E205)","v":""},null,"","","","",null,"",null,1137,"in-gaap","false","monetary","debit","duration","item","true","",0,"INR","D2011","D2010",null,0,null,"",1,null,1,"Y","N","N","N","","","",0,0,0,null,0,0,0,"Insurance expenses",null,0,"","","",0,"","","",0,"","",""]
["Repairs maintenance expenses","RepairsMaintenanceExpenses",{"$f":"IF(OR('16-Expenditure'!D206=0,ISNUMBER('16-Expenditure'!D206)=FALSE),\"\",'16-Expenditure'!D206)","v":""},{"$f":"IF(OR('16-Expenditure'!E206=0,ISNUMBER('16-Expenditure'!E206)=FALSE),\"\",'16-Expenditure'!E206)","v":""},null,"","","","",null,"",null,1138,"in-gaap","false","monetary","debit","duration","item","true","",0,"INR","D2011","D2010",null,0,null,"",1,null,1,"Y","N","N","N","","","",0,0,0,null,0,0,0,"Repairs maintenance expenses",null,0,"","","",0,"","","",0,"","",""]
["Vehicle running expenses","VehicleRunningExpenses",{"$f":"IF(OR('16-Expenditure'!D207=0,ISNUMBER('16-Expenditure'!D207)=FALSE),\"\",'16-Expenditure'!D207)","v":""},{"$f":"IF(OR('16-Expenditure'!E207=0,ISNUMBER('16-Expenditure'!E207)=FALSE),\"\",'16-Expenditure'!E207)","v":""},null,"","","","",null,"",null,1139,"in-gaap","false","monetary","debit","duration","item","true","",0,"INR","D2011","D2010",null,0,null,"",1,null,1,"Y","N","N","N","","","",0,0,0,null,0,0,0,"Vehicle running expenses",null,0,"","","",0,"","","",0,"","",""]
["Rent rates and taxes [abstract]","RentRatesAndTaxesAbstract",{"$nulls":3},"",null,"",null,null,"",null,2862,"in-gaap","true","string","","duration","item","true","",0,"","D2011","D2010",{"$nulls":3},"",1,null,1,"N","N","N","N","","","",0,0,0,null,0,0,0,"",null,0,"","","",0,"","","",0,"","",""]
["Rent","Rent",{"$f":"IF(OR('16-Expenditure'!D225=0,ISNUMBER('16-Expenditure'!D225)=FALSE),\"\",'16-Expenditure'!D225)","v":""},{"$f":"IF(OR('16-Expenditure'!E225=0,ISNUMBER('16-Expenditure'!E225)=FALSE),\"\",'16-Expenditure'!E225)","v":""},null,"",{"$f":"IF(AH477=\"Y\",IF(VLOOKUP(A477,PLFN3,4,FALSE)=0,\"\",VLOOKUP(A477,PLFN3,4,FALSE)),\"\")","v":""},"",{"$f":"IF(AI477=\"Y\",IF(VLOOKUP(A477,PLFN3,5,FALSE)=0,\"\",VLOOKUP(A477,PLFN3,5,FALSE)),\"\")","v":""},null,"",null,2860,"in-gaap","false","monetary","debit","duration","item","true","",0,"INR","D2011","D2010",null,{"$f":"decimals","v":0},null,"",1,null,1,"Y","N","N","N","","","",0,0,0,null,0,0,0,"Rent",null,0,"","","",0,"","","",0,"","",""]
["Rates and taxes","RatesAndTaxes",{"$f":"IF(OR('16-Expenditure'!D226=0,ISNUMBER('16-Expenditure'!D226)=FALSE),\"\",'16-Expenditure'!D226)","v":""},{"$f":"IF(OR('16-Expenditure'!E226=0,ISNUMBER('16-Expenditure'!E226)=FALSE),\"\",'16-Expenditure'!E226)","v":""},null,"","","","",null,"",null,2861,"in-gaap","false","monetary","debit","duration","item","true","",0,"INR","D2011","D2010",null,0,null,"",1,null,1,"Y","N","N","N","","","",0,0,0,null,0,0,0,"Rates and taxes",null,0,"","","",0,"","","",0,"","",""]
["Rent rates taxes","RentRatesTaxes",{"$f":"IF(OR('16-Expenditure'!D227=0,ISNUMBER('16-Expenditure'!D227)=FALSE),\"\",'16-Expenditure'!D227)","v":""},{"$f":"IF(OR('16-Expenditure'!E227=0,ISNUMBER('16-Expenditure'!E227)=FALSE),\"\",'16-Expenditure'!E227)","v":""},null,"","","","",null,"",null,1140,"in-gaap","false","monetary","debit","duration","item","true","","This is a mandatory field.","INR","D2011","D2010",null,0,"M","",1,null,1,"Y","Y","Y","N","<in-gaap:RentRatesTaxes unitRef=\"INR\" contextRef=\"D2011\" decimals=\"0\" >0</in-gaap:RentRatesTaxes>","<in-gaap:RentRatesTaxes unitRef=\"INR\" contextRef=\"D2010\" decimals=\"0\" >0</in-gaap:RentRatesTaxes>","",0,0,0,null,0,0,0,"Rent rates taxes",null,0,"","","",0,"","","",0,"","",""]
["Safety security expenses","SafetySecurityExpenses",{"$f":"IF(OR('16-Expenditure'!D209=0,ISNUMBER('16-Expenditure'!D209)=FALSE),\"\",'16-Expenditure'!D209)","v":""},{"$f":"IF(OR('16-Expenditure'!E209=0,ISNUMBER('16-Expenditure'!E209)=FALSE),\"\",'16-Expenditure'!E209)","v":""},null,"","","","",null,"",null,1141,"in-gaap","false","monetary","debit","duration","item","true","",0,"INR","D2011","D2010",null,0,null,"",1,null,1,"Y","N","N","N","","","",0,0,0,null,0,0,0,"Safety security expenses",null,0,"","","",0,"","","",0,"","",""]
["Auditors remuneration","AuditorsRemuneration",{"$f":"IF(OR('16-Expenditure'!D210=0,ISNUMBER('16-Expenditure'!D210)=FALSE),\"\",'16-Expenditure'!D210)","v":""},{"$f":"IF(OR('16-Expenditure'!E210=0,ISNUMBER('16-Expenditure'!E210)=FALSE),\"\",'16-Expenditure'!E210)","v":""},null,"","","","",null,"",null,1142,"in-gaap","false","monetary","debit","duration","item","true","","This is a mandatory field.","INR","D2011","D2010",null,0,"M","",2,null,1,"Y","Y","Y","N","<in-gaap:AuditorsRemuneration unitRef=\"INR\" contextRef=\"D2011\" decimals=\"0\" >0</in-gaap:AuditorsRemuneration>","<in-gaap:AuditorsRemuneration unitRef=\"INR\" contextRef=\"D2010\" decimals=\"0\" >0</in-gaap:AuditorsRemuneration>","",0,0,0,null,0,0,0,"Auditors remuneration",null,0,"","","",0,"","","",0,"","",""]
["Directors sitting fees","DirectorsSittingFees",{"$f":"IF(OR('16-Expenditure'!D211=0,ISNUMBER('16-Expenditure'!D211)=FALSE),\"\",'16-Expenditure'!D211)","v":""},{"$f":"IF(OR('16-Expenditure'!E211=0,ISNUMBER('16-Expenditure'!E211)=FALSE),\"\",'16-Expenditure'!E211)","v":""},null,"","","","",null,"",null,1151,"in-gaap","false","monetary","debit","duration","item","true","","This is a mandatory field.","INR","D2011","D2010",null,0,"M","",1,null,1,"Y","Y","Y","N","<in-gaap:DirectorsSittingFees unitRef=\"INR\" contextRef=\"D2011\" decimals=\"0\" >0</in-gaap:DirectorsSittingFees>","<in-gaap:DirectorsSittingFees unitRef=\"INR\" contextRef=\"D2010\" decimals=\"0\" >0</in-gaap:DirectorsSittingFees>","",0,0,0,null,0,0,0,"Directors sitting fees",null,0,"","","",0,"","","",0,"","",""]
["Managerial remuneration [abstract]","ManagerialRemunerationAbstract",{"$nulls":3},"",null,"",null,null,"",null,2869,"in-gaap","true","string","","duration","item","true","",0,"","D2011","D2010",{"$nulls":3},"",1,null,1,"N","N","N","N","","","",0,0,0,null,0,0,0,"",null,0,"","","",0,"","","",0,"","",""]
["Remuneration to directors [abstract]","RemunerationToDirectorsAbstract",{"$nulls":3},"",null,"",null,null,"",null,1370,"in-gaap","true","string","","duration","item","true","",0,"","D2011","D2010",{"$nulls":3},"",1,null,1,"N","N","N","N","","","",0,0,0,null,0,0,0,"",null,0,"","","",0,"","","",0,"","",""]
["Salary to directors","SalaryToDirectors",{"$f":"IF(OR('16-Expenditure'!D237=0,ISNUMBER('16-Expenditure'!D237)=FALSE),\"\",'16-Expenditure'!D237)","v":""},{"$f":"IF(OR('16-Expenditure'!E237=0,ISNUMBER('16-Expenditure'!E237)=FALSE),\"\",'16-Expenditure'!E237)","v":""},null,"",{"$f":"IF(AH485=\"Y\",IF(VLOOKUP(A485,PLFN3,4,FALSE)=0,\"\",VLOOKUP(A485,PLFN3,4,FALSE)),\"\")","v":""},"",{"$f":"IF(AI485=\"Y\",IF(VLOOKUP(A485,PLFN3,5,FALSE)=0,\"\",VLOOKUP(A485,PLFN3,5,FALSE)),\"\")","v":""},null,"",null,1153,"in-gaap","false","monetary","debit","duration","item","true","",0,"INR","D2011","D2010",null,{"$f":"decimals","v":0},null,"",1,null,1,"Y","N","N","N","","","",0,0,0,null,0,0,0,"Salary to directors",null,0,"","","",0,"","","",0,"","",""]
["Commission to directors","CommissionToDirectors",{"$f":"IF(OR('16-Expenditure'!D238=0,ISNUMBER('16-Expenditure'!D238)=FALSE),\"\",'16-Expenditure'!D238)","v":""},{"$f":"IF(OR('16-Expenditure'!E238=0,ISNUMBER('16-Expenditure'!E238)=FALSE),\"\",'16-Expenditure'!E238)","v":""},null,{"$f":"IF(AND(AH486=\"Y\",G486<>\"\"),\"PL\"&AN486,\"\")","v":""},{"$f":"IF(AH486=\"Y\",IF(VLOOKUP(A486,PLFN3,4,FALSE)=0,\"\",VLOOKUP(A486,PLFN3,4,FALSE)),\"\")","v":""},{"$f":"IF(AND(AI486=\"Y\",I486<>\"\"),\"PL\"&AO486,\"\")","v":""},{"$f":"IF(AI486=\"Y\",IF(VLOOKUP(A486,PLFN3,5,FALSE)=0,\"\",VLOOKUP(A486,PLFN3,5,FALSE)),\"\")","v":""},null,{"$f":"IF(AND(AJ486=\"Y\",L486<>\"\"),\"PL\"&AP486,\"\")","v":""},null,{"$f":"VLOOKUP(B486,XBRLBusinessRules,2,FALSE)","v":1154},{"$f":"VLOOKUP(B486,XBRLBusinessRules,3,FALSE)","v":"in-gaap"},{"$f":"VLOOKUP(B486,XBRLBusinessRules,4,FALSE)","v":"false"},{"$f":"VLOOKUP(B486,XBRLBusinessRules,5,FALSE)","v":"monetary"},{"$f":"VLOOKUP(B486,XBRLBusinessRules,6,FALSE)","v":"debit"},{"$f":"VLOOKUP(B486,XBRLBusinessRules,7,FALSE)","v":"duration"},{"$f":"VLOOKUP(B486,XBRLBusinessRules,8,FALSE)","v":"item"},{"$f":"VLOOKUP(B486,XBRLBusinessRules,9,FALSE)","v":"true"},"",{"$f":"VLOOKUP(B486,XBRLBusinessRules,11,FALSE)","v":0},"INR","D2011","D2010",null,{"$f":"decimals","v":0},null,"",{"$f":"COUNTIF(TagNamePL,\"=\"&B486)","v":1},null,{"$f":"AD486-COUNTIFS(TagNamePL,B486,TagPLD,\"D\")","v":1},"Y",{"$f":"IF(OR(AND(C486=\"\",D486=\"\",(AB486=\"M\")=FALSE),AG486=\"N\"),\"N\",\"Y\")","v":"N"},{"$f":"IF(OR(AND(C486=\"\",D486=\"\",(AB486=\"M\")=FALSE),AG486=\"N\"),\"N\",\"Y\")","v":"N"},{"$f":"IF(AND(COUNTBLANK(X486:Z486)=0,AG486=\"Y\"),IF(OR(AB486=\"M\",E486<>\"\"),\"Y\",\"N\"),\"N\")","v":"N"},{"$f":"IF(AH486=\"Y\",(\"<\"&N486&\":\"&B486&\" \"&IF(F486=\"\",\"\",\"id=\"\"\"&\"TA\"&F486&\"\"\"\"&\" \")&IF(OR(P486=\"monetary\",W486<>\"\"),\"unitRef=\"\"\"&W486&\"\"\"\"&\" \",\"\")&IF(X486=\"\",\"\",\"contextRef=\"\"\"&X486&\"\"\"\"&\" \")&IF(OR(P486=\"monetary\",AA486<>\"\"),\"decimals=\"\"\"&decimals&\"\"\"\"&\" \",\"\")&\">\")&IF(C486=\"\",0,C486)&\"</\"&N486&\":\"&B486&\">\",\"\")","v":""},{"$f":"IF(AI486=\"Y\",(\"<\"&N486&\":\"&B486&\" \"&IF(H486=\"\",\"\",\"id=\"\"\"&\"TA\"&H486&\"\"\"\"&\" \")&IF(OR(P486=\"monetary\",W486<>\"\"),\"unitRef=\"\"\"&W486&\"\"\"\"&\" \",\"\")&IF(Y486=\"\",\"\",\"contextRef=\"\"\"&Y486&\"\"\"\"&\" \")&IF(OR(P486=\"monetary\",AA486<>\"\"),\"decimals=\"\"\"&decimals&\"\"\"\"&\" \",\"\")&\">\")&IF(D486=\"\",0,D486)&\"</\"&N486&\":\"&B486&\">\",\"\")","v":""},{"$f":"IF(AJ486=\"Y\",(\"<\"&N486&\":\"&B486&\" \"&IF(K486=\"\",\"\",\"id=\"\"\"&\"TA\"&K486&\"\"\"\"&\" \")&IF(OR(P486=\"monetary\",W486<>\"\"),\"unitRef=\"\"\"&W486&\"\"\"\"&\" \",\"\")&IF(Z486=\"\",\"\",\"contextRef=\"\"\"&Z486&\"\"\"\"&\" \")&IF(OR(P486=\"monetary\",AA486<>\"\"),\"decimals=\"\"\"&decimals&\"\"\"\"&\" \",\"\")&\">\")&IF(E486=\"\",0,E486)&\"</\"&N486&\":\"&B486&\">\",\"\")","v":""},0,{"$f":"IF(AND(AI486=\"Y\",I486<>\"\"),AN486+1,AN486)","v":0},{"$f":"IF(AND(AJ486=\"Y\",L486<>\"\"),AO486+1,AO486)","v":0},null,0,0,{"$f":"IF(AF486=1,0,1)","v":0},{"$f":"IF(AG486=\"Y\",A486,\"\")","v":"Commission to directors"},null,0,"","","",0,"","","",0,"","",""]
["Other benefits directors","OtherBenefitsToDirectors",{"$f":"IF(OR('16-Expenditure'!D239=0,ISNUMBER('16-Expenditure'!D239)=FALSE),\"\",'16-Expenditure'!D239)","v":""},{"$f":"IF(OR('16-Expenditure'!E239=0,ISNUMBER('16-Expenditure'!E239)=FALSE),\"\",'16-Expenditure'!E239)","v":""},null,"",{"$f":"IF(AH487=\"Y\",IF(VLOOKUP(A487,PLFN3,4,FALSE)=0,\"\",VLOOKUP(A487,PLFN3,4,FALSE)),\"\")","v":""},"",{"$f":"IF(AI487=\"Y\",IF(VLOOKUP(A487,PLFN3,5,FALSE)=0,\"\",VLOOKUP(A487,PLFN3,5,FALSE)),\"\")","v":""},null,"",null,1155,"in-gaap","false","monetary","debit","duration","item","true","",0,{"$f":"IF(P487=\"monetary\",\"INR\",\"\")","v":"INR"},{"$f":"UPPER(LEFT(R487,1))&CYEND","v":"D2011"},{"$f":"UPPER(LEFT(R487,1))&PYEND","v":"D2010"},null,{"$f":"decimals","v":0},null,"",1,null,1,{"$f":"IF(OR(O487=\"true\",AE487=\"D\"),\"N\",\"Y\")","v":"Y"},"N","N","N","","","",{"$f":"IF(AND(AH487=\"Y\",G487<>\"\"),AP486+1,AP486)","v":0},0,0,null,0,0,0,"Other benefits directors",null,0,"","","",0,"","","",0,"","",""]
["Remuneration to directors","RemunerationToDirectors",{"$f":"IF(OR('16-Expenditure'!D240=0,ISNUMBER('16-Expenditure'!D240)=FALSE),\"\",'16-Expenditure'!D240)","v":""},{"$f":"IF(OR('16-Expenditure'!E240=0,ISNUMBER('16-Expenditure'!E240)=FALSE),\"\",'16-Expenditure'!E240)","v":""},null,"",{"$f":"IF(AH488=\"Y\",IF(VLOOKUP(A488,PLFN3,4,FALSE)=0,\"\",VLOOKUP(A488,PLFN3,4,FALSE)),\"\")","v":""},"",{"$f":"IF(AI488=\"Y\",IF(VLOOKUP(A488,PLFN3,5,FALSE)=0,\"\",VLOOKUP(A488,PLFN3,5,FALSE)),\"\")","v":""},null,"",null,1152,"in-gaap","false","monetary","debit","duration","item","true","",0,"INR","D2011","D2010",null,{"$f":"decimals","v":0},null,"",1,null,1,"Y","N","N","N","","","",0,0,0,null,0,0,0,"Remuneration to directors",null,0,"","","",0,"","","",0,"","",""]
["Remuneration to managers [abstract]","RemunerationToManagersAbstract",{"$nulls":3},{"$f":"IF(AND(AH489=\"Y\",G489<>\"\"),\"PL\"&AN489,\"\")","v":""},null,{"$f":"IF(AND(AI489=\"Y\",I489<>\"\"),\"PL\"&AO489,\"\")","v":""},null,null,{"$f":"IF(AND(AJ489=\"Y\",L489<>\"\"),\"PL\"&AP489,\"\")","v":""},null,2867,"in-gaap","true","string","","duration","item","true",{"$f":"VLOOKUP(B489,XBRLBusinessRules,10,FALSE)","v":""},0,"","D2011","D2010",{"$nulls":3},"",1,null,1,"N","N","N","N","","","",0,0,0,null,0,0,0,"",null,0,"","","",0,"","","",0,"","",""]
["Salary to managers","SalaryToManagers",{"$f":"IF(OR('16-Expenditure'!D244=0,ISNUMBER('16-Expenditure'!D244)=FALSE),\"\",'16-Expenditure'!D244)","v":""},{"$f":"IF(OR('16-Expenditure'!E244=0,ISNUMBER('16-Expenditure'!E244)=FALSE),\"\",'16-Expenditure'!E244)","v":""},null,"",{"$f":"IF(AH490=\"Y\",IF(VLOOKUP(A490,PLFN3,4,FALSE)=0,\"\",VLOOKUP(A490,PLFN3,4,FALSE)),\"\")","v":""},"",{"$f":"IF(AI490=\"Y\",IF(VLOOKUP(A490,PLFN3,5,FALSE)=0,\"\",VLOOKUP(A490,PLFN3,5,FALSE)),\"\")","v":""},null,"",null,2864,"in-gaap","false","monetary","debit","duration","item","true","",0,"INR","D2011","D2010",null,{"$f":"decimals","v":0},null,"",1,null,1,"Y","N","N","N","","","",0,0,0,null,0,0,0,"Salary to managers",null,0,"","","",0,"","","",0,"","",""]
["Commission to managers","CommissionToManagers",{"$f":"IF(OR('16-Expenditure'!D245=0,ISNUMBER('16-Expenditure'!D245)=FALSE),\"\",'16-Expenditure'!D245)","v":""},{"$f":"IF(OR('16-Expenditure'!E245=0,ISNUMBER('16-Expenditure'!E245)=FALSE),\"\",'16-Expenditure'!E245)","v":""},null,"","","","",null,"",null,2865,"in-gaap","false","monetary","debit","duration","item","true","",0,"INR","D2011","D2010",null,0,null,"",1,null,1,"Y","N","N","N","","","",0,0,0,null,0,0,0,"Commission to managers",null,0,"","","",0,"","","",0,"","",""]
["Other benefits to managers","OtherBenefitsToManagers",{"$f":"IF(OR('16-Expenditure'!D246=0,ISNUMBER('16-Expenditure'!D246)=FALSE),\"\",'16-Expenditure'!D246)","v":""},{"$f":"IF(OR('16-Expenditure'!E246=0,ISNUMBER('16-Expenditure'!E246)=FALSE),\"\",'16-Expenditure'!E246)","v":""},null,"","","","",null,"",null,2866,"in-gaap","false","monetary","debit","duration","item","true","",0,"INR","D2011","D2010",null,0,null,"",1,null,1,"Y","N","N","N","","","",0,0,0,null,0,0,0,"Other benefits to managers",null,0,"","","",0,"","","",0,"","",""]
["Remuneration to managers","RemunerationToManagers",{"$f":"IF(OR('16-Expenditure'!D247=0,ISNUMBER('16-Expenditure'!D247)=FALSE),\"\",'16-Expenditure'!D247)","v":""},{"$f":"IF(OR('16-Expenditure'!E247=0,ISNUMBER('16-Expenditure'!E247)=FALSE),\"\",'16-Expenditure'!E247)","v":""},null,"","","","",null,"",null,2863,"in-gaap","false","monetary","debit","duration","item","true","",0,"INR","D2011","D2010",null,0,null,"",1,null,1,"Y","N","N","N","","","",0,0,0,null,0,0,0,"Remuneration to managers",null,0,"","","",0,"","","",0,"","",""]
["Managerial remuneration","ManagerialRemuneration",{"$f":"IF(OR('16-Expenditure'!D233=0,ISNUMBER('16-Expenditure'!D233)=FALSE),\"\",'16-Expenditure'!D233)","v":""},{"$f":"IF(OR('16-Expenditure'!E233=0,ISNUMBER('16-Expenditure'!E233)=FALSE),\"\",'16-Expenditure'!E233)","v":""},null,"","","","",null,"",null,2868,"in-gaap","false","monetary","debit","duration","item","true","","This is a mandatory field.","INR","D2011","D2010",null,0,"M","",1,null,1,"Y","Y","Y","N","<in-gaap:ManagerialRemuneration unitRef=\"INR\" contextRef=\"D2011\" decimals=\"0\" >0</in-gaap:ManagerialRemuneration>","<in-gaap:ManagerialRemuneration unitRef=\"INR\" contextRef=\"D2010\" decimals=\"0\" >0</in-gaap:ManagerialRemuneration>","",0,0,0,null,0,0,0,"Managerial remuneration",null,0,"","","",0,"","","",0,"","",""]
["Donations subscriptions","DonationsSubscriptions",{"$f":"IF(OR('16-Expenditure'!D213=0,ISNUMBER('16-Expenditure'!D213)=FALSE),\"\",'16-Expenditure'!D213)","v":""},{"$f":"IF(OR('16-Expenditure'!E213=0,ISNUMBER('16-Expenditure'!E213)=FALSE),\"\",'16-Expenditure'!E213)","v":""},null,"","","","",null,"",null,1156,"in-gaap","false","monetary","debit","duration","item","true","",0,"INR","D2011","D2010",null,0,null,"",1,null,1,"Y","N","N","N","","","",0,0,0,null,0,0,0,"Donations subscriptions",null,0,"","","",0,"","","",0,"","",""]
["Books periodicals","BooksPeriodicals",{"$f":"IF(OR('16-Expenditure'!D214=0,ISNUMBER('16-Expenditure'!D214)=FALSE),\"\",'16-Expenditure'!D214)","v":""},{"$f":"IF(OR('16-Expenditure'!E214=0,ISNUMBER('16-Expenditure'!E214)=FALSE),\"\",'16-Expenditure'!E214)","v":""},null,"","","","",null,"",null,1157,"in-gaap","false","monetary","debit","duration","item","true","",0,"INR","D2011","D2010",null,0,null,"",1,null,1,"Y","N","N","N","","","",0,0,0,null,0,0,0,"Books periodicals",null,0,"","","",0,"","","",0,"","",""]
["Seminars conference expenses","SeminarsConferenceExpenses",{"$f":"IF(OR('16-Expenditure'!D215=0,ISNUMBER('16-Expenditure'!D215)=FALSE),\"\",'16-Expenditure'!D215)","v":""},{"$f":"IF(OR('16-Expenditure'!E215=0,ISNUMBER('16-Expenditure'!E215)=FALSE),\"\",'16-Expenditure'!E215)","v":""},null,"","","","",null,"",null,1158,"in-gaap","false","monetary","debit","duration","item","true","",0,"INR","D2011","D2010",null,0,null,"",1,null,1,"Y","N","N","N","","","",0,0,0,null,0,0,0,"Seminars conference expenses",null,0,"","","",0,"","","",0,"","",""]
["Registration filing fees","RegistrationFilingFees",{"$f":"IF(OR('16-Expenditure'!D216=0,ISNUMBER('16-Expenditure'!D216)=FALSE),\"\",'16-Expenditure'!D216)","v":""},{"$f":"IF(OR('16-Expenditure'!E216=0,ISNUMBER('16-Expenditure'!E216)=FALSE),\"\",'16-Expenditure'!E216)","v":""},null,"","","","",null,"",null,1159,"in-gaap","false","monetary","debit","duration","item","true","",0,"INR","D2011","D2010",null,0,null,"",1,null,1,"Y","N","N","N","","","",0,0,0,null,0,0,0,"Registration filing fees",null,0,"","","",0,"","","",0,"","",""]
["Custodial fees","CustodialFees",{"$f":"IF(OR('16-Expenditure'!D217=0,ISNUMBER('16-Expenditure'!D217)=FALSE),\"\",'16-Expenditure'!D217)","v":""},{"$f":"IF(OR('16-Expenditure'!E217=0,ISNUMBER('16-Expenditure'!E217)=FALSE),\"\",'16-Expenditure'!E217)","v":""},null,"","","","",null,"",null,1160,"in-gaap","false","monetary","debit","duration","item","true","",0,"INR","D2011","D2010",null,0,null,"",1,null,1,"Y","N","N","N","","","",0,0,0,null,0,0,0,"Custodial fees",null,0,"","","",0,"","","",0,"","",""]
["Bank charges","BankCharges",{"$f":"IF(OR('16-Expenditure'!D218=0,ISNUMBER('16-Expenditure'!D218)=FALSE),\"\",'16-Expenditure'!D218)","v":""},{"$f":"IF(OR('16-Expenditure'!E218=0,ISNUMBER('16-Expenditure'!E218)=FALSE),\"\",'16-Expenditure'!E218)","v":""},null,"","","","",null,"",null,1161,"in-gaap","false","monetary","debit","duration","item","true","",0,"INR","D2011","D2010",null,0,null,"",1,null,1,"Y","N","N","N","","","",0,0,0,null,0,0,0,"Bank charges",null,0,"","","",0,"","","",0,"","",""]
["Guest house expenses","GuestHouseExpenses",{"$f":"IF(OR('16-Expenditure'!D219=0,ISNUMBER('16-Expenditure'!D219)=FALSE),\"\",'16-Expenditure'!D219)","v":""},{"$f":"IF(OR('16-Expenditure'!E219=0,ISNUMBER('16-Expenditure'!E219)=FALSE),\"\",'16-Expenditure'!E219)","v":""},null,"","","","",null,"",null,1162,"in-gaap","false","monetary","debit","duration","item","true","",0,"INR","D2011","D2010",null,0,null,"",1,null,1,"Y","N","N","N","","","",0,0,0,null,0,0,0,"Guest house expenses",null,0,"","","",0,"","","",0,"","",""]
["Other administrative general expenses","OtherAdministrativeGeneralExpenses",{"$f":"IF(OR('16-Expenditure'!D220=0,ISNUMBER('16-Expenditure'!D220)=FALSE),\"\",'16-Expenditure'!D220)","v":""},{"$f":"IF(OR('16-Expenditure'!E220=0,ISNUMBER('16-Expenditure'!E220)=FALSE),\"\",'16-Expenditure'!E220)","v":""},null,"","","","",null,"",null,1163,"in-gaap","false","monetary","debit","duration","item","true","",0,"INR","D2011","D2010",null,0,null,"",1,null,1,"Y","N","N","N","","","",0,0,0,null,0,0,0,"Other administrative general expenses",null,0,"","","",0,"","","",0,"","",""]
["Administrative general expenses","AdministrativeGeneralExpenses",{"$f":"IF(OR('16-Expenditure'!D221=0,ISNUMBER('16-Expenditure'!D221)=FALSE),\"\",'16-Expenditure'!D221)","v":""},{"$f":"IF(OR('16-Expenditure'!E221=0,ISNUMBER('16-Expenditure'!E221)=FALSE),\"\",'16-Expenditure'!E221)","v":""},null,"","","","",null,"",null,1127,"in-gaap","false","monetary","debit","duration","item","true","","This is a mandatory field.","INR","D2011","D2010",null,0,"M","",1,null,1,"Y","Y","Y","N","<in-gaap:AdministrativeGeneralExpenses unitRef=\"INR\" contextRef=\"D2011\" decimals=\"0\" >0</in-gaap:AdministrativeGeneralExpenses>","<in-gaap:AdministrativeGeneralExpenses unitRef=\"INR\" contextRef=\"D2010\" decimals=\"0\" >0</in-gaap:AdministrativeGeneralExpenses>","",0,0,0,null,0,0,0,"Administrative general expenses",null,0,"","","",0,"","","",0,"","",""]
["Selling distribution expenses [abstract]","SellingDistributionExpensesAbstract",{"$nulls":3},"",null,"",null,null,"",null,1371,"in-gaap","true","string","","duration","item","true","",0,"","D2011","D2010",{"$nulls":3},"",1,null,1,"N","N","N","N","","","",0,0,0,null,0,0,0,"",null,0,"","","",0,"","","",0,"","",""]
["Advertising promotional expenses","AdvertisingPromotionalExpenses",{"$f":"IF(OR('16-Expenditure'!D251=0,ISNUMBER('16-Expenditure'!D251)=FALSE),\"\",'16-Expenditure'!D251)","v":""},{"$f":"IF(OR('16-Expenditure'!E251=0,ISNUMBER('16-Expenditure'!E251)=FALSE),\"\",'16-Expenditure'!E251)","v":""},null,"",{"$f":"IF(AH505=\"Y\",IF(VLOOKUP(A505,PLFN3,4,FALSE)=0,\"\",VLOOKUP(A505,PLFN3,4,FALSE)),\"\")","v":""},"",{"$f":"IF(AI505=\"Y\",IF(VLOOKUP(A505,PLFN3,5,FALSE)=0,\"\",VLOOKUP(A505,PLFN3,5,FALSE)),\"\")","v":""},null,"",null,1165,"in-gaap","false","monetary","debit","duration","item","true","",0,"INR","D2011","D2010",null,{"$f":"decimals","v":0},null,"",1,null,1,"Y","N","N","N","","","",0,0,0,null,0,0,0,"Advertising promotional expenses",null,0,"","","",0,"","","",0,"","",""]
["After sales service expenses","AfterSalesServiceExpenses",{"$f":"IF(OR('16-Expenditure'!D252=0,ISNUMBER('16-Expenditure'!D252)=FALSE),\"\",'16-Expenditure'!D252)","v":""},{"$f":"IF(OR('16-Expenditure'!E252=0,ISNUMBER('16-Expenditure'!E252)=FALSE),\"\",'16-Expenditure'!E252)","v":""},null,"","","","",null,"",null,1166,"in-gaap","false","monetary","debit","duration","item","true","",0,"INR","D2011","D2010",null,0,null,"",1,null,1,"Y","N","N","N","","","",0,0,0,null,0,0,0,"After sales service expenses",null,0,"","","",0,"","","",0,"","",""]
["Warranty claim expenses","WarrantyClaimExpenses",{"$f":"IF(OR('16-Expenditure'!D253=0,ISNUMBER('16-Expenditure'!D253)=FALSE),\"\",'16-Expenditure'!D253)","v":""},{"$f":"IF(OR('16-Expenditure'!E253=0,ISNUMBER('16-Expenditure'!E253)=FALSE),\"\",'16-Expenditure'!E253)","v":""},null,"","","","",null,"",null,1167,"in-gaap","false","monetary","debit","duration","item","true","",0,"INR","D2011","D2010",null,0,null,"",1,null,1,"Y","N","N","N","","","",0,0,0,null,0,0,0,"Warranty claim expenses",null,0,"","","",0,"","","",0,"","",""]
["Commission paid sole selling agents","CommissionPaidSoleSellingAgents",{"$f":"IF(OR('16-Expenditure'!D254=0,ISNUMBER('16-Expenditure'!D254)=FALSE),\"\",'16-Expenditure'!D254)","v":""},{"$f":"IF(OR('16-Expenditure'!E254=0,ISNUMBER('16-Expenditure'!E254)=FALSE),\"\",'16-Expenditure'!E254)","v":""},null,"","","","",null,"",null,1168,"in-gaap","false","monetary","debit","duration","item","true","",0,"INR","D2011","D2010",null,0,null,"",1,null,1,"Y","N","N","N","","","",0,0,0,null,0,0,0,"Commission paid sole selling agents",null,0,"","","",0,"","","",0,"","",""]
["Commission paid other selling agents","CommissionPaidOtherSellingAgents",{"$f":"IF(OR('16-Expenditure'!D255=0,ISNUMBER('16-Expenditure'!D255)=FALSE),\"\",'16-Expenditure'!D255)","v":""},{"$f":"IF(OR('16-Expenditure'!E255=0,ISNUMBER('16-Expenditure'!E255)=FALSE),\"\",'16-Expenditure'!E255)","v":""},null,"","","","",null,"",null,1169,"in-gaap","false","monetary","debit","duration","item","true","",0,"INR","D2011","D2010",null,0,null,"",1,null,1,"Y","N","N","N","","","",0,0,0,null,0,0,0,"Commission paid other selling agents",null,0,"","","",0,"","","",0,"","",""]
["Transportation distribution expenses","TransportationDistributionExpenses",{"$f":"IF(OR('16-Expenditure'!D256=0,ISNUMBER('16-Expenditure'!D256)=FALSE),\"\",'16-Expenditure'!D256)","v":""},{"$f":"IF(OR('16-Expenditure'!E256=0,ISNUMBER('16-Expenditure'!E256)=FALSE),\"\",'16-Expenditure'!E256)","v":""},null,"","","","",null,"",null,1170,"in-gaap","false","monetary","debit","duration","item","true","",0,"INR","D2011","D2010",null,0,null,"",1,null,1,"Y","N","N","N","","","",0,0,0,null,0,0,0,"Transportation distribution expenses",null,0,"","","",0,"","","",0,"","",""]
["Secondary packing expenses","SecondaryPackingExpenses",{"$f":"IF(OR('16-Expenditure'!D257=0,ISNUMBER('16-Expenditure'!D257)=FALSE),\"\",'16-Expenditure'!D257)","v":""},{"$f":"IF(OR('16-Expenditure'!E257=0,ISNUMBER('16-Expenditure'!E257)=FALSE),\"\",'16-Expenditure'!E257)","v":""},null,"","","","",null,"",null,1171,"in-gaap","false","monetary","debit","duration","item","true","",0,"INR","D2011","D2010",null,0,null,"",1,null,1,"Y","N","N","N","","","",0,0,0,null,0,0,0,"Secondary packing expenses",null,0,"","","",0,"","","",0,"","",""]
["Other selling distribution expenses","OtherSellingDistributionExpenses",{"$f":"IF(OR('16-Expenditure'!D258=0,ISNUMBER('16-Expenditure'!D258)=FALSE),\"\",'16-Expenditure'!D258)","v":""},{"$f":"IF(OR('16-Expenditure'!E258=0,ISNUMBER('16-Expenditure'!E258)=FALSE),\"\",'16-Expenditure'!E258)","v":""},null,"","","","",null,"",null,1172,"in-gaap","false","monetary","debit","duration","item","true","",0,"INR","D2011","D2010",null,0,null,"",1,null,1,"Y","N","N","N","","","",0,0,0,null,0,0,0,"Other selling distribution expenses",null,0,"","","",0,"","","",0,"","",""]
["Selling distribution expenses","SellingDistributionExpenses",{"$f":"IF(OR('16-Expenditure'!D259=0,ISNUMBER('16-Expenditure'!D259)=FALSE),\"\",'16-Expenditure'!D259)","v":""},{"$f":"IF(OR('16-Expenditure'!E259=0,ISNUMBER('16-Expenditure'!E259)=FALSE),\"\",'16-Expenditure'!E259)","v":""},null,"","","","",null,"",null,1164,"in-gaap","false","monetary","debit","duration","item","true","","This is a mandatory field.","INR","D2011","D2010",null,0,"M","",1,null,1,"Y","Y","Y","N","<in-gaap:SellingDistributionExpenses unitRef=\"INR\" contextRef=\"D2011\" decimals=\"0\" >0</in-gaap:SellingDistributionExpenses>","<in-gaap:SellingDistributionExpenses unitRef=\"INR\" contextRef=\"D2010\" decimals=\"0\" >0</in-gaap:SellingDistributionExpenses>","",0,0,0,null,0,0,0,"Selling distribution expenses",null,0,"","","",0,"","","",0,"","",""]
["Net provisions charged [abstract]","NetProvisionsChargedAbstract",{"$nulls":3},"",null,"",null,null,"",null,1372,"in-gaap","true","string","","duration","item","true","",0,"","D2011","D2010",{"$nulls":3},"",1,null,1,"N","N","N","N","","","",0,0,0,null,0,0,0,"",null,0,"","","",0,"","","",0,"","",""]
["Provision bad doubtful debts advances created","ProvisionBadDoubtfulDebtsAdvancesCreated",{"$f":"IF(OR('16-Expenditure'!D263=0,ISNUMBER('16-Expenditure'!D263)=FALSE),\"\",'16-Expenditure'!D263)","v":""},{"$f":"IF(OR('16-Expenditure'!E263=0,ISNUMBER('16-Expenditure'!E263)=FALSE),\"\",'16-Expenditure'!E263)","v":""},null,"",{"$f":"IF(AH515=\"Y\",IF(VLOOKUP(A515,PLFN3,4,FALSE)=0,\"\",VLOOKUP(A515,PLFN3,4,FALSE)),\"\")","v":""},"",{"$f":"IF(AI515=\"Y\",IF(VLOOKUP(A515,PLFN3,5,FALSE)=0,\"\",VLOOKUP(A515,PLFN3,5,FALSE)),\"\")","v":""},null,"",null,1174,"in-gaap","false","monetary","debit","duration","item","true","",0,"INR","D2011","D2010",null,{"$f":"decimals","v":0},null,"",1,null,1,"Y","N","N","N","","","",0,0,0,null,0,0,0,"Provision bad doubtful debts advances created",null,0,"","","",0,"","","",0,"","",""]
["Excess provisions bad doubtful debts advances written back","ExcessProvisionsBadDoubtfulDebtsAdvancesWrittenback",{"$f":"IF(OR('16-Expenditure'!D271=0,ISNUMBER('16-Expenditure'!D271)=FALSE),\"\",'16-Expenditure'!D271)","v":""},{"$f":"IF(OR('16-Expenditure'!E271=0,ISNUMBER('16-Expenditure'!E271)=FALSE),\"\",'16-Expenditure'!E271)","v":""},null,"","","","",null,"",null,1175,"in-gaap","false","monetary","credit","duration","item","true","",0,"INR","D2011","D2010",null,0,null,"",1,null,1,"Y","N","N","N","","","",0,0,0,null,{"$f":"IF(AQ516=\"P\",IF(C516<0,1,0),0)","v":0},{"$f":"IF(AQ516=\"P\",IF(D516<0,1,0),0)","v":0},0,"Excess provisions bad doubtful debts advances written back",null,0,"","","",0,"","","",0,"","",""]
["Provision diminution value current investments created","ProvisionDiminutionValueCurrentInvestmentsCreated",{"$f":"IF(OR('16-Expenditure'!D277=0,ISNUMBER('16-Expenditure'!D277)=FALSE),\"\",'16-Expenditure'!D277)","v":""},{"$f":"IF(OR('16-Expenditure'!E277=0,ISNUMBER('16-Expenditure'!E277)=FALSE),\"\",'16-Expenditure'!E277)","v":""},null,"","","","",null,"",null,1177,"in-gaap","false","monetary","debit","duration","item","true","",0,"INR","D2011","D2010",null,0,null,"",1,null,1,"Y","N","N","N","","","",0,0,0,null,0,0,0,"Provision diminution value current investments created",null,0,"","","",0,"","","",0,"","",""]
["Provision diminution value long-term investments created","ProvisionDiminutionValueLongTermInvestmentsCreated",{"$f":"IF(OR('16-Expenditure'!D278=0,ISNUMBER('16-Expenditure'!D278)=FALSE),\"\",'16-Expenditure'!D278)","v":""},{"$f":"IF(OR('16-Expenditure'!E278=0,ISNUMBER('16-Expenditure'!E278)=FALSE),\"\",'16-Expenditure'!E278)","v":""},null,"","","","",null,"",null,1178,"in-gaap","false","monetary","debit","duration","item","true","",0,"INR","D2011","D2010",null,0,null,"",1,null,1,"Y","N","N","N","","","",0,0,0,null,0,0,0,"Provision diminution value long-term investments created",null,0,"","","",0,"","","",0,"","",""]
["Excess provision diminution in value investment written back","ExcessProvisionDiminutioninValueInvestmentWrittenback",{"$f":"IF(OR('16-Expenditure'!D280=0,ISNUMBER('16-Expenditure'!D280)=FALSE),\"\",'16-Expenditure'!D280)","v":""},{"$f":"IF(OR('16-Expenditure'!E280=0,ISNUMBER('16-Expenditure'!E280)=FALSE),\"\",'16-Expenditure'!E280)","v":""},null,"","","","",null,"",null,1179,"in-gaap","false","monetary","credit","duration","item","true","",0,"INR","D2011","D2010",null,0,null,"",1,null,1,"Y","N","N","N","","","",0,0,0,null,0,0,0,"Excess provision diminution in value investment written back",null,{"$f":"IF(F519<>\"\",\"1\",0)","v":0},{"$f":"IF(F519<>\"\",\"<link:loc xlink:href=\"&\"\"\"\"&\"#\"&\"TA\"&F519&\"\"\"\"&\" xlink:type=\"&\"\"\"\"&\"locator\"&\"\"\"\"&\" xlink:label=\"&\"\"\"\"&\"value\"&AN519&\"\"\"\"&\"/>\",\"\")","v":""},{"$f":"IF(F519<>\"\",\"<link:footnote xlink:role=\"&\"\"\"\"&\"http://www.xbrl.org/2003/role/footnote\"&\"\"\"\"&\" xml:lang=\"&\"\"\"\"&\"en\"&\"\"\"\"&\" xlink:type=\"&\"\"\"\"&\"resource\"&\"\"\"\"&\" xlink:label=\"&\"\"\"\"&\"footnote\"&AN519&\"\"\"\"&\">\"&G519&\"</link:footnote>\",\"\")","v":""},{"$f":"IF(F519<>\"\",\"<link:footnoteArc xlink:type=\"&\"\"\"\"&\"arc\"&\"\"\"\"&\" order=\"&\"\"\"\"&\"1.0\"&\"\"\"\"& \" xlink:to=\"&\"\"\"\"&\"footnote\"&AN519&\"\"\"\"& \" xlink:from=\"&\"\"\"\"&\"value\"&AN519&\"\"\"\"&\" xlink:arcrole=\"&\"\"\"\"&\"http://www.xbrl.org/2003/arcrole/fact-footnote\"&\"\"\"\"&\"/>\",\"\")","v":""},{"$f":"IF(H519<>\"\",\"1\",0)","v":0},{"$f":"IF(H519<>\"\",\"<link:loc xlink:href=\"&\"\"\"\"&\"#\"&\"TA\"&H519&\"\"\"\"&\" xlink:type=\"&\"\"\"\"&\"locator\"&\"\"\"\"&\" xlink:label=\"&\"\"\"\"&\"value\"&AO519&\"\"\"\"&\"/>\",\"\")","v":""},{"$f":"IF(H519<>\"\",\"<link:footnote xlink:role=\"&\"\"\"\"&\"http://www.xbrl.org/2003/role/footnote\"&\"\"\"\"&\" xml:lang=\"&\"\"\"\"&\"en\"&\"\"\"\"&\" xlink:type=\"&\"\"\"\"&\"resource\"&\"\"\"\"&\" xlink:label=\"&\"\"\"\"&\"footnote\"&AO519&\"\"\"\"&\">\"&I519&\"</link:footnote>\",\"\")","v":""},{"$f":"IF(H519<>\"\",\"<link:footnoteArc xlink:type=\"&\"\"\"\"&\"arc\"&\"\"\"\"&\" order=\"&\"\"\"\"&\"1.0\"&\"\"\"\"& \" xlink:to=\"&\"\"\"\"&\"footnote\"&AO519&\"\"\"\"& \" xlink:from=\"&\"\"\"\"&\"value\"&AO519&\"\"\"\"&\" xlink:arcrole=\"&\"\"\"\"&\"http://www.xbrl.org/2003/arcrole/fact-footnote\"&\"\"\"\"&\"/>\",\"\")","v":""},{"$f":"IF(K519<>\"\",\"1\",0)","v":0},{"$f":"IF(K519<>\"\",\"<link:loc xlink:href=\"&\"\"\"\"&\"#\"&\"TA\"&K519&\"\"\"\"&\" xlink:type=\"&\"\"\"\"&\"locator\"&\"\"\"\"&\" xlink:label=\"&\"\"\"\"&\"value\"&AP519&\"\"\"\"&\"/>\",\"\")","v":""},{"$f":"IF(K519<>\"\",\"<link:footnote xlink:role=\"&\"\"\"\"&\"http://www.xbrl.org/2003/role/footnote\"&\"\"\"\"&\" xml:lang=\"&\"\"\"\"&\"en\"&\"\"\"\"&\" xlink:type=\"&\"\"\"\"&\"resource\"&\"\"\"\"&\" xlink:label=\"&\"\"\"\"&\"footnote\"&AP519&\"\"\"\"&\">\"&L519&\"</link:footnote>\",\"\")","v":""},{"$f":"IF(K519<>\"\",\"<link:footnoteArc xlink:type=\"&\"\"\"\"&\"arc\"&\"\"\"\"&\" order=\"&\"\"\"\"&\"1.0\"&\"\"\"\"& \" xlink:to=\"&\"\"\"\"&\"footnote\"&AP519&\"\"\"\"& \" xlink:from=\"&\"\"\"\"&\"value\"&AP519&\"\"\"\"&\" xlink:arcrole=\"&\"\"\"\"&\"http://www.xbrl.org/2003/arcrole/fact-footnote\"&\"\"\"\"&\"/>\",\"\")","v":""}]
["Provision diminution value investments created","ProvisionDiminutionValueInvestmentsCreated",{"$f":"IF(OR('16-Expenditure'!D281=0,ISNUMBER('16-Expenditure'!D281)=FALSE),\"\",'16-Expenditure'!D281)","v":""},{"$f":"IF(OR('16-Expenditure'!E281=0,ISNUMBER('16-Expenditure'!E281)=FALSE),\"\",'16-Expenditure'!E281)","v":""},null,"","","","",null,"",null,1176,"in-gaap","false","monetary","debit","duration","item","true","",0,"INR","D2011","D2010",null,0,null,"",1,null,1,"Y","N","N","N","","","",0,0,0,null,0,0,0,"Provision diminution value investments created",null,0,"","","",0,"","","",0,"","",""]
["Provision contingencies created","ProvisionContingenciesCreated",{"$f":"IF(OR('16-Expenditure'!D265=0,ISNUMBER('16-Expenditure'!D265)=FALSE),\"\",'16-Expenditure'!D265)","v":""},{"$f":"IF(OR('16-Expenditure'!E265=0,ISNUMBER('16-Expenditure'!E265)=FALSE),\"\",'16-Expenditure'!E265)","v":""},null,"","","","",null,"",null,1180,"in-gaap","false","monetary","debit","duration","item","true",{"$f":"VLOOKUP(B521,XBRLBusinessRules,10,FALSE)","v":""},0,"INR","D2011","D2010",null,0,null,"",1,null,1,"Y","N","N","N","","","",0,0,0,null,0,0,0,"Provision contingencies created",null,0,"","","",0,"","","",0,"","",""]
["Provision warranty claims created","ProvisionWarrantyClaimsCreated",{"$f":"IF(OR('16-Expenditure'!D266=0,ISNUMBER('16-Expenditure'!D266)=FALSE),\"\",'16-Expenditure'!D266)","v":""},{"$f":"IF(OR('16-Expenditure'!E266=0,ISNUMBER('16-Expenditure'!E266)=FALSE),\"\",'16-Expenditure'!E266)","v":""},null,"","","","",null,"",null,1181,"in-gaap","false","monetary","debit","duration","item","true","",0,"INR","D2011","D2010",null,0,null,"",1,null,1,"Y","N","N","N","","","",0,0,0,null,0,0,0,"Provision warranty claims created",null,0,"","","",0,"","","",0,"","",""]
["Provision statutory liabilities created","ProvisionStatutoryLiabilitiesCreated",{"$f":"IF(OR('16-Expenditure'!D267=0,ISNUMBER('16-Expenditure'!D267)=FALSE),\"\",'16-Expenditure'!D267)","v":""},{"$f":"IF(OR('16-Expenditure'!E267=0,ISNUMBER('16-Expenditure'!E267)=FALSE),\"\",'16-Expenditure'!E267)","v":""},null,"","","","",null,"",null,1182,"in-gaap","false","monetary","debit","duration","item","true","",0,"INR","D2011","D2010",null,0,null,"",1,null,1,"Y","N","N","N","","","",0,0,0,null,0,0,0,"Provision statutory liabilities created",null,0,"","","",0,"","","",0,"","",""]
["Provision restructuring created","ProvisionRestructuringCreated",{"$f":"IF(OR('16-Expenditure'!D268=0,ISNUMBER('16-Expenditure'!D268)=FALSE),\"\",'16-Expenditure'!D268)","v":""},{"$f":"IF(OR('16-Expenditure'!E268=0,ISNUMBER('16-Expenditure'!E268)=FALSE),\"\",'16-Expenditure'!E268)","v":""},null,"","","","",null,"",null,1183,"in-gaap","false","monetary","debit","duration","item","true","",0,"INR","D2011","D2010",null,0,null,{"$f":"IF(V524=\"This can be entered only in case of Consolidated instance document\",\"C\",\"\")","v":""},1,null,1,"Y","N","N","N","","","",0,0,0,null,0,0,0,"Provision restructuring created",null,0,"","","",0,"","","",0,"","",""]
["Other provisions created","OtherProvisionsCreated",{"$f":"IF(OR('16-Expenditure'!D269=0,ISNUMBER('16-Expenditure'!D269)=FALSE),\"\",'16-Expenditure'!D269)","v":""},{"$f":"IF(OR('16-Expenditure'!E269=0,ISNUMBER('16-Expenditure'!E269)=FALSE),\"\",'16-Expenditure'!E269)","v":""},null,"","","","",null,"",null,1184,"in-gaap","false","monetary","debit","duration","item","true","",0,"INR","D2011","D2010",null,0,null,"",1,null,1,"Y","N","N","N","","","",0,0,0,null,0,0,0,"Other provisions created",null,0,"","","",0,"","","",0,"","",""]
["Other excess provisions written back","OtherExcessProvisionsWrittenback",{"$f":"IF(OR('16-Expenditure'!D272=0,ISNUMBER('16-Expenditure'!D272)=FALSE),\"\",'16-Expenditure'!D272)","v":""},{"$f":"IF(OR('16-Expenditure'!E272=0,ISNUMBER('16-Expenditure'!E272)=FALSE),\"\",'16-Expenditure'!E272)","v":""},null,"","","","",null,"",null,1185,"in-gaap","false","monetary","credit","duration","item","true","",0,"INR","D2011","D2010",null,0,null,"",1,null,1,"Y","N","N","N","","","",0,0,0,null,0,0,0,"Other excess provisions written back",null,0,"","","",0,"","","",0,"","",""]
["Net provisions charged","NetProvisionsCharged",{"$f":"IF(OR('16-Expenditure'!D273=0,ISNUMBER('16-Expenditure'!D273)=FALSE),\"\",'16-Expenditure'!D273)","v":""},{"$f":"IF(OR('16-Expenditure'!E273=0,ISNUMBER('16-Expenditure'!E273)=FALSE),\"\",'16-Expenditure'!E273)","v":""},null,"","","","",null,"",null,1173,"in-gaap","false","monetary","debit","duration","item","true","",0,"INR","D2011","D2010",null,0,null,"",1,null,1,"Y","N","N","N","","","",0,0,0,null,0,0,0,"Net provisions charged",null,0,"","","",0,"","","",0,"","",""]
["Write-off assets liabilities [abstract]","WriteoffAssetsLiabilitiesAbstract",{"$nulls":3},"",null,"",null,null,"",null,1373,"in-gaap","true","string","","duration","item","true","",0,"","D2011","D2010",{"$nulls":3},"",1,null,1,"N","N","N","N","","","",0,0,0,null,0,0,0,"",null,0,"","","",0,"","","",0,"","",""]
["Miscellaneous expenditure written off [abstract]","MiscellaneousExpenditureWrittenoffAbstract",{"$nulls":3},"",null,"",null,null,"",null,1374,"in-gaap","true","string","","duration","item","true","",0,"","D2011","D2010",{"$nulls":3},"",1,null,1,"N","N","N","N","","","",0,0,0,null,0,0,0,"",null,0,"","","",0,"","","",0,"","",""]
["Deferred revenue expenditure written off","DeferredRevenueExpenditureWrittenoff",{"$f":"IF(OR('16-Expenditure'!D297=0,ISNUMBER('16-Expenditure'!D297)=FALSE),\"\",'16-Expenditure'!D297)","v":""},{"$f":"IF(OR('16-Expenditure'!E297=0,ISNUMBER('16-Expenditure'!E297)=FALSE),\"\",'16-Expenditure'!E297)","v":""},null,"",{"$f":"IF(AH530=\"Y\",IF(VLOOKUP(A530,PLFN3,4,FALSE)=0,\"\",VLOOKUP(A530,PLFN3,4,FALSE)),\"\")","v":""},"",{"$f":"IF(AI530=\"Y\",IF(VLOOKUP(A530,PLFN3,5,FALSE)=0,\"\",VLOOKUP(A530,PLFN3,5,FALSE)),\"\")","v":""},null,"",null,1188,"in-gaap","false","monetary","debit","duration","item","true","",0,"INR","D2011","D2010",null,{"$f":"decimals","v":0},null,"",1,null,1,"Y","N","N","N","","","",0,0,0,null,0,0,0,"Deferred revenue expenditure written off",null,0,"","","",0,"","","",0,"","",""]
["Preliminary expenses written off","PreliminaryExpensesWrittenoff",{"$f":"IF(OR('16-Expenditure'!D298=0,ISNUMBER('16-Expenditure'!D298)=FALSE),\"\",'16-Expenditure'!D298)","v":""},{"$f":"IF(OR('16-Expenditure'!E298=0,ISNUMBER('16-Expenditure'!E298)=FALSE),\"\",'16-Expenditure'!E298)","v":""},null,"",{"$f":"IF(AH531=\"Y\",IF(VLOOKUP(A531,PLFN3,4,FALSE)=0,\"\",VLOOKUP(A531,PLFN3,4,FALSE)),\"\")","v":""},"",{"$f":"IF(AI531=\"Y\",IF(VLOOKUP(A531,PLFN3,5,FALSE)=0,\"\",VLOOKUP(A531,PLFN3,5,FALSE)),\"\")","v":""},null,"",null,1189,"in-gaap","false","monetary","debit","duration","item","true","",0,"INR","D2011","D2010",null,{"$f":"decimals","v":0},null,"",1,null,1,"Y","N","N","N","","","",0,0,0,null,0,0,0,"Preliminary expenses written off",null,0,"","","",0,"","","",0,"","",""]
["Shares debentures issue written off [abstract]","SharesDebenturesIssueWrittenoffAbstract",{"$nulls":3},"",null,"",null,null,"",null,1375,"in-gaap","true","string","","duration","item","true","",0,"","D2011","D2010",{"$nulls":3},"",1,null,1,"N","N","N","N","","","",0,0,0,null,0,0,0,"",null,0,"","","",0,"","","",0,"","",""]
["Share issue expenses written off","ShareIssueExpensesWrittenoff",{"$f":"IF(OR('16-Expenditure'!D310=0,ISNUMBER('16-Expenditure'!D310)=FALSE),\"\",'16-Expenditure'!D310)","v":""},{"$f":"IF(OR('16-Expenditure'!E310=0,ISNUMBER('16-Expenditure'!E310)=FALSE),\"\",'16-Expenditure'!E310)","v":""},null,"",{"$f":"IF(AH533=\"Y\",IF(VLOOKUP(A533,PLFN3,4,FALSE)=0,\"\",VLOOKUP(A533,PLFN3,4,FALSE)),\"\")","v":""},"",{"$f":"IF(AI533=\"Y\",IF(VLOOKUP(A533,PLFN3,5,FALSE)=0,\"\",VLOOKUP(A533,PLFN3,5,FALSE)),\"\")","v":""},null,"",null,1191,"in-gaap","false","monetary","debit","duration","item","true","",0,"INR","D2011","D2010",null,{"$f":"decimals","v":0},null,"",1,null,1,"Y","N","N","N","","","",0,0,0,null,0,0,0,"Share issue expenses written off",null,0,"","","",0,"","","",0,"","",""]
["Debenture issue expenses written off","DebentureIssueExpensesWrittenoff",{"$f":"IF(OR('16-Expenditure'!D311=0,ISNUMBER('16-Expenditure'!D311)=FALSE),\"\",'16-Expenditure'!D311)","v":""},{"$f":"IF(OR('16-Expenditure'!E311=0,ISNUMBER('16-Expenditure'!E311)=FALSE),\"\",'16-Expenditure'!E311)","v":""},null,"",{"$f":"IF(AH534=\"Y\",IF(VLOOKUP(A534,PLFN3,4,FALSE)=0,\"\",VLOOKUP(A534,PLFN3,4,FALSE)),\"\")","v":""},"",{"$f":"IF(AI534=\"Y\",IF(VLOOKUP(A534,PLFN3,5,FALSE)=0,\"\",VLOOKUP(A534,PLFN3,5,FALSE)),\"\")","v":""},null,"",null,1192,"in-gaap","false","monetary","debit","duration","item","true","",0,"INR","D2011","D2010",null,{"$f":"decimals","v":0},null,"",1,null,1,"Y","N","N","N","","","",0,0,0,null,0,0,0,"Debenture issue expenses written off",null,0,"","","",0,"","","",0,"","",""]
["Shares debentures issue written off","SharesDebenturesIssueWrittenoff",{"$f":"IF(OR('16-Expenditure'!D312=0,ISNUMBER('16-Expenditure'!D312)=FALSE),\"\",'16-Expenditure'!D312)","v":""},{"$f":"IF(OR('16-Expenditure'!E312=0,ISNUMBER('16-Expenditure'!E312)=FALSE),\"\",'16-Expenditure'!E312)","v":""},null,"",{"$f":"IF(AH535=\"Y\",IF(VLOOKUP(A535,PLFN3,4,FALSE)=0,\"\",VLOOKUP(A535,PLFN3,4,FALSE)),\"\")","v":""},"",{"$f":"IF(AI535=\"Y\",IF(VLOOKUP(A535,PLFN3,5,FALSE)=0,\"\",VLOOKUP(A535,PLFN3,5,FALSE)),\"\")","v":""},null,"",null,1190,"in-gaap","false","monetary","debit","duration","item","true","",0,"INR","D2011","D2010",null,{"$f":"decimals","v":0},null,"",1,null,1,"Y","N","N","N","","","",0,0,0,null,0,0,0,"Shares debentures issue written off",null,0,"","","",0,"","","",0,"","",""]
["Discount issue shares debentures written off [abstract]","DiscountIssueSharesDebenturesWrittenoffAbstract",{"$nulls":3},"",null,"",null,null,"",null,1376,"in-gaap","true","string","","duration","item","true","",0,"","D2011","D2010",{"$nulls":3},"",1,null,1,"N","N","N","N","","","",0,0,0,null,0,0,0,"",null,0,"","","",0,"","","",0,"","",""]
["Discount issue shares written off","DiscountIssueSharesWrittenoff",{"$f":"IF(OR('16-Expenditure'!D316=0,ISNUMBER('16-Expenditure'!D316)=FALSE),\"\",'16-Expenditure'!D316)","v":""},{"$f":"IF(OR('16-Expenditure'!E316=0,ISNUMBER('16-Expenditure'!E316)=FALSE),\"\",'16-Expenditure'!E316)","v":""},null,"",{"$f":"IF(AH537=\"Y\",IF(VLOOKUP(A537,PLFN3,4,FALSE)=0,\"\",VLOOKUP(A537,PLFN3,4,FALSE)),\"\")","v":""},"",{"$f":"IF(AI537=\"Y\",IF(VLOOKUP(A537,PLFN3,5,FALSE)=0,\"\",VLOOKUP(A537,PLFN3,5,FALSE)),\"\")","v":""},null,"",null,1194,"in-gaap","false","monetary","debit","duration","item","true","",0,"INR","D2011","D2010",null,{"$f":"decimals","v":0},null,"",1,null,1,"Y","N","N","N","","","",0,0,0,null,0,0,0,"Discount issue shares written off",null,0,"","","",0,"","","",0,"","",""]
["Discount issue debentures written off","DiscountIssueDebenturesWrittenoff",{"$f":"IF(OR('16-Expenditure'!D317=0,ISNUMBER('16-Expenditure'!D317)=FALSE),\"\",'16-Expenditure'!D317)","v":""},{"$f":"IF(OR('16-Expenditure'!E317=0,ISNUMBER('16-Expenditure'!E317)=FALSE),\"\",'16-Expenditure'!E317)","v":""},null,"","","","",null,"",null,1195,"in-gaap","false","monetary","debit","duration","item","true","",0,"INR","D2011","D2010",null,0,null,"",1,null,1,"Y","N","N","N","","","",0,0,0,null,0,0,0,"Discount issue debentures written off",null,0,"","","",0,"","","",0,"","",""]
["Discount issue shares debentures written off","DiscountIssueSharesDebenturesWrittenoff",{"$f":"IF(OR('16-Expenditure'!D318=0,ISNUMBER('16-Expenditure'!D318)=FALSE),\"\",'16-Expenditure'!D318)","v":""},{"$f":"IF(OR('16-Expenditure'!E318=0,ISNUMBER('16-Expenditure'!E318)=FALSE),\"\",'16-Expenditure'!E318)","v":""},null,"","","","",null,"",null,1193,"in-gaap","false","monetary","debit","duration","item","true","",0,"INR","D2011","D2010",null,0,null,"",1,null,1,"Y","N","N","N","","","",0,0,0,null,0,0,0,"Discount issue shares debentures written off",null,0,"","","",0,"","","",0,"","",""]
["Financing charges written off","FinancingChargesWrittenoff",{"$f":"IF(OR('16-Expenditure'!D301=0,ISNUMBER('16-Expenditure'!D301)=FALSE),\"\",'16-Expenditure'!D301)","v":""},{"$f":"IF(OR('16-Expenditure'!E301=0,ISNUMBER('16-Expenditure'!E301)=FALSE),\"\",'16-Expenditure'!E301)","v":""},null,"","","","",null,"",null,1196,"in-gaap","false","monetary","debit","duration","item","true","",0,"INR","D2011","D2010",null,0,null,"",1,null,1,"Y","N","N","N","","","",0,0,0,null,0,0,0,"Financing charges written off",null,0,"","","",0,"","","",0,"","",""]
["Voluntary retirement compensation written off","VoluntaryRetirementCompensationWrittenoff",{"$f":"IF(OR('16-Expenditure'!D302=0,ISNUMBER('16-Expenditure'!D302)=FALSE),\"\",'16-Expenditure'!D302)","v":""},{"$f":"IF(OR('16-Expenditure'!E302=0,ISNUMBER('16-Expenditure'!E302)=FALSE),\"\",'16-Expenditure'!E302)","v":""},null,"","","","",null,"",null,1197,"in-gaap","false","monetary","debit","duration","item","true","",0,"INR","D2011","D2010",null,0,null,"",1,null,1,"Y","N","N","N","","","",0,0,0,null,0,0,0,"Voluntary retirement compensation written off",null,0,"","","",0,"","","",0,"","",""]
["Technical knowhow written off","TechnicalKnowhowWrittenoff",{"$f":"IF(OR('16-Expenditure'!D303=0,ISNUMBER('16-Expenditure'!D303)=FALSE),\"\",'16-Expenditure'!D303)","v":""},{"$f":"IF(OR('16-Expenditure'!E303=0,ISNUMBER('16-Expenditure'!E303)=FALSE),\"\",'16-Expenditure'!E303)","v":""},null,"","","","",null,"",null,1198,"in-gaap","false","monetary","debit","duration","item","true","",0,"INR","D2011","D2010",null,0,null,"",1,null,1,"Y","N","N","N","","","",0,0,0,null,0,0,0,"Technical knowhow written off",null,0,"","","",0,"","","",0,"","",""]
["Other miscellaneous expenditure written off","OtherMiscellaneousExpenditureWrittenoff",{"$f":"IF(OR('16-Expenditure'!D304=0,ISNUMBER('16-Expenditure'!D304)=FALSE),\"\",'16-Expenditure'!D304)","v":""},{"$f":"IF(OR('16-Expenditure'!E304=0,ISNUMBER('16-Expenditure'!E304)=FALSE),\"\",'16-Expenditure'!E304)","v":""},null,"","","","",null,"",null,1199,"in-gaap","false","monetary","debit","duration","item","true","",0,"INR","D2011","D2010",null,0,null,"",1,null,1,"Y","N","N","N","","","",0,0,0,null,0,0,0,"Other miscellaneous expenditure written off",null,0,"","","",0,"","","",0,"","",""]
["Miscellaneous expenditure written off","MiscellaneousExpenditureWrittenoff",{"$f":"IF(OR('16-Expenditure'!D306=0,ISNUMBER('16-Expenditure'!D306)=FALSE),\"\",'16-Expenditure'!D306)","v":""},{"$f":"IF(OR('16-Expenditure'!E306=0,ISNUMBER('16-Expenditure'!E306)=FALSE),\"\",'16-Expenditure'!E306)","v":""},null,"","","","",null,"",null,1187,"in-gaap","false","monetary","debit","duration","item","true","",0,"INR","D2011","D2010",null,0,null,"",1,null,1,"Y","N","N","N","","","",0,0,0,null,0,0,0,"Miscellaneous expenditure written off",null,0,"","","",0,"","","",0,"","",""]
["Fixed assets written off","FixedAssetsWrittenoff",{"$f":"IF(OR('16-Expenditure'!D286=0,ISNUMBER('16-Expenditure'!D286)=FALSE),\"\",'16-Expenditure'!D286)","v":""},{"$f":"IF(OR('16-Expenditure'!E286=0,ISNUMBER('16-Expenditure'!E286)=FALSE),\"\",'16-Expenditure'!E286)","v":""},null,"","","","",null,"",null,1200,"in-gaap","false","monetary","debit","duration","item","true","",0,"INR","D2011","D2010",null,0,null,"",1,null,1,"Y","N","N","N","","","",0,0,0,null,0,0,0,"Fixed assets written off",null,0,"","","",0,"","","",0,"","",""]
["Inventories written off","InventoriesWrittenoff",{"$f":"IF(OR('16-Expenditure'!D287=0,ISNUMBER('16-Expenditure'!D287)=FALSE),\"\",'16-Expenditure'!D287)","v":""},{"$f":"IF(OR('16-Expenditure'!E287=0,ISNUMBER('16-Expenditure'!E287)=FALSE),\"\",'16-Expenditure'!E287)","v":""},null,"","","","",null,"",null,1201,"in-gaap","false","monetary","debit","duration","item","true","",0,"INR","D2011","D2010",null,0,null,"",1,null,1,"Y","N","N","N","","","",0,0,0,null,0,0,0,"Inventories written off",null,0,"","","",0,"","","",0,"","",""]
["Investments written off","InvestmentsWrittenoff",{"$f":"IF(OR('16-Expenditure'!D288=0,ISNUMBER('16-Expenditure'!D288)=FALSE),\"\",'16-Expenditure'!D288)","v":""},{"$f":"IF(OR('16-Expenditure'!E288=0,ISNUMBER('16-Expenditure'!E288)=FALSE),\"\",'16-Expenditure'!E288)","v":""},null,"","","","",null,"",null,1202,"in-gaap","false","monetary","debit","duration","item","true","",0,"INR","D2011","D2010",null,0,null,"",1,null,1,"Y","N","N","N","","","",0,0,0,null,0,0,0,"Investments written off",null,0,"","","",0,"","","",0,"","",""]
["Bad debts advances written off","BadDebtsAdvancesWrittenoff",{"$f":"IF(OR('16-Expenditure'!D289=0,ISNUMBER('16-Expenditure'!D289)=FALSE),\"\",'16-Expenditure'!D289)","v":""},{"$f":"IF(OR('16-Expenditure'!E289=0,ISNUMBER('16-Expenditure'!E289)=FALSE),\"\",'16-Expenditure'!E289)","v":""},null,"","","","",null,"",null,1203,"in-gaap","false","monetary","debit","duration","item","true","","This is a mandatory field.","INR","D2011","D2010",null,0,"M","",1,null,1,"Y","Y","Y","N","<in-gaap:BadDebtsAdvancesWrittenoff unitRef=\"INR\" contextRef=\"D2011\" decimals=\"0\" >0</in-gaap:BadDebtsAdvancesWrittenoff>","<in-gaap:BadDebtsAdvancesWrittenoff unitRef=\"INR\" contextRef=\"D2010\" decimals=\"0\" >0</in-gaap:BadDebtsAdvancesWrittenoff>","",0,0,0,null,0,0,0,"Bad debts advances written off",null,0,"","","",0,"","","",0,"","",""]
["Other assets written off","OtherAssetsWrittenoff",{"$f":"IF(OR('16-Expenditure'!D290=0,ISNUMBER('16-Expenditure'!D290)=FALSE),\"\",'16-Expenditure'!D290)","v":""},{"$f":"IF(OR('16-Expenditure'!E290=0,ISNUMBER('16-Expenditure'!E290)=FALSE),\"\",'16-Expenditure'!E290)","v":""},null,"","","","",null,"",null,1204,"in-gaap","false","monetary","debit","duration","item","true","",0,"INR","D2011","D2010",null,0,null,"",1,null,1,"Y","N","N","N","","","",0,0,0,null,0,0,0,"Other assets written off",null,0,"","","",0,"","","",0,"","",""]
["Liabilities written off","LiabilitiesWrittenoff",{"$f":"IF(OR('16-Expenditure'!D292=0,ISNUMBER('16-Expenditure'!D292)=FALSE),\"\",'16-Expenditure'!D292)","v":""},{"$f":"IF(OR('16-Expenditure'!E292=0,ISNUMBER('16-Expenditure'!E292)=FALSE),\"\",'16-Expenditure'!E292)","v":""},null,{"$f":"IF(AND(AH550=\"Y\",G550<>\"\"),\"PL\"&AN550,\"\")","v":""},"",{"$f":"IF(AND(AI550=\"Y\",I550<>\"\"),\"PL\"&AO550,\"\")","v":""},"",null,{"$f":"IF(AND(AJ550=\"Y\",L550<>\"\"),\"PL\"&AP550,\"\")","v":""},null,{"$f":"VLOOKUP(B550,XBRLBusinessRules,2,FALSE)","v":1205},{"$f":"VLOOKUP(B550,XBRLBusinessRules,3,FALSE)","v":"in-gaap"},{"$f":"VLOOKUP(B550,XBRLBusinessRules,4,FALSE)","v":"false"},{"$f":"VLOOKUP(B550,XBRLBusinessRules,5,FALSE)","v":"monetary"},{"$f":"VLOOKUP(B550,XBRLBusinessRules,6,FALSE)","v":"credit"},{"$f":"VLOOKUP(B550,XBRLBusinessRules,7,FALSE)","v":"duration"},{"$f":"VLOOKUP(B550,XBRLBusinessRules,8,FALSE)","v":"item"},{"$f":"VLOOKUP(B550,XBRLBusinessRules,9,FALSE)","v":"true"},"",{"$f":"VLOOKUP(B550,XBRLBusinessRules,11,FALSE)","v":0},"INR","D2011","D2010",null,0,null,"",{"$f":"COUNTIF(TagNamePL,\"=\"&B550)","v":1},null,{"$f":"AD550-COUNTIFS(TagNamePL,B550,TagPLD,\"D\")","v":1},"Y",{"$f":"IF(OR(AND(C550=\"\",D550=\"\",(AB550=\"M\")=FALSE),AG550=\"N\"),\"N\",\"Y\")","v":"N"},{"$f":"IF(OR(AND(C550=\"\",D550=\"\",(AB550=\"M\")=FALSE),AG550=\"N\"),\"N\",\"Y\")","v":"N"},{"$f":"IF(AND(COUNTBLANK(X550:Z550)=0,AG550=\"Y\"),IF(OR(AB550=\"M\",E550<>\"\"),\"Y\",\"N\"),\"N\")","v":"N"},{"$f":"IF(AH550=\"Y\",(\"<\"&N550&\":\"&B550&\" \"&IF(F550=\"\",\"\",\"id=\"\"\"&\"TA\"&F550&\"\"\"\"&\" \")&IF(OR(P550=\"monetary\",W550<>\"\"),\"unitRef=\"\"\"&W550&\"\"\"\"&\" \",\"\")&IF(X550=\"\",\"\",\"contextRef=\"\"\"&X550&\"\"\"\"&\" \")&IF(OR(P550=\"monetary\",AA550<>\"\"),\"decimals=\"\"\"&decimals&\"\"\"\"&\" \",\"\")&\">\")&IF(C550=\"\",0,C550)&\"</\"&N550&\":\"&B550&\">\",\"\")","v":""},{"$f":"IF(AI550=\"Y\",(\"<\"&N550&\":\"&B550&\" \"&IF(H550=\"\",\"\",\"id=\"\"\"&\"TA\"&H550&\"\"\"\"&\" \")&IF(OR(P550=\"monetary\",W550<>\"\"),\"unitRef=\"\"\"&W550&\"\"\"\"&\" \",\"\")&IF(Y550=\"\",\"\",\"contextRef=\"\"\"&Y550&\"\"\"\"&\" \")&IF(OR(P550=\"monetary\",AA550<>\"\"),\"decimals=\"\"\"&decimals&\"\"\"\"&\" \",\"\")&\">\")&IF(D550=\"\",0,D550)&\"</\"&N550&\":\"&B550&\">\",\"\")","v":""},{"$f":"IF(AJ550=\"Y\",(\"<\"&N550&\":\"&B550&\" \"&IF(K550=\"\",\"\",\"id=\"\"\"&\"TA\"&K550&\"\"\"\"&\" \")&IF(OR(P550=\"monetary\",W550<>\"\"),\"unitRef=\"\"\"&W550&\"\"\"\"&\" \",\"\")&IF(Z550=\"\",\"\",\"contextRef=\"\"\"&Z550&\"\"\"\"&\" \")&IF(OR(P550=\"monetary\",AA550<>\"\"),\"decimals=\"\"\"&decimals&\"\"\"\"&\" \",\"\")&\">\")&IF(E550=\"\",0,E550)&\"</\"&N550&\":\"&B550&\">\",\"\")","v":""},0,{"$f":"IF(AND(AI550=\"Y\",I550<>\"\"),AN550+1,AN550)","v":0},{"$f":"IF(AND(AJ550=\"Y\",L550<>\"\"),AO550+1,AO550)","v":0},null,0,0,{"$f":"IF(AF550=1,0,1)","v":0},{"$f":"IF(AG550=\"Y\",A550,\"\")","v":"Liabilities written off"},null,0,"","","",0,"","","",0,"","",""]
["Write-off assets liabilities","WriteoffAssetsLiabilities",{"$f":"IF(OR('16-Expenditure'!D293=0,ISNUMBER('16-Expenditure'!D293)=FALSE),\"\",'16-Expenditure'!D293)","v":""},{"$f":"IF(OR('16-Expenditure'!E293=0,ISNUMBER('16-Expenditure'!E293)=FALSE),\"\",'16-Expenditure'!E293)","v":""},null,"","","","",null,"",null,1186,"in-gaap","false","monetary","debit","duration","item","true","",0,{"$f":"IF(P551=\"monetary\",\"INR\",\"\")","v":"INR"},{"$f":"UPPER(LEFT(R551,1))&CYEND","v":"D2011"},{"$f":"UPPER(LEFT(R551,1))&PYEND","v":"D2010"},null,0,null,"",1,null,1,{"$f":"IF(OR(O551=\"true\",AE551=\"D\"),\"N\",\"Y\")","v":"Y"},"N","N","N","","","",{"$f":"IF(AND(AH551=\"Y\",G551<>\"\"),AP550+1,AP550)","v":0},0,0,null,0,0,0,"Write-off assets liabilities",null,0,"","","",0,"","","",0,"","",""]
["Foreign exchange difference expense","ForeignExchangeDifferenceExpense",{"$f":"IF(OR('16-Expenditure'!D184=0,ISNUMBER('16-Expenditure'!D184)=FALSE),\"\",'16-Expenditure'!D184)","v":""},{"$f":"IF(OR('16-Expenditure'!E184=0,ISNUMBER('16-Expenditure'!E184)=FALSE),\"\",'16-Expenditure'!E184)","v":""},null,"","","","",null,"",null,1206,"in-gaap","false","monetary","debit","duration","item","true","",0,"INR","D2011","D2010",null,0,null,"",1,null,1,"Y","N","N","N","","","",0,0,0,null,0,0,0,"Foreign exchange difference expense",null,0,"","","",0,"","","",0,"","",""]
["Loss sale redemption investments [abstract]","LossSaleRedemptionInvestmentsAbstract",{"$nulls":3},{"$f":"IF(AND(AH553=\"Y\",G553<>\"\"),\"PL\"&AN553,\"\")","v":""},null,{"$f":"IF(AND(AI553=\"Y\",I553<>\"\"),\"PL\"&AO553,\"\")","v":""},null,null,{"$f":"IF(AND(AJ553=\"Y\",L553<>\"\"),\"PL\"&AP553,\"\")","v":""},null,1377,"in-gaap","true","string","","duration","item","true",{"$f":"VLOOKUP(B553,XBRLBusinessRules,10,FALSE)","v":""},0,"","D2011","D2010",{"$nulls":3},"",1,null,1,"N","N","N","N","","","",0,0,0,null,0,0,0,"",null,0,"","","",0,"","","",0,"","",""]
["Loss sale long-term investments","LossSaleLongTermInvestments",{"$f":"IF(OR('16-Expenditure'!D322=0,ISNUMBER('16-Expenditure'!D322)=FALSE),\"\",'16-Expenditure'!D322)","v":""},{"$f":"IF(OR('16-Expenditure'!E322=0,ISNUMBER('16-Expenditure'!E322)=FALSE),\"\",'16-Expenditure'!E322)","v":""},null,"",{"$f":"IF(AH554=\"Y\",IF(VLOOKUP(A554,PLFN3,4,FALSE)=0,\"\",VLOOKUP(A554,PLFN3,4,FALSE)),\"\")","v":""},"",{"$f":"IF(AI554=\"Y\",IF(VLOOKUP(A554,PLFN3,5,FALSE)=0,\"\",VLOOKUP(A554,PLFN3,5,FALSE)),\"\")","v":""},null,"",null,1208,"in-gaap","false","monetary","debit","duration","item","true","",0,"INR","D2011","D2010",null,{"$f":"decimals","v":0},null,"",1,null,1,"Y","N","N","N","","","",0,0,0,null,0,0,0,"Loss sale long-term investments",null,0,"","","",0,"","","",0,"","",""]
["Loss sale current investments","LossSaleCurrentInvestments",{"$f":"IF(OR('16-Expenditure'!D323=0,ISNUMBER('16-Expenditure'!D323)=FALSE),\"\",'16-Expenditure'!D323)","v":""},{"$f":"IF(OR('16-Expenditure'!E323=0,ISNUMBER('16-Expenditure'!E323)=FALSE),\"\",'16-Expenditure'!E323)","v":""},null,"",{"$f":"IF(AH555=\"Y\",IF(VLOOKUP(A555,PLFN3,4,FALSE)=0,\"\",VLOOKUP(A555,PLFN3,4,FALSE)),\"\")","v":""},"",{"$f":"IF(AI555=\"Y\",IF(VLOOKUP(A555,PLFN3,5,FALSE)=0,\"\",VLOOKUP(A555,PLFN3,5,FALSE)),\"\")","v":""},null,"",null,1209,"in-gaap","false","monetary","debit","duration","item","true","",0,"INR","D2011","D2010",null,{"$f":"decimals","v":0},null,"",1,null,1,"Y","N","N","N","","","",0,0,0,null,0,0,0,"Loss sale current investments",null,0,"","","",0,"","","",0,"","",""]
["Loss sale redemption investments","LossSaleRedemptionInvestments",{"$f":"IF(OR('16-Expenditure'!D324=0,ISNUMBER('16-Expenditure'!D324)=FALSE),\"\",'16-Expenditure'!D324)","v":""},{"$f":"IF(OR('16-Expenditure'!E324=0,ISNUMBER('16-Expenditure'!E324)=FALSE),\"\",'16-Expenditure'!E324)","v":""},null,"",{"$f":"IF(AH556=\"Y\",IF(VLOOKUP(A556,PLFN3,4,FALSE)=0,\"\",VLOOKUP(A556,PLFN3,4,FALSE)),\"\")","v":""},"",{"$f":"IF(AI556=\"Y\",IF(VLOOKUP(A556,PLFN3,5,FALSE)=0,\"\",VLOOKUP(A556,PLFN3,5,FALSE)),\"\")","v":""},null,"",null,1207,"in-gaap","false","monetary","debit","duration","item","true","",0,"INR","D2011","D2010",null,{"$f":"decimals","v":0},null,"",1,null,1,"Y","N","N","N","","","",0,0,0,null,0,0,0,"Loss sale redemption investments",null,0,"","","",0,"","","",0,"","",""]
["Loss sale disposal fixed assets [abstract]","LossSaleDisposalFixedAssetsAbstract",{"$nulls":3},"",null,"",null,null,"",null,1378,"in-gaap","true","string","","duration","item","true","",0,"","D2011","D2010",{"$nulls":3},"",1,null,1,"N","N","N","N","","","",0,0,0,null,0,0,0,"",null,0,"","","",0,"","","",0,"","",""]
["Loss sale disposal tangible fixed assets","LossSaleDisposalTangibleFixedAssets",{"$f":"IF(OR('16-Expenditure'!D328=0,ISNUMBER('16-Expenditure'!D328)=FALSE),\"\",'16-Expenditure'!D328)","v":""},{"$f":"IF(OR('16-Expenditure'!E328=0,ISNUMBER('16-Expenditure'!E328)=FALSE),\"\",'16-Expenditure'!E328)","v":""},null,"",{"$f":"IF(AH558=\"Y\",IF(VLOOKUP(A558,PLFN3,4,FALSE)=0,\"\",VLOOKUP(A558,PLFN3,4,FALSE)),\"\")","v":""},"",{"$f":"IF(AI558=\"Y\",IF(VLOOKUP(A558,PLFN3,5,FALSE)=0,\"\",VLOOKUP(A558,PLFN3,5,FALSE)),\"\")","v":""},null,"",null,1211,"in-gaap","false","monetary","debit","duration","item","true","",0,"INR","D2011","D2010",null,{"$f":"decimals","v":0},null,"",1,null,1,"Y","N","N","N","","","",0,0,0,null,0,0,0,"Loss sale disposal tangible fixed assets",null,0,"","","",0,"","","",0,"","",""]
["Loss sale disposal intangible fixed assets","LossSaleDisposalIntangibleFixedAssets",{"$f":"IF(OR('16-Expenditure'!D329=0,ISNUMBER('16-Expenditure'!D329)=FALSE),\"\",'16-Expenditure'!D329)","v":""},{"$f":"IF(OR('16-Expenditure'!E329=0,ISNUMBER('16-Expenditure'!E329)=FALSE),\"\",'16-Expenditure'!E329)","v":""},null,"","","","",null,"",null,1212,"in-gaap","false","monetary","debit","duration","item","true","",0,"INR","D2011","D2010",null,0,null,"",1,null,1,"Y","N","N","N","","","",0,0,0,null,0,0,0,"Loss sale disposal intangible fixed assets",null,0,"","","",0,"","","",0,"","",""]
["Loss sale disposal fixed assets","LossSaleDisposalFixedAssets",{"$f":"IF(OR('16-Expenditure'!D330=0,ISNUMBER('16-Expenditure'!D330)=FALSE),\"\",'16-Expenditure'!D330)","v":""},{"$f":"IF(OR('16-Expenditure'!E330=0,ISNUMBER('16-Expenditure'!E330)=FALSE),\"\",'16-Expenditure'!E330)","v":""},null,"","","","",null,"",null,1210,"in-gaap","false","monetary","debit","duration","item","true","",0,"INR","D2011","D2010",null,0,null,"",1,null,1,"Y","N","N","N","","","",0,0,0,null,0,0,0,"Loss sale disposal fixed assets",null,0,"","","",0,"","","",0,"","",""]
["Other expenditure","OtherExpenditure",{"$f":"IF(OR('16-Expenditure'!D187=0,ISNUMBER('16-Expenditure'!D187)=FALSE),\"\",'16-Expenditure'!D187)","v":""},{"$f":"IF(OR('16-Expenditure'!E187=0,ISNUMBER('16-Expenditure'!E187)=FALSE),\"\",'16-Expenditure'!E187)","v":""},null,"","","","",null,"",null,1213,"in-gaap","false","monetary","debit","duration","item","true","",0,"INR","D2011","D2010",null,0,null,"",1,null,1,"Y","N","N","N","","","",0,0,0,null,0,0,0,"Other expenditure",null,0,"","","",0,"","","",0,"","",""]
["Allowances administration selling expenses","AllowancesAdministrationSellingExpenses",{"$f":"IF(OR('16-Expenditure'!D190=0,ISNUMBER('16-Expenditure'!D190)=FALSE),\"\",'16-Expenditure'!D190)","v":""},{"$f":"IF(OR('16-Expenditure'!E190=0,ISNUMBER('16-Expenditure'!E190)=FALSE),\"\",'16-Expenditure'!E190)","v":""},null,"","","","",null,"",null,1214,"in-gaap","false","monetary","credit","duration","item","true","",0,"INR","D2011","D2010",null,0,null,"",1,null,1,"Y","N","N","N","","","",0,0,0,null,0,0,0,"Allowances administration selling expenses",null,0,"","","",0,"","","",0,"","",""]
["Capitalisation administration selling expenses","CapitalisationAdministrationSellingExpenses",{"$f":"IF(OR('16-Expenditure'!D191=0,ISNUMBER('16-Expenditure'!D191)=FALSE),\"\",'16-Expenditure'!D191)","v":""},{"$f":"IF(OR('16-Expenditure'!E191=0,ISNUMBER('16-Expenditure'!E191)=FALSE),\"\",'16-Expenditure'!E191)","v":""},null,"","","","",null,"",null,1215,"in-gaap","false","monetary","credit","duration","item","true","",0,"INR","D2011","D2010",null,0,null,"",2,"D",1,"N","N","N","N","","","",0,0,0,null,0,0,0,"",null,0,"","","",0,"","","",0,"","",""]
["Share administration selling expenses joint ventures","ShareAdministrationSellingExpensesJointVentures",{"$f":"IF(OR('16-Expenditure'!D188=0,ISNUMBER('16-Expenditure'!D188)=FALSE),\"\",'16-Expenditure'!D188)","v":""},{"$f":"IF(OR('16-Expenditure'!E188=0,ISNUMBER('16-Expenditure'!E188)=FALSE),\"\",'16-Expenditure'!E188)","v":""},null,"","","","",null,"",null,1216,"in-gaap","false","monetary","debit","duration","item","true","",0,"INR","D2011","D2010",null,0,null,"",1,null,1,{"$f":"IF(CONSOLCHECK=\"C\",IF(OR(O564=\"true\",AE564=\"D\"),\"N\",\"Y\"),\"N\")","v":"N"},"N","N","N","","","",0,0,0,null,0,0,0,"",null,0,"","","",0,"","","",0,"","",""]
["Administrative selling other expenses","AdministrativeSellingOtherExpenses",{"$f":"IF(OR('16-Expenditure'!D192=0,ISNUMBER('16-Expenditure'!D192)=FALSE),\"\",'16-Expenditure'!D192)","v":""},{"$f":"IF(OR('16-Expenditure'!E192=0,ISNUMBER('16-Expenditure'!E192)=FALSE),\"\",'16-Expenditure'!E192)","v":""},null,"","","","",null,"",null,1126,"in-gaap","false","monetary","debit","duration","item","true","","This is a mandatory field.","INR","D2011","D2010",null,0,"M","",3,"D",1,"N","N","N","N","","","",0,0,0,null,0,0,0,"",null,0,"","","",0,"","","",0,"","",""]
["Depreciation amortisation impairment [abstract]","DepreciationAmortisationImpairmentAbstract",{"$nulls":3},"",null,"",null,null,"",null,1380,"in-gaap","true","string","","duration","item","true","",0,"","D2011","D2010",{"$nulls":3},"",1,null,1,"N","N","N","N","","","",0,0,0,null,0,0,0,"",null,0,"","","",0,"","","",0,"","",""]
["Depreciation amortisation expenses [abstract]","DepreciationAmortisationExpensesAbstract",{"$nulls":3},"",null,"",null,null,"",null,1381,"in-gaap","true","string","","duration","item","true","",0,"","D2011","D2010",{"$nulls":3},"",1,null,1,"N","N","N","N","","","",0,0,0,null,0,0,0,"",null,0,"","","",0,"","","",0,"","",""]
["Depreciation tangible assets","DepreciationTangibleAssets",{"$f":"IF(OR('16-Expenditure'!D346=0,ISNUMBER('16-Expenditure'!D346)=FALSE),\"\",'16-Expenditure'!D346)","v":""},{"$f":"IF(OR('16-Expenditure'!E346=0,ISNUMBER('16-Expenditure'!E346)=FALSE),\"\",'16-Expenditure'!E346)","v":""},null,"",{"$f":"IF(AH568=\"Y\",IF(VLOOKUP(A568,PLFN3,4,FALSE)=0,\"\",VLOOKUP(A568,PLFN3,4,FALSE)),\"\")","v":""},"",{"$f":"IF(AI568=\"Y\",IF(VLOOKUP(A568,PLFN3,5,FALSE)=0,\"\",VLOOKUP(A568,PLFN3,5,FALSE)),\"\")","v":""},null,"",null,1227,"in-gaap","false","monetary","debit","duration","item","true","",0,"INR","D2011","D2010",null,{"$f":"decimals","v":0},null,"",1,null,1,"Y","N","N","N","","","",0,0,0,null,0,0,0,"Depreciation tangible assets",null,0,"","","",0,"","","",0,"","",""]
["Amortisation intangible assets","AmortisationIntangibleAssets",{"$f":"IF(OR('16-Expenditure'!D347=0,ISNUMBER('16-Expenditure'!D347)=FALSE),\"\",'16-Expenditure'!D347)","v":""},{"$f":"IF(OR('16-Expenditure'!E347=0,ISNUMBER('16-Expenditure'!E347)=FALSE),\"\",'16-Expenditure'!E347)","v":""},null,"",{"$f":"IF(AH569=\"Y\",IF(VLOOKUP(A569,PLFN3,4,FALSE)=0,\"\",VLOOKUP(A569,PLFN3,4,FALSE)),\"\")","v":""},"",{"$f":"IF(AI569=\"Y\",IF(VLOOKUP(A569,PLFN3,5,FALSE)=0,\"\",VLOOKUP(A569,PLFN3,5,FALSE)),\"\")","v":""},null,"",null,1228,"in-gaap","false","monetary","debit","duration","item","true","",0,"INR","D2011","D2010",null,{"$f":"decimals","v":0},null,"",1,null,1,"Y","N","N","N","","","",0,0,0,null,0,0,0,"Amortisation intangible assets",null,0,"","","",0,"","","",0,"","",""]
["Depreciation adjusted against revaluation reserve","DepreciationAdjustedAgainstRevaluationReserve",{"$f":"IF(OR('16-Expenditure'!D349=0,ISNUMBER('16-Expenditure'!D349)=FALSE),\"\",'16-Expenditure'!D349)","v":""},{"$f":"IF(OR('16-Expenditure'!E349=0,ISNUMBER('16-Expenditure'!E349)=FALSE),\"\",'16-Expenditure'!E349)","v":""},null,"",{"$f":"IF(AH570=\"Y\",IF(VLOOKUP(A570,PLFN3,4,FALSE)=0,\"\",VLOOKUP(A570,PLFN3,4,FALSE)),\"\")","v":""},"",{"$f":"IF(AI570=\"Y\",IF(VLOOKUP(A570,PLFN3,5,FALSE)=0,\"\",VLOOKUP(A570,PLFN3,5,FALSE)),\"\")","v":""},null,"",null,1229,"in-gaap","false","monetary","credit","duration","item","true","",0,"INR","D2011","D2010",null,{"$f":"decimals","v":0},null,"",1,null,1,"Y","N","N","N","","","",0,0,0,null,0,0,0,"Depreciation adjusted against revaluation reserve",null,0,"","","",0,"","","",0,"","",""]
["Depreciation amortisation expenses","DepreciationAmortisationExpenses",{"$f":"IF(OR('16-Expenditure'!D350=0,ISNUMBER('16-Expenditure'!D350)=FALSE),\"\",'16-Expenditure'!D350)","v":""},{"$f":"IF(OR('16-Expenditure'!E350=0,ISNUMBER('16-Expenditure'!E350)=FALSE),\"\",'16-Expenditure'!E350)","v":""},null,"",{"$f":"IF(AH571=\"Y\",IF(VLOOKUP(A571,PLFN3,4,FALSE)=0,\"\",VLOOKUP(A571,PLFN3,4,FALSE)),\"\")","v":""},"",{"$f":"IF(AI571=\"Y\",IF(VLOOKUP(A571,PLFN3,5,FALSE)=0,\"\",VLOOKUP(A571,PLFN3,5,FALSE)),\"\")","v":""},null,"",null,1226,"in-gaap","false","monetary","debit","duration","item","true","",0,"INR","D2011","D2010",null,{"$f":"decimals","v":0},null,"",1,null,1,"Y","N","N","N","","","",0,0,0,null,0,0,0,"Depreciation amortisation expenses",null,0,"","","",0,"","","",0,"","",""]
["Depreciation amortisation written back","DepreciationAmortisationWrittenback",{"$f":"IF(OR('16-Expenditure'!D339=0,ISNUMBER('16-Expenditure'!D339)=FALSE),\"\",'16-Expenditure'!D339)","v":""},{"$f":"IF(OR('16-Expenditure'!E339=0,ISNUMBER('16-Expenditure'!E339)=FALSE),\"\",'16-Expenditure'!E339)","v":""},null,"",{"$f":"IF(AH572=\"Y\",IF(VLOOKUP(A572,PLFN3,4,FALSE)=0,\"\",VLOOKUP(A572,PLFN3,4,FALSE)),\"\")","v":""},"",{"$f":"IF(AI572=\"Y\",IF(VLOOKUP(A572,PLFN3,5,FALSE)=0,\"\",VLOOKUP(A572,PLFN3,5,FALSE)),\"\")","v":""},null,"",null,1230,"in-gaap","false","monetary","credit","duration","item","true","",0,"INR","D2011","D2010",null,{"$f":"decimals","v":0},null,"",1,null,1,"Y","N","N","N","","","",0,0,0,null,0,0,0,"Depreciation amortisation written back",null,0,"","","",0,"","","",0,"","",""]
["Impairment fixed assets [abstract]","ImpairmentFixedAssetsAbstract",{"$nulls":3},"",null,"",null,null,"",null,1382,"in-gaap","true","string","","duration","item","true","",0,"","D2011","D2010",{"$nulls":3},"",1,null,1,"N","N","N","N","","","",0,0,0,null,0,0,0,"",null,0,"","","",0,"","","",0,"","",""]
["Impairment tangible fixed assets","ImpairmentTangibleFixedAssets",{"$f":"IF(OR('16-Expenditure'!D354=0,ISNUMBER('16-Expenditure'!D354)=FALSE),\"\",'16-Expenditure'!D354)","v":""},{"$f":"IF(OR('16-Expenditure'!E354=0,ISNUMBER('16-Expenditure'!E354)=FALSE),\"\",'16-Expenditure'!E354)","v":""},null,"",{"$f":"IF(AH574=\"Y\",IF(VLOOKUP(A574,PLFN3,4,FALSE)=0,\"\",VLOOKUP(A574,PLFN3,4,FALSE)),\"\")","v":""},"",{"$f":"IF(AI574=\"Y\",IF(VLOOKUP(A574,PLFN3,5,FALSE)=0,\"\",VLOOKUP(A574,PLFN3,5,FALSE)),\"\")","v":""},null,"",null,1232,"in-gaap","false","monetary","debit","duration","item","true","",0,"INR","D2011","D2010",null,{"$f":"decimals","v":0},null,"",1,null,1,"Y","N","N","N","","","",0,0,0,null,0,0,0,"Impairment tangible fixed assets",null,0,"","","",0,"","","",0,"","",""]
["Impairment intangible fixed assets","ImpairmentIntangibleFixedAssets",{"$f":"IF(OR('16-Expenditure'!D355=0,ISNUMBER('16-Expenditure'!D355)=FALSE),\"\",'16-Expenditure'!D355)","v":""},{"$f":"IF(OR('16-Expenditure'!E355=0,ISNUMBER('16-Expenditure'!E355)=FALSE),\"\",'16-Expenditure'!E355)","v":""},null,"",{"$f":"IF(AH575=\"Y\",IF(VLOOKUP(A575,PLFN3,4,FALSE)=0,\"\",VLOOKUP(A575,PLFN3,4,FALSE)),\"\")","v":""},"",{"$f":"IF(AI575=\"Y\",IF(VLOOKUP(A575,PLFN3,5,FALSE)=0,\"\",VLOOKUP(A575,PLFN3,5,FALSE)),\"\")","v":""},null,"",null,1233,"in-gaap","false","monetary","debit","duration","item","true","",0,"INR","D2011","D2010",null,{"$f":"decimals","v":0},null,"",1,null,1,"Y","N","N","N","","","",0,0,0,null,0,0,0,"Impairment intangible fixed assets",null,0,"","","",0,"","","",0,"","",""]
["Impairment fixed assets","ImpairmentFixedAssets",{"$f":"IF(OR('16-Expenditure'!D356=0,ISNUMBER('16-Expenditure'!D356)=FALSE),\"\",'16-Expenditure'!D356)","v":""},{"$f":"IF(OR('16-Expenditure'!E356=0,ISNUMBER('16-Expenditure'!E356)=FALSE),\"\",'16-Expenditure'!E356)","v":""},null,"",{"$f":"IF(AH576=\"Y\",IF(VLOOKUP(A576,PLFN3,4,FALSE)=0,\"\",VLOOKUP(A576,PLFN3,4,FALSE)),\"\")","v":""},"",{"$f":"IF(AI576=\"Y\",IF(VLOOKUP(A576,PLFN3,5,FALSE)=0,\"\",VLOOKUP(A576,PLFN3,5,FALSE)),\"\")","v":""},null,"",null,1231,"in-gaap","false","monetary","debit","duration","item","true","",0,"INR","D2011","D2010",null,{"$f":"decimals","v":0},null,"",1,null,1,"Y","N","N","N","","","",0,0,0,null,0,0,0,"Impairment fixed assets",null,0,"","","",0,"","","",0,"","",""]
["Reversal impairment fixed assets [abstract]","ReversalImpairmentFixedAssetsAbstract",{"$nulls":3},"",null,"",null,null,"",null,1383,"in-gaap","true","string","","duration","item","true","",0,"","D2011","D2010",{"$nulls":3},"",1,null,1,"N","N","N","N","","","",0,0,0,null,0,0,0,"",null,0,"","","",0,"","","",0,"","",""]
["Reversal impairment tangible fixed assets","ReversalImpairmentTangibleFixedAssets",{"$f":"IF(OR('16-Expenditure'!D360=0,ISNUMBER('16-Expenditure'!D360)=FALSE),\"\",'16-Expenditure'!D360)","v":""},{"$f":"IF(OR('16-Expenditure'!E360=0,ISNUMBER('16-Expenditure'!E360)=FALSE),\"\",'16-Expenditure'!E360)","v":""},null,"",{"$f":"IF(AH578=\"Y\",IF(VLOOKUP(A578,PLFN3,4,FALSE)=0,\"\",VLOOKUP(A578,PLFN3,4,FALSE)),\"\")","v":""},"",{"$f":"IF(AI578=\"Y\",IF(VLOOKUP(A578,PLFN3,5,FALSE)=0,\"\",VLOOKUP(A578,PLFN3,5,FALSE)),\"\")","v":""},null,"",null,1235,"in-gaap","false","monetary","credit","duration","item","true","",0,"INR","D2011","D2010",null,{"$f":"decimals","v":0},null,"",1,null,1,"Y","N","N","N","","","",0,0,0,null,0,0,0,"Reversal impairment tangible fixed assets",null,0,"","","",0,"","","",0,"","",""]
["Reversal impairment intangible fixed assets","ReversalImpairmentIntangibleFixedAssets",{"$f":"IF(OR('16-Expenditure'!D361=0,ISNUMBER('16-Expenditure'!D361)=FALSE),\"\",'16-Expenditure'!D361)","v":""},{"$f":"IF(OR('16-Expenditure'!E361=0,ISNUMBER('16-Expenditure'!E361)=FALSE),\"\",'16-Expenditure'!E361)","v":""},null,"","","","",null,"",null,1236,"in-gaap","false","monetary","credit","duration","item","true","",0,"INR","D2011","D2010",null,0,null,"",1,null,1,"Y","N","N","N","","","",0,0,0,null,0,0,0,"Reversal impairment intangible fixed assets",null,0,"","","",0,"","","",0,"","",""]
["Reversal impairment fixed assets","ReversalImpairmentFixedAssets",{"$f":"IF(OR('16-Expenditure'!D362=0,ISNUMBER('16-Expenditure'!D362)=FALSE),\"\",'16-Expenditure'!D362)","v":""},{"$f":"IF(OR('16-Expenditure'!E362=0,ISNUMBER('16-Expenditure'!E362)=FALSE),\"\",'16-Expenditure'!E362)","v":""},null,"","","","",null,"",null,1234,"in-gaap","false","monetary","credit","duration","item","true","",0,"INR","D2011","D2010",null,0,null,"",1,null,1,"Y","N","N","N","","","",0,0,0,null,{"$f":"IF(AQ580=\"P\",IF(C580<0,1,0),0)","v":0},{"$f":"IF(AQ580=\"P\",IF(D580<0,1,0),0)","v":0},0,"Reversal impairment fixed assets",null,0,"","","",0,"","","",0,"","",""]
["Other write-down assets","OtherWritedownAssets",{"$f":"IF(OR('16-Expenditure'!D336=0,ISNUMBER('16-Expenditure'!D336)=FALSE),\"\",'16-Expenditure'!D336)","v":""},{"$f":"IF(OR('16-Expenditure'!E336=0,ISNUMBER('16-Expenditure'!E336)=FALSE),\"\",'16-Expenditure'!E336)","v":""},null,"","","","",null,"",null,1237,"in-gaap","false","monetary","debit","duration","item","true","",0,"INR","D2011","D2010",null,0,null,"",1,null,1,"Y","N","N","N","","","",0,0,0,null,0,0,0,"Other write-down assets",null,0,"","","",0,"","","",0,"","",""]
["Reversal other write-down assets","ReversalOtherWritedownAssets",{"$f":"IF(OR('16-Expenditure'!D341=0,ISNUMBER('16-Expenditure'!D341)=FALSE),\"\",'16-Expenditure'!D341)","v":""},{"$f":"IF(OR('16-Expenditure'!E341=0,ISNUMBER('16-Expenditure'!E341)=FALSE),\"\",'16-Expenditure'!E341)","v":""},null,"","","","",null,"",null,1238,"in-gaap","false","monetary","credit","duration","item","true","",0,"INR","D2011","D2010",null,0,null,"",1,null,1,"Y","N","N","N","","","",0,0,0,null,0,0,0,"Reversal other write-down assets",null,0,"","","",0,"","","",0,"","",""]
["Share depreciation amortisation impairment joint ventures","ShareDepreciationAmortisationImpairmentJointVentures",{"$f":"IF(OR('16-Expenditure'!D337=0,ISNUMBER('16-Expenditure'!D337)=FALSE),\"\",'16-Expenditure'!D337)","v":""},{"$f":"IF(OR('16-Expenditure'!E337=0,ISNUMBER('16-Expenditure'!E337)=FALSE),\"\",'16-Expenditure'!E337)","v":""},null,"","","","",null,"",null,1239,"in-gaap","false","monetary","debit","duration","item","true","",0,"INR","D2011","D2010",null,0,null,"",1,null,1,{"$f":"IF(CONSOLCHECK=\"C\",IF(OR(O583=\"true\",AE583=\"D\"),\"N\",\"Y\"),\"N\")","v":"N"},"N","N","N","","","",0,0,0,null,0,0,0,"",null,{"$f":"IF(F583<>\"\",\"1\",0)","v":0},{"$f":"IF(F583<>\"\",\"<link:loc xlink:href=\"&\"\"\"\"&\"#\"&\"TA\"&F583&\"\"\"\"&\" xlink:type=\"&\"\"\"\"&\"locator\"&\"\"\"\"&\" xlink:label=\"&\"\"\"\"&\"value\"&AN583&\"\"\"\"&\"/>\",\"\")","v":""},{"$f":"IF(F583<>\"\",\"<link:footnote xlink:role=\"&\"\"\"\"&\"http://www.xbrl.org/2003/role/footnote\"&\"\"\"\"&\" xml:lang=\"&\"\"\"\"&\"en\"&\"\"\"\"&\" xlink:type=\"&\"\"\"\"&\"resource\"&\"\"\"\"&\" xlink:label=\"&\"\"\"\"&\"footnote\"&AN583&\"\"\"\"&\">\"&G583&\"</link:footnote>\",\"\")","v":""},{"$f":"IF(F583<>\"\",\"<link:footnoteArc xlink:type=\"&\"\"\"\"&\"arc\"&\"\"\"\"&\" order=\"&\"\"\"\"&\"1.0\"&\"\"\"\"& \" xlink:to=\"&\"\"\"\"&\"footnote\"&AN583&\"\"\"\"& \" xlink:from=\"&\"\"\"\"&\"value\"&AN583&\"\"\"\"&\" xlink:arcrole=\"&\"\"\"\"&\"http://www.xbrl.org/2003/arcrole/fact-footnote\"&\"\"\"\"&\"/>\",\"\")","v":""},{"$f":"IF(H583<>\"\",\"1\",0)","v":0},{"$f":"IF(H583<>\"\",\"<link:loc xlink:href=\"&\"\"\"\"&\"#\"&\"TA\"&H583&\"\"\"\"&\" xlink:type=\"&\"\"\"\"&\"locator\"&\"\"\"\"&\" xlink:label=\"&\"\"\"\"&\"value\"&AO583&\"\"\"\"&\"/>\",\"\")","v":""},{"$f":"IF(H583<>\"\",\"<link:footnote xlink:role=\"&\"\"\"\"&\"http://www.xbrl.org/2003/role/footnote\"&\"\"\"\"&\" xml:lang=\"&\"\"\"\"&\"en\"&\"\"\"\"&\" xlink:type=\"&\"\"\"\"&\"resource\"&\"\"\"\"&\" xlink:label=\"&\"\"\"\"&\"footnote\"&AO583&\"\"\"\"&\">\"&I583&\"</link:footnote>\",\"\")","v":""},{"$f":"IF(H583<>\"\",\"<link:footnoteArc xlink:type=\"&\"\"\"\"&\"arc\"&\"\"\"\"&\" order=\"&\"\"\"\"&\"1.0\"&\"\"\"\"& \" xlink:to=\"&\"\"\"\"&\"footnote\"&AO583&\"\"\"\"& \" xlink:from=\"&\"\"\"\"&\"value\"&AO583&\"\"\"\"&\" xlink:arcrole=\"&\"\"\"\"&\"http://www.xbrl.org/2003/arcrole/fact-footnote\"&\"\"\"\"&\"/>\",\"\")","v":""},{"$f":"IF(K583<>\"\",\"1\",0)","v":0},{"$f":"IF(K583<>\"\",\"<link:loc xlink:href=\"&\"\"\"\"&\"#\"&\"TA\"&K583&\"\"\"\"&\" xlink:type=\"&\"\"\"\"&\"locator\"&\"\"\"\"&\" xlink:label=\"&\"\"\"\"&\"value\"&AP583&\"\"\"\"&\"/>\",\"\")","v":""},{"$f":"IF(K583<>\"\",\"<link:footnote xlink:role=\"&\"\"\"\"&\"http://www.xbrl.org/2003/role/footnote\"&\"\"\"\"&\" xml:lang=\"&\"\"\"\"&\"en\"&\"\"\"\"&\" xlink:type=\"&\"\"\"\"&\"resource\"&\"\"\"\"&\" xlink:label=\"&\"\"\"\"&\"footnote\"&AP583&\"\"\"\"&\">\"&L583&\"</link:footnote>\",\"\")","v":""},{"$f":"IF(K583<>\"\",\"<link:footnoteArc xlink:type=\"&\"\"\"\"&\"arc\"&\"\"\"\"&\" order=\"&\"\"\"\"&\"1.0\"&\"\"\"\"& \" xlink:to=\"&\"\"\"\"&\"footnote\"&AP583&\"\"\"\"& \" xlink:from=\"&\"\"\"\"&\"value\"&AP583&\"\"\"\"&\" xlink:arcrole=\"&\"\"\"\"&\"http://www.xbrl.org/2003/arcrole/fact-footnote\"&\"\"\"\"&\"/>\",\"\")","v":""}]
["Depreciation amortisation impairment","DepreciationAmortisationImpairment",{"$f":"IF(OR('16-Expenditure'!D342=0,ISNUMBER('16-Expenditure'!D342)=FALSE),\"\",'16-Expenditure'!D342)","v":""},{"$f":"IF(OR('16-Expenditure'!E342=0,ISNUMBER('16-Expenditure'!E342)=FALSE),\"\",'16-Expenditure'!E342)","v":""},null,"","","","",null,"",null,1225,"in-gaap","false","monetary","debit","duration","item","true","",0,"INR","D2011","D2010",null,0,null,"",3,null,1,"Y","N","N","N","","","",0,0,0,null,0,0,0,"Depreciation amortisation impairment",null,0,"","","",0,"","","",0,"","",""]
["Interest financial charges [abstract]","InterestFinancialChargesAbstract",{"$nulls":3},"",null,"",null,null,"",null,1384,"in-gaap","true","string","","duration","item","true",{"$f":"VLOOKUP(B585,XBRLBusinessRules,10,FALSE)","v":""},0,"","D2011","D2010",{"$nulls":3},"",1,null,1,"N","N","N","N","","","",0,0,0,null,0,0,0,"",null,0,"","","",0,"","","",0,"","",""]
["Interest expense borrowings [abstract]","InterestExpenseBorrowingsAbstract",{"$nulls":3},"",null,"",null,null,"",null,1385,"in-gaap","true","string","","duration","item","true","",0,"","D2011","D2010",{"$nulls":3},"",1,null,1,"N","N","N","N","","","",0,0,0,null,0,0,0,"",null,0,"","","",0,"","","",0,"","",""]
["Interest expense long-term loans [abstract]","InterestExpenseLongTermLoansAbstract",{"$nulls":3},"",null,"",null,null,"",null,1386,"in-gaap","true","string","","duration","item","true","",0,"","D2011","D2010",{"$nulls":3},"",1,null,1,"N","N","N","N","","","",0,0,0,null,0,0,0,"",null,0,"","","",0,"","","",0,"","",""]
["Interest expense long-term loans banks","InterestExpenseLongTermLoansBanks",{"$f":"IF(OR('16-Expenditure'!D390=0,ISNUMBER('16-Expenditure'!D390)=FALSE),\"\",'16-Expenditure'!D390)","v":""},{"$f":"IF(OR('16-Expenditure'!E390=0,ISNUMBER('16-Expenditure'!E390)=FALSE),\"\",'16-Expenditure'!E390)","v":""},null,"",{"$f":"IF(AH588=\"Y\",IF(VLOOKUP(A588,PLFN3,4,FALSE)=0,\"\",VLOOKUP(A588,PLFN3,4,FALSE)),\"\")","v":""},"",{"$f":"IF(AI588=\"Y\",IF(VLOOKUP(A588,PLFN3,5,FALSE)=0,\"\",VLOOKUP(A588,PLFN3,5,FALSE)),\"\")","v":""},null,"",null,1243,"in-gaap","false","monetary","debit","duration","item","true","",0,"INR","D2011","D2010",null,{"$f":"decimals","v":0},null,{"$f":"IF(V588=\"This can be entered only in case of Consolidated instance document\",\"C\",\"\")","v":""},1,null,1,"Y","N","N","N","","","",0,0,0,null,0,0,0,"Interest expense long-term loans banks",null,0,"","","",0,"","","",0,"","",""]
["Interest expense long-term loans others","InterestExpenseLongTermLoansOthers",{"$f":"IF(OR('16-Expenditure'!D391=0,ISNUMBER('16-Expenditure'!D391)=FALSE),\"\",'16-Expenditure'!D391)","v":""},{"$f":"IF(OR('16-Expenditure'!E391=0,ISNUMBER('16-Expenditure'!E391)=FALSE),\"\",'16-Expenditure'!E391)","v":""},null,"",{"$f":"IF(AH589=\"Y\",IF(VLOOKUP(A589,PLFN3,4,FALSE)=0,\"\",VLOOKUP(A589,PLFN3,4,FALSE)),\"\")","v":""},"",{"$f":"IF(AI589=\"Y\",IF(VLOOKUP(A589,PLFN3,5,FALSE)=0,\"\",VLOOKUP(A589,PLFN3,5,FALSE)),\"\")","v":""},null,"",null,1244,"in-gaap","false","monetary","debit","duration","item","true","",0,"INR","D2011","D2010",null,{"$f":"decimals","v":0},null,"",1,null,1,"Y","N","N","N","","","",0,0,0,null,0,0,0,"Interest expense long-term loans others",null,0,"","","",0,"","","",0,"","",""]
["Interest expense long-term loans","InterestExpenseLongTermLoans",{"$f":"IF(OR('16-Expenditure'!D392=0,ISNUMBER('16-Expenditure'!D392)=FALSE),\"\",'16-Expenditure'!D392)","v":""},{"$f":"IF(OR('16-Expenditure'!E392=0,ISNUMBER('16-Expenditure'!E392)=FALSE),\"\",'16-Expenditure'!E392)","v":""},null,"",{"$f":"IF(AH590=\"Y\",IF(VLOOKUP(A590,PLFN3,4,FALSE)=0,\"\",VLOOKUP(A590,PLFN3,4,FALSE)),\"\")","v":""},"",{"$f":"IF(AI590=\"Y\",IF(VLOOKUP(A590,PLFN3,5,FALSE)=0,\"\",VLOOKUP(A590,PLFN3,5,FALSE)),\"\")","v":""},null,"",null,1242,"in-gaap","false","monetary","debit","duration","item","true","",0,"INR","D2011","D2010",null,{"$f":"decimals","v":0},null,"",1,null,1,"Y","N","N","N","","","",0,0,0,null,0,0,0,"Interest expense long-term loans",null,0,"","","",0,"","","",0,"","",""]
["Interest expense short-term loans [abstract]","InterestExpenseShortTermLoansAbstract",{"$nulls":3},"",null,"",null,null,"",null,1387,"in-gaap","true","string","","duration","item","true","",0,"","D2011","D2010",{"$nulls":3},"",1,null,1,"N","N","N","N","","","",0,0,0,null,0,0,0,"",null,0,"","","",0,"","","",0,"","",""]
["Interest expense short-term loans banks","InterestExpenseShortTermLoansBanks",{"$f":"IF(OR('16-Expenditure'!D396=0,ISNUMBER('16-Expenditure'!D396)=FALSE),\"\",'16-Expenditure'!D396)","v":""},{"$f":"IF(OR('16-Expenditure'!E396=0,ISNUMBER('16-Expenditure'!E396)=FALSE),\"\",'16-Expenditure'!E396)","v":""},null,"",{"$f":"IF(AH592=\"Y\",IF(VLOOKUP(A592,PLFN3,4,FALSE)=0,\"\",VLOOKUP(A592,PLFN3,4,FALSE)),\"\")","v":""},"",{"$f":"IF(AI592=\"Y\",IF(VLOOKUP(A592,PLFN3,5,FALSE)=0,\"\",VLOOKUP(A592,PLFN3,5,FALSE)),\"\")","v":""},null,"",null,1246,"in-gaap","false","monetary","debit","duration","item","true","",0,"INR","D2011","D2010",null,{"$f":"decimals","v":0},null,"",1,null,1,"Y","N","N","N","","","",0,0,0,null,0,0,0,"Interest expense short-term loans banks",null,0,"","","",0,"","","",0,"","",""]
["Interest expense short-term loans others","InterestExpenseShortTermLoansOthers",{"$f":"IF(OR('16-Expenditure'!D397=0,ISNUMBER('16-Expenditure'!D397)=FALSE),\"\",'16-Expenditure'!D397)","v":""},{"$f":"IF(OR('16-Expenditure'!E397=0,ISNUMBER('16-Expenditure'!E397)=FALSE),\"\",'16-Expenditure'!E397)","v":""},null,"","","","",null,"",null,1247,"in-gaap","false","monetary","debit","duration","item","true","",0,"INR","D2011","D2010",null,0,null,"",1,null,1,"Y","N","N","N","","","",0,0,0,null,0,0,0,"Interest expense short-term loans others",null,0,"","","",0,"","","",0,"","",""]
["Interest expense short-term loans","InterestExpenseShortTermLoans",{"$f":"IF(OR('16-Expenditure'!D398=0,ISNUMBER('16-Expenditure'!D398)=FALSE),\"\",'16-Expenditure'!D398)","v":""},{"$f":"IF(OR('16-Expenditure'!E398=0,ISNUMBER('16-Expenditure'!E398)=FALSE),\"\",'16-Expenditure'!E398)","v":""},null,"","","","",null,"",null,1245,"in-gaap","false","monetary","debit","duration","item","true","",0,"INR","D2011","D2010",null,0,null,"",1,null,1,"Y","N","N","N","","","",0,0,0,null,0,0,0,"Interest expense short-term loans",null,0,"","","",0,"","","",0,"","",""]
["Interest expense deposits","InterestExpenseDeposits",{"$f":"IF(OR('16-Expenditure'!D383=0,ISNUMBER('16-Expenditure'!D383)=FALSE),\"\",'16-Expenditure'!D383)","v":""},{"$f":"IF(OR('16-Expenditure'!E383=0,ISNUMBER('16-Expenditure'!E383)=FALSE),\"\",'16-Expenditure'!E383)","v":""},null,"","","","",null,"",null,1248,"in-gaap","false","monetary","debit","duration","item","true","",0,"INR","D2011","D2010",null,0,null,"",1,null,1,"Y","N","N","N","","","",0,0,0,null,0,0,0,"Interest expense deposits",null,0,"","","",0,"","","",0,"","",""]
["Interest expense debt securities","InterestExpenseDebtSecurities",{"$f":"IF(OR('16-Expenditure'!D384=0,ISNUMBER('16-Expenditure'!D384)=FALSE),\"\",'16-Expenditure'!D384)","v":""},{"$f":"IF(OR('16-Expenditure'!E384=0,ISNUMBER('16-Expenditure'!E384)=FALSE),\"\",'16-Expenditure'!E384)","v":""},null,"","","","",null,"",null,1249,"in-gaap","false","monetary","debit","duration","item","true","",0,"INR","D2011","D2010",null,0,null,"",1,null,1,"Y","N","N","N","","","",0,0,0,null,0,0,0,"Interest expense debt securities",null,0,"","","",0,"","","",0,"","",""]
["Interest expense other borrowings","InterestExpenseOtherBorrowings",{"$f":"IF(OR('16-Expenditure'!D385=0,ISNUMBER('16-Expenditure'!D385)=FALSE),\"\",'16-Expenditure'!D385)","v":""},{"$f":"IF(OR('16-Expenditure'!E385=0,ISNUMBER('16-Expenditure'!E385)=FALSE),\"\",'16-Expenditure'!E385)","v":""},null,"","","","",null,"",null,1250,"in-gaap","false","monetary","debit","duration","item","true","",0,"INR","D2011","D2010",null,0,null,"",1,null,1,"Y","N","N","N","","","",0,0,0,null,0,0,0,"Interest expense other borrowings",null,0,"","","",0,"","","",0,"","",""]
["Interest expense borrowings","InterestExpenseBorrowings",{"$f":"IF(OR('16-Expenditure'!D386=0,ISNUMBER('16-Expenditure'!D386)=FALSE),\"\",'16-Expenditure'!D386)","v":""},{"$f":"IF(OR('16-Expenditure'!E386=0,ISNUMBER('16-Expenditure'!E386)=FALSE),\"\",'16-Expenditure'!E386)","v":""},null,"","","","",null,"",null,1241,"in-gaap","false","monetary","debit","duration","item","true","",0,"INR","D2011","D2010",null,0,null,"",1,null,1,"Y","N","N","N","","","",0,0,0,null,0,0,0,"Interest expense borrowings",null,0,"","","",0,"","","",0,"","",""]
["Interest lease financing","InterestLeaseFinancing",{"$f":"IF(OR('16-Expenditure'!D367=0,ISNUMBER('16-Expenditure'!D367)=FALSE),\"\",'16-Expenditure'!D367)","v":""},{"$f":"IF(OR('16-Expenditure'!E367=0,ISNUMBER('16-Expenditure'!E367)=FALSE),\"\",'16-Expenditure'!E367)","v":""},null,"","","","",null,"",null,1251,"in-gaap","false","monetary","debit","duration","item","true","",0,"INR","D2011","D2010",null,0,null,"",1,null,1,"Y","N","N","N","","","",0,0,0,null,0,0,0,"Interest lease financing",null,0,"","","",0,"","","",0,"","",""]
["Other interest charges","OtherInterestCharges",{"$f":"IF(OR('16-Expenditure'!D368=0,ISNUMBER('16-Expenditure'!D368)=FALSE),\"\",'16-Expenditure'!D368)","v":""},{"$f":"IF(OR('16-Expenditure'!E368=0,ISNUMBER('16-Expenditure'!E368)=FALSE),\"\",'16-Expenditure'!E368)","v":""},null,"","","","",null,"",null,1252,"in-gaap","false","monetary","debit","duration","item","true","",0,"INR","D2011","D2010",null,0,null,"",1,null,1,"Y","N","N","N","","","",0,0,0,null,0,0,0,"Other interest charges",null,0,"","","",0,"","","",0,"","",""]
["Discounting charges","DiscountingCharges",{"$f":"IF(OR('16-Expenditure'!D369=0,ISNUMBER('16-Expenditure'!D369)=FALSE),\"\",'16-Expenditure'!D369)","v":""},{"$f":"IF(OR('16-Expenditure'!E369=0,ISNUMBER('16-Expenditure'!E369)=FALSE),\"\",'16-Expenditure'!E369)","v":""},null,"","","","",null,"",null,1253,"in-gaap","false","monetary","debit","duration","item","true","",0,"INR","D2011","D2010",null,0,null,"",1,null,1,"Y","N","N","N","","","",0,0,0,null,0,0,0,"Discounting charges",null,0,"","","",0,"","","",0,"","",""]
["Guarantee commission","GuaranteeCommission",{"$f":"IF(OR('16-Expenditure'!D370=0,ISNUMBER('16-Expenditure'!D370)=FALSE),\"\",'16-Expenditure'!D370)","v":""},{"$f":"IF(OR('16-Expenditure'!E370=0,ISNUMBER('16-Expenditure'!E370)=FALSE),\"\",'16-Expenditure'!E370)","v":""},null,"","","","",null,"",null,1254,"in-gaap","false","monetary","debit","duration","item","true","",0,"INR","D2011","D2010",null,0,null,"",1,null,1,"Y","N","N","N","","","",0,0,0,null,0,0,0,"Guarantee commission",null,0,"","","",0,"","","",0,"","",""]
["Other financing charges","OtherFinancingCharges",{"$f":"IF(OR('16-Expenditure'!D371=0,ISNUMBER('16-Expenditure'!D371)=FALSE),\"\",'16-Expenditure'!D371)","v":""},{"$f":"IF(OR('16-Expenditure'!E371=0,ISNUMBER('16-Expenditure'!E371)=FALSE),\"\",'16-Expenditure'!E371)","v":""},null,"","","","",null,"",null,1255,"in-gaap","false","monetary","debit","duration","item","true","",0,"INR","D2011","D2010",null,0,null,"",1,null,1,"Y","N","N","N","","","",0,0,0,null,0,0,0,"Other financing charges",null,0,"","","",0,"","","",0,"","",""]
["Exchange difference interest financial charges","ExchangeDifferenceInterestFinancialCharges",{"$f":"IF(OR('16-Expenditure'!D372=0,ISNUMBER('16-Expenditure'!D372)=FALSE),\"\",'16-Expenditure'!D372)","v":""},{"$f":"IF(OR('16-Expenditure'!E372=0,ISNUMBER('16-Expenditure'!E372)=FALSE),\"\",'16-Expenditure'!E372)","v":""},null,"","","","",null,"",null,1256,"in-gaap","false","monetary","debit","duration","item","true","",0,"INR","D2011","D2010",null,0,null,"",1,null,1,"Y","N","N","N","","","",0,0,0,null,0,0,0,"Exchange difference interest financial charges",null,0,"","","",0,"","","",0,"","",""]
["Capitalisation interest financial expenses [abstract]","CapitalisationInterestFinancialExpensesAbstract",{"$nulls":3},"",null,"",null,null,"",null,1388,"in-gaap","true","string","","duration","item","true","",0,"","D2011","D2010",{"$nulls":3},"",1,null,1,"N","N","N","N","","","",0,0,0,null,0,0,0,"",null,0,"","","",0,"","","",0,"","",""]
["Capitalisation specific interest financial expenses","CapitalisationSpecificInterestFinancialExpenses",{"$f":"IF(OR('16-Expenditure'!D402=0,ISNUMBER('16-Expenditure'!D402)=FALSE),\"\",'16-Expenditure'!D402)","v":""},{"$f":"IF(OR('16-Expenditure'!E402=0,ISNUMBER('16-Expenditure'!E402)=FALSE),\"\",'16-Expenditure'!E402)","v":""},null,"",{"$f":"IF(AH606=\"Y\",IF(VLOOKUP(A606,PLFN3,4,FALSE)=0,\"\",VLOOKUP(A606,PLFN3,4,FALSE)),\"\")","v":""},"",{"$f":"IF(AI606=\"Y\",IF(VLOOKUP(A606,PLFN3,5,FALSE)=0,\"\",VLOOKUP(A606,PLFN3,5,FALSE)),\"\")","v":""},null,"",null,1258,"in-gaap","false","monetary","credit","duration","item","true","",0,"INR","D2011","D2010",null,{"$f":"decimals","v":0},null,"",1,null,1,"Y","N","N","N","","","",0,0,0,null,0,0,0,"Capitalisation specific interest financial expenses",null,0,"","","",0,"","","",0,"","",""]
["Capitalisation general interest financial expenses","CapitalisationGeneralInterestFinancialExpenses",{"$f":"IF(OR('16-Expenditure'!D403=0,ISNUMBER('16-Expenditure'!D403)=FALSE),\"\",'16-Expenditure'!D403)","v":""},{"$f":"IF(OR('16-Expenditure'!E403=0,ISNUMBER('16-Expenditure'!E403)=FALSE),\"\",'16-Expenditure'!E403)","v":""},null,"",{"$f":"IF(AH607=\"Y\",IF(VLOOKUP(A607,PLFN3,4,FALSE)=0,\"\",VLOOKUP(A607,PLFN3,4,FALSE)),\"\")","v":""},"",{"$f":"IF(AI607=\"Y\",IF(VLOOKUP(A607,PLFN3,5,FALSE)=0,\"\",VLOOKUP(A607,PLFN3,5,FALSE)),\"\")","v":""},null,"",null,1259,"in-gaap","false","monetary","credit","duration","item","true","",0,"INR","D2011","D2010",null,{"$f":"decimals","v":0},null,"",1,null,1,"Y","N","N","N","","","",0,0,0,null,0,0,0,"Capitalisation general interest financial expenses",null,0,"","","",0,"","","",0,"","",""]
["Capitalisation interest financial expenses","CapitalisationInterestFinancialExpenses",{"$f":"IF(OR('16-Expenditure'!D404=0,ISNUMBER('16-Expenditure'!D404)=FALSE),\"\",'16-Expenditure'!D404)","v":""},{"$f":"IF(OR('16-Expenditure'!E404=0,ISNUMBER('16-Expenditure'!E404)=FALSE),\"\",'16-Expenditure'!E404)","v":""},null,"",{"$f":"IF(AH608=\"Y\",IF(VLOOKUP(A608,PLFN3,4,FALSE)=0,\"\",VLOOKUP(A608,PLFN3,4,FALSE)),\"\")","v":""},"",{"$f":"IF(AI608=\"Y\",IF(VLOOKUP(A608,PLFN3,5,FALSE)=0,\"\",VLOOKUP(A608,PLFN3,5,FALSE)),\"\")","v":""},null,"",null,1257,"in-gaap","false","monetary","credit","duration","item","true","",0,"INR","D2011","D2010",null,{"$f":"decimals","v":0},null,"",1,null,1,"Y","N","N","N","","","",0,0,0,null,0,0,0,"Capitalisation interest financial expenses",null,0,"","","",0,"","","",0,"","",""]
["Share interest financial charges joint ventures","ShareInterestFinancialChargesJointVentures",{"$f":"IF(OR('16-Expenditure'!D373=0,ISNUMBER('16-Expenditure'!D373)=FALSE),\"\",'16-Expenditure'!D373)","v":""},{"$f":"IF(OR('16-Expenditure'!E373=0,ISNUMBER('16-Expenditure'!E373)=FALSE),\"\",'16-Expenditure'!E373)","v":""},null,"",{"$f":"IF(AH609=\"Y\",IF(VLOOKUP(A609,PLFN3,4,FALSE)=0,\"\",VLOOKUP(A609,PLFN3,4,FALSE)),\"\")","v":""},"",{"$f":"IF(AI609=\"Y\",IF(VLOOKUP(A609,PLFN3,5,FALSE)=0,\"\",VLOOKUP(A609,PLFN3,5,FALSE)),\"\")","v":""},null,"",null,1260,"in-gaap","false","monetary","debit","duration","item","true","",0,"INR","D2011","D2010",null,{"$f":"decimals","v":0},null,"",1,null,1,{"$f":"IF(CONSOLCHECK=\"C\",IF(OR(O609=\"true\",AE609=\"D\"),\"N\",\"Y\"),\"N\")","v":"N"},"N","N","N","","","",0,0,0,null,0,0,0,"",null,0,"","","",0,"","","",0,"","",""]
["Interest financial charges","InterestFinancialCharges",{"$f":"IF(OR('16-Expenditure'!D376=0,ISNUMBER('16-Expenditure'!D376)=FALSE),\"\",'16-Expenditure'!D376)","v":""},{"$f":"IF(OR('16-Expenditure'!E376=0,ISNUMBER('16-Expenditure'!E376)=FALSE),\"\",'16-Expenditure'!E376)","v":""},null,"",{"$f":"IF(AH610=\"Y\",IF(VLOOKUP(A610,PLFN3,4,FALSE)=0,\"\",VLOOKUP(A610,PLFN3,4,FALSE)),\"\")","v":""},"",{"$f":"IF(AI610=\"Y\",IF(VLOOKUP(A610,PLFN3,5,FALSE)=0,\"\",VLOOKUP(A610,PLFN3,5,FALSE)),\"\")","v":""},null,"",null,1240,"in-gaap","false","monetary","debit","duration","item","true","","This is a mandatory field.","INR","D2011","D2010",null,{"$f":"decimals","v":0},"M","",3,null,1,"Y","Y","Y","N","<in-gaap:InterestFinancialCharges unitRef=\"INR\" contextRef=\"D2011\" decimals=\"0\" >0</in-gaap:InterestFinancialCharges>","<in-gaap:InterestFinancialCharges unitRef=\"INR\" contextRef=\"D2010\" decimals=\"0\" >0</in-gaap:InterestFinancialCharges>","",0,0,0,null,0,0,0,"Interest financial charges",null,0,"","","",0,"","","",0,"","",""]
["Provision taxation [abstract]","ProvisionTaxationAbstract",{"$nulls":3},"",null,"",null,null,"",null,1391,"in-gaap","true","string","","duration","item","true","",0,"","D2011","D2010",{"$nulls":3},"",1,null,1,"N","N","N","N","","","",0,0,0,null,0,0,0,"",null,0,"","","",0,"","","",0,"","",""]
["Provision current tax","ProvisionCurrentTax",{"$f":"IF(OR('16-Expenditure'!D408=0,ISNUMBER('16-Expenditure'!D408)=FALSE),\"\",'16-Expenditure'!D408)","v":""},{"$f":"IF(OR('16-Expenditure'!E408=0,ISNUMBER('16-Expenditure'!E408)=FALSE),\"\",'16-Expenditure'!E408)","v":""},null,"",{"$f":"IF(AH612=\"Y\",IF(VLOOKUP(A612,PLFN3,4,FALSE)=0,\"\",VLOOKUP(A612,PLFN3,4,FALSE)),\"\")","v":""},"",{"$f":"IF(AI612=\"Y\",IF(VLOOKUP(A612,PLFN3,5,FALSE)=0,\"\",VLOOKUP(A612,PLFN3,5,FALSE)),\"\")","v":""},null,"",null,915,"in-gaap","false","monetary","debit","duration","item","true","","This is a mandatory field.","INR","D2011","D2010",null,{"$f":"decimals","v":0},"M","",1,null,1,"Y","Y","Y","N","<in-gaap:ProvisionCurrentTax unitRef=\"INR\" contextRef=\"D2011\" decimals=\"0\" >0</in-gaap:ProvisionCurrentTax>","<in-gaap:ProvisionCurrentTax unitRef=\"INR\" contextRef=\"D2010\" decimals=\"0\" >0</in-gaap:ProvisionCurrentTax>","",0,0,0,null,0,0,0,"Provision current tax",null,0,"","","",0,"","","",0,"","",""]
["Provision deferred tax","ProvisionDeferredTax",{"$f":"IF(OR('16-Expenditure'!D409=0,ISNUMBER('16-Expenditure'!D409)=FALSE),\"\",'16-Expenditure'!D409)","v":""},{"$f":"IF(OR('16-Expenditure'!E409=0,ISNUMBER('16-Expenditure'!E409)=FALSE),\"\",'16-Expenditure'!E409)","v":""},null,"","","","",null,"",null,916,"in-gaap","false","monetary","debit","duration","item","true","","This is a mandatory field.","INR","D2011","D2010",null,0,"M","",1,null,1,"Y","Y","Y","N","<in-gaap:ProvisionDeferredTax unitRef=\"INR\" contextRef=\"D2011\" decimals=\"0\" >0</in-gaap:ProvisionDeferredTax>","<in-gaap:ProvisionDeferredTax unitRef=\"INR\" contextRef=\"D2010\" decimals=\"0\" >0</in-gaap:ProvisionDeferredTax>","",0,0,0,null,0,0,0,"Provision deferred tax",null,0,"","","",0,"","","",0,"","",""]
["Provision wealth tax","ProvisionWealthTax",{"$f":"IF(OR('16-Expenditure'!D410=0,ISNUMBER('16-Expenditure'!D410)=FALSE),\"\",'16-Expenditure'!D410)","v":""},{"$f":"IF(OR('16-Expenditure'!E410=0,ISNUMBER('16-Expenditure'!E410)=FALSE),\"\",'16-Expenditure'!E410)","v":""},null,{"$f":"IF(AND(AH614=\"Y\",G614<>\"\"),\"PL\"&AN614,\"\")","v":""},"",{"$f":"IF(AND(AI614=\"Y\",I614<>\"\"),\"PL\"&AO614,\"\")","v":""},"",null,{"$f":"IF(AND(AJ614=\"Y\",L614<>\"\"),\"PL\"&AP614,\"\")","v":""},null,{"$f":"VLOOKUP(B614,XBRLBusinessRules,2,FALSE)","v":917},{"$f":"VLOOKUP(B614,XBRLBusinessRules,3,FALSE)","v":"in-gaap"},{"$f":"VLOOKUP(B614,XBRLBusinessRules,4,FALSE)","v":"false"},{"$f":"VLOOKUP(B614,XBRLBusinessRules,5,FALSE)","v":"monetary"},{"$f":"VLOOKUP(B614,XBRLBusinessRules,6,FALSE)","v":"debit"},{"$f":"VLOOKUP(B614,XBRLBusinessRules,7,FALSE)","v":"duration"},{"$f":"VLOOKUP(B614,XBRLBusinessRules,8,FALSE)","v":"item"},{"$f":"VLOOKUP(B614,XBRLBusinessRules,9,FALSE)","v":"true"},"",{"$f":"VLOOKUP(B614,XBRLBusinessRules,11,FALSE)","v":0},"INR","D2011","D2010",null,0,null,"",{"$f":"COUNTIF(TagNamePL,\"=\"&B614)","v":1},null,{"$f":"AD614-COUNTIFS(TagNamePL,B614,TagPLD,\"D\")","v":1},"Y",{"$f":"IF(OR(AND(C614=\"\",D614=\"\",(AB614=\"M\")=FALSE),AG614=\"N\"),\"N\",\"Y\")","v":"N"},{"$f":"IF(OR(AND(C614=\"\",D614=\"\",(AB614=\"M\")=FALSE),AG614=\"N\"),\"N\",\"Y\")","v":"N"},{"$f":"IF(AND(COUNTBLANK(X614:Z614)=0,AG614=\"Y\"),IF(OR(AB614=\"M\",E614<>\"\"),\"Y\",\"N\"),\"N\")","v":"N"},{"$f":"IF(AH614=\"Y\",(\"<\"&N614&\":\"&B614&\" \"&IF(F614=\"\",\"\",\"id=\"\"\"&\"TA\"&F614&\"\"\"\"&\" \")&IF(OR(P614=\"monetary\",W614<>\"\"),\"unitRef=\"\"\"&W614&\"\"\"\"&\" \",\"\")&IF(X614=\"\",\"\",\"contextRef=\"\"\"&X614&\"\"\"\"&\" \")&IF(OR(P614=\"monetary\",AA614<>\"\"),\"decimals=\"\"\"&decimals&\"\"\"\"&\" \",\"\")&\">\")&IF(C614=\"\",0,C614)&\"</\"&N614&\":\"&B614&\">\",\"\")","v":""},{"$f":"IF(AI614=\"Y\",(\"<\"&N614&\":\"&B614&\" \"&IF(H614=\"\",\"\",\"id=\"\"\"&\"TA\"&H614&\"\"\"\"&\" \")&IF(OR(P614=\"monetary\",W614<>\"\"),\"unitRef=\"\"\"&W614&\"\"\"\"&\" \",\"\")&IF(Y614=\"\",\"\",\"contextRef=\"\"\"&Y614&\"\"\"\"&\" \")&IF(OR(P614=\"monetary\",AA614<>\"\"),\"decimals=\"\"\"&decimals&\"\"\"\"&\" \",\"\")&\">\")&IF(D614=\"\",0,D614)&\"</\"&N614&\":\"&B614&\">\",\"\")","v":""},{"$f":"IF(AJ614=\"Y\",(\"<\"&N614&\":\"&B614&\" \"&IF(K614=\"\",\"\",\"id=\"\"\"&\"TA\"&K614&\"\"\"\"&\" \")&IF(OR(P614=\"monetary\",W614<>\"\"),\"unitRef=\"\"\"&W614&\"\"\"\"&\" \",\"\")&IF(Z614=\"\",\"\",\"contextRef=\"\"\"&Z614&\"\"\"\"&\" \")&IF(OR(P614=\"monetary\",AA614<>\"\"),\"decimals=\"\"\"&decimals&\"\"\"\"&\" \",\"\")&\">\")&IF(E614=\"\",0,E614)&\"</\"&N614&\":\"&B614&\">\",\"\")","v":""},0,{"$f":"IF(AND(AI614=\"Y\",I614<>\"\"),AN614+1,AN614)","v":0},{"$f":"IF(AND(AJ614=\"Y\",L614<>\"\"),AO614+1,AO614)","v":0},null,0,0,{"$f":"IF(AF614=1,0,1)","v":0},{"$f":"IF(AG614=\"Y\",A614,\"\")","v":"Provision wealth tax"},null,0,"","","",0,"","","",0,"","",""]
["MAT credit entitlement","MATCreditEntitlement",{"$f":"IF(OR('16-Expenditure'!D417=0,ISNUMBER('16-Expenditure'!D417)=FALSE),\"\",'16-Expenditure'!D417)","v":""},{"$f":"IF(OR('16-Expenditure'!E417=0,ISNUMBER('16-Expenditure'!E417)=FALSE),\"\",'16-Expenditure'!E417)","v":""},null,"","","","",null,"",null,918,"in-gaap","false","monetary","credit","duration","item","true","",0,{"$f":"IF(P615=\"monetary\",\"INR\",\"\")","v":"INR"},{"$f":"UPPER(LEFT(R615,1))&CYEND","v":"D2011"},{"$f":"UPPER(LEFT(R615,1))&PYEND","v":"D2010"},null,0,null,"",1,null,1,{"$f":"IF(OR(O615=\"true\",AE615=\"D\"),\"N\",\"Y\")","v":"Y"},"N","N","N","","","",{"$f":"IF(AND(AH615=\"Y\",G615<>\"\"),AP614+1,AP614)","v":0},0,0,null,0,0,0,"MAT credit entitlement",null,0,"","","",0,"","","",0,"","",""]
["Provision tax earlier years","ProvisionTaxEarlierYears",{"$f":"IF(OR('16-Expenditure'!D411=0,ISNUMBER('16-Expenditure'!D411)=FALSE),\"\",'16-Expenditure'!D411)","v":""},{"$f":"IF(OR('16-Expenditure'!E411=0,ISNUMBER('16-Expenditure'!E411)=FALSE),\"\",'16-Expenditure'!E411)","v":""},null,"","","","",null,"",null,919,"in-gaap","false","monetary","debit","duration","item","true","",0,"INR","D2011","D2010",null,0,null,"",1,null,1,"Y","N","N","N","","","",0,0,0,null,0,0,0,"Provision tax earlier years",null,0,"","","",0,"","","",0,"","",""]
["Provision fringe benefit tax","ProvisionFringeBenefitTax",{"$f":"IF(OR('16-Expenditure'!D412=0,ISNUMBER('16-Expenditure'!D412)=FALSE),\"\",'16-Expenditure'!D412)","v":""},{"$f":"IF(OR('16-Expenditure'!E412=0,ISNUMBER('16-Expenditure'!E412)=FALSE),\"\",'16-Expenditure'!E412)","v":""},null,"","","","",null,"",null,2730,"in-gaap","false","monetary","","duration","item","true",{"$f":"VLOOKUP(B617,XBRLBusinessRules,10,FALSE)","v":""},0,"INR","D2011","D2010",null,0,null,"",1,null,1,"Y","N","N","N","","","",0,0,0,null,0,0,0,"Provision fringe benefit tax",null,0,"","","",0,"","","",0,"","",""]
["Tax effect of extraordinary items","TaxEffectOfExtraordinaryItems",{"$f":"IF(OR('16-Expenditure'!D413=0,ISNUMBER('16-Expenditure'!D413)=FALSE),\"\",'16-Expenditure'!D413)","v":""},{"$f":"IF(OR('16-Expenditure'!E413=0,ISNUMBER('16-Expenditure'!E413)=FALSE),\"\",'16-Expenditure'!E413)","v":""},null,"","","","",null,"",null,3026,"in-gaap","false","monetary","","duration","item","true","",0,"INR","D2011","D2010",null,0,null,null,2,null,1,"Y","N","N","N","","","",0,0,0,null,0,0,0,"Tax effect of extraordinary items",null,0,"","","",0,"","","",0,"","",""]
["Tax effect of prior period items","TaxEffectOfPriorPeriodItems",{"$f":"IF(OR('16-Expenditure'!D414=0,ISNUMBER('16-Expenditure'!D414)=FALSE),\"\",'16-Expenditure'!D414)","v":""},{"$f":"IF(OR('16-Expenditure'!E414=0,ISNUMBER('16-Expenditure'!E414)=FALSE),\"\",'16-Expenditure'!E414)","v":""},null,"","","","",null,"",null,3027,"in-gaap","false","monetary","","duration","item","true","",0,"INR","D2011","D2010",null,0,null,null,2,null,1,"Y","N","N","N","","","",0,0,0,null,0,0,0,"Tax effect of prior period items",null,0,"","","",0,"","","",0,"","",""]
["Other adjustments tax","OtherAdjustmentsTax",{"$f":"IF(OR('16-Expenditure'!D415=0,ISNUMBER('16-Expenditure'!D415)=FALSE),\"\",'16-Expenditure'!D415)","v":""},{"$f":"IF(OR('16-Expenditure'!E415=0,ISNUMBER('16-Expenditure'!E415)=FALSE),\"\",'16-Expenditure'!E415)","v":""},null,"","","","",null,"",null,920,"in-gaap","false","monetary","debit","duration","item","true","",0,"INR","D2011","D2010",null,0,null,{"$f":"IF(V620=\"This can be entered only in case of Consolidated instance document\",\"C\",\"\")","v":""},1,null,1,"Y","N","N","N","","","",0,0,0,null,0,0,0,"Other adjustments tax",null,0,"","","",0,"","","",0,"","",""]
["Provision taxation","ProvisionTaxation",{"$f":"IF(OR('16-Expenditure'!D418=0,ISNUMBER('16-Expenditure'!D418)=FALSE),\"\",'16-Expenditure'!D418)","v":""},{"$f":"IF(OR('16-Expenditure'!E418=0,ISNUMBER('16-Expenditure'!E418)=FALSE),\"\",'16-Expenditure'!E418)","v":""},null,"","","","",null,"",null,914,"in-gaap","false","monetary","debit","duration","item","true","","This is a mandatory field.","INR","D2011","D2010",null,0,"M","",3,"D",1,"N","N","N","N","","","",0,0,0,null,0,0,0,"",null,0,"","","",0,"","","",0,"","",""]
["Employee related expenses [abstract]","EmployeeRelatedExpensesAbstract",{"$nulls":3},{"$f":"IF(AND(AH622=\"Y\",G622<>\"\"),\"PL\"&AN622,\"\")","v":""},null,{"$f":"IF(AND(AI622=\"Y\",I622<>\"\"),\"PL\"&AO622,\"\")","v":""},null,null,{"$f":"IF(AND(AJ622=\"Y\",L622<>\"\"),\"PL\"&AP622,\"\")","v":""},null,1363,"in-gaap","true","string","","duration","item","true","",0,"","D2011","D2010",{"$nulls":3},"",1,null,1,"N","N","N","N","","","",0,0,0,null,0,0,0,"",null,0,"","","",0,"","","",0,"","",""]
["Employees remuneration benefits [abstract]","EmployeesRemunerationBenefitsAbstract",{"$nulls":3},"",null,"",null,null,"",null,1364,"in-gaap","true","string","","duration","item","true","",0,"","D2011","D2010",{"$nulls":3},"",1,null,1,"N","N","N","N","","","",0,0,0,null,0,0,0,"",null,0,"","","",0,"","","",0,"","",""]
["Salary wages bonus","SalaryWagesBonus",{"$f":"IF(OR('16-Expenditure'!D433=0,ISNUMBER('16-Expenditure'!D433)=FALSE),\"\",'16-Expenditure'!D433)","v":""},{"$f":"IF(OR('16-Expenditure'!E433=0,ISNUMBER('16-Expenditure'!E433)=FALSE),\"\",'16-Expenditure'!E433)","v":""},null,"",{"$f":"IF(AH624=\"Y\",IF(VLOOKUP(A624,PLFN3,4,FALSE)=0,\"\",VLOOKUP(A624,PLFN3,4,FALSE)),\"\")","v":""},"",{"$f":"IF(AI624=\"Y\",IF(VLOOKUP(A624,PLFN3,5,FALSE)=0,\"\",VLOOKUP(A624,PLFN3,5,FALSE)),\"\")","v":""},null,"",null,1110,"in-gaap","false","monetary","debit","duration","item","true","","This is a mandatory field.","INR","D2011","D2010",null,{"$f":"decimals","v":0},"M","",1,null,1,"Y","Y","Y","N","<in-gaap:SalaryWagesBonus unitRef=\"INR\" contextRef=\"D2011\" decimals=\"0\" >0</in-gaap:SalaryWagesBonus>","<in-gaap:SalaryWagesBonus unitRef=\"INR\" contextRef=\"D2010\" decimals=\"0\" >0</in-gaap:SalaryWagesBonus>","",0,0,0,null,0,0,0,"Salary wages bonus",null,0,"","","",0,"","","",0,"","",""]
["Commission employees","CommissionEmployees",{"$f":"IF(OR('16-Expenditure'!D434=0,ISNUMBER('16-Expenditure'!D434)=FALSE),\"\",'16-Expenditure'!D434)","v":""},{"$f":"IF(OR('16-Expenditure'!E434=0,ISNUMBER('16-Expenditure'!E434)=FALSE),\"\",'16-Expenditure'!E434)","v":""},null,"",{"$f":"IF(AH625=\"Y\",IF(VLOOKUP(A625,PLFN3,4,FALSE)=0,\"\",VLOOKUP(A625,PLFN3,4,FALSE)),\"\")","v":""},"",{"$f":"IF(AI625=\"Y\",IF(VLOOKUP(A625,PLFN3,5,FALSE)=0,\"\",VLOOKUP(A625,PLFN3,5,FALSE)),\"\")","v":""},null,"",null,1111,"in-gaap","false","monetary","debit","duration","item","true","",0,"INR","D2011","D2010",null,{"$f":"decimals","v":0},null,"",1,null,1,"Y","N","N","N","","","",0,0,0,null,0,0,0,"Commission employees",null,0,"","","",0,"","","",0,"","",""]
["Employee stock compensation expenses","EmployeeStockCompensationExpenses",{"$f":"IF(OR('16-Expenditure'!D435=0,ISNUMBER('16-Expenditure'!D435)=FALSE),\"\",'16-Expenditure'!D435)","v":""},{"$f":"IF(OR('16-Expenditure'!E435=0,ISNUMBER('16-Expenditure'!E435)=FALSE),\"\",'16-Expenditure'!E435)","v":""},null,"",{"$f":"IF(AH626=\"Y\",IF(VLOOKUP(A626,PLFN3,4,FALSE)=0,\"\",VLOOKUP(A626,PLFN3,4,FALSE)),\"\")","v":""},"",{"$f":"IF(AI626=\"Y\",IF(VLOOKUP(A626,PLFN3,5,FALSE)=0,\"\",VLOOKUP(A626,PLFN3,5,FALSE)),\"\")","v":""},null,"",null,1112,"in-gaap","false","monetary","debit","duration","item","true","",0,"INR","D2011","D2010",null,{"$f":"decimals","v":0},null,"",1,null,1,"Y","N","N","N","","","",0,0,0,null,0,0,0,"Employee stock compensation expenses",null,0,"","","",0,"","","",0,"","",""]
["Employee medical insurance expenses","EmployeeMedicalInsuranceExpenses",{"$f":"IF(OR('16-Expenditure'!D436=0,ISNUMBER('16-Expenditure'!D436)=FALSE),\"\",'16-Expenditure'!D436)","v":""},{"$f":"IF(OR('16-Expenditure'!E436=0,ISNUMBER('16-Expenditure'!E436)=FALSE),\"\",'16-Expenditure'!E436)","v":""},null,"",{"$f":"IF(AH627=\"Y\",IF(VLOOKUP(A627,PLFN3,4,FALSE)=0,\"\",VLOOKUP(A627,PLFN3,4,FALSE)),\"\")","v":""},"",{"$f":"IF(AI627=\"Y\",IF(VLOOKUP(A627,PLFN3,5,FALSE)=0,\"\",VLOOKUP(A627,PLFN3,5,FALSE)),\"\")","v":""},null,"",null,1113,"in-gaap","false","monetary","debit","duration","item","true","",0,"INR","D2011","D2010",null,{"$f":"decimals","v":0},null,"",1,null,1,"Y","N","N","N","","","",0,0,0,null,0,0,0,"Employee medical insurance expenses",null,0,"","","",0,"","","",0,"","",""]
["Leave encashment expenses","LeaveEncashmentExpenses",{"$f":"IF(OR('16-Expenditure'!D437=0,ISNUMBER('16-Expenditure'!D437)=FALSE),\"\",'16-Expenditure'!D437)","v":""},{"$f":"IF(OR('16-Expenditure'!E437=0,ISNUMBER('16-Expenditure'!E437)=FALSE),\"\",'16-Expenditure'!E437)","v":""},null,"",{"$f":"IF(AH628=\"Y\",IF(VLOOKUP(A628,PLFN3,4,FALSE)=0,\"\",VLOOKUP(A628,PLFN3,4,FALSE)),\"\")","v":""},"",{"$f":"IF(AI628=\"Y\",IF(VLOOKUP(A628,PLFN3,5,FALSE)=0,\"\",VLOOKUP(A628,PLFN3,5,FALSE)),\"\")","v":""},null,"",null,1114,"in-gaap","false","monetary","debit","duration","item","true","",0,"INR","D2011","D2010",null,{"$f":"decimals","v":0},null,"",1,null,1,"Y","N","N","N","","","",0,0,0,null,0,0,0,"Leave encashment expenses",null,0,"","","",0,"","","",0,"","",""]
["Retirement benefits [abstract]","RetirementBenefitsAbstract",{"$nulls":3},"",null,"",null,null,"",null,1365,"in-gaap","true","string","","duration","item","true","",0,"","D2011","D2010",{"$nulls":3},"",1,null,1,"N","N","N","N","","","",0,0,0,null,0,0,0,"",null,0,"","","",0,"","","",0,"","",""]
["Gratuity","Gratuity",{"$f":"IF(OR('16-Expenditure'!D443=0,ISNUMBER('16-Expenditure'!D443)=FALSE),\"\",'16-Expenditure'!D443)","v":""},{"$f":"IF(OR('16-Expenditure'!E443=0,ISNUMBER('16-Expenditure'!E443)=FALSE),\"\",'16-Expenditure'!E443)","v":""},null,"",{"$f":"IF(AH630=\"Y\",IF(VLOOKUP(A630,PLFN3,4,FALSE)=0,\"\",VLOOKUP(A630,PLFN3,4,FALSE)),\"\")","v":""},"",{"$f":"IF(AI630=\"Y\",IF(VLOOKUP(A630,PLFN3,5,FALSE)=0,\"\",VLOOKUP(A630,PLFN3,5,FALSE)),\"\")","v":""},null,"",null,1116,"in-gaap","false","monetary","debit","duration","item","true","",0,"INR","D2011","D2010",null,{"$f":"decimals","v":0},null,"",1,null,1,"Y","N","N","N","","","",0,0,0,null,0,0,0,"Gratuity",null,0,"","","",0,"","","",0,"","",""]
["Pension schemes","PensionSchemes",{"$f":"IF(OR('16-Expenditure'!D444=0,ISNUMBER('16-Expenditure'!D444)=FALSE),\"\",'16-Expenditure'!D444)","v":""},{"$f":"IF(OR('16-Expenditure'!E444=0,ISNUMBER('16-Expenditure'!E444)=FALSE),\"\",'16-Expenditure'!E444)","v":""},null,"","","","",null,"",null,1117,"in-gaap","false","monetary","debit","duration","item","true","",0,"INR","D2011","D2010",null,0,null,"",1,null,1,"Y","N","N","N","","","",0,0,0,null,0,0,0,"Pension schemes",null,0,"","","",0,"","","",0,"","",""]
["Provident fund","ProvidentFund",{"$f":"IF(OR('16-Expenditure'!D445=0,ISNUMBER('16-Expenditure'!D445)=FALSE),\"\",'16-Expenditure'!D445)","v":""},{"$f":"IF(OR('16-Expenditure'!E445=0,ISNUMBER('16-Expenditure'!E445)=FALSE),\"\",'16-Expenditure'!E445)","v":""},null,"","","","",null,"",null,1118,"in-gaap","false","monetary","debit","duration","item","true","",0,"INR","D2011","D2010",null,0,null,"",1,null,1,"Y","N","N","N","","","",0,0,0,null,0,0,0,"Provident fund",null,0,"","","",0,"","","",0,"","",""]
["Voluntary retirement compensation","VoluntaryRetirementCompensation",{"$f":"IF(OR('16-Expenditure'!D446=0,ISNUMBER('16-Expenditure'!D446)=FALSE),\"\",'16-Expenditure'!D446)","v":""},{"$f":"IF(OR('16-Expenditure'!E446=0,ISNUMBER('16-Expenditure'!E446)=FALSE),\"\",'16-Expenditure'!E446)","v":""},null,"","","","",null,"",null,1119,"in-gaap","false","monetary","debit","duration","item","true","",0,"INR","D2011","D2010",null,0,null,"",1,null,1,"Y","N","N","N","","","",0,0,0,null,0,0,0,"Voluntary retirement compensation",null,0,"","","",0,"","","",0,"","",""]
["Other retirement benefits","OtherRetirementBenefits",{"$f":"IF(OR('16-Expenditure'!D447=0,ISNUMBER('16-Expenditure'!D447)=FALSE),\"\",'16-Expenditure'!D447)","v":""},{"$f":"IF(OR('16-Expenditure'!E447=0,ISNUMBER('16-Expenditure'!E447)=FALSE),\"\",'16-Expenditure'!E447)","v":""},null,"","","","",null,"",null,1120,"in-gaap","false","monetary","debit","duration","item","true","",0,"INR","D2011","D2010",null,0,null,"",1,null,1,"Y","N","N","N","","","",0,0,0,null,0,0,0,"Other retirement benefits",null,0,"","","",0,"","","",0,"","",""]
["Retirement benefits","RetirementBenefits",{"$f":"IF(OR('16-Expenditure'!D448=0,ISNUMBER('16-Expenditure'!D448)=FALSE),\"\",'16-Expenditure'!D448)","v":""},{"$f":"IF(OR('16-Expenditure'!E448=0,ISNUMBER('16-Expenditure'!E448)=FALSE),\"\",'16-Expenditure'!E448)","v":""},null,"","","","",null,"",null,1115,"in-gaap","false","monetary","debit","duration","item","true","",0,"INR","D2011","D2010",null,0,null,"",1,null,1,"Y","N","N","N","","","",0,0,0,null,0,0,0,"Retirement benefits",null,0,"","","",0,"","","",0,"","",""]
["Employees remuneration benefits","EmployeesRemunerationBenefits",{"$f":"IF(OR('16-Expenditure'!D439=0,ISNUMBER('16-Expenditure'!D439)=FALSE),\"\",'16-Expenditure'!D439)","v":""},{"$f":"IF(OR('16-Expenditure'!E439=0,ISNUMBER('16-Expenditure'!E439)=FALSE),\"\",'16-Expenditure'!E439)","v":""},null,"","","","",null,"",null,1109,"in-gaap","false","monetary","debit","duration","item","true","","This is a mandatory field.","INR","D2011","D2010",null,0,"M","",1,null,1,"Y","Y","Y","N","<in-gaap:EmployeesRemunerationBenefits unitRef=\"INR\" contextRef=\"D2011\" decimals=\"0\" >0</in-gaap:EmployeesRemunerationBenefits>","<in-gaap:EmployeesRemunerationBenefits unitRef=\"INR\" contextRef=\"D2010\" decimals=\"0\" >0</in-gaap:EmployeesRemunerationBenefits>","",0,0,0,null,0,0,0,"Employees remuneration benefits",null,0,"","","",0,"","","",0,"","",""]
["Staff welfare expenses","StaffWelfareExpenses",{"$f":"IF(OR('16-Expenditure'!D423=0,ISNUMBER('16-Expenditure'!D423)=FALSE),\"\",'16-Expenditure'!D423)","v":""},{"$f":"IF(OR('16-Expenditure'!E423=0,ISNUMBER('16-Expenditure'!E423)=FALSE),\"\",'16-Expenditure'!E423)","v":""},null,"","","","",null,"",null,1121,"in-gaap","false","monetary","debit","duration","item","true","",0,"INR","D2011","D2010",null,0,null,"",1,null,1,"Y","N","N","N","","","",0,0,0,null,0,0,0,"Staff welfare expenses",null,0,"","","",0,"","","",0,"","",""]
["Training recruitment expenses","TrainingRecruitmentExpenses",{"$f":"IF(OR('16-Expenditure'!D424=0,ISNUMBER('16-Expenditure'!D424)=FALSE),\"\",'16-Expenditure'!D424)","v":""},{"$f":"IF(OR('16-Expenditure'!E424=0,ISNUMBER('16-Expenditure'!E424)=FALSE),\"\",'16-Expenditure'!E424)","v":""},null,"","","","",null,"",null,1122,"in-gaap","false","monetary","debit","duration","item","true","",0,"INR","D2011","D2010",null,0,null,"",1,null,1,"Y","N","N","N","","","",0,0,0,null,0,0,0,"Training recruitment expenses",null,0,"","","",0,"","","",0,"","",""]
["Other employee related expenses","OtherEmployeeRelatedExpenses",{"$f":"IF(OR('16-Expenditure'!D425=0,ISNUMBER('16-Expenditure'!D425)=FALSE),\"\",'16-Expenditure'!D425)","v":""},{"$f":"IF(OR('16-Expenditure'!E425=0,ISNUMBER('16-Expenditure'!E425)=FALSE),\"\",'16-Expenditure'!E425)","v":""},null,"","","","",null,"",null,1123,"in-gaap","false","monetary","debit","duration","item","true","",0,"INR","D2011","D2010",null,0,null,"",1,null,1,"Y","N","N","N","","","",0,0,0,null,0,0,0,"Other employee related expenses",null,0,"","","",0,"","","",0,"","",""]
["Capitalisation employee expenses","CapitalisationEmployeeExpenses",{"$f":"IF(OR('16-Expenditure'!D428=0,ISNUMBER('16-Expenditure'!D428)=FALSE),\"\",'16-Expenditure'!D428)","v":""},{"$f":"IF(OR('16-Expenditure'!E428=0,ISNUMBER('16-Expenditure'!E428)=FALSE),\"\",'16-Expenditure'!E428)","v":""},null,"","","","",null,"",null,1124,"in-gaap","false","monetary","credit","duration","item","true","",0,"INR","D2011","D2010",null,0,null,"",2,null,1,"Y","N","N","N","","","",0,0,0,null,0,0,0,"Capitalisation employee expenses",null,0,"","","",0,"","","",0,"","",""]
["Share employee related expenses joint ventures","ShareEmployeeRelatedExpensesJointVentures",{"$f":"IF(OR('16-Expenditure'!D426=0,ISNUMBER('16-Expenditure'!D426)=FALSE),\"\",'16-Expenditure'!D426)","v":""},{"$f":"IF(OR('16-Expenditure'!E426=0,ISNUMBER('16-Expenditure'!E426)=FALSE),\"\",'16-Expenditure'!E426)","v":""},null,"","","","",null,"",null,1125,"in-gaap","false","monetary","debit","duration","item","true","",0,"INR","D2011","D2010",null,0,null,"",1,null,1,{"$f":"IF(CONSOLCHECK=\"C\",IF(OR(O641=\"true\",AE641=\"D\"),\"N\",\"Y\"),\"N\")","v":"N"},"N","N","N","","","",0,0,0,null,0,0,0,"",null,0,"","","",0,"","","",0,"","",""]
["Employee related expenses","EmployeeRelatedExpenses",{"$f":"IF(OR('16-Expenditure'!D429=0,ISNUMBER('16-Expenditure'!D429)=FALSE),\"\",'16-Expenditure'!D429)","v":""},{"$f":"IF(OR('16-Expenditure'!E429=0,ISNUMBER('16-Expenditure'!E429)=FALSE),\"\",'16-Expenditure'!E429)","v":""},null,"","","","",null,"",null,1108,"in-gaap","false","monetary","debit","duration","item","true","","This is a mandatory field.","INR","D2011","D2010",null,0,"M","",3,null,1,"Y","Y","Y","N","<in-gaap:EmployeeRelatedExpenses unitRef=\"INR\" contextRef=\"D2011\" decimals=\"0\" >0</in-gaap:EmployeeRelatedExpenses>","<in-gaap:EmployeeRelatedExpenses unitRef=\"INR\" contextRef=\"D2010\" decimals=\"0\" >0</in-gaap:EmployeeRelatedExpenses>","",0,0,0,null,0,0,0,"Employee related expenses",null,0,"","","",0,"","","",0,"","",""]
["Research development expenditure [abstract]","ResearchDevelopmentExpenditureAbstract",{"$nulls":3},"",null,"",null,null,"",null,1379,"in-gaap","true","string","","duration","item","true","",0,"","D2011","D2010",{"$nulls":3},"",1,null,1,"N","N","N","N","","","",0,0,0,null,0,0,0,"",null,0,"","","",0,"","","",0,"","",""]
["Cost material research development","CostMaterialResearchDevelopment",{"$f":"IF(OR('16-Expenditure'!D452=0,ISNUMBER('16-Expenditure'!D452)=FALSE),\"\",'16-Expenditure'!D452)","v":""},{"$f":"IF(OR('16-Expenditure'!E452=0,ISNUMBER('16-Expenditure'!E452)=FALSE),\"\",'16-Expenditure'!E452)","v":""},null,"",{"$f":"IF(AH644=\"Y\",IF(VLOOKUP(A644,PLFN3,4,FALSE)=0,\"\",VLOOKUP(A644,PLFN3,4,FALSE)),\"\")","v":""},"",{"$f":"IF(AI644=\"Y\",IF(VLOOKUP(A644,PLFN3,5,FALSE)=0,\"\",VLOOKUP(A644,PLFN3,5,FALSE)),\"\")","v":""},null,"",null,1218,"in-gaap","false","monetary","debit","duration","item","true","",0,"INR","D2011","D2010",null,{"$f":"decimals","v":0},null,"",1,null,1,"Y","N","N","N","","","",0,0,0,null,{"$f":"IF(AQ644=\"P\",IF(C644<0,1,0),0)","v":0},{"$f":"IF(AQ644=\"P\",IF(D644<0,1,0),0)","v":0},0,"Cost material research development",null,0,"","","",0,"","","",0,"","",""]
["Cost labour research development","CostLabourResearchDevelopment",{"$f":"IF(OR('16-Expenditure'!D453=0,ISNUMBER('16-Expenditure'!D453)=FALSE),\"\",'16-Expenditure'!D453)","v":""},{"$f":"IF(OR('16-Expenditure'!E453=0,ISNUMBER('16-Expenditure'!E453)=FALSE),\"\",'16-Expenditure'!E453)","v":""},null,"","","","",null,"",null,1219,"in-gaap","false","monetary","debit","duration","item","true","",0,"INR","D2011","D2010",null,0,null,"",1,null,1,"Y","N","N","N","","","",0,0,0,null,0,0,0,"Cost labour research development",null,0,"","","",0,"","","",0,"","",""]
["Cost testing trial research development","CostTestingTrialResearchDevelopment",{"$f":"IF(OR('16-Expenditure'!D454=0,ISNUMBER('16-Expenditure'!D454)=FALSE),\"\",'16-Expenditure'!D454)","v":""},{"$f":"IF(OR('16-Expenditure'!E454=0,ISNUMBER('16-Expenditure'!E454)=FALSE),\"\",'16-Expenditure'!E454)","v":""},null,"","","","",null,"",null,1220,"in-gaap","false","monetary","debit","duration","item","true","",0,"INR","D2011","D2010",null,0,null,"",1,null,1,"Y","N","N","N","","","",0,0,0,null,0,0,0,"Cost testing trial research development",null,0,"","","",0,"","","",0,"","",""]
["Administration general expenses research development","AdministrationGeneralExpensesResearchDevelopment",{"$f":"IF(OR('16-Expenditure'!D455=0,ISNUMBER('16-Expenditure'!D455)=FALSE),\"\",'16-Expenditure'!D455)","v":""},{"$f":"IF(OR('16-Expenditure'!E455=0,ISNUMBER('16-Expenditure'!E455)=FALSE),\"\",'16-Expenditure'!E455)","v":""},null,"","","","",null,"",null,1221,"in-gaap","false","monetary","debit","duration","item","true","",0,"INR","D2011","D2010",null,0,null,"",1,null,1,"Y","N","N","N","","","",0,0,0,null,0,0,0,"Administration general expenses research development",null,{"$f":"IF(F647<>\"\",\"1\",0)","v":0},{"$f":"IF(F647<>\"\",\"<link:loc xlink:href=\"&\"\"\"\"&\"#\"&\"TA\"&F647&\"\"\"\"&\" xlink:type=\"&\"\"\"\"&\"locator\"&\"\"\"\"&\" xlink:label=\"&\"\"\"\"&\"value\"&AN647&\"\"\"\"&\"/>\",\"\")","v":""},{"$f":"IF(F647<>\"\",\"<link:footnote xlink:role=\"&\"\"\"\"&\"http://www.xbrl.org/2003/role/footnote\"&\"\"\"\"&\" xml:lang=\"&\"\"\"\"&\"en\"&\"\"\"\"&\" xlink:type=\"&\"\"\"\"&\"resource\"&\"\"\"\"&\" xlink:label=\"&\"\"\"\"&\"footnote\"&AN647&\"\"\"\"&\">\"&G647&\"</link:footnote>\",\"\")","v":""},{"$f":"IF(F647<>\"\",\"<link:footnoteArc xlink:type=\"&\"\"\"\"&\"arc\"&\"\"\"\"&\" order=\"&\"\"\"\"&\"1.0\"&\"\"\"\"& \" xlink:to=\"&\"\"\"\"&\"footnote\"&AN647&\"\"\"\"& \" xlink:from=\"&\"\"\"\"&\"value\"&AN647&\"\"\"\"&\" xlink:arcrole=\"&\"\"\"\"&\"http://www.xbrl.org/2003/arcrole/fact-footnote\"&\"\"\"\"&\"/>\",\"\")","v":""},{"$f":"IF(H647<>\"\",\"1\",0)","v":0},{"$f":"IF(H647<>\"\",\"<link:loc xlink:href=\"&\"\"\"\"&\"#\"&\"TA\"&H647&\"\"\"\"&\" xlink:type=\"&\"\"\"\"&\"locator\"&\"\"\"\"&\" xlink:label=\"&\"\"\"\"&\"value\"&AO647&\"\"\"\"&\"/>\",\"\")","v":""},{"$f":"IF(H647<>\"\",\"<link:footnote xlink:role=\"&\"\"\"\"&\"http://www.xbrl.org/2003/role/footnote\"&\"\"\"\"&\" xml:lang=\"&\"\"\"\"&\"en\"&\"\"\"\"&\" xlink:type=\"&\"\"\"\"&\"resource\"&\"\"\"\"&\" xlink:label=\"&\"\"\"\"&\"footnote\"&AO647&\"\"\"\"&\">\"&I647&\"</link:footnote>\",\"\")","v":""},{"$f":"IF(H647<>\"\",\"<link:footnoteArc xlink:type=\"&\"\"\"\"&\"arc\"&\"\"\"\"&\" order=\"&\"\"\"\"&\"1.0\"&\"\"\"\"& \" xlink:to=\"&\"\"\"\"&\"footnote\"&AO647&\"\"\"\"& \" xlink:from=\"&\"\"\"\"&\"value\"&AO647&\"\"\"\"&\" xlink:arcrole=\"&\"\"\"\"&\"http://www.xbrl.org/2003/arcrole/fact-footnote\"&\"\"\"\"&\"/>\",\"\")","v":""},{"$f":"IF(K647<>\"\",\"1\",0)","v":0},{"$f":"IF(K647<>\"\",\"<link:loc xlink:href=\"&\"\"\"\"&\"#\"&\"TA\"&K647&\"\"\"\"&\" xlink:type=\"&\"\"\"\"&\"locator\"&\"\"\"\"&\" xlink:label=\"&\"\"\"\"&\"value\"&AP647&\"\"\"\"&\"/>\",\"\")","v":""},{"$f":"IF(K647<>\"\",\"<link:footnote xlink:role=\"&\"\"\"\"&\"http://www.xbrl.org/2003/role/footnote\"&\"\"\"\"&\" xml:lang=\"&\"\"\"\"&\"en\"&\"\"\"\"&\" xlink:type=\"&\"\"\"\"&\"resource\"&\"\"\"\"&\" xlink:label=\"&\"\"\"\"&\"footnote\"&AP647&\"\"\"\"&\">\"&L647&\"</link:footnote>\",\"\")","v":""},{"$f":"IF(K647<>\"\",\"<link:footnoteArc xlink:type=\"&\"\"\"\"&\"arc\"&\"\"\"\"&\" order=\"&\"\"\"\"&\"1.0\"&\"\"\"\"& \" xlink:to=\"&\"\"\"\"&\"footnote\"&AP647&\"\"\"\"& \" xlink:from=\"&\"\"\"\"&\"value\"&AP647&\"\"\"\"&\" xlink:arcrole=\"&\"\"\"\"&\"http://www.xbrl.org/2003/arcrole/fact-footnote\"&\"\"\"\"&\"/>\",\"\")","v":""}]
["Depreciation amortisation research development","DepreciationAmortisationResearchDevelopment",{"$f":"IF(OR('16-Expenditure'!D456=0,ISNUMBER('16-Expenditure'!D456)=FALSE),\"\",'16-Expenditure'!D456)","v":""},{"$f":"IF(OR('16-Expenditure'!E456=0,ISNUMBER('16-Expenditure'!E456)=FALSE),\"\",'16-Expenditure'!E456)","v":""},null,"","","","",null,"",null,1222,"in-gaap","false","monetary","debit","duration","item","true","",0,"INR","D2011","D2010",null,0,null,"",1,null,1,"Y","N","N","N","","","",0,0,0,null,0,0,0,"Depreciation amortisation research development",null,0,"","","",0,"","","",0,"","",""]
["Other adjustments research development","OtherAdjustmentsResearchDevelopment",{"$f":"IF(OR('16-Expenditure'!D457=0,ISNUMBER('16-Expenditure'!D457)=FALSE),\"\",'16-Expenditure'!D457)","v":""},{"$f":"IF(OR('16-Expenditure'!E457=0,ISNUMBER('16-Expenditure'!E457)=FALSE),\"\",'16-Expenditure'!E457)","v":""},null,"","","","",null,"",null,1223,"in-gaap","false","monetary","debit","duration","item","true",{"$f":"VLOOKUP(B649,XBRLBusinessRules,10,FALSE)","v":""},0,"INR","D2011","D2010",null,0,null,"",1,null,1,"Y","N","N","N","","","",0,0,0,null,0,0,0,"Other adjustments research development",null,0,"","","",0,"","","",0,"","",""]
["Capitalisation research development expenditure","CapitalisationResearchDevelopmentExpenditure",{"$f":"IF(OR('16-Expenditure'!D459=0,ISNUMBER('16-Expenditure'!D459)=FALSE),\"\",'16-Expenditure'!D459)","v":""},{"$f":"IF(OR('16-Expenditure'!E459=0,ISNUMBER('16-Expenditure'!E459)=FALSE),\"\",'16-Expenditure'!E459)","v":""},null,"","","","",null,"",null,1224,"in-gaap","false","monetary","credit","duration","item","true","",0,"INR","D2011","D2010",null,0,null,"",1,null,1,"Y","N","N","N","","","",0,0,0,null,0,0,0,"Capitalisation research development expenditure",null,0,"","","",0,"","","",0,"","",""]
["Research development expenditure","ResearchDevelopmentExpenditure",{"$f":"IF(OR('16-Expenditure'!D460=0,ISNUMBER('16-Expenditure'!D460)=FALSE),\"\",'16-Expenditure'!D460)","v":""},{"$f":"IF(OR('16-Expenditure'!E460=0,ISNUMBER('16-Expenditure'!E460)=FALSE),\"\",'16-Expenditure'!E460)","v":""},null,"","","","",null,"",null,1217,"in-gaap","false","monetary","debit","duration","item","true","",0,"INR","D2011","D2010",null,0,null,"",3,"D",1,"N","N","N","N","","","",0,0,0,null,0,0,0,"",null,0,"","","",0,"","","",0,"","",""]
["Tax effect discontinuing operations [abstract]","TaxEffectDiscontinuingOperationsAbstract",{"$nulls":3},"",null,"",null,null,"",null,1405,"in-gaap","true","string","","duration","item","true","",0,"","D2011","D2010",{"$nulls":3},"",2,"D",1,"N","N","N","N","","","",0,0,0,null,0,0,0,"",null,0,"","","",0,"","","",0,"","",""]
["Tax effect income loss discontinuing operations","TaxEffectIncomeLossDiscontinuingOperations",{"$f":"IF(OR('16-Expenditure'!D464=0,ISNUMBER('16-Expenditure'!D464)=FALSE),\"\",'16-Expenditure'!D464)","v":""},{"$f":"IF(OR('16-Expenditure'!E464=0,ISNUMBER('16-Expenditure'!E464)=FALSE),\"\",'16-Expenditure'!E464)","v":""},null,"",{"$f":"IF(AH653=\"Y\",IF(VLOOKUP(A653,PLFN3,4,FALSE)=0,\"\",VLOOKUP(A653,PLFN3,4,FALSE)),\"\")","v":""},"",{"$f":"IF(AI653=\"Y\",IF(VLOOKUP(A653,PLFN3,5,FALSE)=0,\"\",VLOOKUP(A653,PLFN3,5,FALSE)),\"\")","v":""},null,"",null,1294,"in-gaap","false","monetary","","duration","item","true","",0,"INR","D2011","D2010",null,{"$f":"decimals","v":0},null,"",2,"D",1,"N","N","N","N","","","",0,0,0,null,0,0,0,"",null,0,"","","",0,"","","",0,"","",""]
["Tax effect sale disposal discontinuing operations","TaxEffectSaleDisposalDiscontinuingOperations",{"$f":"IF(OR('16-Expenditure'!D465=0,ISNUMBER('16-Expenditure'!D465)=FALSE),\"\",'16-Expenditure'!D465)","v":""},{"$f":"IF(OR('16-Expenditure'!E465=0,ISNUMBER('16-Expenditure'!E465)=FALSE),\"\",'16-Expenditure'!E465)","v":""},null,"",{"$f":"IF(AH654=\"Y\",IF(VLOOKUP(A654,PLFN3,4,FALSE)=0,\"\",VLOOKUP(A654,PLFN3,4,FALSE)),\"\")","v":""},"",{"$f":"IF(AI654=\"Y\",IF(VLOOKUP(A654,PLFN3,5,FALSE)=0,\"\",VLOOKUP(A654,PLFN3,5,FALSE)),\"\")","v":""},null,"",null,1295,"in-gaap","false","monetary","","duration","item","true","",0,"INR","D2011","D2010",null,{"$f":"decimals","v":0},null,"",2,"D",1,"N","N","N","N","","","",0,0,0,null,0,0,0,"",null,0,"","","",0,"","","",0,"","",""]
["Tax effect discontinuing operations","TaxEffectDiscontinuingOperations",{"$f":"IF(OR('16-Expenditure'!D466=0,ISNUMBER('16-Expenditure'!D466)=FALSE),\"\",'16-Expenditure'!D466)","v":""},{"$f":"IF(OR('16-Expenditure'!E466=0,ISNUMBER('16-Expenditure'!E466)=FALSE),\"\",'16-Expenditure'!E466)","v":""},null,"",{"$f":"IF(AH655=\"Y\",IF(VLOOKUP(A655,PLFN3,4,FALSE)=0,\"\",VLOOKUP(A655,PLFN3,4,FALSE)),\"\")","v":""},"",{"$f":"IF(AI655=\"Y\",IF(VLOOKUP(A655,PLFN3,5,FALSE)=0,\"\",VLOOKUP(A655,PLFN3,5,FALSE)),\"\")","v":""},null,"",null,921,"in-gaap","false","monetary","","duration","item","true","",0,"INR","D2011","D2010",null,{"$f":"decimals","v":0},null,"",4,"D",1,"N","N","N","N","","","",0,0,0,null,0,0,0,"",null,0,"","","",0,"","","",0,"","",""]
["[610000] General information about financial statements","GeneralInformationAboutFinancialStatements"]
["Disclosure of general information about company [abstract]","DisclosureOfGeneralInformationAboutCompanyAbstract",{"$nulls":3},{"$f":"IF(AND(AH657=\"Y\",G657<>\"\"),\"PL\"&AN657,\"\")","v":""},null,{"$f":"IF(AND(AI657=\"Y\",I657<>\"\"),\"PL\"&AO657,\"\")","v":""},null,null,{"$f":"IF(AND(AJ657=\"Y\",L657<>\"\"),\"PL\"&AP657,\"\")","v":""},null,{"$f":"VLOOKUP(B657,XBRLBusinessRules,2,FALSE)","v":3106},{"$f":"VLOOKUP(B657,XBRLBusinessRules,3,FALSE)","v":"in-ca"},{"$f":"VLOOKUP(B657,XBRLBusinessRules,4,FALSE)","v":"true"},{"$f":"VLOOKUP(B657,XBRLBusinessRules,5,FALSE)","v":"string"},{"$f":"VLOOKUP(B657,XBRLBusinessRules,6,FALSE)","v":""},{"$f":"VLOOKUP(B657,XBRLBusinessRules,7,FALSE)","v":"duration"},{"$f":"VLOOKUP(B657,XBRLBusinessRules,8,FALSE)","v":"item"},{"$f":"VLOOKUP(B657,XBRLBusinessRules,9,FALSE)","v":"true"},{"$f":"VLOOKUP(B657,XBRLBusinessRules,10,FALSE)","v":""},{"$f":"VLOOKUP(B657,XBRLBusinessRules,11,FALSE)","v":0},null,{"$f":"UPPER(LEFT(R657,1))&CYEND","v":"D2011"},{"$f":"UPPER(LEFT(R657,1))&PYEND","v":"D2010"},{"$nulls":3},{"$f":"IF(V657=\"This can be entered only in case of Consolidated instance document\",\"C\",\"\")","v":""},{"$f":"COUNTIF(TagNamePL,\"=\"&B657)","v":1},null,{"$f":"AD657-COUNTIFS(TagNamePL,B657,TagPLD,\"D\")","v":1},{"$f":"IF(OR(O657=\"true\",AE657=\"D\"),\"N\",\"Y\")","v":"N"},{"$f":"IF(OR(AND(C657=\"\",(AB657=\"M\")=FALSE),AG657=\"N\"),\"N\",\"Y\")","v":"N"},{"$f":"IF(OR(AND(D657=\"\",(AB657=\"M\")=FALSE),AG657=\"N\"),\"N\",\"Y\")","v":"N"},{"$f":"IF(AND(COUNTBLANK(X657:Z657)=0,AG657=\"Y\"),IF(OR(AB657=\"M\",E657<>\"\"),\"Y\",\"N\"),\"N\")","v":"N"},{"$f":"IF(AH657=\"Y\",(\"<\"&N657&\":\"&B657&\" \"&IF(F657=\"\",\"\",\"id=\"\"\"&\"TA\"&F657&\"\"\"\"&\" \")&IF(OR(P657=\"monetary\",W657<>\"\"),\"unitRef=\"\"\"&W657&\"\"\"\"&\" \",\"\")&IF(X657=\"\",\"\",\"contextRef=\"\"\"&X657&\"\"\"\"&\" \")&IF(OR(P657=\"monetary\",AA657<>\"\"),\"decimals=\"\"\"&decimals&\"\"\"\"&\" \",\"\")&\">\")&IF(C657=\"\",0,C657)&\"</\"&N657&\":\"&B657&\">\",\"\")","v":""},{"$f":"IF(AI657=\"Y\",(\"<\"&N657&\":\"&B657&\" \"&IF(H657=\"\",\"\",\"id=\"\"\"&\"TA\"&H657&\"\"\"\"&\" \")&IF(OR(P657=\"monetary\",W657<>\"\"),\"unitRef=\"\"\"&W657&\"\"\"\"&\" \",\"\")&IF(Y657=\"\",\"\",\"contextRef=\"\"\"&Y657&\"\"\"\"&\" \")&IF(OR(P657=\"monetary\",AA657<>\"\"),\"decimals=\"\"\"&decimals&\"\"\"\"&\" \",\"\")&\">\")&IF(D657=\"\",0,D657)&\"</\"&N657&\":\"&B657&\">\",\"\")","v":""},{"$f":"IF(AJ657=\"Y\",(\"<\"&N657&\":\"&B657&\" \"&IF(K657=\"\",\"\",\"id=\"\"\"&\"TA\"&K657&\"\"\"\"&\" \")&IF(OR(P657=\"monetary\",W657<>\"\"),\"unitRef=\"\"\"&W657&\"\"\"\"&\" \",\"\")&IF(Z657=\"\",\"\",\"contextRef=\"\"\"&Z657&\"\"\"\"&\" \")&IF(OR(P657=\"monetary\",AA657<>\"\"),\"decimals=\"\"\"&decimals&\"\"\"\"&\" \",\"\")&\">\")&IF(E657=\"\",0,E657)&\"</\"&N657&\":\"&B657&\">\",\"\")","v":""},{"$f":"IF(AND(AH657=\"Y\",G657<>\"\"),AP655+1,AP655)","v":0},{"$f":"IF(AND(AI657=\"Y\",I657<>\"\"),AN657+1,AN657)","v":0},{"$f":"IF(AND(AJ657=\"Y\",L657<>\"\"),AO657+1,AO657)","v":0},null,0,0,{"$f":"IF(AF657=1,0,1)","v":0},null,null,0,"","","",0,"","","",0,"","",""]
["Disclosure of company information [abstract]","DisclosureOfCompanyInformationAbstract",{"$nulls":3},"",null,"",null,null,"",null,3104,"in-ca","true","string","","duration","item","true","",0,null,"D2011","D2010",{"$nulls":3},"",1,null,1,"N","N","N","N","","","",{"$f":"IF(AND(AH658=\"Y\",G658<>\"\"),AP657+1,AP657)","v":0},{"$f":"IF(AND(AI658=\"Y\",I658<>\"\"),AN658+1,AN658)","v":0},{"$f":"IF(AND(AJ658=\"Y\",L658<>\"\"),AO658+1,AO658)","v":0},null,0,0,0,null,null,0,"","","",0,"","","",0,"","",""]
["Name of company","NameOfCompany",{"$f":"IF(OR(GenInfo!H4=0,ISERROR((GenInfo!D4)=FALSE)),GenInfo!D4,\"\")","v":""},null,null,"",null,"",null,null,"",null,3138,"in-ca","false","string","","duration","item","true","","This is a mandatory field. Name should be based on CIN.",null,"D2011","D2010",null,null,"M","",1,null,1,"Y","Y","N","N","<in-ca:NameOfCompany contextRef=\"D2011\" >0</in-ca:NameOfCompany>","","",{"$f":"IF(AND(AH659=\"Y\",G659<>\"\"),AP658+1,AP658)","v":0},{"$f":"IF(AND(AI659=\"Y\",I659<>\"\"),AN659+1,AN659)","v":0},{"$f":"IF(AND(AJ659=\"Y\",L659<>\"\"),AO659+1,AO659)","v":0},null,0,0,0,null,null,0,"","","",0,"","","",0,"","",""]
["Corporate identity number","CorporateIdentityNumber",{"$f":"IF(OR(ISERROR(GenInfo!D5)=FALSE,GenInfo!H5=0),GenInfo!D5,\"\")","v":0},null,null,"",null,"",null,null,"",null,3044,"in-ca","false","in-ca-types:CINNumber","","duration","item","true","","This is a mandatory field. Valid CIN. Should be same as entered in the Form.",null,"D2011","D2010",null,null,"M","",1,null,1,"Y","Y","N","N","<in-ca:CorporateIdentityNumber contextRef=\"D2011\" >0</in-ca:CorporateIdentityNumber>","","",0,0,0,null,0,0,0,null,null,0,"","","",0,"","","",0,"","",""]
["Permanent account number of entity","PermanentAccountNumberOfEntity",{"$f":"IF(CONSOLCHECK=\"C\",\"\",IF(OR(ISERROR(GenInfo!D6=FALSE),GenInfo!H6=0),GenInfo!D6,\"\"))","v":""},null,null,"",null,"",null,null,"",null,3181,"in-ca","false","string","","duration","item","true","","This is a mandatory field. Should be valid PAN as per Income_tax_PAN  format.",null,"D2011","D2010",null,null,"M","",1,null,1,{"$f":"IF(OR(O661=\"true\",AE661=\"D\",CONSOLCHECK=\"C\"),\"N\",\"Y\")","v":"Y"},"Y","N","N","<in-ca:PermanentAccountNumberOfEntity contextRef=\"D2011\" >0</in-ca:PermanentAccountNumberOfEntity>","","",0,0,0,null,0,0,0,null,null,0,"","","",0,"","","",0,"","",""]
["Address of registered office of company","AddressOfRegisteredOfficeOfCompany",{"$f":"IF(CONSOLCHECK=\"C\",\"\",IF(OR(ISERROR(GenInfo!D7)=FALSE,GenInfo!H7=0),GenInfo!D7,\"\"))","v":0},null,null,"",null,"",null,null,"",null,3041,"in-ca","false","string","","duration","item","true","","This is a mandatory field.",null,"D2011","D2010",null,null,"M","",1,null,1,{"$f":"IF(OR(O662=\"true\",AE662=\"D\",CONSOLCHECK=\"C\"),\"N\",\"Y\")","v":"Y"},"Y","N","N","<in-ca:AddressOfRegisteredOfficeOfCompany contextRef=\"D2011\" >0</in-ca:AddressOfRegisteredOfficeOfCompany>","","",0,0,0,null,0,0,0,null,null,0,"","","",0,"","","",0,"","",""]
["Type of industry","TypeOfIndustry",{"$f":"IF(OR(ISERROR(GenInfo!D8)=FALSE,GenInfo!H8=0),GenInfo!D8,\"\")","v":"Commercial and Industrial"},null,null,"",null,"",null,null,"",null,3157,"in-ca","false","in-ca-types:IndustryType","","duration","item","true","Commercial and Industrial, Bank, NBFC, Power, Insurance","This is a mandatory field. Only Commercial and Industrial can be selected for the time being.",null,"D2011","D2010",null,null,"M","",1,null,1,"Y","Y","N","N","<in-ca:TypeOfIndustry contextRef=\"D2011\" >Commercial and Industrial</in-ca:TypeOfIndustry>","","",0,0,0,null,0,0,0,null,null,0,"","","",0,"","","",0,"","",""]
["Disclosure of document information [abstract]","DisclosureOfDocumentInformationAbstract",{"$nulls":3},"",null,"",null,null,"",null,3105,"in-ca","true","string","","duration","item","true","",0,null,"D2011","D2010",{"$nulls":3},"",1,null,1,"N","N","N","N","","","",0,0,0,null,0,0,0,null,null,0,"","","",0,"","","",0,"","",""]
["Date of board meeting when final accounts were approved","DateOfBoardMeetingWhenFinalAccountsWereApproved",{"$f":"IF(CONSOLCHECK=\"C\",\"\",IF(OR(GenInfo!H21=0,ISERROR((GenInfo!E21))=FALSE),GenInfo!E21,\"\"))","v":"1900-01-00"},null,null,"",null,"",null,null,"",null,3047,"in-ca","false","date","","duration","item","true","","This is a mandatory field. Should be less than or equal to system date.\nShould be greater than or equal to DateOfEndOfReportingPeriod\n",null,"D2011","D2010",null,null,"M","",1,null,1,{"$f":"IF(OR(O665=\"true\",AE665=\"D\",CONSOLCHECK=\"C\"),\"N\",\"Y\")","v":"Y"},"Y","N","N","<in-ca:DateOfBoardMeetingWhenFinalAccountsWereApproved contextRef=\"D2011\" >1900-01-00</in-ca:DateOfBoardMeetingWhenFinalAccountsWereApproved>","","",0,0,0,null,0,0,0,null,null,0,"","","",0,"","","",0,"","",""]
["Period covered by financial statements","PeriodCoveredByFinancialStatements",{"$f":"IF(OR(GenInfo!H15=0,ISERROR(GenInfo!D15)=FALSE),GenInfo!D15,\"\")","v":"12 MONTHS"},null,null,"",null,"",null,null,"",null,3145,"in-ca","false","string","","duration","item","true","",0,null,"D2011","D2010",null,null,"M","",1,null,1,{"$f":"IF(OR(O666=\"true\",AE666=\"D\"),\"N\",\"Y\")","v":"Y"},"Y","N","N","<in-ca:PeriodCoveredByFinancialStatements contextRef=\"D2011\" >12 MONTHS</in-ca:PeriodCoveredByFinancialStatements>","","",0,0,0,null,0,0,0,null,null,0,"","","",0,"","","",0,"","",""]
["Date of start of reporting period","DateOfStartOfReportingPeriod",{"$f":"IF(OR(GenInfo!H16=0,ISERROR(GenInfo!E16)=FALSE),GenInfo!E16,\"\")","v":"2010-04-01"},{"$f":"IF(OR(GenInfo!H18=0,ISERROR(GenInfo!E18)=FALSE),GenInfo!E18,\"\")","v":"2009-04-01"},null,"",null,"",null,null,"",null,3053,"in-ca","false","date","","duration","item","true","","This is a mandatory field. Should be less than or equal to system date.  Should be same as entered in the Form for the current year.",null,"D2011","D2010",null,null,"M","",1,null,1,"Y","Y","Y","N","<in-ca:DateOfStartOfReportingPeriod contextRef=\"D2011\" >2010-04-01</in-ca:DateOfStartOfReportingPeriod>","<in-ca:DateOfStartOfReportingPeriod contextRef=\"D2010\" >2009-04-01</in-ca:DateOfStartOfReportingPeriod>","",0,0,0,null,0,0,0,null,null,0,"","","",0,"","","",0,"","",""]
["Date of end of reporting period","DateOfEndOfReportingPeriod",{"$f":"IF(OR(GenInfo!H17=0,ISERROR(GenInfo!E17)=FALSE),GenInfo!E17,\"\")","v":"2011-03-31"},{"$f":"IF(OR(GenInfo!H19=0,ISERROR(GenInfo!E19)=FALSE),GenInfo!E19,\"\")","v":"2010-03-31"},null,"",null,"",null,null,"",null,3048,"in-ca","false","date","","duration","item","true","","This is a mandatory field. Should be less than or equal to system date. Should be greater than or equal to DateOfStartOfReportingPeriod entered. Should be same as entered in the Form for the current year.\nDifference between start date and end date should not be greater than 18 months.\n",null,"D2011","D2010",null,null,"M","",1,null,1,"Y","Y","Y","N","<in-ca:DateOfEndOfReportingPeriod contextRef=\"D2011\" >2011-03-31</in-ca:DateOfEndOfReportingPeriod>","<in-ca:DateOfEndOfReportingPeriod contextRef=\"D2010\" >2010-03-31</in-ca:DateOfEndOfReportingPeriod>","",0,0,0,null,0,0,0,null,null,0,"","","",0,"","","",0,"","",""]
["Nature of report standalone consolidated","NatureOfReportStandaloneConsolidated",{"$f":"IF(CONSOLCHECK=\"C\",\"Consolidated\",\"Standalone\")","v":"Standalone"},null,null,"",null,"",null,null,"",null,3142,"in-ca","false","in-ca-types:NatureOfReport","","duration","item","true","Standalone, Consolidated","This is a mandatory field.",null,"D2011","D2010",null,null,"M","",1,null,1,"Y","Y","N","N","<in-ca:NatureOfReportStandaloneConsolidated contextRef=\"D2011\" >Standalone</in-ca:NatureOfReportStandaloneConsolidated>","","",0,0,0,null,0,0,0,null,null,0,"","","",0,"","","",0,"","",""]
["Content of report","ContentOfReport","Profit and Loss Statement",null,null,"",null,"",null,null,"",null,3043,"in-ca","false","in-ca-types:ContentOfReport","","duration","item","true","Balance Sheet, Profit and Loss Statement","This is a mandatory field. In case of attachment to Balance sheet Form, it should be Balance sheet.\nIn case of attachment to Profit and Loss form, it should be Profit and Loss account.",null,"D2011","D2010",null,null,"M","",1,null,1,"Y","Y","N","N","<in-ca:ContentOfReport contextRef=\"D2011\" >Profit and Loss Statement</in-ca:ContentOfReport>","","",0,0,0,null,0,0,0,null,null,0,"","","",0,"","","",0,"","",""]
["Description of presentation currency","DescriptionOfPresentationCurrency","INR",null,null,"",null,"",null,null,"",null,3055,"in-ca","false","string","","duration","item","true","","This is a mandatory field. Should be INR.",null,"D2011","D2010",null,null,"M","",1,null,1,{"$f":"IF(OR(O671=\"true\",AE671=\"D\"),\"N\",\"Y\")","v":"Y"},"Y","N","N","<in-ca:DescriptionOfPresentationCurrency contextRef=\"D2011\" >INR</in-ca:DescriptionOfPresentationCurrency>","","",0,0,0,null,0,0,0,null,null,0,"","","",0,"","","",0,"","",""]
["Level of rounding used in financial statements","LevelOfRoundingUsedInFinancialStatements","Actual",null,null,"",null,"",null,null,"",null,3133,"in-ca","false","in-ca-types:LevelOfRounding","","duration","item","true","Actual, Thousands, Lakhs, Millions, Crores, Billions","This is a mandatory field.",null,"D2011","D2010",null,null,"M","",1,null,1,"Y","Y","N","N","<in-ca:LevelOfRoundingUsedInFinancialStatements contextRef=\"D2011\" >Actual</in-ca:LevelOfRoundingUsedInFinancialStatements>","","",0,0,0,null,0,0,0,null,null,0,"","","",0,"","","",0,"","",""]
["Type of balance sheet","TypeOfBalanceSheet",{"$nulls":3},"",null,"",null,null,"",null,3178,"in-ca","false","in-ca-types:TypeOfBalanceSheet","","duration","item","true","Sources and Application of Funds [Vertical Format], Total assets and liabilities [Horizontal Format]","Elements for Type of Balance Sheet- Sources-Application of funds or Total Assets-Liabilities shall be applicable based on the value selected in this element. For eg: In case type of income statement is Sources-Application of funds, only elements in respect of sources-application of funds should be there and vice-a-versa.",null,"D2011","D2010",{"$nulls":3},"",1,null,1,"N","N","N","N","","","",0,0,0,null,0,0,0,null,null,0,"","","",0,"","","",0,"","",""]
["Type of profit and loss statement","TypeOfIncomeStatement",{"$f":"IF(INTYPCHECK=\"M\",\"Main\",\"Alternative\")","v":"Main"},null,null,"",null,"",null,null,"",null,3177,"in-ca","false","in-ca-types:TypeOfIncomeStatement","","duration","item","true","Main, Alternative","Elements for Type of Income Statement- Main or Alternative shall be applicable based on the value selected in this element. For eg: In case type of income statement is Main, only elements in respect of Main income statement should be there and vice-a-versa.",null,"D2011","D2010",null,null,"M","",1,null,1,"Y","Y","N","N","<in-ca:TypeOfIncomeStatement contextRef=\"D2011\" >Main</in-ca:TypeOfIncomeStatement>","","",0,0,0,null,0,0,0,null,null,0,"","","",0,"","","",0,"","",""]
["Type of cash flow statement","TypeOfCashFlowStatement",{"$nulls":3},"",null,"",null,null,"",null,3156,"in-ca","false","in-ca-types:TypeOfCashFlowStatement","","duration","item","true","Direct Method, Indirect Method","Elements for cash flow- direct or indirect shall be applicable based on the value selected in field Type of cash flow. For eg: In case type of Cash flow is direct, only elements in respect of direct method should be there and vice-a-versa.",null,"D2011","D2010",{"$nulls":3},"",1,null,1,"N","N","N","N","","","",0,0,0,null,0,0,0,null,null,0,"","","",0,"","","",0,"","",""]
["Disclosure of other general information [abstract]","DisclosureOfOtherGeneralInformationAbstract",{"$nulls":3},"",null,"",null,null,"",null,3107,"in-ca","true","string","","duration","item","true","",0,null,"D2011","D2010",{"$nulls":3},"",1,null,1,"N","N","N","N","","","",0,0,0,null,0,0,0,null,null,0,"","","",0,"","","",0,"","",""]
["SRN of form 66","SRNOfForm66",{"$nulls":3},"",null,"",null,null,"",null,3154,"in-ca","false","in-ca-types:SRNNumber","","duration","item","true","","Should be valid SRN of Form 66 and should be associated with the company; \nSRN as entered should not have been marked as ‘Defective’.\nIf company does not have a secretary as on balance sheet date (End of reporting period) as per MCA21 database; then mandatory to enter this field in following case – Where current year paid up capital is greater than or equal to 10 lakhs but less than 5 crores",null,"D2011","D2010",{"$nulls":3},"",1,null,1,"N","N","N","N","","","",0,0,0,null,0,0,0,null,null,0,"","","",0,"","","",0,"","",""]
["Date from which register of members remained closed","DateFromWhichRegisterOfMembersRemainedClosed",{"$nulls":3},"",null,"",null,null,"",null,3046,"in-ca","false","date","","duration","item","true","","Should be less than or equal to system date.",null,"D2011","D2010",null,null,"M","",1,null,1,"N","N","N","N","","","",0,0,0,null,0,0,0,null,null,0,"","","",0,"","","",0,"","",""]
["Date till which register of members remained closed","DateTillWhichRegisterOfMembersRemainedClosed",{"$nulls":3},"",null,"",null,null,"",null,3054,"in-ca","false","date","","duration","item","true","","Should be less than or equal to system date. Should be greater than or equal to DateFromWhichRegisterOfMembersRemainedClosed",null,"D2011","D2010",null,null,"M","",1,null,1,"N","N","N","N","","","",0,0,0,null,0,0,0,null,null,0,"","","",0,"","","",0,"","",""]
["Disclosure of principal product or services [abstract]","DisclosureOfPrincipalProductOrServicesAbstract",{"$nulls":3},"",null,"",null,null,"",null,3109,"in-ca","true","string","","duration","item","true","","Not Applicable in Case of Consolidated Financial Statement",null,"D2011","D2010",{"$nulls":3},"",1,null,1,"N","N","N","N","","","",0,0,0,null,0,0,0,null,null,0,"","","",0,"","","",0,"","",""]
["Details principal products and services","DetailsOfPrincipalProductsAndServices",{"$nulls":3},{"$f":"IF(AH681=\"Y\",\"PL\"&AN681,\"\")","v":""},null,{"$f":"IF(AI681=\"Y\",\"PL\"&AO681,\"\")","v":""},null,null,{"$f":"IF(AJ681=\"Y\",\"PL\"&AP681,\"\")","v":""},null,3070,"in-ca","","","","","tuple","true","","Details of atleast one product or service should be mandatory if Total turnover is greater than zero. ",null,"2011","2010",null,null,"M","",1,null,1,"N","N","N","N"]
["ITC number of product","ITCNumberOfProduct",{"$nulls":3},"",null,"",null,null,"",null,3131,"in-ca","false","string","","duration","item","true","",0,null,"D2011","D2010",null,null,"M","",1,null,1,"N","N","N","N"]
["Description of product or services","DescriptionOfProductOrServices",{"$nulls":3},"",null,"",null,null,"",null,3056,"in-ca","false","string","","duration","item","true","",0,null,"D2011","D2010",{"$nulls":3},"",1,null,1,"N","N","N","N"]
["Unit of measurement of principal product or services","UnitOfMeasurementOfPrincipalProductOrServices",{"$nulls":3},"",null,"",null,null,"",null,3158,"in-ca","false","string","","duration","item","true","",0,null,"D2011","D2010",{"$nulls":3},"",1,null,1,"N","N","N","N"]
["Turnover of principal product or services","TurnoverOfPrincipalProductOrServices",{"$nulls":3},"",null,"",null,null,"",null,3155,"in-ca","false","monetary","credit","duration","item","true","",0,null,"D2011","D2010",{"$nulls":3},{"$f":"IF(V685=\"This can be entered only in case of Consolidated instance document\",\"C\",\"\")","v":""},1,null,1,"N","N","N","N"]
["Quantity of principal product or services (in UoM)","QuantityOfPrincipalProductOrServices",{"$nulls":3},"",null,"",null,null,"",null,3067,"in-ca","false","decimal","","duration","item","true","","Should be greater than or equal to zero",null,"D2011","D2010",null,null,"M",{"$f":"IF(V686=\"This can be entered only in case of Consolidated instance document\",\"C\",\"\")","v":""},1,null,1,"N","N","N","N"]
["[402400] Notes - Auditors Remuneration","NotesAuditorsRemuneration"]
["Auditors remuneration [abstract]","AuditorsRemunerationAbstract",{"$nulls":3},{"$f":"IF(AND(AH688=\"Y\",G688<>\"\"),\"PL\"&AN688,\"\")","v":""},null,{"$f":"IF(AND(AI688=\"Y\",I688<>\"\"),\"PL\"&AO688,\"\")","v":""},null,null,{"$f":"IF(AND(AJ688=\"Y\",L688<>\"\"),\"PL\"&AP688,\"\")","v":""},null,{"$f":"VLOOKUP(B688,XBRLBusinessRules,2,FALSE)","v":1368},{"$f":"VLOOKUP(B688,XBRLBusinessRules,3,FALSE)","v":"in-gaap"},{"$f":"VLOOKUP(B688,XBRLBusinessRules,4,FALSE)","v":"true"},{"$f":"VLOOKUP(B688,XBRLBusinessRules,5,FALSE)","v":"string"},{"$f":"VLOOKUP(B688,XBRLBusinessRules,6,FALSE)","v":""},{"$f":"VLOOKUP(B688,XBRLBusinessRules,7,FALSE)","v":"duration"},{"$f":"VLOOKUP(B688,XBRLBusinessRules,8,FALSE)","v":"item"},{"$f":"VLOOKUP(B688,XBRLBusinessRules,9,FALSE)","v":"true"},{"$f":"VLOOKUP(B688,XBRLBusinessRules,10,FALSE)","v":""},{"$f":"VLOOKUP(B688,XBRLBusinessRules,11,FALSE)","v":0},null,{"$f":"UPPER(LEFT(R688,1))&CYEND","v":"D2011"},{"$f":"UPPER(LEFT(R688,1))&PYEND","v":"D2010"},{"$nulls":3},{"$f":"IF(V688=\"This can be entered only in case of Consolidated instance document\",\"C\",\"\")","v":""},{"$f":"COUNTIF(TagNamePL,\"=\"&B688)","v":1},null,{"$f":"AD688-COUNTIFS(TagNamePL,B688,TagPLD,\"D\")","v":1},{"$f":"IF(OR(O688=\"true\",AE688=\"D\"),\"N\",\"Y\")","v":"N"},{"$f":"IF(OR(AND(C688=\"\",D688=\"\",(AB688=\"M\")=FALSE),AG688=\"N\"),\"N\",\"Y\")","v":"N"},{"$f":"IF(OR(AND(C688=\"\",D688=\"\",(AB688=\"M\")=FALSE),AG688=\"N\"),\"N\",\"Y\")","v":"N"},{"$f":"IF(AND(COUNTBLANK(X688:Z688)=0,AG688=\"Y\"),IF(OR(AB688=\"M\",E688<>\"\"),\"Y\",\"N\"),\"N\")","v":"N"},{"$f":"IF(AH688=\"Y\",(\"<\"&N688&\":\"&B688&\" \"&IF(F688=\"\",\"\",\"id=\"\"\"&\"TA\"&F688&\"\"\"\"&\" \")&IF(OR(P688=\"monetary\",W688<>\"\"),\"unitRef=\"\"\"&W688&\"\"\"\"&\" \",\"\")&IF(X688=\"\",\"\",\"contextRef=\"\"\"&X688&\"\"\"\"&\" \")&IF(OR(P688=\"monetary\",AA688<>\"\"),\"decimals=\"\"\"&decimals&\"\"\"\"&\" \",\"\")&\">\")&IF(C688=\"\",0,C688)&\"</\"&N688&\":\"&B688&\">\",\"\")","v":""},{"$f":"IF(AI688=\"Y\",(\"<\"&N688&\":\"&B688&\" \"&IF(H688=\"\",\"\",\"id=\"\"\"&\"TA\"&H688&\"\"\"\"&\" \")&IF(OR(P688=\"monetary\",W688<>\"\"),\"unitRef=\"\"\"&W688&\"\"\"\"&\" \",\"\")&IF(Y688=\"\",\"\",\"contextRef=\"\"\"&Y688&\"\"\"\"&\" \")&IF(OR(P688=\"monetary\",AA688<>\"\"),\"decimals=\"\"\"&decimals&\"\"\"\"&\" \",\"\")&\">\")&IF(D688=\"\",0,D688)&\"</\"&N688&\":\"&B688&\">\",\"\")","v":""},{"$f":"IF(AJ688=\"Y\",(\"<\"&N688&\":\"&B688&\" \"&IF(K688=\"\",\"\",\"id=\"\"\"&\"TA\"&K688&\"\"\"\"&\" \")&IF(OR(P688=\"monetary\",W688<>\"\"),\"unitRef=\"\"\"&W688&\"\"\"\"&\" \",\"\")&IF(Z688=\"\",\"\",\"contextRef=\"\"\"&Z688&\"\"\"\"&\" \")&IF(OR(P688=\"monetary\",AA688<>\"\"),\"decimals=\"\"\"&decimals&\"\"\"\"&\" \",\"\")&\">\")&IF(E688=\"\",0,E688)&\"</\"&N688&\":\"&B688&\">\",\"\")","v":""},{"$f":"IF(AND(AH688=\"Y\",G688<>\"\"),AP680+1,AP680)","v":0},{"$f":"IF(AI688=\"Y\",AN688+1,AN688)","v":0},{"$f":"IF(AJ688=\"Y\",AO688+1,AO688)","v":0},null,{"$f":"IF(AQ688=\"P\",IF(C688<0,1,0),0)","v":0},{"$f":"IF(AQ688=\"P\",IF(D688<0,1,0),0)","v":0},{"$f":"IF(AF688=1,0,1)","v":0},{"$f":"IF(AG688=\"Y\",A688,\"\")","v":""},null,0,"","","",0,"","","",0,"","",""]
["Audit fees","AuditFees",{"$f":"IF(OR('16-Expenditure'!D470=0,ISNUMBER('16-Expenditure'!D470)=FALSE),\"\",'16-Expenditure'!D470)","v":""},{"$f":"IF(OR('16-Expenditure'!E470=0,ISNUMBER('16-Expenditure'!E470)=FALSE),\"\",'16-Expenditure'!E470)","v":""},null,"",{"$f":"IF(AH689=\"Y\",IF(VLOOKUP(A689,PLFN5,4,FALSE)=0,\"\",VLOOKUP(A689,PLFN5,4,FALSE)),\"\")","v":""},"",{"$f":"IF(AI689=\"Y\",IF(VLOOKUP(A689,PLFN5,5,FALSE)=0,\"\",VLOOKUP(A689,PLFN5,5,FALSE)),\"\")","v":""},null,"",null,1143,"in-gaap","false","monetary","debit","duration","item","true","","This is a mandatory field.",{"$f":"IF(P689=\"monetary\",\"INR\",\"\")","v":"INR"},"D2011","D2010",null,null,"M","",1,null,1,{"$f":"IF(OR(O689=\"true\",AE689=\"D\"),\"N\",\"Y\")","v":"Y"},{"$f":"IF(OR(AND(C689=\"\",D689=\"\",(AB689=\"M\")=FALSE),AG689=\"N\"),\"N\",\"Y\")","v":"Y"},{"$f":"IF(OR(AND(C689=\"\",D689=\"\",(AB689=\"M\")=FALSE),AG689=\"N\"),\"N\",\"Y\")","v":"Y"},{"$f":"IF(AND(COUNTBLANK(X689:Z689)=0,AG689=\"Y\"),IF(OR(AB689=\"M\",E689<>\"\"),\"Y\",\"N\"),\"N\")","v":"N"},{"$f":"IF(AH689=\"Y\",(\"<\"&N689&\":\"&B689&\" \"&IF(F689=\"\",\"\",\"id=\"\"\"&\"TA\"&F689&\"\"\"\"&\" \")&IF(OR(P689=\"monetary\",W689<>\"\"),\"unitRef=\"\"\"&W689&\"\"\"\"&\" \",\"\")&IF(X689=\"\",\"\",\"contextRef=\"\"\"&X689&\"\"\"\"&\" \")&IF(OR(P689=\"monetary\",AA689<>\"\"),\"decimals=\"\"\"&decimals&\"\"\"\"&\" \",\"\")&\">\")&IF(C689=\"\",0,C689)&\"</\"&N689&\":\"&B689&\">\",\"\")","v":"<in-gaap:AuditFees unitRef=\"INR\" contextRef=\"D2011\" decimals=\"0\" >0</in-gaap:AuditFees>"},{"$f":"IF(AI689=\"Y\",(\"<\"&N689&\":\"&B689&\" \"&IF(H689=\"\",\"\",\"id=\"\"\"&\"TA\"&H689&\"\"\"\"&\" \")&IF(OR(P689=\"monetary\",W689<>\"\"),\"unitRef=\"\"\"&W689&\"\"\"\"&\" \",\"\")&IF(Y689=\"\",\"\",\"contextRef=\"\"\"&Y689&\"\"\"\"&\" \")&IF(OR(P689=\"monetary\",AA689<>\"\"),\"decimals=\"\"\"&decimals&\"\"\"\"&\" \",\"\")&\">\")&IF(D689=\"\",0,D689)&\"</\"&N689&\":\"&B689&\">\",\"\")","v":"<in-gaap:AuditFees unitRef=\"INR\" contextRef=\"D2010\" decimals=\"0\" >0</in-gaap:AuditFees>"},{"$f":"IF(AJ689=\"Y\",(\"<\"&N689&\":\"&B689&\" \"&IF(K689=\"\",\"\",\"id=\"\"\"&\"TA\"&K689&\"\"\"\"&\" \")&IF(OR(P689=\"monetary\",W689<>\"\"),\"unitRef=\"\"\"&W689&\"\"\"\"&\" \",\"\")&IF(Z689=\"\",\"\",\"contextRef=\"\"\"&Z689&\"\"\"\"&\" \")&IF(OR(P689=\"monetary\",AA689<>\"\"),\"decimals=\"\"\"&decimals&\"\"\"\"&\" \",\"\")&\">\")&IF(E689=\"\",0,E689)&\"</\"&N689&\":\"&B689&\">\",\"\")","v":""},{"$f":"IF(AND(AH689=\"Y\",G689<>\"\"),AP688+1,AP688)","v":0},{"$f":"IF(AND(AI689=\"Y\",I689<>\"\"),AN689+1,AN689)","v":0},{"$f":"IF(AND(AJ689=\"Y\",L689<>\"\"),AO689+1,AO689)","v":0},null,0,0,0,"Audit fees",null,0,"","","",0,"","","",0,"","",""]
["Consultancy fees auditors [abstract]","ConsultancyFeesAuditorsAbstract",{"$nulls":3},"",null,"",null,null,"",null,1369,"in-gaap","true","string","","duration","item","true","",0,null,"D2011","D2010",{"$nulls":3},"",1,null,1,"N","N","N","N","","","",{"$f":"IF(AND(AH690=\"Y\",G690<>\"\"),AP689+1,AP689)","v":0},{"$f":"IF(AND(AI690=\"Y\",I690<>\"\"),AN690+1,AN690)","v":0},{"$f":"IF(AND(AJ690=\"Y\",L690<>\"\"),AO690+1,AO690)","v":0},null,0,0,0,"",null,0,"","","",0,"","","",0,"","",""]
["Legal consultancy fees","LegalConsultancyFees",{"$f":"IF(OR('16-Expenditure'!D478=0,ISNUMBER('16-Expenditure'!D478)=FALSE),\"\",'16-Expenditure'!D478)","v":""},{"$f":"IF(OR('16-Expenditure'!E478=0,ISNUMBER('16-Expenditure'!E478)=FALSE),\"\",'16-Expenditure'!E478)","v":""},null,{"$f":"IF(AND(AH691=\"Y\",G691<>\"\"),\"PL\"&AN691,\"\")","v":""},{"$f":"IF(AH691=\"Y\",IF(VLOOKUP(A691,PLFN5,4,FALSE)=0,\"\",VLOOKUP(A691,PLFN5,4,FALSE)),\"\")","v":""},{"$f":"IF(AND(AI691=\"Y\",I691<>\"\"),\"PL\"&AO691,\"\")","v":""},{"$f":"IF(AI691=\"Y\",IF(VLOOKUP(A691,PLFN5,5,FALSE)=0,\"\",VLOOKUP(A691,PLFN5,5,FALSE)),\"\")","v":""},null,{"$f":"IF(AND(AJ691=\"Y\",L691<>\"\"),\"PL\"&AP691,\"\")","v":""},null,1145,"in-gaap","false","monetary","debit","duration","item","true","",0,{"$f":"IF(P691=\"monetary\",\"INR\",\"\")","v":"INR"},"D2011","D2010",null,{"$f":"decimals","v":0},null,"",1,null,1,"Y","N","N","N","","","",{"$f":"IF(AND(AH691=\"Y\",G691<>\"\"),AP690+1,AP690)","v":0},{"$f":"IF(AND(AI691=\"Y\",I691<>\"\"),AN691+1,AN691)","v":0},{"$f":"IF(AND(AJ691=\"Y\",L691<>\"\"),AO691+1,AO691)","v":0},null,0,0,0,"Legal consultancy fees",null,0,"","","",0,"","","",0,"","",""]
["Tax consultancy fees","TaxConsultancyFees",{"$f":"IF(OR('16-Expenditure'!D479=0,ISNUMBER('16-Expenditure'!D479)=FALSE),\"\",'16-Expenditure'!D479)","v":""},{"$f":"IF(OR('16-Expenditure'!E479=0,ISNUMBER('16-Expenditure'!E479)=FALSE),\"\",'16-Expenditure'!E479)","v":""},null,"","","","",null,"",null,1146,"in-gaap","false","monetary","debit","duration","item","true","",0,"INR","D2011","D2010",null,0,null,"",1,null,1,"Y","N","N","N","","","",0,0,0,null,0,0,0,"Tax consultancy fees",null,0,"","","",0,"","","",0,"","",""]
["Management consultancy fees","ManagementConsultancyFees",{"$f":"IF(OR('16-Expenditure'!D480=0,ISNUMBER('16-Expenditure'!D480)=FALSE),\"\",'16-Expenditure'!D480)","v":""},{"$f":"IF(OR('16-Expenditure'!E480=0,ISNUMBER('16-Expenditure'!E480)=FALSE),\"\",'16-Expenditure'!E480)","v":""},null,"","","","",null,"",null,1147,"in-gaap","false","monetary","debit","duration","item","true","",0,"INR","D2011","D2010",null,0,null,"",1,null,1,"Y","N","N","N","","","",0,0,0,null,0,0,0,"Management consultancy fees",null,0,"","","",0,"","","",0,"","",""]
["Other consultancy fees","OtherConsultancyFees",{"$f":"IF(OR('16-Expenditure'!D481=0,ISNUMBER('16-Expenditure'!D481)=FALSE),\"\",'16-Expenditure'!D481)","v":""},{"$f":"IF(OR('16-Expenditure'!E481=0,ISNUMBER('16-Expenditure'!E481)=FALSE),\"\",'16-Expenditure'!E481)","v":""},null,"","","","",null,"",null,1148,"in-gaap","false","monetary","debit","duration","item","true","",0,"INR","D2011","D2010",null,0,null,"",1,null,1,"Y","N","N","N","","","",0,0,0,null,0,0,0,"Other consultancy fees",null,0,"","","",0,"","","",0,"","",""]
["Consultancy fees auditors","ConsultancyFeesAuditors",{"$f":"IF(OR('16-Expenditure'!D471=0,ISNUMBER('16-Expenditure'!D471)=FALSE),\"\",'16-Expenditure'!D471)","v":""},{"$f":"IF(OR('16-Expenditure'!E471=0,ISNUMBER('16-Expenditure'!E471)=FALSE),\"\",'16-Expenditure'!E471)","v":""},null,"","","","",null,"",null,1144,"in-gaap","false","monetary","debit","duration","item","true","","This is a mandatory field.","INR","D2011","D2010",null,0,"M","",1,null,1,"Y","Y","Y","N","<in-gaap:ConsultancyFeesAuditors unitRef=\"INR\" contextRef=\"D2011\" decimals=\"0\" >0</in-gaap:ConsultancyFeesAuditors>","<in-gaap:ConsultancyFeesAuditors unitRef=\"INR\" contextRef=\"D2010\" decimals=\"0\" >0</in-gaap:ConsultancyFeesAuditors>","",0,0,0,null,0,0,0,"Consultancy fees auditors",null,0,"","","",0,"","","",0,"","",""]
["Certification fees","CertificationFees",{"$f":"IF(OR('16-Expenditure'!D472=0,ISNUMBER('16-Expenditure'!D472)=FALSE),\"\",'16-Expenditure'!D472)","v":""},{"$f":"IF(OR('16-Expenditure'!E472=0,ISNUMBER('16-Expenditure'!E472)=FALSE),\"\",'16-Expenditure'!E472)","v":""},null,"","","","",null,"",null,1149,"in-gaap","false","monetary","debit","duration","item","true","",0,"INR","D2011","D2010",null,0,null,"",1,null,1,"Y","N","N","N","","","",0,0,0,null,0,0,0,"Certification fees",null,0,"","","",0,"","","",0,"","",""]
["Reimbursement auditors expenses","ReimbursementAuditorsExpenses",{"$f":"IF(OR('16-Expenditure'!D473=0,ISNUMBER('16-Expenditure'!D473)=FALSE),\"\",'16-Expenditure'!D473)","v":""},{"$f":"IF(OR('16-Expenditure'!E473=0,ISNUMBER('16-Expenditure'!E473)=FALSE),\"\",'16-Expenditure'!E473)","v":""},null,"","","","",null,"",null,1150,"in-gaap","false","monetary","debit","duration","item","true","",0,"INR","D2011","D2010",null,0,null,"",1,null,1,"Y","N","N","N","","","",0,0,0,null,0,0,0,"Reimbursement auditors expenses",null,0,"","","",0,"","","",0,"","",""]
["Auditors remuneration","AuditorsRemuneration",{"$f":"IF(OR('16-Expenditure'!D474=0,ISNUMBER('16-Expenditure'!D474)=FALSE),\"\",'16-Expenditure'!D474)","v":""},{"$f":"IF(OR('16-Expenditure'!E474=0,ISNUMBER('16-Expenditure'!E474)=FALSE),\"\",'16-Expenditure'!E474)","v":""},null,{"$f":"IF(AND(AH698=\"Y\",G698<>\"\"),\"PL\"&AN698,\"\")","v":""},{"$f":"IF(AH698=\"Y\",IF(VLOOKUP(A698,PLFN3,4,FALSE)=0,\"\",VLOOKUP(A698,PLFN3,4,FALSE)),\"\")","v":""},{"$f":"IF(AND(AI698=\"Y\",I698<>\"\"),\"PL\"&AO698,\"\")","v":""},"",null,"",null,1142,"in-gaap","false","monetary","debit","duration","item","true","","This is a mandatory field.","INR","D2011","D2010",null,0,"M","",2,"D",1,"N","N","N","N","","","",0,0,0,null,0,0,0,"",null,0,"","","",0,"","","",0,"","",""]
[]
["[400400] Notes - Prior period and extra-ordinary items","NotesPriorPeriodAndExtraordinaryItems"]
["Disclosure of prior period and extraordinary items [text block]","DisclosureOfPriorPeriodAndExtraordinaryItemsExplanatory",{"$f":"IF(OR(ISBLANK(HTML!B8)=TRUE),\"\",HTML!B8)","v":""},{"$f":"IF(OR(ISBLANK(HTML!B9)=TRUE),\"\",HTML!B9)","v":""},null,{"$f":"IF(AND(AH701=\"Y\",G701<>\"\"),\"PL\"&AN701,\"\")","v":""},null,{"$f":"IF(AND(AI701=\"Y\",I701<>\"\"),\"PL\"&AO701,\"\")","v":""},null,null,{"$f":"IF(AND(AJ701=\"Y\",L701<>\"\"),\"PL\"&AP701,\"\")","v":""},null,{"$f":"VLOOKUP(B701,XBRLBusinessRules,2,FALSE)","v":2793},{"$f":"VLOOKUP(B701,XBRLBusinessRules,3,FALSE)","v":"in-gaap"},{"$f":"VLOOKUP(B701,XBRLBusinessRules,4,FALSE)","v":"false"},{"$f":"VLOOKUP(B701,XBRLBusinessRules,5,FALSE)","v":"nonnum:textBlock"},{"$f":"VLOOKUP(B701,XBRLBusinessRules,6,FALSE)","v":""},{"$f":"VLOOKUP(B701,XBRLBusinessRules,7,FALSE)","v":"duration"},{"$f":"VLOOKUP(B701,XBRLBusinessRules,8,FALSE)","v":"item"},{"$f":"VLOOKUP(B701,XBRLBusinessRules,9,FALSE)","v":"true"},{"$f":"VLOOKUP(B701,XBRLBusinessRules,10,FALSE)","v":""},{"$f":"VLOOKUP(B701,XBRLBusinessRules,11,FALSE)","v":0},{"$f":"IF(P701=\"monetary\",\"INR\",\"\")","v":""},{"$f":"UPPER(LEFT(R701,1))&CYEND","v":"D2011"},{"$f":"UPPER(LEFT(R701,1))&PYEND","v":"D2010"},{"$nulls":3},{"$f":"IF(V701=\"This can be entered only in case of Consolidated instance document\",\"C\",\"\")","v":""},{"$f":"COUNTIF(TagNamePL,\"=\"&B701)","v":1},null,{"$f":"AD701-COUNTIFS(TagNamePL,B701,TagPLD,\"D\")","v":1},{"$f":"IF(OR(O701=\"true\",AE701=\"D\"),\"N\",\"Y\")","v":"Y"},{"$f":"IF(OR(AND(C701=\"\",D701=\"\",(AB701=\"M\")=FALSE),AG701=\"N\"),\"N\",\"Y\")","v":"N"},{"$f":"IF(OR(AND(C701=\"\",D701=\"\",(AB701=\"M\")=FALSE),AG701=\"N\"),\"N\",\"Y\")","v":"N"},{"$f":"IF(AND(COUNTBLANK(X701:Z701)=0,AG701=\"Y\"),IF(OR(AB701=\"M\",E701<>\"\"),\"Y\",\"N\"),\"N\")","v":"N"},{"$f":"IF(AH701=\"Y\",(\"<\"&N701&\":\"&B701&\" \"&IF(F701=\"\",\"\",\"id=\"\"\"&\"TA\"&F701&\"\"\"\"&\" \")&IF(OR(P701=\"monetary\",W701<>\"\"),\"unitRef=\"\"\"&W701&\"\"\"\"&\" \",\"\")&IF(X701=\"\",\"\",\"contextRef=\"\"\"&X701&\"\"\"\"&\" \")&IF(OR(P701=\"monetary\",AA701<>\"\"),\"decimals=\"\"\"&decimals&\"\"\"\"&\" \",\"\")&\">\")&IF(C701=\"\",0,C701)&\"</\"&N701&\":\"&B701&\">\",\"\")","v":""},{"$f":"IF(AI701=\"Y\",(\"<\"&N701&\":\"&B701&\" \"&IF(H701=\"\",\"\",\"id=\"\"\"&\"TA\"&H701&\"\"\"\"&\" \")&IF(OR(P701=\"monetary\",W701<>\"\"),\"unitRef=\"\"\"&W701&\"\"\"\"&\" \",\"\")&IF(Y701=\"\",\"\",\"contextRef=\"\"\"&Y701&\"\"\"\"&\" \")&IF(OR(P701=\"monetary\",AA701<>\"\"),\"decimals=\"\"\"&decimals&\"\"\"\"&\" \",\"\")&\">\")&IF(D701=\"\",0,D701)&\"</\"&N701&\":\"&B701&\">\",\"\")","v":""},{"$f":"IF(AJ701=\"Y\",(\"<\"&N701&\":\"&B701&\" \"&IF(K701=\"\",\"\",\"id=\"\"\"&\"TA\"&K701&\"\"\"\"&\" \")&IF(OR(P701=\"monetary\",W701<>\"\"),\"unitRef=\"\"\"&W701&\"\"\"\"&\" \",\"\")&IF(Z701=\"\",\"\",\"contextRef=\"\"\"&Z701&\"\"\"\"&\" \")&IF(OR(P701=\"monetary\",AA701<>\"\"),\"decimals=\"\"\"&decimals&\"\"\"\"&\" \",\"\")&\">\")&IF(E701=\"\",0,E701)&\"</\"&N701&\":\"&B701&\">\",\"\")","v":""},{"$f":"IF(AND(AH701=\"Y\",G701<>\"\"),AP698+1,AP698)","v":0},{"$f":"IF(AND(AI701=\"Y\",I701<>\"\"),AN701+1,AN701)","v":0},{"$f":"IF(AND(AJ701=\"Y\",L701<>\"\"),AO701+1,AO701)","v":0},null,{"$f":"IF(AQ701=\"P\",IF(C701<0,1,0),0)","v":0},{"$f":"IF(AQ701=\"P\",IF(D701<0,1,0),0)","v":0},{"$f":"IF(AF701=1,0,1)","v":0},{"$f":"IF(AG701=\"Y\",A701,\"\")","v":"Disclosure of prior period and extraordinary items [text block]"},null,0,"","","",0,"","","",0,"","",""]
["Details of prior period items","DetailsOfPriorPeriodItems",{"$f":"IF(OR(ISBLANK('Notes-PL'!B28)=TRUE),\"\",'Notes-PL'!B28)","v":""},{"$f":"IF(OR(ISBLANK('Notes-PL'!B29)=TRUE),\"\",'Notes-PL'!B29)","v":""},null,"",null,"",null,null,"",null,{"$f":"VLOOKUP(B702,XBRLBusinessRules,2,FALSE)","v":2685},{"$f":"VLOOKUP(B702,XBRLBusinessRules,3,FALSE)","v":"in-gaap"},{"$f":"VLOOKUP(B702,XBRLBusinessRules,4,FALSE)","v":"false"},{"$f":"VLOOKUP(B702,XBRLBusinessRules,5,FALSE)","v":"string"},{"$f":"VLOOKUP(B702,XBRLBusinessRules,6,FALSE)","v":""},{"$f":"VLOOKUP(B702,XBRLBusinessRules,7,FALSE)","v":"duration"},{"$f":"VLOOKUP(B702,XBRLBusinessRules,8,FALSE)","v":"item"},{"$f":"VLOOKUP(B702,XBRLBusinessRules,9,FALSE)","v":"true"},{"$f":"VLOOKUP(B702,XBRLBusinessRules,10,FALSE)","v":""},{"$f":"VLOOKUP(B702,XBRLBusinessRules,11,FALSE)","v":0},{"$f":"IF(P702=\"monetary\",\"INR\",\"\")","v":""},{"$f":"UPPER(LEFT(R702,1))&CYEND","v":"D2011"},{"$f":"UPPER(LEFT(R702,1))&PYEND","v":"D2010"},{"$nulls":3},{"$f":"IF(V702=\"This can be entered only in case of Consolidated instance document\",\"C\",\"\")","v":""},{"$f":"COUNTIF(TagNamePL,\"=\"&B702)","v":1},null,{"$f":"AD702-COUNTIFS(TagNamePL,B702,TagPLD,\"D\")","v":1},{"$f":"IF(OR(O702=\"true\",AE702=\"D\"),\"N\",\"Y\")","v":"Y"},{"$f":"IF(OR(AND(C702=\"\",(AB702=\"M\")=FALSE),AG702=\"N\"),\"N\",\"Y\")","v":"N"},{"$f":"IF(OR(AND(D702=\"\",(AB702=\"M\")=FALSE),AG702=\"N\"),\"N\",\"Y\")","v":"N"},{"$f":"IF(AND(COUNTBLANK(X702:Z702)=0,AG702=\"Y\"),IF(OR(AB702=\"M\",E702<>\"\"),\"Y\",\"N\"),\"N\")","v":"N"},{"$f":"IF(AH702=\"Y\",(\"<\"&N702&\":\"&B702&\" \"&IF(F702=\"\",\"\",\"id=\"\"\"&\"TA\"&F702&\"\"\"\"&\" \")&IF(OR(P702=\"monetary\",W702<>\"\"),\"unitRef=\"\"\"&W702&\"\"\"\"&\" \",\"\")&IF(X702=\"\",\"\",\"contextRef=\"\"\"&X702&\"\"\"\"&\" \")&IF(OR(P702=\"monetary\",AA702<>\"\"),\"decimals=\"\"\"&decimals&\"\"\"\"&\" \",\"\")&\">\")&IF(C702=\"\",0,C702)&\"</\"&N702&\":\"&B702&\">\",\"\")","v":""},{"$f":"IF(AI702=\"Y\",(\"<\"&N702&\":\"&B702&\" \"&IF(H702=\"\",\"\",\"id=\"\"\"&\"TA\"&H702&\"\"\"\"&\" \")&IF(OR(P702=\"monetary\",W702<>\"\"),\"unitRef=\"\"\"&W702&\"\"\"\"&\" \",\"\")&IF(Y702=\"\",\"\",\"contextRef=\"\"\"&Y702&\"\"\"\"&\" \")&IF(OR(P702=\"monetary\",AA702<>\"\"),\"decimals=\"\"\"&decimals&\"\"\"\"&\" \",\"\")&\">\")&IF(D702=\"\",0,D702)&\"</\"&N702&\":\"&B702&\">\",\"\")","v":""},{"$f":"IF(AJ702=\"Y\",(\"<\"&N702&\":\"&B702&\" \"&IF(K702=\"\",\"\",\"id=\"\"\"&\"TA\"&K702&\"\"\"\"&\" \")&IF(OR(P702=\"monetary\",W702<>\"\"),\"unitRef=\"\"\"&W702&\"\"\"\"&\" \",\"\")&IF(Z702=\"\",\"\",\"contextRef=\"\"\"&Z702&\"\"\"\"&\" \")&IF(OR(P702=\"monetary\",AA702<>\"\"),\"decimals=\"\"\"&decimals&\"\"\"\"&\" \",\"\")&\">\")&IF(E702=\"\",0,E702)&\"</\"&N702&\":\"&B702&\">\",\"\")","v":""},{"$f":"IF(AND(AH702=\"Y\",G702<>\"\"),AP701+1,AP701)","v":0},0,0,null,{"$f":"IF(AQ702=\"P\",IF(C702<0,1,0),0)","v":0},{"$f":"IF(AQ702=\"P\",IF(D702<0,1,0),0)","v":0},{"$f":"IF(AF702=1,0,1)","v":0},"Details of prior period items",null,0,"","","",0,"","","",0,"","",""]
["Prior period items, net tax [abstract]","PriorPeriodItemsNetTaxAbstract",{"$nulls":3},"",null,"",null,null,"",null,1393,"in-gaap","true","string","","duration","item","true","",0,"","D2011","D2010",{"$nulls":3},"",1,null,1,"N",{"$f":"IF(OR(AND(C703=\"\",D703=\"\",(AB703=\"M\")=FALSE),AG703=\"N\"),\"N\",\"Y\")","v":"N"},{"$f":"IF(OR(AND(C703=\"\",D703=\"\",(AB703=\"M\")=FALSE),AG703=\"N\"),\"N\",\"Y\")","v":"N"},"N","","","",0,0,0,null,0,0,0,"",null,0,"","","",0,"","","",0,"","",""]
["Prior-period items before tax [abstract]","PriorPeriodItemsBeforeTaxAbstract",{"$nulls":3},"",null,"",null,null,"",null,3038,"in-gaap","true","string","","duration","item","true","",0,"","D2011","D2010",{"$nulls":3},"",1,null,1,"N","N","N","N","","","",0,0,0,null,0,0,0,"",null,0,"","","",0,"","","",0,"","",""]
["Prior period income","PriorPeriodIncome",{"$f":"IF(OR('Notes-PL'!D21=0,ISNUMBER('Notes-PL'!D21)=FALSE),\"\",'Notes-PL'!D21)","v":""},{"$f":"IF(OR('Notes-PL'!E21=0,ISNUMBER('Notes-PL'!E21)=FALSE),\"\",'Notes-PL'!E21)","v":""},null,"",{"$f":"IF(AH705=\"Y\",IF(VLOOKUP(A705,PLFN5,4,FALSE)=0,\"\",VLOOKUP(A705,PLFN5,4,FALSE)),\"\")","v":""},"",{"$f":"IF(AI705=\"Y\",IF(VLOOKUP(A705,PLFN5,5,FALSE)=0,\"\",VLOOKUP(A705,PLFN5,5,FALSE)),\"\")","v":""},null,"",null,928,"in-gaap","false","monetary","credit","duration","item","true","",0,"INR","D2011","D2010",null,{"$f":"decimals","v":0},null,"",1,null,1,"Y","N","N","N","","","",0,0,0,null,0,0,0,"Prior period income",null,0,"","","",0,"","","",0,"","",""]
["Prior period expenses","PriorPeriodExpenses",{"$f":"IF(OR('Notes-PL'!D22=0,ISNUMBER('Notes-PL'!D22)=FALSE),\"\",'Notes-PL'!D22)","v":""},{"$f":"IF(OR('Notes-PL'!E22=0,ISNUMBER('Notes-PL'!E22)=FALSE),\"\",'Notes-PL'!E22)","v":""},null,"",{"$f":"IF(AH706=\"Y\",IF(VLOOKUP(A706,PLFN5,4,FALSE)=0,\"\",VLOOKUP(A706,PLFN5,4,FALSE)),\"\")","v":""},"",{"$f":"IF(AI706=\"Y\",IF(VLOOKUP(A706,PLFN5,5,FALSE)=0,\"\",VLOOKUP(A706,PLFN5,5,FALSE)),\"\")","v":""},null,"",null,929,"in-gaap","false","monetary","debit","duration","item","true","",0,"INR","D2011","D2010",null,{"$f":"decimals","v":0},null,"",1,null,1,"Y","N","N","N","","","",0,0,0,null,0,0,0,"Prior period expenses",null,0,"","","",0,"","","",0,"","",""]
["Prior period items before tax","PriorPeriodItemsBeforeTax",{"$f":"IF(OR('Notes-PL'!D23=0,ISNUMBER('Notes-PL'!D23)=FALSE),\"\",'Notes-PL'!D23)","v":""},{"$f":"IF(OR('Notes-PL'!E23=0,ISNUMBER('Notes-PL'!E23)=FALSE),\"\",'Notes-PL'!E23)","v":""},null,"",{"$f":"IF(AH707=\"Y\",IF(VLOOKUP(A707,PLFN5,4,FALSE)=0,\"\",VLOOKUP(A707,PLFN5,4,FALSE)),\"\")","v":""},"",{"$f":"IF(AI707=\"Y\",IF(VLOOKUP(A707,PLFN5,5,FALSE)=0,\"\",VLOOKUP(A707,PLFN5,5,FALSE)),\"\")","v":""},null,"",null,3031,"in-gaap","false","monetary","","duration","item","true","",0,"INR","D2011","D2010",null,{"$f":"decimals","v":0},null,"",3,"D",1,"N","N","N","N","","","",0,0,0,null,0,0,0,"",null,0,"","","",0,"","","",0,"","",""]
["Tax effect of prior period items","TaxEffectOfPriorPeriodItems",{"$f":"IF(OR('Notes-PL'!D24=0,ISNUMBER('Notes-PL'!D24)=FALSE),\"\",'Notes-PL'!D24)","v":""},{"$f":"IF(OR('Notes-PL'!E24=0,ISNUMBER('Notes-PL'!E24)=FALSE),\"\",'Notes-PL'!E24)","v":""},null,"",{"$f":"IF(AH708=\"Y\",IF(VLOOKUP(A708,PLFN5,4,FALSE)=0,\"\",VLOOKUP(A708,PLFN5,4,FALSE)),\"\")","v":""},"",{"$f":"IF(AI708=\"Y\",IF(VLOOKUP(A708,PLFN5,5,FALSE)=0,\"\",VLOOKUP(A708,PLFN5,5,FALSE)),\"\")","v":""},null,"",null,3027,"in-gaap","false","monetary","","duration","item","true","",0,"INR","D2011","D2010",null,{"$f":"decimals","v":0},null,"",2,"D",1,"N","N","N","N","","","",0,0,0,null,0,0,0,"",null,0,"","","",0,"","","",0,"","",""]
["Prior period items, net tax","PriorPeriodItemsNetTax",{"$f":"IF(OR('Notes-PL'!D25=0,ISNUMBER('Notes-PL'!D25)=FALSE),\"\",'Notes-PL'!D25)","v":""},{"$f":"IF(OR('Notes-PL'!E25=0,ISNUMBER('Notes-PL'!E25)=FALSE),\"\",'Notes-PL'!E25)","v":""},null,"",{"$f":"IF(AH709=\"Y\",IF(VLOOKUP(A709,PLFN5,4,FALSE)=0,\"\",VLOOKUP(A709,PLFN5,4,FALSE)),\"\")","v":""},"",{"$f":"IF(AI709=\"Y\",IF(VLOOKUP(A709,PLFN5,5,FALSE)=0,\"\",VLOOKUP(A709,PLFN5,5,FALSE)),\"\")","v":""},null,"",null,927,"in-gaap","false","monetary","","duration","item","true","",0,"INR","D2011","D2010",null,{"$f":"decimals","v":0},null,"",1,null,1,"Y","N","N","N","","","",0,0,0,null,0,0,0,"Prior period items, net tax",null,0,"","","",0,"","","",0,"","",""]
["Details of extraordinary items","DetailsOfExtraordinaryItems",{"$f":"IF(OR(ISBLANK('Notes-PL'!B42)=TRUE),\"\",'Notes-PL'!B42)","v":""},{"$f":"IF(OR(ISBLANK('Notes-PL'!B43)=TRUE),\"\",'Notes-PL'!B43)","v":""},{"$nulls":8},2684,"in-gaap","false","string","","duration","item","true","",0,"","D2011","D2010",{"$nulls":3},"",1,null,1,"Y",{"$f":"IF(OR(AND(C710=\"\",(AB710=\"M\")=FALSE),AG710=\"N\"),\"N\",\"Y\")","v":"N"},{"$f":"IF(OR(AND(D710=\"\",(AB710=\"M\")=FALSE),AG710=\"N\"),\"N\",\"Y\")","v":"N"},"N","","","",0,0,0,null,0,0,0,"Details of extraordinary items",null,0,"","","",0,"","","",0,"","",""]
["Extraordinary items, net tax [abstract]","ExtraordinaryItemsNetTaxAbstract",{"$nulls":3},"",null,"",null,null,"",null,1392,"in-gaap","true","string","","duration","item","true","",0,"","D2011","D2010",{"$nulls":3},"",1,null,1,"N","N","N","N","","","",0,0,0,null,0,0,0,"",null,{"$f":"IF(F711<>\"\",\"1\",0)","v":0},{"$f":"IF(F711<>\"\",\"<link:loc xlink:href=\"&\"\"\"\"&\"#\"&\"TA\"&F711&\"\"\"\"&\" xlink:type=\"&\"\"\"\"&\"locator\"&\"\"\"\"&\" xlink:label=\"&\"\"\"\"&\"value\"&AN711&\"\"\"\"&\"/>\",\"\")","v":""},{"$f":"IF(F711<>\"\",\"<link:footnote xlink:role=\"&\"\"\"\"&\"http://www.xbrl.org/2003/role/footnote\"&\"\"\"\"&\" xml:lang=\"&\"\"\"\"&\"en\"&\"\"\"\"&\" xlink:type=\"&\"\"\"\"&\"resource\"&\"\"\"\"&\" xlink:label=\"&\"\"\"\"&\"footnote\"&AN711&\"\"\"\"&\">\"&G711&\"</link:footnote>\",\"\")","v":""},{"$f":"IF(F711<>\"\",\"<link:footnoteArc xlink:type=\"&\"\"\"\"&\"arc\"&\"\"\"\"&\" order=\"&\"\"\"\"&\"1.0\"&\"\"\"\"& \" xlink:to=\"&\"\"\"\"&\"footnote\"&AN711&\"\"\"\"& \" xlink:from=\"&\"\"\"\"&\"value\"&AN711&\"\"\"\"&\" xlink:arcrole=\"&\"\"\"\"&\"http://www.xbrl.org/2003/arcrole/fact-footnote\"&\"\"\"\"&\"/>\",\"\")","v":""},{"$f":"IF(H711<>\"\",\"1\",0)","v":0},{"$f":"IF(H711<>\"\",\"<link:loc xlink:href=\"&\"\"\"\"&\"#\"&\"TA\"&H711&\"\"\"\"&\" xlink:type=\"&\"\"\"\"&\"locator\"&\"\"\"\"&\" xlink:label=\"&\"\"\"\"&\"value\"&AO711&\"\"\"\"&\"/>\",\"\")","v":""},{"$f":"IF(H711<>\"\",\"<link:footnote xlink:role=\"&\"\"\"\"&\"http://www.xbrl.org/2003/role/footnote\"&\"\"\"\"&\" xml:lang=\"&\"\"\"\"&\"en\"&\"\"\"\"&\" xlink:type=\"&\"\"\"\"&\"resource\"&\"\"\"\"&\" xlink:label=\"&\"\"\"\"&\"footnote\"&AO711&\"\"\"\"&\">\"&I711&\"</link:footnote>\",\"\")","v":""},{"$f":"IF(H711<>\"\",\"<link:footnoteArc xlink:type=\"&\"\"\"\"&\"arc\"&\"\"\"\"&\" order=\"&\"\"\"\"&\"1.0\"&\"\"\"\"& \" xlink:to=\"&\"\"\"\"&\"footnote\"&AO711&\"\"\"\"& \" xlink:from=\"&\"\"\"\"&\"value\"&AO711&\"\"\"\"&\" xlink:arcrole=\"&\"\"\"\"&\"http://www.xbrl.org/2003/arcrole/fact-footnote\"&\"\"\"\"&\"/>\",\"\")","v":""},{"$f":"IF(K711<>\"\",\"1\",0)","v":0},{"$f":"IF(K711<>\"\",\"<link:loc xlink:href=\"&\"\"\"\"&\"#\"&\"TA\"&K711&\"\"\"\"&\" xlink:type=\"&\"\"\"\"&\"locator\"&\"\"\"\"&\" xlink:label=\"&\"\"\"\"&\"value\"&AP711&\"\"\"\"&\"/>\",\"\")","v":""},{"$f":"IF(K711<>\"\",\"<link:footnote xlink:role=\"&\"\"\"\"&\"http://www.xbrl.org/2003/role/footnote\"&\"\"\"\"&\" xml:lang=\"&\"\"\"\"&\"en\"&\"\"\"\"&\" xlink:type=\"&\"\"\"\"&\"resource\"&\"\"\"\"&\" xlink:label=\"&\"\"\"\"&\"footnote\"&AP711&\"\"\"\"&\">\"&L711&\"</link:footnote>\",\"\")","v":""},{"$f":"IF(K711<>\"\",\"<link:footnoteArc xlink:type=\"&\"\"\"\"&\"arc\"&\"\"\"\"&\" order=\"&\"\"\"\"&\"1.0\"&\"\"\"\"& \" xlink:to=\"&\"\"\"\"&\"footnote\"&AP711&\"\"\"\"& \" xlink:from=\"&\"\"\"\"&\"value\"&AP711&\"\"\"\"&\" xlink:arcrole=\"&\"\"\"\"&\"http://www.xbrl.org/2003/arcrole/fact-footnote\"&\"\"\"\"&\"/>\",\"\")","v":""}]
["Extraordinary items before tax [abstract]","ExtraordinaryItemsBeforeTaxAbstract",{"$nulls":3},"",null,"",null,null,"",null,3037,"in-gaap","true","string","","duration","item","true","",0,"","D2011","D2010",{"$nulls":3},"",1,null,1,"N","N","N","N","","","",0,0,0,null,0,0,0,"",null,0,"","","",0,"","","",0,"","",""]
["Loss attachment property extraordinary","LossAttachmentPropertyExtraordinary",{"$f":"IF(OR('Notes-PL'!D33=0,ISNUMBER('Notes-PL'!D33)=FALSE),\"\",'Notes-PL'!D33)","v":""},{"$f":"IF(OR('Notes-PL'!E33=0,ISNUMBER('Notes-PL'!E33)=FALSE),\"\",'Notes-PL'!E33)","v":""},null,"",{"$f":"IF(AH713=\"Y\",IF(VLOOKUP(A713,PLFN5,4,FALSE)=0,\"\",VLOOKUP(A713,PLFN5,4,FALSE)),\"\")","v":""},"",{"$f":"IF(AI713=\"Y\",IF(VLOOKUP(A713,PLFN5,5,FALSE)=0,\"\",VLOOKUP(A713,PLFN5,5,FALSE)),\"\")","v":""},null,"",null,923,"in-gaap","false","monetary","debit","duration","item","true","",0,"INR","D2011","D2010",null,{"$f":"decimals","v":0},null,"",1,null,1,"Y","N","N","N","","","",0,0,0,null,0,0,0,"Loss attachment property extraordinary",null,0,"","","",0,"","","",0,"","",""]
["Loss natural calamity extraordinary","LossNaturalCalamityExtraordinary",{"$f":"IF(OR('Notes-PL'!D34=0,ISNUMBER('Notes-PL'!D34)=FALSE),\"\",'Notes-PL'!D34)","v":""},{"$f":"IF(OR('Notes-PL'!E34=0,ISNUMBER('Notes-PL'!E34)=FALSE),\"\",'Notes-PL'!E34)","v":""},null,"","","","",null,"",null,924,"in-gaap","false","monetary","debit","duration","item","true","",0,"INR","D2011","D2010",null,0,null,"",1,null,1,"Y","N","N","N","","","",0,0,0,null,0,0,0,"Loss natural calamity extraordinary",null,0,"","","",0,"","","",0,"","",""]
["Reversal government grants extraordinary","ReversalGovernmentGrantsExtraordinary",{"$f":"IF(OR('Notes-PL'!D35=0,ISNUMBER('Notes-PL'!D35)=FALSE),\"\",'Notes-PL'!D35)","v":""},{"$f":"IF(OR('Notes-PL'!E35=0,ISNUMBER('Notes-PL'!E35)=FALSE),\"\",'Notes-PL'!E35)","v":""},null,"","","","",null,"",null,925,"in-gaap","false","monetary","debit","duration","item","true","",0,"INR","D2011","D2010",null,0,null,"",1,null,1,"Y","N","N","N","","","",0,0,0,null,0,0,0,"Reversal government grants extraordinary",null,0,"","","",0,"","","",0,"","",""]
["Other items extraordinary","OtherItemsExtraordinary",{"$f":"IF(OR('Notes-PL'!D36=0,ISNUMBER('Notes-PL'!D36)=FALSE),\"\",'Notes-PL'!D36)","v":""},{"$f":"IF(OR('Notes-PL'!E36=0,ISNUMBER('Notes-PL'!E36)=FALSE),\"\",'Notes-PL'!E36)","v":""},null,"","","","",null,"",null,926,"in-gaap","false","monetary","","duration","item","true","",0,"INR","D2011","D2010",null,0,null,"",1,null,1,"Y","N","N","N","","","",0,0,0,null,0,0,0,"Other items extraordinary",null,0,"","","",0,"","","",0,"","",""]
["Extraordinary items before tax","ExtraordinaryItemsBeforeTax",{"$f":"IF(OR('Notes-PL'!D37=0,ISNUMBER('Notes-PL'!D37)=FALSE),\"\",'Notes-PL'!D37)","v":""},{"$f":"IF(OR('Notes-PL'!E37=0,ISNUMBER('Notes-PL'!E37)=FALSE),\"\",'Notes-PL'!E37)","v":""},null,"","","","",null,"",null,3030,"in-gaap","false","monetary","","duration","item","true","",0,"INR","D2011","D2010",null,0,null,"",3,"D",1,"N","N","N","N","","","",0,0,0,null,0,0,0,"",null,0,"","","",0,"","","",0,"","",""]
["Tax effect of extraordinary items","TaxEffectOfExtraordinaryItems",{"$f":"IF(OR('Notes-PL'!D38=0,ISNUMBER('Notes-PL'!D38)=FALSE),\"\",'Notes-PL'!D38)","v":""},{"$f":"IF(OR('Notes-PL'!E38=0,ISNUMBER('Notes-PL'!E38)=FALSE),\"\",'Notes-PL'!E38)","v":""},null,"","","","",null,"",null,3026,"in-gaap","false","monetary","","duration","item","true","",0,"INR","D2011","D2010",null,0,null,"",2,"D",1,"N","N","N","N","","","",0,0,0,null,0,0,0,"",null,0,"","","",0,"","","",0,"","",""]
["Extraordinary items, net tax","ExtraordinaryItemsNetTax",{"$f":"IF(OR('Notes-PL'!D39=0,ISNUMBER('Notes-PL'!D39)=FALSE),\"\",'Notes-PL'!D39)","v":""},{"$f":"IF(OR('Notes-PL'!E39=0,ISNUMBER('Notes-PL'!E39)=FALSE),\"\",'Notes-PL'!E39)","v":""},null,"","","","",null,"",null,922,"in-gaap","false","monetary","debit","duration","item","true","",0,"INR","D2011","D2010",null,0,null,"",1,null,1,"Y","N","N","N","","","",0,0,0,null,0,0,0,"Extraordinary items, net tax",null,0,"","","",0,"","","",0,"","",""]
["Details of exceptional items","DetailsOfExceptionalItems",{"$f":"IF(OR(ISBLANK('Notes-PL'!B54)=TRUE),\"\",'Notes-PL'!B54)","v":""},{"$f":"IF(OR(ISBLANK('Notes-PL'!B55)=TRUE),\"\",'Notes-PL'!B55)","v":""},{"$nulls":6},"",null,2683,"in-gaap","false","string","","duration","item","true","",0,"","D2011","D2010",{"$nulls":3},"",1,null,1,"Y",{"$f":"IF(OR(AND(C720=\"\",(AB720=\"M\")=FALSE),AG720=\"N\"),\"N\",\"Y\")","v":"N"},{"$f":"IF(OR(AND(D720=\"\",(AB720=\"M\")=FALSE),AG720=\"N\"),\"N\",\"Y\")","v":"N"},"N","","","",0,0,0,null,0,0,0,"Details of exceptional items",null,0,"","","",0,"","","",0,"","",""]
["Exceptional items, net of tax [abstract]","ExceptionalItemsNetOfTaxAbstract",{"$nulls":3},"",null,"",null,null,"",null,3039,"in-gaap","true","string","","duration","item","true","",0,"","D2011","D2010",{"$nulls":3},"",1,null,1,"N","N","N","N","","","",0,0,0,null,0,0,0,"",null,0,"","","",0,"","","",0,"","",""]
["Exceptional items, net [abstract]","ExceptionalItemsNetAbstract",{"$nulls":3},"",null,"",null,null,"",null,1389,"in-gaap","true","string","","duration","item","true","",0,"","D2011","D2010",{"$nulls":3},"",1,null,1,"N","N","N","N","","","",0,0,0,null,0,0,0,"",null,0,"","","",0,"","","",0,"","",""]
["Exceptional income","ExceptionalIncome",{"$f":"IF(OR('Notes-PL'!D47=0,ISNUMBER('Notes-PL'!D47)=FALSE),\"\",'Notes-PL'!D47)","v":""},{"$f":"IF(OR('Notes-PL'!E47=0,ISNUMBER('Notes-PL'!E47)=FALSE),\"\",'Notes-PL'!E47)","v":""},null,"",{"$f":"IF(AH723=\"Y\",IF(VLOOKUP(A723,PLFN5,4,FALSE)=0,\"\",VLOOKUP(A723,PLFN5,4,FALSE)),\"\")","v":""},"",{"$f":"IF(AI723=\"Y\",IF(VLOOKUP(A723,PLFN5,5,FALSE)=0,\"\",VLOOKUP(A723,PLFN5,5,FALSE)),\"\")","v":""},null,"",null,908,"in-gaap","false","monetary","credit","duration","item","true","",0,"INR","D2011","D2010",null,{"$f":"decimals","v":0},null,"",1,null,1,"Y","N","N","N","","","",0,0,0,null,0,0,0,"Exceptional income",null,0,"","","",0,"","","",0,"","",""]
["Exceptional expenses","ExceptionalExpenses",{"$f":"IF(OR('Notes-PL'!D48=0,ISNUMBER('Notes-PL'!D48)=FALSE),\"\",'Notes-PL'!D48)","v":""},{"$f":"IF(OR('Notes-PL'!E48=0,ISNUMBER('Notes-PL'!E48)=FALSE),\"\",'Notes-PL'!E48)","v":""},null,"",{"$f":"IF(AH724=\"Y\",IF(VLOOKUP(A724,PLFN5,4,FALSE)=0,\"\",VLOOKUP(A724,PLFN5,4,FALSE)),\"\")","v":""},"",{"$f":"IF(AI724=\"Y\",IF(VLOOKUP(A724,PLFN5,5,FALSE)=0,\"\",VLOOKUP(A724,PLFN5,5,FALSE)),\"\")","v":""},null,"",null,909,"in-gaap","false","monetary","debit","duration","item","true","",0,"INR","D2011","D2010",null,{"$f":"decimals","v":0},null,"",1,null,1,"Y","N","N","N","","","",0,0,0,null,0,0,0,"Exceptional expenses",null,0,"","","",0,"","","",0,"","",""]
["Exceptional income expense, net","ExceptionalIncomeExpenseNet",{"$f":"IF(OR('Notes-PL'!D49=0,ISNUMBER('Notes-PL'!D49)=FALSE),\"\",'Notes-PL'!D49)","v":""},{"$f":"IF(OR('Notes-PL'!E49=0,ISNUMBER('Notes-PL'!E49)=FALSE),\"\",'Notes-PL'!E49)","v":""},null,"",{"$f":"IF(AH725=\"Y\",IF(VLOOKUP(A725,PLFN5,4,FALSE)=0,\"\",VLOOKUP(A725,PLFN5,4,FALSE)),\"\")","v":""},"",{"$f":"IF(AI725=\"Y\",IF(VLOOKUP(A725,PLFN5,5,FALSE)=0,\"\",VLOOKUP(A725,PLFN5,5,FALSE)),\"\")","v":""},null,"",null,907,"in-gaap","false","monetary","credit","duration","item","true","",0,"INR","D2011","D2010",null,{"$f":"decimals","v":0},null,"",3,"D",1,"N","N","N","N","","","",0,0,0,null,0,0,0,"",null,0,"","","",0,"","","",0,"","",""]
["Tax effect of exceptional items","TaxEffectOfExceptionalItems",{"$f":"IF(OR('Notes-PL'!D50=0,ISNUMBER('Notes-PL'!D50)=FALSE),\"\",'Notes-PL'!D50)","v":""},{"$f":"IF(OR('Notes-PL'!E50=0,ISNUMBER('Notes-PL'!E50)=FALSE),\"\",'Notes-PL'!E50)","v":""},null,"",{"$f":"IF(AH726=\"Y\",IF(VLOOKUP(A726,PLFN5,4,FALSE)=0,\"\",VLOOKUP(A726,PLFN5,4,FALSE)),\"\")","v":""},"",{"$f":"IF(AI726=\"Y\",IF(VLOOKUP(A726,PLFN5,5,FALSE)=0,\"\",VLOOKUP(A726,PLFN5,5,FALSE)),\"\")","v":""},null,"",null,3028,"in-gaap","false","monetary","","duration","item","true","",0,"INR","D2011","D2010",null,{"$f":"decimals","v":0},null,"",1,null,1,"Y","N","N","N","","","",0,0,0,null,0,0,0,"Tax effect of exceptional items",null,0,"","","",0,"","","",0,"","",""]
["Exceptional items net of tax","ExceptionalItemsNetOfTax",{"$f":"IF(OR('Notes-PL'!D51=0,ISNUMBER('Notes-PL'!D51)=FALSE),\"\",'Notes-PL'!D51)","v":""},{"$f":"IF(OR('Notes-PL'!E51=0,ISNUMBER('Notes-PL'!E51)=FALSE),\"\",'Notes-PL'!E51)","v":""},null,"",{"$f":"IF(AH727=\"Y\",IF(VLOOKUP(A727,PLFN5,4,FALSE)=0,\"\",VLOOKUP(A727,PLFN5,4,FALSE)),\"\")","v":""},"",{"$f":"IF(AI727=\"Y\",IF(VLOOKUP(A727,PLFN5,5,FALSE)=0,\"\",VLOOKUP(A727,PLFN5,5,FALSE)),\"\")","v":""},null,"",null,3029,"in-gaap","false","monetary","","duration","item","true","",0,"INR","D2011","D2010",null,{"$f":"decimals","v":0},null,"",1,null,1,"Y","N","N","N","","","",0,0,0,null,0,0,0,"Exceptional items net of tax",null,0,"","","",0,"","","",0,"","",""]

{"sheet":"PL CAL","index":7,"n_rows":541,"n_cols":14,"rows_kept":541,"hidden":true,"merged":[[0,0,0,9],[1,6,1,7],[1,8,1,9],[1,10,1,11]]}
["CALCULATION LINKBASE"]
["ELR","[200000] Income Statement [Main]","IncomeStatementMain",{"$nulls":3},"CURRENT YEAR",null,"PREVIOUS YEAR",null,"ERROR CHECK",null,{"$f":"SUM(K4:K541)","v":0},{"$f":"SUM(L4:L541)","v":0}]
["Prefix","Element Label","Element Name","Weight","Parent","Has Child","SPECIFIED VALUE","EXPECTED VALUE","SPECIFIED VALUE","EXPECTED VALUE","CY","PY","SV CY WT","SV PY WT"]
["in-gaap","Net profit loss","NetProfitLoss",null,null,{"$f":"IF(COUNTIF(CALPL1,C4)>0,\"Y\",\"N\")","v":"Y"},{"$f":"IF(VLOOKUP(C4,PLID,2,)=\"\",0,VLOOKUP(C4,PLID,2,))","v":0},{"$f":"IF(F4=\"Y\",SUMIF(CALPL1,C4,CALPL1CY),\"\")","v":0},{"$f":"IF(VLOOKUP(C4,PLID,3,)=\"\",0,VLOOKUP(C4,PLID,3,))","v":0},{"$f":"IF(F4=\"Y\",SUMIF(CALPL1,C4,CALPL1PY),\"\")","v":0},{"$f":"IF(F4=\"Y\",IF(G4=H4,0,1),0)","v":0},{"$f":"IF(F4=\"Y\",IF(I4=J4,0,1),0)","v":0},{"$f":"IF(OR(D4=\"\",G4=\"\"),0,D4*G4)","v":0},{"$f":"IF(OR(D4=\"\",I4=\"\"),0,D4*I4)","v":0}]
["in-gaap","Net profit loss before minority interest share joint venture","NetProfitLossbeforeMinorityInterestShareJointVenture",1,{"$f":"C4","v":"NetProfitLoss"},"Y",0,0,0,0,{"$f":"IF(F5=\"Y\",IF(G5=H5,0,1),0)","v":0},{"$f":"IF(F5=\"Y\",IF(I5=J5,0,1),0)","v":0},{"$f":"IF(OR(D5=\"\",G5=\"\"),0,D5*G5)","v":0},{"$f":"IF(OR(D5=\"\",I5=\"\"),0,D5*I5)","v":0}]
["in-gaap","Net profit loss before tax","NetProfitLossbeforeTax",1,"NetProfitLossbeforeMinorityInterestShareJointVenture","Y",0,0,0,0,0,0,0,0]
["in-gaap","Net profit (loss) before tax, prior period and extraordinary items","NetProfitLossbeforeTaxPriorPeriodAndExtraordinaryItems",1,"NetProfitLossbeforeTax","Y",0,0,0,0,0,0,0,0]
["in-gaap","Net profit loss continuing operations","NetProfitLossContinuingOperations",1,"NetProfitLossbeforeTaxPriorPeriodAndExtraordinaryItems","Y",0,0,0,0,0,0,0,0]
["in-gaap","Total income","TotalIncome",1,"NetProfitLossContinuingOperations","Y",0,0,0,0,0,0,0,0]
["in-gaap","Operating revenue, net","OperatingRevenueNet",1,"TotalIncome","N",0,"",0,"",0,0,0,0]
["in-gaap","Other income","OtherIncome",1,{"$f":"C9","v":"TotalIncome"},"N",0,"",0,"",0,0,0,0]
["in-gaap","Total expenditure","TotalExpenditure",-1,{"$f":"C8","v":"NetProfitLossContinuingOperations"},"Y",0,0,0,0,0,0,0,0]
["in-gaap","Consumption materials changes inventories","ConsumptionMaterialsChangesInventories",1,{"$f":"C12","v":"TotalExpenditure"},"N",0,"",0,"",0,0,0,0]
["in-gaap","Manufacturing other operating expenses","ManufacturingOtherOperatingExpenses",1,{"$f":"C12","v":"TotalExpenditure"},"Y",0,0,0,0,0,0,0,0]
["in-gaap","Manufacturing service costs","ManufacturingServiceCosts",1,{"$f":"C14","v":"ManufacturingOtherOperatingExpenses"},"N",0,"",0,"",0,0,0,0]
["in-gaap","Contract cost","ContractCost",1,{"$f":"C14","v":"ManufacturingOtherOperatingExpenses"},"N",0,"",0,"",0,0,0,0]
["in-gaap","Employee related expenses","EmployeeRelatedExpenses",1,{"$f":"C14","v":"ManufacturingOtherOperatingExpenses"},"N",0,"",0,"",0,0,0,0]
["in-gaap","Administrative selling other expenses","AdministrativeSellingOtherExpenses",1,{"$f":"C14","v":"ManufacturingOtherOperatingExpenses"},"N",0,"",0,"",0,0,0,0]
["in-gaap","Research development expenditure","ResearchDevelopmentExpenditure",1,{"$f":"C12","v":"TotalExpenditure"},"N",0,"",0,"",0,0,0,0]
["in-gaap","Depreciation amortisation impairment","DepreciationAmortisationImpairment",1,{"$f":"C12","v":"TotalExpenditure"},"N",0,"",0,"",0,0,0,0]
["in-gaap","Interest financial charges","InterestFinancialCharges",1,{"$f":"C12","v":"TotalExpenditure"},"N",0,"",0,"",0,0,0,0]
["in-gaap","Restructuring charges","RestructuringCharges",1,{"$f":"C12","v":"TotalExpenditure"},"N",0,"",0,"",0,0,0,0]
["in-gaap","Reversal restructuring charges","ReversalRestructuringCharges",-1,{"$f":"C12","v":"TotalExpenditure"},"N",0,"",0,"",0,0,0,0]
["in-gaap","Exceptional income expense, net","ExceptionalIncomeExpenseNet",1,{"$f":"C8","v":"NetProfitLossContinuingOperations"},"N",0,"",0,"",0,0,0,0]
["in-gaap","Income loss discontinuing operations","IncomeLossDiscontinuingOperations",1,{"$f":"C7","v":"NetProfitLossbeforeTaxPriorPeriodAndExtraordinaryItems"},"Y",0,0,0,0,0,0,0,0]
["in-gaap","Revenues related discontinuing operations","RevenuesRelatedDiscontinuingOperations",1,{"$f":"C25","v":"IncomeLossDiscontinuingOperations"},"N",0,"",0,"",0,0,0,0]
["in-gaap","Expenses related discontinuing operations","ExpensesRelatedDiscontinuingOperations",-1,{"$f":"C25","v":"IncomeLossDiscontinuingOperations"},"N",0,"",0,"",0,0,0,0]
["in-gaap","Income loss disposal sale discontinuing operations","IncomeLossDisposalSaleDiscontinuingOperations",1,{"$f":"C7","v":"NetProfitLossbeforeTaxPriorPeriodAndExtraordinaryItems"},"N",0,"",0,"",0,0,0,0]
["in-gaap","Extraordinary items before tax","ExtraordinaryItemsBeforeTax",1,{"$f":"C6","v":"NetProfitLossbeforeTax"},"N",0,"",0,"",0,0,0,0]
["in-gaap","Prior period items before tax","PriorPeriodItemsBeforeTax",1,{"$f":"C6","v":"NetProfitLossbeforeTax"},"N",0,"",0,"",0,0,0,0]
["in-gaap","Provision taxation","ProvisionTaxation",-1,{"$f":"C5","v":"NetProfitLossbeforeMinorityInterestShareJointVenture"},"N",0,"",0,"",0,0,0,0]
["in-gaap","Tax effect discontinuing operations","TaxEffectDiscontinuingOperations",-1,{"$f":"C5","v":"NetProfitLossbeforeMinorityInterestShareJointVenture"},"Y",0,0,0,0,0,0,0,0]
["in-gaap","Tax effect income loss discontinuing operations","TaxEffectIncomeLossDiscontinuingOperations",1,{"$f":"C32","v":"TaxEffectDiscontinuingOperations"},"N",0,"",0,"",0,0,0,0]
["in-gaap","Tax effect sale disposal discontinuing operations","TaxEffectSaleDisposalDiscontinuingOperations",1,{"$f":"C32","v":"TaxEffectDiscontinuingOperations"},"N",0,"",0,"",0,0,0,0]
["in-gaap","Share earnings associates joint ventures","ShareEarningsAssociatesJointVentures",1,{"$f":"C4","v":"NetProfitLoss"},"Y",0,0,0,0,0,0,0,0]
["in-gaap","Share earnings associates","ShareEarningsAssociates",1,{"$f":"C35","v":"ShareEarningsAssociatesJointVentures"},"N",0,"",0,"",0,0,0,0]
["in-gaap","Share earnings joint ventures","ShareEarningsJointVentures",1,{"$f":"C35","v":"ShareEarningsAssociatesJointVentures"},"N",0,"",0,"",0,0,0,0]
["in-gaap","Share minority interest profit loss","ShareMinorityInterestProfitLoss",-1,{"$f":"C4","v":"NetProfitLoss"},"N",0,"",0,"",0,0,0,0]
["in-gaap","Adjustments related merger acquisitions","AdjustmentsRelatedMergerAcquisitions",1,{"$f":"C4","v":"NetProfitLoss"},"N",0,"",0,"",0,0,0,0]
["in-gaap","Basic earnings per share","BasicEarningsPerShare",null,null,"Y",0,0,0,0,0,0,0,0]
["in-gaap","Basic earnings per share before extraordinary items","BasicEarningsPerSharebeforeExtraordinaryItems",1,{"$f":"C40","v":"BasicEarningsPerShare"},"N",0,"",0,"",0,0,0,0]
["in-gaap","Extraordinary adjustment basic earnings per share","ExtraordinaryAdjustmentBasicEarningsPerShare",1,{"$f":"C40","v":"BasicEarningsPerShare"},"N",0,"",0,"",0,0,0,0]
["in-gaap","Diluted earnings per share","DilutedEarningsPerShare",null,null,"Y",0,0,0,0,0,0,0,0]
["in-gaap","Diluted earnings per share before extraordinary items","DilutedEarningsPerSharebeforeExtraordinaryItems",1,{"$f":"C43","v":"DilutedEarningsPerShare"},"N",0,"",0,"",0,0,0,0]
["in-gaap","Extraordinary adjustment diluted earnings per share","ExtraordinaryAdjustmentDilutedEarningsPerShare",1,{"$f":"C43","v":"DilutedEarningsPerShare"},"N",0,"",0,"",0,0,0,0]
[""]
[""]
["ELR","[200010] Income Statement [Alternative]","IncomeStatementAlternative"]
["Prefix","Element Label","Element Name","Weight","Parent"]
["in-gaap","Net profit loss","NetProfitLoss",null,null,{"$f":"IF(COUNTIF(CALPL2,C50)>0,\"Y\",\"N\")","v":"Y"},{"$f":"IF(VLOOKUP(C50,PLID,2,)=\"\",0,VLOOKUP(C50,PLID,2,))","v":0},{"$f":"IF(F50=\"Y\",SUMIF(CALPL2,C50,CALPL2CY),\"\")","v":0},{"$f":"IF(VLOOKUP(C50,PLID,3,)=\"\",0,VLOOKUP(C50,PLID,3,))","v":0},{"$f":"IF(F50=\"Y\",SUMIF(CALPL2,C50,CALPL2PY),\"\")","v":0},{"$f":"IF(F50=\"Y\",IF(G50=H50,0,1),0)","v":0},{"$f":"IF(F50=\"Y\",IF(I50=J50,0,1),0)","v":0},{"$f":"IF(OR(D50=\"\",G50=\"\"),0,D50*G50)","v":0},{"$f":"IF(OR(D50=\"\",I50=\"\"),0,D50*I50)","v":0}]
["in-gaap","Net profit loss before minority interest share joint venture","NetProfitLossbeforeMinorityInterestShareJointVenture",1,{"$f":"C50","v":"NetProfitLoss"},"Y",0,0,0,0,{"$f":"IF(F51=\"Y\",IF(G51=H51,0,1),0)","v":0},{"$f":"IF(F51=\"Y\",IF(I51=J51,0,1),0)","v":0},0,0]
["in-gaap","Net profit loss before tax","NetProfitLossbeforeTax",1,"NetProfitLossbeforeMinorityInterestShareJointVenture","Y",0,0,0,0,0,0,0,0]
["in-gaap","Net profit (loss) before tax, prior period and extraordinary items","NetProfitLossbeforeTaxPriorPeriodAndExtraordinaryItems",1,"NetProfitLossbeforeTax","Y",0,0,0,0,0,0,0,0]
["in-gaap","Net profit loss continuing operations","NetProfitLossContinuingOperations",1,"NetProfitLossbeforeTaxPriorPeriodAndExtraordinaryItems","Y",0,0,0,0,0,0,0,0]
["in-gaap","Gross profit","GrossProfit",1,"NetProfitLossContinuingOperations","Y",0,0,0,0,0,0,0,0]
["in-gaap","Operating revenue, net","OperatingRevenueNet",1,"GrossProfit","N",0,"",0,"",0,0,0,0]
["in-gaap","Cost goods services","CostGoodsServices",-1,{"$f":"C55","v":"GrossProfit"},"Y",0,0,0,0,0,0,0,0]
["in-gaap","Consumption materials changes inventories","ConsumptionMaterialsChangesInventories",1,{"$f":"C57","v":"CostGoodsServices"},"N",0,"",0,"",0,0,0,0]
["in-gaap","Contract cost","ContractCost",1,{"$f":"C57","v":"CostGoodsServices"},"N",0,"",0,"",0,0,0,0]
["in-gaap","Manufacturing service costs","ManufacturingServiceCosts",1,{"$f":"C57","v":"CostGoodsServices"},"N",0,"",0,"",0,0,0,0]
["in-gaap","Employee related expenses","EmployeeRelatedExpenses",1,{"$f":"C57","v":"CostGoodsServices"},"N",0,"",0,"",0,0,0,0]
["in-gaap","Other income","OtherIncome",1,{"$f":"C54","v":"NetProfitLossContinuingOperations"},"N",0,"",0,"",0,0,0,0]
["in-gaap","Administrative selling other expenses","AdministrativeSellingOtherExpenses",-1,{"$f":"C54","v":"NetProfitLossContinuingOperations"},"N",0,"",0,"",0,0,0,0]
["in-gaap","Research development expenditure","ResearchDevelopmentExpenditure",-1,{"$f":"C54","v":"NetProfitLossContinuingOperations"},"N",0,"",0,"",0,0,0,0]
["in-gaap","Depreciation amortisation impairment","DepreciationAmortisationImpairment",-1,{"$f":"C54","v":"NetProfitLossContinuingOperations"},"N",0,"",0,"",0,0,0,0]
["in-gaap","Interest financial charges","InterestFinancialCharges",-1,{"$f":"C54","v":"NetProfitLossContinuingOperations"},"N",0,"",0,"",0,0,0,0]
["in-gaap","Restructuring charges","RestructuringCharges",-1,{"$f":"C54","v":"NetProfitLossContinuingOperations"},"N",0,"",0,"",0,0,0,0]
["in-gaap","Reversal restructuring charges","ReversalRestructuringCharges",1,{"$f":"C54","v":"NetProfitLossContinuingOperations"},"N",0,"",0,"",0,0,0,0]
["in-gaap","Exceptional income expense, net","ExceptionalIncomeExpenseNet",1,{"$f":"C54","v":"NetProfitLossContinuingOperations"},"N",0,"",0,"",0,0,0,0]
["in-gaap","Income loss discontinuing operations","IncomeLossDiscontinuingOperations",1,{"$f":"C53","v":"NetProfitLossbeforeTaxPriorPeriodAndExtraordinaryItems"},"Y",0,0,0,0,0,0,0,0]
["in-gaap","Revenues related discontinuing operations","RevenuesRelatedDiscontinuingOperations",1,{"$f":"C70","v":"IncomeLossDiscontinuingOperations"},"N",0,"",0,"",0,0,0,0]
["in-gaap","Expenses related discontinuing operations","ExpensesRelatedDiscontinuingOperations",-1,{"$f":"C70","v":"IncomeLossDiscontinuingOperations"},"N",0,"",0,"",0,0,0,0]
["in-gaap","Income loss disposal sale discontinuing operations","IncomeLossDisposalSaleDiscontinuingOperations",1,{"$f":"C53","v":"NetProfitLossbeforeTaxPriorPeriodAndExtraordinaryItems"},"N",0,"",0,"",0,0,0,0]
["in-gaap","Extraordinary items before tax","ExtraordinaryItemsBeforeTax",1,{"$f":"C52","v":"NetProfitLossbeforeTax"},"N",0,"",0,"",0,0,0,0]
["in-gaap","Prior period items before tax","PriorPeriodItemsBeforeTax",1,{"$f":"C52","v":"NetProfitLossbeforeTax"},"N",0,"",0,"",0,0,0,0]
["in-gaap","Provision taxation","ProvisionTaxation",-1,{"$f":"C51","v":"NetProfitLossbeforeMinorityInterestShareJointVenture"},"N",0,"",0,"",0,0,0,0]
["in-gaap","Tax effect discontinuing operations","TaxEffectDiscontinuingOperations",-1,{"$f":"C51","v":"NetProfitLossbeforeMinorityInterestShareJointVenture"},"Y",0,0,0,0,0,0,0,0]
["in-gaap","Tax effect income loss discontinuing operations","TaxEffectIncomeLossDiscontinuingOperations",1,{"$f":"C77","v":"TaxEffectDiscontinuingOperations"},"N",0,"",0,"",0,0,0,0]
["in-gaap","Tax effect sale disposal discontinuing operations","TaxEffectSaleDisposalDiscontinuingOperations",1,{"$f":"C77","v":"TaxEffectDiscontinuingOperations"},"N",0,"",0,"",0,0,0,0]
["in-gaap","Share earnings associates joint ventures","ShareEarningsAssociatesJointVentures",1,"NetProfitLoss","Y",0,0,0,0,0,0,0,0]
["in-gaap","Share earnings associates","ShareEarningsAssociates",1,{"$f":"C80","v":"ShareEarningsAssociatesJointVentures"},"N",0,"",0,"",0,0,0,0]
["in-gaap","Share earnings joint ventures","ShareEarningsJointVentures",1,{"$f":"C80","v":"ShareEarningsAssociatesJointVentures"},"N",0,"",0,"",0,0,0,0]
["in-gaap","Share minority interest profit loss","ShareMinorityInterestProfitLoss",-1,"NetProfitLoss","N",0,"",0,"",0,0,0,0]
["in-gaap","Adjustments related merger acquisitions","AdjustmentsRelatedMergerAcquisitions",1,"NetProfitLoss","N",0,"",0,"",0,0,0,0]
["in-gaap","Basic earnings per share","BasicEarningsPerShare",null,null,"Y",0,0,0,0,0,0,0,0]
["in-gaap","Basic earnings per share before extraordinary items","BasicEarningsPerSharebeforeExtraordinaryItems",1,{"$f":"C85","v":"BasicEarningsPerShare"},"N",0,"",0,"",0,0,0,0]
["in-gaap","Extraordinary adjustment basic earnings per share","ExtraordinaryAdjustmentBasicEarningsPerShare",1,{"$f":"C85","v":"BasicEarningsPerShare"},"N",0,"",0,"",0,0,0,0]
["in-gaap","Diluted earnings per share","DilutedEarningsPerShare",null,null,"Y",0,0,0,0,0,0,0,0]
["in-gaap","Diluted earnings per share before extraordinary items","DilutedEarningsPerSharebeforeExtraordinaryItems",1,{"$f":"C88","v":"DilutedEarningsPerShare"},"N",0,"",0,"",0,0,0,0]
["in-gaap","Extraordinary adjustment diluted earnings per share","ExtraordinaryAdjustmentDilutedEarningsPerShare",1,{"$f":"C88","v":"DilutedEarningsPerShare"},"N",0,"",0,"",0,0,0,0]
[""]
[""]
["ELR","[200100] Schedule - Income","ScheduleIncome"]
["Prefix","Element Label","Element Name","Weight","Parent"]
["in-gaap","Operating revenue, net","OperatingRevenueNet",null,null,{"$f":"IF(COUNTIF(CALPL3,C95)>0,\"Y\",\"N\")","v":"Y"},{"$f":"IF(VLOOKUP(C95,PLID,2,)=\"\",0,VLOOKUP(C95,PLID,2,))","v":0},{"$f":"IF(F95=\"Y\",SUMIF(CALPL3,C95,CALPL3CY),\"\")","v":0},{"$f":"IF(VLOOKUP(C95,PLID,3,)=\"\",0,VLOOKUP(C95,PLID,3,))","v":0},{"$f":"IF(F95=\"Y\",SUMIF(CALPL3,C95,CALPL3PY),\"\")","v":0},{"$f":"IF(F95=\"Y\",IF(G95=H95,0,1),0)","v":0},{"$f":"IF(F95=\"Y\",IF(I95=J95,0,1),0)","v":0},{"$f":"IF(OR(D95=\"\",G95=\"\"),0,D95*G95)","v":0},{"$f":"IF(OR(D95=\"\",I95=\"\"),0,D95*I95)","v":0}]
["in-gaap","Operating revenue, gross","OperatingRevenueGross",1,{"$f":"C95","v":"OperatingRevenueNet"},"Y",0,0,0,0,0,0,0,0]
["in-gaap","Revenue sale goods, gross","RevenueSaleGoodsGross",1,{"$f":"C96","v":"OperatingRevenueGross"},"Y",0,0,0,0,0,0,0,0]
["in-gaap","Revenue sale manufactured goods","RevenueSaleManufacturedGoods",1,{"$f":"C97","v":"RevenueSaleGoodsGross"},"N",0,"",0,"",0,0,0,0]
["in-gaap","Revenue sale traded goods","RevenueSaleTradedGoods",1,{"$f":"C97","v":"RevenueSaleGoodsGross"},"N",0,"",0,"",0,0,0,0]
["in-gaap","Revenue sale other goods","RevenueSaleOtherGoods",1,{"$f":"C97","v":"RevenueSaleGoodsGross"},"N",0,"",0,"",0,0,0,0]
["in-gaap","Revenue services, gross","RevenueServicesGross",1,{"$f":"C96","v":"OperatingRevenueGross"},"Y",0,0,0,0,0,0,0,0]
["in-gaap","Revenue communication services","RevenueCommunicationServices",1,{"$f":"C101","v":"RevenueServicesGross"},"N",0,"",0,"",0,0,0,0]
["in-gaap","Revenue logistics transport services","RevenueLogisticsTransportServices",1,{"$f":"C101","v":"RevenueServicesGross"},"Y",0,0,0,0,0,0,0,0]
["in-gaap","Revenue roadway operations","RevenueRoadwayOperations",1,{"$f":"C103","v":"RevenueLogisticsTransportServices"},"N",0,"",0,"",0,0,0,0]
["in-gaap","Revenue waterway operations","RevenueWaterwayOperations",1,{"$f":"C103","v":"RevenueLogisticsTransportServices"},"N",0,"",0,"",0,0,0,0]
["in-gaap","Revenue airway operations","RevenueAirwayOperations",1,{"$f":"C103","v":"RevenueLogisticsTransportServices"},"N",0,"",0,"",0,0,0,0]
["in-gaap","Revenue courier services","RevenueCourierServices",1,{"$f":"C101","v":"RevenueServicesGross"},"N",0,"",0,"",0,0,0,0]
["in-gaap","Revenue infrastructure services","RevenueInfrastructureServices",1,{"$f":"C101","v":"RevenueServicesGross"},"N",0,"",0,"",0,0,0,0]
["in-gaap","Revenue information technology services","RevenueInformationTechnologyServices",1,{"$f":"C101","v":"RevenueServicesGross"},"Y",0,0,0,0,0,0,0,0]
["in-gaap","Revenue software development","RevenueSoftwareDevelopment",1,{"$f":"C109","v":"RevenueInformationTechnologyServices"},"N",0,"",0,"",0,0,0,0]
["in-gaap","Revenue hardware maintenance","RevenueHardwareMaintenance",1,{"$f":"C109","v":"RevenueInformationTechnologyServices"},"N",0,"",0,"",0,0,0,0]
["in-gaap","Revenue information technology consultancy","RevenueInformationTechnologyConsultancy",1,{"$f":"C109","v":"RevenueInformationTechnologyServices"},"N",0,"",0,"",0,0,0,0]
["in-gaap","Revenue hotels","RevenueHotels",1,{"$f":"C101","v":"RevenueServicesGross"},"N",0,"",0,"",0,0,0,0]
["in-gaap","Revenue hospitals healthcare clinics","RevenueHospitalsHealthcareClinics",1,{"$f":"C101","v":"RevenueServicesGross"},"N",0,"",0,"",0,0,0,0]
["in-gaap","Revenue entertainment","RevenueEntertainment",1,{"$f":"C101","v":"RevenueServicesGross"},"N",0,"",0,"",0,0,0,0]
["in-gaap","Revenue repairs maintenance","RevenueRepairsMaintenance",1,{"$f":"C101","v":"RevenueServicesGross"},"N",0,"",0,"",0,0,0,0]
["in-gaap","Revenue educational activities","RevenueEducationalActivities",1,{"$f":"C101","v":"RevenueServicesGross"},"N",0,"",0,"",0,0,0,0]
["in-gaap","Revenue membership subscriptions fees","RevenueMembershipSubscriptionsFees",1,{"$f":"C101","v":"RevenueServicesGross"},"N",0,"",0,"",0,0,0,0]
["in-gaap","Revenue admission fees","RevenueAdmissionFees",1,{"$f":"C101","v":"RevenueServicesGross"},"N",0,"",0,"",0,0,0,0]
["in-gaap","Revenue erectioning commissioning","RevenueErectioningCommissioning",1,{"$f":"C101","v":"RevenueServicesGross"},"N",0,"",0,"",0,0,0,0]
["in-gaap","Revenue agencies","RevenueAgencies",1,{"$f":"C101","v":"RevenueServicesGross"},"N",0,"",0,"",0,0,0,0]
["in-gaap","Revenue advertising publicity","RevenueAdvertisingPublicity",1,{"$f":"C101","v":"RevenueServicesGross"},"N",0,"",0,"",0,0,0,0]
["in-gaap","Revenue value added services","RevenueValueAddedServices",1,{"$f":"C101","v":"RevenueServicesGross"},"N",0,"",0,"",0,0,0,0]
["in-gaap","Revenue real estate property development","RevenueRealEstatePropertyDevelopment",1,{"$f":"C101","v":"RevenueServicesGross"},"N",0,"",0,"",0,0,0,0]
["in-gaap","Revenue other services","RevenueOtherServices",1,{"$f":"C101","v":"RevenueServicesGross"},"N",0,"",0,"",0,0,0,0]
["in-gaap","Revenue contract","RevenueContract",1,{"$f":"C96","v":"OperatingRevenueGross"},"N",0,"",0,"",0,0,0,0]
["in-gaap","Revenue lease rentals","RevenueLeaseRentals",1,{"$f":"C96","v":"OperatingRevenueGross"},{"$f":"IF(COUNTIF(CALPL3,C127)>0,\"Y\",\"N\")","v":"N"},{"$f":"IF(VLOOKUP(C127,PLID,2,)=\"\",0,VLOOKUP(C127,PLID,2,))","v":0},{"$f":"IF(F127=\"Y\",SUMIF(CALPL3,C127,CALPL3CY),\"\")","v":""},{"$f":"IF(VLOOKUP(C127,PLID,3,)=\"\",0,VLOOKUP(C127,PLID,3,))","v":0},{"$f":"IF(F127=\"Y\",SUMIF(CALPL3,C127,CALPL3PY),\"\")","v":""},0,0,0,0]
["in-gaap","Revenue hire charges","RevenueHireCharges",1,{"$f":"C96","v":"OperatingRevenueGross"},"N",0,"",0,"",0,0,0,0]
["in-gaap","Revenue job work","RevenueJobWork",1,{"$f":"C96","v":"OperatingRevenueGross"},"N",0,"",0,"",0,0,0,0]
["in-gaap","Revenue intangible assets","RevenueIntangibleAssets",1,{"$f":"C96","v":"OperatingRevenueGross"},"Y",0,0,0,0,0,0,0,0]
["in-gaap","Revenue royalties","RevenueRoyalties",1,{"$f":"C130","v":"RevenueIntangibleAssets"},"N",0,"",0,"",0,0,0,0]
["in-gaap","Revenue technical knowhow","RevenueTechnicalKnowhow",1,{"$f":"C130","v":"RevenueIntangibleAssets"},"N",0,"",0,"",0,0,0,0]
["in-gaap","Revenue franchise","RevenueFranchise",1,{"$f":"C130","v":"RevenueIntangibleAssets"},"N",0,"",0,"",0,0,0,0]
["in-gaap","Revenue licences","RevenueLicences",1,{"$f":"C130","v":"RevenueIntangibleAssets"},"N",0,"",0,"",0,0,0,0]
["in-gaap","Revenue contractual rights","RevenueContractualRights",1,{"$f":"C130","v":"RevenueIntangibleAssets"},"N",0,"",0,"",0,0,0,0]
["in-gaap","Other operating revenues","OtherOperatingRevenues",1,{"$f":"C96","v":"OperatingRevenueGross"},"N",0,"",0,"",0,0,0,0]
["in-gaap","Duties taxes collected","DutiesTaxesCollected",-1,{"$f":"C95","v":"OperatingRevenueNet"},"Y",0,0,0,0,0,0,0,0]
["in-gaap","Excise duty collected","ExciseDutyCollected",1,{"$f":"C137","v":"DutiesTaxesCollected"},"N",0,"",0,"",0,0,0,0]
["in-gaap","Service tax collected","ServiceTaxCollected",1,{"$f":"C137","v":"DutiesTaxesCollected"},"N",0,"",0,"",0,0,0,0]
["in-gaap","Other duties taxes collected","OtherDutiesTaxesCollected",1,{"$f":"C137","v":"DutiesTaxesCollected"},"N",0,"",0,"",0,0,0,0]
["in-gaap","Interdivision transfers","InterdivisionTransfers",-1,{"$f":"C95","v":"OperatingRevenueNet"},"N",0,"",0,"",0,0,0,0]
["in-gaap","Brokerage discounts rebates","BrokerageDiscountsRebates",-1,{"$f":"C95","v":"OperatingRevenueNet"},"N",0,"",0,"",0,0,0,0]
["in-gaap","Sales returns","SalesReturns",-1,{"$f":"C95","v":"OperatingRevenueNet"},"N",0,"",0,"",0,0,0,0]
["in-gaap","Other allowances deductions sales","OtherAllowancesDeductionsSales",-1,{"$f":"C95","v":"OperatingRevenueNet"},"N",0,"",0,"",0,0,0,0]
["in-gaap","Share operating revenue joint ventures","ShareOperatingRevenueJointVentures",1,{"$f":"C95","v":"OperatingRevenueNet"},"N",0,"",0,"",0,0,0,0]
["in-gaap","Other income","OtherIncome",null,null,"Y",0,0,0,0,0,0,0,0]
["in-gaap","Receipt government grants subsidies","ReceiptGovernmentGrantsSubsidies",1,{"$f":"C146","v":"OtherIncome"},"N",0,"",0,"",0,0,0,0]
["in-gaap","Receipt export incentives","ReceiptExportIncentives",1,{"$f":"C146","v":"OtherIncome"},"N",0,"",0,"",0,0,0,0]
["in-gaap","Receipt import entitlements","ReceiptImportEntitlements",1,{"$f":"C146","v":"OtherIncome"},"N",0,"",0,"",0,0,0,0]
["in-gaap","Receipt insurance claims","ReceiptInsuranceClaims",1,{"$f":"C146","v":"OtherIncome"},"N",0,"",0,"",0,0,0,0]
["in-gaap","Receipt income investments","ReceiptIncomeInvestments",1,{"$f":"C146","v":"OtherIncome"},"Y",0,0,0,0,0,0,0,0]
["in-gaap","Receipt income long-term investments","ReceiptIncomeLongTermInvestments",1,{"$f":"C151","v":"ReceiptIncomeInvestments"},"Y",0,0,0,0,0,0,0,0]
["in-gaap","Receipt interest long-term investments","ReceiptInterestLongTermInvestments",1,{"$f":"C152","v":"ReceiptIncomeLongTermInvestments"},"Y",0,0,0,0,0,0,0,0]
["in-gaap","Receipt interest long-term bank deposits","ReceiptInterestLongTermBankDeposits",1,{"$f":"C153","v":"ReceiptInterestLongTermInvestments"},"N",0,"",0,"",0,0,0,0]
["in-gaap","Receipt interest long-term intercorporate deposits","ReceiptInterestLongTermIntercorporateDeposits",1,{"$f":"C153","v":"ReceiptInterestLongTermInvestments"},"N",0,"",0,"",0,0,0,0]
["in-gaap","Receipt interest long-term debt securities","ReceiptInterestLongTermDebtSecurities",1,{"$f":"C153","v":"ReceiptInterestLongTermInvestments"},"N",0,"",0,"",0,0,0,0]
["in-gaap","Receipt interest long-term government securities","ReceiptInterestLongTermGovernmentSecurities",1,{"$f":"C153","v":"ReceiptInterestLongTermInvestments"},"N",0,"",0,"",0,0,0,0]
["in-gaap","Receipt interest other long-term investments","ReceiptInterestOtherLongTermInvestments",1,{"$f":"C153","v":"ReceiptInterestLongTermInvestments"},"N",0,"",0,"",0,0,0,0]
["in-gaap","Receipt dividend long-term investments","ReceiptDividendLongTermInvestments",1,{"$f":"C152","v":"ReceiptIncomeLongTermInvestments"},{"$f":"IF(COUNTIF(CALPL3,C159)>0,\"Y\",\"N\")","v":"Y"},{"$f":"IF(VLOOKUP(C159,PLID,2,)=\"\",0,VLOOKUP(C159,PLID,2,))","v":0},{"$f":"IF(F159=\"Y\",SUMIF(CALPL3,C159,CALPL3CY),\"\")","v":0},{"$f":"IF(VLOOKUP(C159,PLID,3,)=\"\",0,VLOOKUP(C159,PLID,3,))","v":0},{"$f":"IF(F159=\"Y\",SUMIF(CALPL3,C159,CALPL3PY),\"\")","v":0},{"$f":"IF(F159=\"Y\",IF(G159=H159,0,1),0)","v":0},{"$f":"IF(F159=\"Y\",IF(I159=J159,0,1),0)","v":0},{"$f":"IF(OR(D159=\"\",G159=\"\"),0,D159*G159)","v":0},{"$f":"IF(OR(D159=\"\",I159=\"\"),0,D159*I159)","v":0}]
["in-gaap","Receipt dividend long-term equity securities","ReceiptDividendLongTermEquitySecurities",1,{"$f":"C159","v":"ReceiptDividendLongTermInvestments"},"N",0,"",0,"",0,0,0,0]
["in-gaap","Receipt dividend long-term mutual funds","ReceiptDividendLongTermMutualFunds",1,{"$f":"C159","v":"ReceiptDividendLongTermInvestments"},"N",0,"",0,"",0,0,0,0]
["in-gaap","Receipt dividend other long-term investments","ReceiptDividendOtherLongTermInvestments",1,{"$f":"C159","v":"ReceiptDividendLongTermInvestments"},"N",0,"",0,"",0,0,0,0]
["in-gaap","Receipt income current investments","ReceiptIncomeCurrentInvestments",1,{"$f":"C151","v":"ReceiptIncomeInvestments"},"Y",0,0,0,0,0,0,0,0]
["in-gaap","Receipt interest current investments","ReceiptInterestCurrentInvestments",1,{"$f":"C163","v":"ReceiptIncomeCurrentInvestments"},"Y",0,0,0,0,0,0,0,0]
["in-gaap","Receipt interest current bank deposits","ReceiptInterestCurrentBankDeposits",1,{"$f":"C164","v":"ReceiptInterestCurrentInvestments"},"N",0,"",0,"",0,0,0,0]
["in-gaap","Receipt interest current intercorporate deposits","ReceiptInterestCurrentIntercorporateDeposits",1,{"$f":"C164","v":"ReceiptInterestCurrentInvestments"},"N",0,"",0,"",0,0,0,0]
["in-gaap","Receipt interest current debt securities","ReceiptInterestCurrentDebtSecurities",1,{"$f":"C164","v":"ReceiptInterestCurrentInvestments"},"N",0,"",0,"",0,0,0,0]
["in-gaap","Receipt interest current government securities","ReceiptInterestCurrentGovernmentSecurities",1,{"$f":"C164","v":"ReceiptInterestCurrentInvestments"},"N",0,"",0,"",0,0,0,0]
["in-gaap","Receipt interest other current investments","ReceiptInterestOtherCurrentInvestments",1,{"$f":"C164","v":"ReceiptInterestCurrentInvestments"},"N",0,"",0,"",0,0,0,0]
["in-gaap","Receipts dividend current investments","ReceiptsDividendCurrentInvestments",1,{"$f":"C163","v":"ReceiptIncomeCurrentInvestments"},"Y",0,0,0,0,0,0,0,0]
["in-gaap","Receipt dividend current equity securities","ReceiptDividendCurrentEquitySecurities",1,{"$f":"C170","v":"ReceiptsDividendCurrentInvestments"},"N",0,"",0,"",0,0,0,0]
["in-gaap","Receipt dividend current mutual funds","ReceiptDividendCurrentMutualFunds",1,{"$f":"C170","v":"ReceiptsDividendCurrentInvestments"},"N",0,"",0,"",0,0,0,0]
["in-gaap","Receipt dividend other current investments","ReceiptDividendOtherCurrentInvestments",1,{"$f":"C170","v":"ReceiptsDividendCurrentInvestments"},"N",0,"",0,"",0,0,0,0]
["in-gaap","Receipt rent investment properties","ReceiptRentInvestmentProperties",1,{"$f":"C151","v":"ReceiptIncomeInvestments"},"N",0,"",0,"",0,0,0,0]
["in-gaap","Receipt income subsidiaries","ReceiptIncomeSubsidiaries",1,{"$f":"C146","v":"OtherIncome"},"N",0,"",0,"",0,0,0,0]
["in-gaap","Receipt interest income tax refund","ReceiptInterestIncomeTaxRefund",1,{"$f":"C146","v":"OtherIncome"},"N",0,"",0,"",0,0,0,0]
["in-gaap","Receipts brokerage commission","ReceiptsBrokerageCommission",1,{"$f":"C146","v":"OtherIncome"},"N",0,"",0,"",0,0,0,0]
["in-gaap","Sales tax benefit","SalesTaxBenefit",1,{"$f":"C146","v":"OtherIncome"},"N",0,"",0,"",0,0,0,0]
["in-gaap","Foreign exchange difference income","ForeignExchangeDifferenceIncome",1,{"$f":"C146","v":"OtherIncome"},"N",0,"",0,"",0,0,0,0]
["in-gaap","Profit sale redemption investments","ProfitSaleRedemptionInvestments",1,{"$f":"C146","v":"OtherIncome"},"Y",0,0,0,0,0,0,0,0]
["in-gaap","Profit sale redemption long-term investments","ProfitSaleRedemptionLongTermInvestments",1,{"$f":"C180","v":"ProfitSaleRedemptionInvestments"},"N",0,"",0,"",0,0,0,0]
["in-gaap","Profit sale redemption current investments","ProfitSaleRedemptionCurrentInvestments",1,{"$f":"C180","v":"ProfitSaleRedemptionInvestments"},"N",0,"",0,"",0,0,0,0]
["in-gaap","Profit sale disposal fixed assets","ProfitSaleDisposalFixedAssets",1,{"$f":"C146","v":"OtherIncome"},"Y",0,0,0,0,0,0,0,0]
["in-gaap","Profit sale disposal tangible fixed assets","ProfitSaleDisposalTangibleFixedAssets",1,{"$f":"C183","v":"ProfitSaleDisposalFixedAssets"},"N",0,"",0,"",0,0,0,0]
["in-gaap","Profit sale disposal intangible fixed assets","ProfitSaleDisposalIntangibleFixedAssets",1,{"$f":"C183","v":"ProfitSaleDisposalFixedAssets"},"N",0,"",0,"",0,0,0,0]
["in-gaap","Receipts job work","ReceiptsJobWork",1,{"$f":"C146","v":"OtherIncome"},"N",0,"",0,"",0,0,0,0]
["in-gaap","Receipts hire charges","ReceiptsHireCharges",1,{"$f":"C146","v":"OtherIncome"},"N",0,"",0,"",0,0,0,0]
["in-gaap","Receipts intangible assets","ReceiptsIntangibleAssets",1,{"$f":"C146","v":"OtherIncome"},"Y",0,0,0,0,0,0,0,0]
["in-gaap","Receipts technical knowhow","ReceiptsTechnicalKnowhow",1,{"$f":"C188","v":"ReceiptsIntangibleAssets"},"N",0,"",0,"",0,0,0,0]
["in-gaap","Receipts franchise","ReceiptsFranchise",1,{"$f":"C188","v":"ReceiptsIntangibleAssets"},"N",0,"",0,"",0,0,0,0]
["in-gaap","Receipts licences","ReceiptsLicences",1,{"$f":"C188","v":"ReceiptsIntangibleAssets"},{"$f":"IF(COUNTIF(CALPL3,C191)>0,\"Y\",\"N\")","v":"N"},{"$f":"IF(VLOOKUP(C191,PLID,2,)=\"\",0,VLOOKUP(C191,PLID,2,))","v":0},{"$f":"IF(F191=\"Y\",SUMIF(CALPL3,C191,CALPL3CY),\"\")","v":""},{"$f":"IF(VLOOKUP(C191,PLID,3,)=\"\",0,VLOOKUP(C191,PLID,3,))","v":0},{"$f":"IF(F191=\"Y\",SUMIF(CALPL3,C191,CALPL3PY),\"\")","v":""},0,0,0,0]
["in-gaap","Receipts contractual rights","ReceiptsContractualRights",1,{"$f":"C188","v":"ReceiptsIntangibleAssets"},"N",0,"",0,"",0,0,0,0]
["in-gaap","Receipts royalties","ReceiptsRoyalties",1,{"$f":"C188","v":"ReceiptsIntangibleAssets"},"N",0,"",0,"",0,0,0,0]
["in-gaap","Receipts repairs maintenance","ReceiptsRepairsMaintenance",1,{"$f":"C146","v":"OtherIncome"},"N",0,"",0,"",0,0,0,0]
["in-gaap","Receipts membership subscriptions fees","ReceiptsMembershipSubscriptionsFees",1,{"$f":"C146","v":"OtherIncome"},"N",0,"",0,"",0,0,0,0]
["in-gaap","Receipts erectioning commissioning","ReceiptsErectioningCommissioning",1,{"$f":"C146","v":"OtherIncome"},"N",0,"",0,"",0,0,0,0]
["in-gaap","Excess provisions written back","ExcessProvisionsWrittenBack",1,{"$f":"C146","v":"OtherIncome"},"N",0,"",0,"",0,0,0,0]
["in-gaap","Other receipts","OtherReceipts",1,{"$f":"C146","v":"OtherIncome"},"N",0,"",0,"",0,0,0,0]
["in-gaap","Tax deducted at sources other income","TaxDeductedatSourcesOtherIncome",-1,{"$f":"C146","v":"OtherIncome"},"N",0,"",0,"",0,0,0,0]
["in-gaap","Other allowances deduction other income","OtherAllowancesDeductionOtherIncome",-1,{"$f":"C146","v":"OtherIncome"},"N",0,"",0,"",0,0,0,0]
["in-gaap","Share other income joint ventures","ShareOtherIncomeJointVentures",1,{"$f":"C146","v":"OtherIncome"},"N",0,"",0,"",0,0,0,0]
[""]
[""]
["ELR","[200300] Additional Details - Income Statement","AdditionalDetailsIncomeStatement"]
["Prefix","Element Label","Element Name","Weight","Parent"]
["in-gaap","Operating revenue, net","OperatingRevenueNet",null,null,{"$f":"IF(COUNTIF(CALPL4,C206)>0,\"Y\",\"N\")","v":"Y"},{"$f":"IF(VLOOKUP(C206,PLID,2,)=\"\",0,VLOOKUP(C206,PLID,2,))","v":0},{"$f":"IF(F206=\"Y\",SUMIF(CALPL4,C206,CALPL4CY),\"\")","v":0},{"$f":"IF(VLOOKUP(C206,PLID,3,)=\"\",0,VLOOKUP(C206,PLID,3,))","v":0},{"$f":"IF(F206=\"Y\",SUMIF(CALPL4,C206,CALPL4PY),\"\")","v":0},{"$f":"IF(F206=\"Y\",IF(G206=H206,0,1),0)","v":0},{"$f":"IF(F206=\"Y\",IF(I206=J206,0,1),0)","v":0},{"$f":"IF(OR(D206=\"\",G206=\"\"),0,D206*G206)","v":0},{"$f":"IF(OR(D206=\"\",I206=\"\"),0,D206*I206)","v":0}]
["in-gaap","Operating revenue, gross","OperatingRevenueGross",1,{"$f":"C206","v":"OperatingRevenueNet"},"Y",0,0,0,0,{"$f":"IF(F207=\"Y\",IF(G207=H207,0,1),0)","v":0},{"$f":"IF(F207=\"Y\",IF(I207=J207,0,1),0)","v":0},0,0]
["in-gaap","Revenue sale goods, gross","RevenueSaleGoodsGross",1,{"$f":"C207","v":"OperatingRevenueGross"},"Y",0,0,0,0,0,0,0,0]
["in-gaap","Domestic turnover goods, gross","DomesticTurnoverGoodsGross",1,{"$f":"C208","v":"RevenueSaleGoodsGross"},"Y",0,0,0,0,0,0,0,0]
["in-gaap","Domestic sale manufactured goods","DomesticSaleManufacturedGoods",1,{"$f":"C209","v":"DomesticTurnoverGoodsGross"},"N",0,"",0,"",0,0,0,0]
["in-gaap","Domestic sale traded goods","DomesticSaleTradedGoods",1,{"$f":"C209","v":"DomesticTurnoverGoodsGross"},"N",0,"",0,"",0,0,0,0]
["in-gaap","Export turnover goods, gross","ExportTurnoverGoodsGross",1,{"$f":"C208","v":"RevenueSaleGoodsGross"},"Y",0,0,0,0,0,0,0,0]
["in-gaap","Export sale manufactured goods","ExportSaleManufacturedGoods",1,{"$f":"C212","v":"ExportTurnoverGoodsGross"},"N",0,"",0,"",0,0,0,0]
["in-gaap","Export sale traded goods","ExportsaleTradedgoods",1,{"$f":"C212","v":"ExportTurnoverGoodsGross"},"N",0,"",0,"",0,0,0,0]
["in-gaap","Revenue services, gross","RevenueServicesGross",1,{"$f":"C207","v":"OperatingRevenueGross"},"Y",0,0,0,0,0,0,0,0]
["in-gaap","Domestic revenue services","DomesticRevenueServices",1,{"$f":"C215","v":"RevenueServicesGross"},"N",0,"",0,"",0,0,0,0]
["in-gaap","Export revenue services","ExportRevenueServices",1,{"$f":"C215","v":"RevenueServicesGross"},"N",0,"",0,"",0,0,0,0]
["in-gaap","Revenue contract","RevenueContract",1,{"$f":"C207","v":"OperatingRevenueGross"},"Y",0,0,0,0,0,0,0,0]
["in-gaap","Revenue domestic contracts","RevenueDomesticContracts",1,{"$f":"C218","v":"RevenueContract"},"N",0,"",0,"",0,0,0,0]
["in-gaap","Revenue foreign contracts","RevenueForeignContracts",1,{"$f":"C218","v":"RevenueContract"},"N",0,"",0,"",0,0,0,0]
["in-gaap","Revenue lease rentals","RevenueLeaseRentals",1,{"$f":"C207","v":"OperatingRevenueGross"},"N",0,"",0,"",0,0,0,0]
["in-gaap","Revenue hire charges","RevenueHireCharges",1,{"$f":"C207","v":"OperatingRevenueGross"},"N",0,"",0,"",0,0,0,0]
["in-gaap","Revenue job work","RevenueJobWork",1,{"$f":"C207","v":"OperatingRevenueGross"},"N",0,"",0,"",0,0,0,0]
["in-gaap","Revenue intangible assets","RevenueIntangibleAssets",1,{"$f":"C207","v":"OperatingRevenueGross"},"Y",0,0,0,0,0,0,0,0]
["in-gaap","Revenue royalties","RevenueRoyalties",1,{"$f":"C224","v":"RevenueIntangibleAssets"},"N",0,"",0,"",0,0,0,0]
["in-gaap","Revenue technical knowhow","RevenueTechnicalKnowhow",1,{"$f":"C224","v":"RevenueIntangibleAssets"},"N",0,"",0,"",0,0,0,0]
["in-gaap","Revenue franchise","RevenueFranchise",1,{"$f":"C224","v":"RevenueIntangibleAssets"},"N",0,"",0,"",0,0,0,0]
["in-gaap","Revenue licences","RevenueLicences",1,{"$f":"C224","v":"RevenueIntangibleAssets"},"N",0,"",0,"",0,0,0,0]
["in-gaap","Revenue contractual rights","RevenueContractualRights",1,{"$f":"C224","v":"RevenueIntangibleAssets"},"N",0,"",0,"",0,0,0,0]
["in-gaap","Other operating revenues","OtherOperatingRevenues",1,{"$f":"C207","v":"OperatingRevenueGross"},"N",0,"",0,"",0,0,0,0]
["in-gaap","Duties taxes collected","DutiesTaxesCollected",-1,{"$f":"C206","v":"OperatingRevenueNet"},"Y",0,0,0,0,0,0,0,0]
["in-gaap","Excise duty collected","ExciseDutyCollected",1,{"$f":"C231","v":"DutiesTaxesCollected"},"N",0,"",0,"",0,0,0,0]
["in-gaap","Service tax collected","ServiceTaxCollected",1,{"$f":"C231","v":"DutiesTaxesCollected"},"N",0,"",0,"",0,0,0,0]
["in-gaap","Other duties taxes collected","OtherDutiesTaxesCollected",1,{"$f":"C231","v":"DutiesTaxesCollected"},"N",0,"",0,"",0,0,0,0]
["in-gaap","Interdivision transfers","InterdivisionTransfers",-1,"OperatingRevenueNet","N",0,"",0,"",0,0,0,0]
["in-gaap","Brokerage discounts rebates","BrokerageDiscountsRebates",-1,"OperatingRevenueNet","N",0,"",0,"",0,0,0,0]
["in-gaap","Sales returns","SalesReturns",-1,"OperatingRevenueNet","N",0,"",0,"",0,0,0,0]
["in-gaap","Other allowances deductions sales","OtherAllowancesDeductionsSales",-1,"OperatingRevenueNet",{"$f":"IF(COUNTIF(CALPL4,C238)>0,\"Y\",\"N\")","v":"N"},{"$f":"IF(VLOOKUP(C238,PLID,2,)=\"\",0,VLOOKUP(C238,PLID,2,))","v":0},{"$f":"IF(F238=\"Y\",SUMIF(CALPL4,C238,CALPL4CY),\"\")","v":""},{"$f":"IF(VLOOKUP(C238,PLID,3,)=\"\",0,VLOOKUP(C238,PLID,3,))","v":0},{"$f":"IF(F238=\"Y\",SUMIF(CALPL4,C238,CALPL4PY),\"\")","v":""},0,0,0,0]
["in-gaap","Share operating revenue joint ventures","ShareOperatingRevenueJointVentures",1,"OperatingRevenueNet","N",0,"",0,"",0,0,0,0]
["in-gaap","Receipt income investments","ReceiptIncomeInvestments",null,null,"Y",0,0,0,0,0,0,0,0]
["in-gaap","Receipt income investments trade","ReceiptIncomeInvestmentsTrade",1,{"$f":"C240","v":"ReceiptIncomeInvestments"},"N",0,"",0,"",0,0,0,0]
["in-gaap","Receipt income investments non-trade","ReceiptIncomeInvestmentsNontrade",1,{"$f":"C240","v":"ReceiptIncomeInvestments"},"N",0,"",0,"",0,0,0,0]
["in-gaap","Receipt rent investment properties","ReceiptRentInvestmentProperties",1,{"$f":"C240","v":"ReceiptIncomeInvestments"},"N",0,"",0,"",0,0,0,0]
["in-gaap","Appropriations","Appropriations",null,null,"Y",0,0,0,0,0,0,0,0]
["in-gaap","Appropriations reserves","AppropriationsReserves",1,{"$f":"C244","v":"Appropriations"},"Y",0,0,0,0,0,0,0,0]
["in-gaap","Appropriations general reserve","AppropriationsGeneralReserve",1,{"$f":"C245","v":"AppropriationsReserves"},"N",0,"",0,"",0,0,0,0]
["in-gaap","Appropriations statutory reserve","AppropriationsStatutoryReserve",1,{"$f":"C245","v":"AppropriationsReserves"},"N",0,"",0,"",0,0,0,0]
["in-gaap","Appropriations capital reserve","AppropriationsCapitalReserve",1,{"$f":"C245","v":"AppropriationsReserves"},"N",0,"",0,"",0,0,0,0]
["in-gaap","Appropriations capital redemption reserve","AppropriationsCapitalRedemptionReserve",1,{"$f":"C245","v":"AppropriationsReserves"},"N",0,"",0,"",0,0,0,0]
["in-gaap","Appropriations debenture redemption reserve","AppropriationsDebentureRedemptionReserve",1,{"$f":"C245","v":"AppropriationsReserves"},"N",0,"",0,"",0,0,0,0]
["in-gaap","Appropriations other reserves","AppropriationsOtherReserves",1,{"$f":"C245","v":"AppropriationsReserves"},"N",0,"",0,"",0,0,0,0]
["in-gaap","Appropriations equity dividend","AppropriationsEquityDividend",1,{"$f":"C244","v":"Appropriations"},"Y",0,0,0,0,0,0,0,0]
["in-gaap","Appropriations interim dividend","AppropriationsInterimDividend",1,{"$f":"C252","v":"AppropriationsEquityDividend"},"N",0,"",0,"",0,0,0,0]
["in-gaap","Appropriations final dividend","AppropriationsFinalDividend",1,{"$f":"C252","v":"AppropriationsEquityDividend"},"N",0,"",0,"",0,0,0,0]
["in-gaap","Appropriations preferred dividend","AppropriationsPreferredDividend",1,{"$f":"C244","v":"Appropriations"},"N",0,"",0,"",0,0,0,0]
["in-gaap","Appropriations special dividend","AppropriationsSpecialDividend",1,{"$f":"C244","v":"Appropriations"},"N",0,"",0,"",0,0,0,0]
["in-gaap","Appropriations dividend distribution tax","AppropriationsDividendDistributionTax",1,{"$f":"C244","v":"Appropriations"},"Y",0,0,0,0,0,0,0,0]
["in-gaap","Appropriations equity dividend distribution tax","AppropriationsEquityDividendDistributionTax",1,{"$f":"C257","v":"AppropriationsDividendDistributionTax"},"N",0,"",0,"",0,0,0,0]
["in-gaap","Appropriations preference dividend distribution tax","AppropriationsPreferenceDividendDistributionTax",1,{"$f":"C257","v":"AppropriationsDividendDistributionTax"},"N",0,"",0,"",0,0,0,0]
["in-gaap","Amounts transferred reserves","AmountsTransferredReserves",null,null,"Y",0,0,0,0,0,0,0,0]
["in-gaap","Amount transferred from general reserve","AmountTransferredfromGeneralReserve",1,{"$f":"C260","v":"AmountsTransferredReserves"},"N",0,"",0,"",0,0,0,0]
["in-gaap","Amount transferred from capital reserves","AmountTransferredfromCapitalReserves",1,{"$f":"C260","v":"AmountsTransferredReserves"},"N",0,"",0,"",0,0,0,0]
["in-gaap","Amount transferred special source","AmountTransferredSpecialSource",1,{"$f":"C260","v":"AmountsTransferredReserves"},"N",0,"",0,"",0,0,0,0]
["in-gaap","Amounts transferred from other reserves","AmountsTransferredfromOtherReserves",1,{"$f":"C260","v":"AmountsTransferredReserves"},"N",0,"",0,"",0,0,0,0]
["in-gaap","Profit loss discontinuing operations, net","ProfitLossDiscontinuingOperationsNet",null,null,"Y",0,0,0,0,0,0,0,0]
["in-gaap","Profit loss discontinuing operations, gross","ProfitLossDiscontinuingOperationsGross",1,{"$f":"C265","v":"ProfitLossDiscontinuingOperationsNet"},"Y",0,0,0,0,0,0,0,0]
["in-gaap","Income loss discontinuing operations","IncomeLossDiscontinuingOperations",1,{"$f":"C266","v":"ProfitLossDiscontinuingOperationsGross"},"Y",0,0,0,0,0,0,0,0]
["in-gaap","Revenues related discontinuing operations","RevenuesRelatedDiscontinuingOperations",1,{"$f":"C267","v":"IncomeLossDiscontinuingOperations"},"N",0,"",0,"",0,0,0,0]
["in-gaap","Expenses related discontinuing operations","ExpensesRelatedDiscontinuingOperations",-1,{"$f":"C267","v":"IncomeLossDiscontinuingOperations"},"N",0,"",0,"",0,0,0,0]
["in-gaap","Income loss disposal sale discontinuing operations","IncomeLossDisposalSaleDiscontinuingOperations",1,{"$f":"C266","v":"ProfitLossDiscontinuingOperationsGross"},{"$f":"IF(COUNTIF(CALPL4,C270)>0,\"Y\",\"N\")","v":"N"},{"$f":"IF(VLOOKUP(C270,PLID,2,)=\"\",0,VLOOKUP(C270,PLID,2,))","v":0},{"$f":"IF(F270=\"Y\",SUMIF(CALPL4,C270,CALPL4CY),\"\")","v":""},{"$f":"IF(VLOOKUP(C270,PLID,3,)=\"\",0,VLOOKUP(C270,PLID,3,))","v":0},{"$f":"IF(F270=\"Y\",SUMIF(CALPL4,C270,CALPL4PY),\"\")","v":""},0,0,{"$f":"IF(OR(D270=\"\",G270=\"\"),0,D270*G270)","v":0},{"$f":"IF(OR(D270=\"\",I270=\"\"),0,D270*I270)","v":0}]
["in-gaap","Tax effect discontinuing operations","TaxEffectDiscontinuingOperations",-1,{"$f":"C265","v":"ProfitLossDiscontinuingOperationsNet"},"Y",0,0,0,0,{"$f":"IF(F271=\"Y\",IF(G271=H271,0,1),0)","v":0},{"$f":"IF(F271=\"Y\",IF(I271=J271,0,1),0)","v":0},0,0]
["in-gaap","Tax effect income loss discontinuing operations","TaxEffectIncomeLossDiscontinuingOperations",1,{"$f":"C271","v":"TaxEffectDiscontinuingOperations"},"N",0,"",0,"",0,0,0,0]
["in-gaap","Tax effect sale disposal discontinuing operations","TaxEffectSaleDisposalDiscontinuingOperations",1,{"$f":"C271","v":"TaxEffectDiscontinuingOperations"},"N",0,"",0,"",0,0,0,0]
["in-gaap","Capitalisation expenses","CapitalisationExpenses",null,null,"Y",0,0,0,0,0,0,0,0]
["in-gaap","Capitalisation raw other materials","CapitalisationRawOtherMaterials",1,{"$f":"C274","v":"CapitalisationExpenses"},"N",0,"",0,"",0,0,0,0]
["in-gaap","Capitalisation manufacturing service cost","CapitalisationManufacturingServiceCost",1,{"$f":"C274","v":"CapitalisationExpenses"},"N",0,"",0,"",0,0,0,0]
["in-gaap","Capitalisation employee expenses","CapitalisationEmployeeExpenses",1,{"$f":"C274","v":"CapitalisationExpenses"},"N",0,"",0,"",0,0,0,0]
["in-gaap","Capitalisation administration selling expenses","CapitalisationAdministrationSellingExpenses",1,{"$f":"C274","v":"CapitalisationExpenses"},"N",0,"",0,"",0,0,0,0]
["in-gaap","Average number shares for diluted earnings per share","AverageNumberSharesforDilutedEarningsPerShare",null,null,"Y",0,0,0,0,0,0,0,0]
["in-gaap","Average number shares for basic earnings per share","AverageNumberSharesforBasicEarningsPerShare",1,{"$f":"C279","v":"AverageNumberSharesforDilutedEarningsPerShare"},"N",0,"",0,"",0,0,0,0]
["in-gaap","Adjustment average number shares","AdjustmentAverageNumberShares",1,{"$f":"C279","v":"AverageNumberSharesforDilutedEarningsPerShare"},"N",0,"",0,"",0,0,0,0]
[""]
[""]
["ELR","[200200] Schedule - Expenditure","ScheduleExpenditure"]
["Prefix","Element Label","Element Name","Weight","Parent"]
["in-gaap","Consumption materials changes inventories","ConsumptionMaterialsChangesInventories",null,null,{"$f":"IF(COUNTIF(CALPL5,C286)>0,\"Y\",\"N\")","v":"Y"},{"$f":"IF(VLOOKUP(C286,PLID,2,)=\"\",0,VLOOKUP(C286,PLID,2,))","v":0},{"$f":"IF(F286=\"Y\",SUMIF(CALPL5,C286,CALPL5CY),\"\")","v":0},{"$f":"IF(VLOOKUP(C286,PLID,3,)=\"\",0,VLOOKUP(C286,PLID,3,))","v":0},{"$f":"IF(F286=\"Y\",SUMIF(CALPL5,C286,CALPL5PY),\"\")","v":0},{"$f":"IF(F286=\"Y\",IF(G286=H286,0,1),0)","v":0},{"$f":"IF(F286=\"Y\",IF(I286=J286,0,1),0)","v":0},{"$f":"IF(OR(D286=\"\",G286=\"\"),0,D286*G286)","v":0},{"$f":"IF(OR(D286=\"\",I286=\"\"),0,D286*I286)","v":0}]
["in-gaap","Consumption raw other materials","ConsumptionRawOtherMaterials",1,{"$f":"C286","v":"ConsumptionMaterialsChangesInventories"},"Y",0,0,0,0,{"$f":"IF(F287=\"Y\",IF(G287=H287,0,1),0)","v":0},{"$f":"IF(F287=\"Y\",IF(I287=J287,0,1),0)","v":0},0,0]
["in-gaap","Consumption raw materials","ConsumptionRawMaterials",1,{"$f":"C287","v":"ConsumptionRawOtherMaterials"},"N",0,"",0,"",0,0,0,0]
["in-gaap","Consumption packing materials","ConsumptionPackingMaterials",1,{"$f":"C287","v":"ConsumptionRawOtherMaterials"},"N",0,"",0,"",0,0,0,0]
["in-gaap","Consumption stores spares","ConsumptionStoresSpares",1,{"$f":"C287","v":"ConsumptionRawOtherMaterials"},"N",0,"",0,"",0,0,0,0]
["in-gaap","Consumption other materials","ConsumptionOtherMaterials",1,{"$f":"C287","v":"ConsumptionRawOtherMaterials"},"N",0,"",0,"",0,0,0,0]
["in-gaap","Capitalisation raw other materials","CapitalisationRawOtherMaterials",-1,{"$f":"C287","v":"ConsumptionRawOtherMaterials"},"N",0,"",0,"",0,0,0,0]
["in-gaap","Cost traded goods","CostTradedGoods",1,{"$f":"C286","v":"ConsumptionMaterialsChangesInventories"},"N",0,"",0,"",0,0,0,0]
["in-gaap","Increase decrease inventories","IncreaseDecreaseInventories",1,{"$f":"C286","v":"ConsumptionMaterialsChangesInventories"},"Y",0,0,0,0,0,0,0,0]
["in-gaap","Increase decrease finished goods","IncreaseDecreaseFinishedGoods",1,{"$f":"C294","v":"IncreaseDecreaseInventories"},"N",0,"",0,"",0,0,0,0]
["in-gaap","Increase decrease work-in progress","IncreaseDecreaseWorkinProgress",1,{"$f":"C294","v":"IncreaseDecreaseInventories"},"N",0,"",0,"",0,0,0,0]
["in-gaap","Increase decrease other inventories","IncreaseDecreaseOtherInventories",1,{"$f":"C294","v":"IncreaseDecreaseInventories"},"N",0,"",0,"",0,0,0,0]
["in-gaap","Increase decrease excise duty inventories","IncreaseDecreaseExciseDutyInventories",1,{"$f":"C294","v":"IncreaseDecreaseInventories"},"N",0,"",0,"",0,0,0,0]
["in-gaap","Share materials stocks joint ventures","ShareMaterialsStocksJointVentures",1,{"$f":"C286","v":"ConsumptionMaterialsChangesInventories"},"N",0,"",0,"",0,0,0,0]
["in-gaap","Manufacturing service costs","ManufacturingServiceCosts",null,null,"Y",0,0,0,0,0,0,0,0]
["in-gaap","Cost power fuel","CostPowerFuel",1,{"$f":"C300","v":"ManufacturingServiceCosts"},"N",0,"",0,"",0,0,0,0]
["in-gaap","Cost repairs maintenance","CostRepairsMaintenance",1,{"$f":"C300","v":"ManufacturingServiceCosts"},"Y",0,0,0,0,0,0,0,0]
["in-gaap","Cost repairs maintenance factory building","CostRepairsMaintenanceFactoryBuilding",1,{"$f":"C302","v":"CostRepairsMaintenance"},"N",0,"",0,"",0,0,0,0]
["in-gaap","Cost repairs maintenance plant machinery","CostRepairsMaintenancePlantMachinery",1,{"$f":"C302","v":"CostRepairsMaintenance"},"N",0,"",0,"",0,0,0,0]
["in-gaap","Cost repairs maintenance other assets","CostRepairsMaintenanceOtherAssets",1,{"$f":"C302","v":"CostRepairsMaintenance"},"N",0,"",0,"",0,0,0,0]
["in-gaap","Cost information technology","CostInformationTechnology",1,{"$f":"C300","v":"ManufacturingServiceCosts"},"Y",0,0,0,0,0,0,0,0]
["in-gaap","Cost software","CostSoftware",1,{"$f":"C306","v":"CostInformationTechnology"},"N",0,"",0,"",0,0,0,0]
["in-gaap","Cost hardware","CostHardware",1,{"$f":"C306","v":"CostInformationTechnology"},"N",0,"",0,"",0,0,0,0]
["in-gaap","Cost communication connectivity","CostCommunicationConnectivity",1,{"$f":"C306","v":"CostInformationTechnology"},"N",0,"",0,"",0,0,0,0]
["in-gaap","Cost insurance","CostInsurance",1,{"$f":"C300","v":"ManufacturingServiceCosts"},"N",0,"",0,"",0,0,0,0]
["in-gaap","Cost transportation","CostTransportation",1,{"$f":"C300","v":"ManufacturingServiceCosts"},"Y",0,0,0,0,0,0,0,0]
["in-gaap","Cost freight","CostFreight",1,{"$f":"C311","v":"CostTransportation"},"N",0,"",0,"",0,0,0,0]
["in-gaap","Cost octroi","CostOctroi",1,{"$f":"C311","v":"CostTransportation"},"N",0,"",0,"",0,0,0,0]
["in-gaap","Cost loading unloading","CostLoadingUnloading",1,{"$f":"C311","v":"CostTransportation"},"N",0,"",0,"",0,0,0,0]
["in-gaap","Cost other transporting","CostOtherTransporting",1,{"$f":"C311","v":"CostTransportation"},"N",0,"",0,"",0,0,0,0]
["in-gaap","Cost lease rentals","CostLeaseRentals",1,{"$f":"C300","v":"ManufacturingServiceCosts"},"N",0,"",0,"",0,0,0,0]
["in-gaap","Cost effluent disposal","CostEffluentDisposal",1,{"$f":"C300","v":"ManufacturingServiceCosts"},"N",0,"",0,"",0,0,0,0]
["in-gaap","Cost site restoration reclamation","CostSiteRestorationReclamation",1,{"$f":"C300","v":"ManufacturingServiceCosts"},"N",0,"",0,"",0,0,0,0]
["in-gaap","Cost warehousing","CostWarehousing",1,{"$f":"C300","v":"ManufacturingServiceCosts"},"N",0,"",0,"",0,0,0,0]
["in-gaap","Cost taxes other levies by government local authorities","CostTaxesOtherLeviesByGovernmentLocalAuthorities",1,{"$f":"C300","v":"ManufacturingServiceCosts"},"Y",0,0,0,0,0,0,0,0]
["in-gaap","Central excise duty","CentralExciseDuty",1,{"$f":"C320","v":"CostTaxesOtherLeviesByGovernmentLocalAuthorities"},"N",0,"",0,"",0,0,0,0]
["in-gaap","Purchase tax","PurchaseTax",1,{"$f":"C320","v":"CostTaxesOtherLeviesByGovernmentLocalAuthorities"},"N",0,"",0,"",0,0,0,0]
["in-gaap","Other cess taxes","OtherCessTaxes",1,{"$f":"C320","v":"CostTaxesOtherLeviesByGovernmentLocalAuthorities"},"N",0,"",0,"",0,0,0,0]
["in-gaap","Cost water charges","CostWaterCharges",1,{"$f":"C300","v":"ManufacturingServiceCosts"},"N",0,"",0,"",0,0,0,0]
["in-gaap","Cost reimbursable expenses","CostReimbursableExpenses",1,{"$f":"C300","v":"ManufacturingServiceCosts"},"N",0,"",0,"",0,0,0,0]
["in-gaap","Cost technical services","CostTechnicalServices",1,{"$f":"C300","v":"ManufacturingServiceCosts"},"N",0,"",0,"",0,0,0,0]
["in-gaap","Cost royalty","CostRoyalty",1,{"$f":"C300","v":"ManufacturingServiceCosts"},"N",0,"",0,{"$f":"IF(F327=\"Y\",SUMIF(CALPL5,C327,CALPL5PY),\"\")","v":""},{"$f":"IF(F327=\"Y\",IF(G327=H327,0,1),0)","v":0},{"$f":"IF(F327=\"Y\",IF(I327=J327,0,1),0)","v":0},0,0]
["in-gaap","Other manufacturing service costs","OtherManufacturingServiceCosts",1,{"$f":"C300","v":"ManufacturingServiceCosts"},"N",0,"",0,"",0,0,0,0]
["in-gaap","Allowances manufacturing service cost","AllowancesManufacturingServiceCost",-1,{"$f":"C300","v":"ManufacturingServiceCosts"},"N",0,"",0,"",0,0,0,0]
["in-gaap","Capitalisation manufacturing service cost","CapitalisationManufacturingServiceCost",-1,{"$f":"C300","v":"ManufacturingServiceCosts"},"N",0,"",0,"",0,0,0,0]
["in-gaap","Share manufacturing service cost joint ventures","ShareManufacturingServiceCostJointVentures",1,{"$f":"C300","v":"ManufacturingServiceCosts"},"N",0,"",0,"",0,0,0,0]
["in-gaap","Employee related expenses","EmployeeRelatedExpenses",null,null,"Y",0,0,0,0,0,0,0,0]
["in-gaap","Employees remuneration benefits","EmployeesRemunerationBenefits",1,{"$f":"C332","v":"EmployeeRelatedExpenses"},"Y",0,0,0,0,0,0,0,0]
["in-gaap","Salary wages bonus","SalaryWagesBonus",1,{"$f":"C333","v":"EmployeesRemunerationBenefits"},"N",0,"",0,"",0,0,0,0]
["in-gaap","Commission employees","CommissionEmployees",1,{"$f":"C333","v":"EmployeesRemunerationBenefits"},"N",0,"",0,"",0,0,0,0]
["in-gaap","Employee stock compensation expenses","EmployeeStockCompensationExpenses",1,{"$f":"C333","v":"EmployeesRemunerationBenefits"},"N",0,"",0,"",0,0,0,0]
["in-gaap","Employee medical insurance expenses","EmployeeMedicalInsuranceExpenses",1,{"$f":"C333","v":"EmployeesRemunerationBenefits"},"N",0,"",0,"",0,0,0,0]
["in-gaap","Leave encashment expenses","LeaveEncashmentExpenses",1,{"$f":"C333","v":"EmployeesRemunerationBenefits"},"N",0,"",0,"",0,0,0,0]
["in-gaap","Retirement benefits","RetirementBenefits",1,{"$f":"C333","v":"EmployeesRemunerationBenefits"},"Y",0,0,0,0,0,0,0,0]
["in-gaap","Gratuity","Gratuity",1,{"$f":"C339","v":"RetirementBenefits"},"N",0,"",0,"",0,0,0,0]
["in-gaap","Pension schemes","PensionSchemes",1,{"$f":"C339","v":"RetirementBenefits"},"N",0,"",0,"",0,0,0,0]
["in-gaap","Provident fund","ProvidentFund",1,{"$f":"C339","v":"RetirementBenefits"},"N",0,"",0,"",0,0,0,0]
["in-gaap","Voluntary retirement compensation","VoluntaryRetirementCompensation",1,{"$f":"C339","v":"RetirementBenefits"},"N",0,"",0,"",0,0,0,0]
["in-gaap","Other retirement benefits","OtherRetirementBenefits",1,{"$f":"C339","v":"RetirementBenefits"},"N",0,"",0,"",0,0,0,0]
["in-gaap","Staff welfare expenses","StaffWelfareExpenses",1,{"$f":"C332","v":"EmployeeRelatedExpenses"},"N",0,"",0,"",0,0,0,0]
["in-gaap","Training recruitment expenses","TrainingRecruitmentExpenses",1,{"$f":"C332","v":"EmployeeRelatedExpenses"},"N",0,"",0,"",0,0,0,0]
["in-gaap","Other employee related expenses","OtherEmployeeRelatedExpenses",1,{"$f":"C332","v":"EmployeeRelatedExpenses"},"N",0,"",0,"",0,0,0,0]
["in-gaap","Capitalisation employee expenses","CapitalisationEmployeeExpenses",-1,{"$f":"C332","v":"EmployeeRelatedExpenses"},"N",0,"",0,"",0,0,0,0]
["in-gaap","Share employee related expenses joint ventures","ShareEmployeeRelatedExpensesJointVentures",1,{"$f":"C332","v":"EmployeeRelatedExpenses"},"N",0,"",0,"",0,0,0,0]
["in-gaap","Administrative selling other expenses","AdministrativeSellingOtherExpenses",null,null,{"$f":"IF(COUNTIF(CALPL5,C350)>0,\"Y\",\"N\")","v":"Y"},{"$f":"IF(VLOOKUP(C350,PLID,2,)=\"\",0,VLOOKUP(C350,PLID,2,))","v":0},{"$f":"IF(F350=\"Y\",SUMIF(CALPL5,C350,CALPL5CY),\"\")","v":0},{"$f":"IF(VLOOKUP(C350,PLID,3,)=\"\",0,VLOOKUP(C350,PLID,3,))","v":0},{"$f":"IF(F350=\"Y\",SUMIF(CALPL5,C350,CALPL5PY),\"\")","v":0},0,0,{"$f":"IF(OR(D350=\"\",G350=\"\"),0,D350*G350)","v":0},{"$f":"IF(OR(D350=\"\",I350=\"\"),0,D350*I350)","v":0}]
["in-gaap","Administrative general expenses","AdministrativeGeneralExpenses",1,{"$f":"C350","v":"AdministrativeSellingOtherExpenses"},"Y",0,0,0,0,{"$f":"IF(F351=\"Y\",IF(G351=H351,0,1),0)","v":0},{"$f":"IF(F351=\"Y\",IF(I351=J351,0,1),0)","v":0},0,0]
["in-gaap","Subscriptions membership fees","SubscriptionsMembershipFees",1,{"$f":"C351","v":"AdministrativeGeneralExpenses"},"N",0,"",0,"",0,0,0,0]
["in-gaap","Electricity expenses","ElectricityExpenses",1,{"$f":"C351","v":"AdministrativeGeneralExpenses"},"N",0,"",0,"",0,0,0,0]
["in-gaap","Telephone postage","TelephonePostage",1,{"$f":"C351","v":"AdministrativeGeneralExpenses"},"N",0,"",0,"",0,0,0,0]
["in-gaap","Printing stationery","PrintingStationery",1,{"$f":"C351","v":"AdministrativeGeneralExpenses"},"N",0,"",0,"",0,0,0,0]
["in-gaap","Information technology expenses","InformationTechnologyExpenses",1,{"$f":"C351","v":"AdministrativeGeneralExpenses"},"N",0,"",0,"",0,0,0,0]
["in-gaap","Travelling conveyance","TravellingConveyance",1,{"$f":"C351","v":"AdministrativeGeneralExpenses"},"N",0,"",0,"",0,0,0,0]
["in-gaap","Catering canteen expenses","CateringCanteenExpenses",1,{"$f":"C351","v":"AdministrativeGeneralExpenses"},"N",0,"",0,"",0,0,0,0]
["in-gaap","Entertainment expenses","EntertainmentExpenses",1,{"$f":"C351","v":"AdministrativeGeneralExpenses"},"N",0,"",0,"",0,0,0,0]
["in-gaap","Legal professional charges","LegalProfessionalCharges",1,{"$f":"C351","v":"AdministrativeGeneralExpenses"},"N",0,"",0,"",0,0,0,0]
["in-gaap","Insurance expenses","InsuranceExpenses",1,{"$f":"C351","v":"AdministrativeGeneralExpenses"},"N",0,"",0,"",0,0,0,0]
["in-gaap","Repairs maintenance expenses","RepairsMaintenanceExpenses",1,{"$f":"C351","v":"AdministrativeGeneralExpenses"},"N",0,"",0,"",0,0,0,0]
["in-gaap","Vehicle running expenses","VehicleRunningExpenses",1,{"$f":"C351","v":"AdministrativeGeneralExpenses"},"N",0,"",0,"",0,0,0,0]
["in-gaap","Rent rates taxes","RentRatesTaxes",1,{"$f":"C351","v":"AdministrativeGeneralExpenses"},"Y",0,0,0,0,0,0,0,0]
["in-gaap","Rent","Rent",1,{"$f":"C364","v":"RentRatesTaxes"},"N",0,"",0,"",0,0,0,0]
["in-gaap","Rates and taxes","RatesAndTaxes",1,{"$f":"C364","v":"RentRatesTaxes"},"N",0,"",0,"",0,0,0,0]
["in-gaap","Safety security expenses","SafetySecurityExpenses",1,{"$f":"C351","v":"AdministrativeGeneralExpenses"},"N",0,"",0,"",0,0,0,0]
["in-gaap","Auditors remuneration","AuditorsRemuneration",1,{"$f":"C351","v":"AdministrativeGeneralExpenses"},"N",0,"",0,"",0,0,0,0]
["in-gaap","Directors sitting fees","DirectorsSittingFees",1,{"$f":"C351","v":"AdministrativeGeneralExpenses"},"N",0,"",0,"",0,0,0,0]
["in-gaap","Managerial remuneration","ManagerialRemuneration",1,{"$f":"C351","v":"AdministrativeGeneralExpenses"},"Y",0,0,0,0,0,0,0,0]
["in-gaap","Remuneration to directors","RemunerationToDirectors",1,{"$f":"C370","v":"ManagerialRemuneration"},"Y",0,0,0,0,0,0,0,0]
["in-gaap","Salary to directors","SalaryToDirectors",1,{"$f":"C371","v":"RemunerationToDirectors"},"N",0,"",0,"",0,0,0,0]
["in-gaap","Commission to directors","CommissionToDirectors",1,{"$f":"C371","v":"RemunerationToDirectors"},"N",0,"",0,"",0,0,0,0]
["in-gaap","Other benefits directors","OtherBenefitsToDirectors",1,{"$f":"C371","v":"RemunerationToDirectors"},"N",0,"",0,"",0,0,0,0]
["in-gaap","Remuneration to managers","RemunerationToManagers",1,{"$f":"C370","v":"ManagerialRemuneration"},"Y",0,0,0,0,0,0,0,0]
["in-gaap","Salary to managers","SalaryToManagers",1,{"$f":"C375","v":"RemunerationToManagers"},"N",0,"",0,"",0,0,0,0]
["in-gaap","Commission to managers","CommissionToManagers",1,{"$f":"C375","v":"RemunerationToManagers"},"N",0,"",0,"",0,0,0,0]
["in-gaap","Other benefits to managers","OtherBenefitsToManagers",1,{"$f":"C375","v":"RemunerationToManagers"},"N",0,"",0,"",0,0,0,0]
["in-gaap","Donations subscriptions","DonationsSubscriptions",1,{"$f":"C351","v":"AdministrativeGeneralExpenses"},"N",0,"",0,"",0,0,0,0]
["in-gaap","Books periodicals","BooksPeriodicals",1,{"$f":"C351","v":"AdministrativeGeneralExpenses"},"N",0,"",0,"",0,0,0,0]
["in-gaap","Seminars conference expenses","SeminarsConferenceExpenses",1,{"$f":"C351","v":"AdministrativeGeneralExpenses"},"N",0,"",0,"",0,0,0,0]
["in-gaap","Registration filing fees","RegistrationFilingFees",1,{"$f":"C351","v":"AdministrativeGeneralExpenses"},"N",0,"",0,"",0,0,0,0]
["in-gaap","Custodial fees","CustodialFees",1,{"$f":"C351","v":"AdministrativeGeneralExpenses"},"N",0,"",0,"",0,0,0,0]
["in-gaap","Bank charges","BankCharges",1,{"$f":"C351","v":"AdministrativeGeneralExpenses"},"N",0,"",0,"",0,0,0,0]
["in-gaap","Guest house expenses","GuestHouseExpenses",1,{"$f":"C351","v":"AdministrativeGeneralExpenses"},"N",0,"",0,"",0,0,0,0]
["in-gaap","Other administrative general expenses","OtherAdministrativeGeneralExpenses",1,{"$f":"C351","v":"AdministrativeGeneralExpenses"},"N",0,"",0,"",0,0,0,0]
["in-gaap","Selling distribution expenses","SellingDistributionExpenses",1,{"$f":"C350","v":"AdministrativeSellingOtherExpenses"},"Y",0,0,0,0,0,0,0,0]
["in-gaap","Advertising promotional expenses","AdvertisingPromotionalExpenses",1,{"$f":"C387","v":"SellingDistributionExpenses"},"N",0,"",0,"",0,0,0,0]
["in-gaap","After sales service expenses","AfterSalesServiceExpenses",1,{"$f":"C387","v":"SellingDistributionExpenses"},"N",0,"",0,"",0,0,0,0]
["in-gaap","Warranty claim expenses","WarrantyClaimExpenses",1,{"$f":"C387","v":"SellingDistributionExpenses"},"N",0,"",0,"",0,0,0,0]
["in-gaap","Commission paid sole selling agents","CommissionPaidSoleSellingAgents",1,{"$f":"C387","v":"SellingDistributionExpenses"},"N",0,"",0,"",0,0,0,0]
["in-gaap","Commission paid other selling agents","CommissionPaidOtherSellingAgents",1,{"$f":"C387","v":"SellingDistributionExpenses"},"N",0,"",0,"",0,0,0,0]
["in-gaap","Transportation distribution expenses","TransportationDistributionExpenses",1,{"$f":"C387","v":"SellingDistributionExpenses"},"N",0,"",0,"",0,0,0,0]
["in-gaap","Secondary packing expenses","SecondaryPackingExpenses",1,{"$f":"C387","v":"SellingDistributionExpenses"},"N",0,"",0,"",0,0,0,0]
["in-gaap","Other selling distribution expenses","OtherSellingDistributionExpenses",1,{"$f":"C387","v":"SellingDistributionExpenses"},"N",0,"",0,"",0,0,0,0]
["in-gaap","Net provisions charged","NetProvisionsCharged",1,{"$f":"C350","v":"AdministrativeSellingOtherExpenses"},"Y",0,0,0,0,0,0,0,0]
["in-gaap","Provision bad doubtful debts advances created","ProvisionBadDoubtfulDebtsAdvancesCreated",1,{"$f":"C396","v":"NetProvisionsCharged"},"N",0,"",0,"",0,0,0,0]
["in-gaap","Excess provisions bad doubtful debts advances written back","ExcessProvisionsBadDoubtfulDebtsAdvancesWrittenback",-1,{"$f":"C396","v":"NetProvisionsCharged"},"N",0,"",0,"",0,0,0,0]
["in-gaap","Provision diminution value investments created","ProvisionDiminutionValueInvestmentsCreated",1,{"$f":"C396","v":"NetProvisionsCharged"},"Y",0,0,0,0,0,0,0,0]
["in-gaap","Provision diminution value current investments created","ProvisionDiminutionValueCurrentInvestmentsCreated",1,{"$f":"C399","v":"ProvisionDiminutionValueInvestmentsCreated"},"N",0,"",0,"",0,0,0,0]
["in-gaap","Provision diminution value long-term investments created","ProvisionDiminutionValueLongTermInvestmentsCreated",1,{"$f":"C399","v":"ProvisionDiminutionValueInvestmentsCreated"},"N",0,"",0,"",0,0,0,0]
["in-gaap","Excess provision diminution in value investment written back","ExcessProvisionDiminutioninValueInvestmentWrittenback",-1,{"$f":"C399","v":"ProvisionDiminutionValueInvestmentsCreated"},"N",0,"",0,"",0,0,0,0]
["in-gaap","Provision contingencies created","ProvisionContingenciesCreated",1,{"$f":"C396","v":"NetProvisionsCharged"},"N",0,"",0,"",0,0,0,0]
["in-gaap","Provision warranty claims created","ProvisionWarrantyClaimsCreated",1,{"$f":"C396","v":"NetProvisionsCharged"},"N",0,"",0,"",0,0,0,0]
["in-gaap","Provision statutory liabilities created","ProvisionStatutoryLiabilitiesCreated",1,{"$f":"C396","v":"NetProvisionsCharged"},"N",0,"",0,"",0,0,0,0]
["in-gaap","Provision restructuring created","ProvisionRestructuringCreated",1,{"$f":"C396","v":"NetProvisionsCharged"},"N",0,"",0,"",0,0,0,0]
["in-gaap","Other provisions created","OtherProvisionsCreated",1,{"$f":"C396","v":"NetProvisionsCharged"},"N",0,"",0,"",0,0,0,0]
["in-gaap","Other excess provisions written back","OtherExcessProvisionsWrittenback",-1,{"$f":"C396","v":"NetProvisionsCharged"},"N",0,"",0,"",0,0,0,0]
["in-gaap","Write-off assets liabilities","WriteoffAssetsLiabilities",1,{"$f":"C350","v":"AdministrativeSellingOtherExpenses"},"Y",0,0,0,0,0,0,0,0]
["in-gaap","Miscellaneous expenditure written off","MiscellaneousExpenditureWrittenoff",1,{"$f":"C409","v":"WriteoffAssetsLiabilities"},"Y",0,0,0,0,0,0,0,0]
["in-gaap","Deferred revenue expenditure written off","DeferredRevenueExpenditureWrittenoff",1,{"$f":"C410","v":"MiscellaneousExpenditureWrittenoff"},"N",0,"",0,"",0,0,0,0]
["in-gaap","Preliminary expenses written off","PreliminaryExpensesWrittenoff",1,{"$f":"C410","v":"MiscellaneousExpenditureWrittenoff"},"N",0,"",0,"",0,0,0,0]
["in-gaap","Shares debentures issue written off","SharesDebenturesIssueWrittenoff",1,{"$f":"C410","v":"MiscellaneousExpenditureWrittenoff"},"Y",0,0,0,0,0,0,0,0]
["in-gaap","Share issue expenses written off","ShareIssueExpensesWrittenoff",1,{"$f":"C413","v":"SharesDebenturesIssueWrittenoff"},{"$f":"IF(COUNTIF(CALPL5,C414)>0,\"Y\",\"N\")","v":"N"},{"$f":"IF(VLOOKUP(C414,PLID,2,)=\"\",0,VLOOKUP(C414,PLID,2,))","v":0},{"$f":"IF(F414=\"Y\",SUMIF(CALPL5,C414,CALPL5CY),\"\")","v":""},{"$f":"IF(VLOOKUP(C414,PLID,3,)=\"\",0,VLOOKUP(C414,PLID,3,))","v":0},{"$f":"IF(F414=\"Y\",SUMIF(CALPL5,C414,CALPL5PY),\"\")","v":""},0,0,{"$f":"IF(OR(D414=\"\",G414=\"\"),0,D414*G414)","v":0},{"$f":"IF(OR(D414=\"\",I414=\"\"),0,D414*I414)","v":0}]
["in-gaap","Debenture issue expenses written off","DebentureIssueExpensesWrittenoff",1,{"$f":"C413","v":"SharesDebenturesIssueWrittenoff"},"N",0,"",0,"",{"$f":"IF(F415=\"Y\",IF(G415=H415,0,1),0)","v":0},{"$f":"IF(F415=\"Y\",IF(I415=J415,0,1),0)","v":0},0,0]
["in-gaap","Discount issue shares debentures written off","DiscountIssueSharesDebenturesWrittenoff",1,{"$f":"C410","v":"MiscellaneousExpenditureWrittenoff"},"Y",0,0,0,0,0,0,0,0]
["in-gaap","Discount issue shares written off","DiscountIssueSharesWrittenoff",1,{"$f":"C416","v":"DiscountIssueSharesDebenturesWrittenoff"},"N",0,"",0,"",0,0,0,0]
["in-gaap","Discount issue debentures written off","DiscountIssueDebenturesWrittenoff",1,{"$f":"C416","v":"DiscountIssueSharesDebenturesWrittenoff"},"N",0,"",0,"",0,0,0,0]
["in-gaap","Financing charges written off","FinancingChargesWrittenoff",1,{"$f":"C410","v":"MiscellaneousExpenditureWrittenoff"},"N",0,"",0,"",0,0,0,0]
["in-gaap","Voluntary retirement compensation written off","VoluntaryRetirementCompensationWrittenoff",1,{"$f":"C410","v":"MiscellaneousExpenditureWrittenoff"},"N",0,"",0,"",0,0,0,0]
["in-gaap","Technical knowhow written off","TechnicalKnowhowWrittenoff",1,{"$f":"C410","v":"MiscellaneousExpenditureWrittenoff"},"N",0,"",0,"",0,0,0,0]
["in-gaap","Other miscellaneous expenditure written off","OtherMiscellaneousExpenditureWrittenoff",1,{"$f":"C410","v":"MiscellaneousExpenditureWrittenoff"},"N",0,"",0,"",0,0,0,0]
["in-gaap","Fixed assets written off","FixedAssetsWrittenoff",1,{"$f":"C409","v":"WriteoffAssetsLiabilities"},"N",0,"",0,"",0,0,0,0]
["in-gaap","Inventories written off","InventoriesWrittenoff",1,{"$f":"C409","v":"WriteoffAssetsLiabilities"},"N",0,"",0,"",0,0,0,0]
["in-gaap","Investments written off","InvestmentsWrittenoff",1,{"$f":"C409","v":"WriteoffAssetsLiabilities"},"N",0,"",0,"",0,0,0,0]
["in-gaap","Bad debts advances written off","BadDebtsAdvancesWrittenoff",1,{"$f":"C409","v":"WriteoffAssetsLiabilities"},"N",0,"",0,"",0,0,0,0]
["in-gaap","Other assets written off","OtherAssetsWrittenoff",1,{"$f":"C409","v":"WriteoffAssetsLiabilities"},"N",0,"",0,"",0,0,0,0]
["in-gaap","Liabilities written off","LiabilitiesWrittenoff",-1,{"$f":"C409","v":"WriteoffAssetsLiabilities"},"N",0,"",0,"",0,0,0,0]
["in-gaap","Foreign exchange difference expense","ForeignExchangeDifferenceExpense",1,{"$f":"C350","v":"AdministrativeSellingOtherExpenses"},"N",0,"",0,"",0,0,0,0]
["in-gaap","Loss sale redemption investments","LossSaleRedemptionInvestments",1,{"$f":"C350","v":"AdministrativeSellingOtherExpenses"},"Y",0,0,0,0,0,0,0,0]
["in-gaap","Loss sale long-term investments","LossSaleLongTermInvestments",1,{"$f":"C430","v":"LossSaleRedemptionInvestments"},"N",0,"",0,"",0,0,0,0]
["in-gaap","Loss sale current investments","LossSaleCurrentInvestments",1,{"$f":"C430","v":"LossSaleRedemptionInvestments"},"N",0,"",0,"",0,0,0,0]
["in-gaap","Loss sale disposal fixed assets","LossSaleDisposalFixedAssets",1,{"$f":"C350","v":"AdministrativeSellingOtherExpenses"},"Y",0,0,0,0,0,0,0,0]
["in-gaap","Loss sale disposal tangible fixed assets","LossSaleDisposalTangibleFixedAssets",1,{"$f":"C433","v":"LossSaleDisposalFixedAssets"},"N",0,"",0,"",0,0,0,0]
["in-gaap","Loss sale disposal intangible fixed assets","LossSaleDisposalIntangibleFixedAssets",1,{"$f":"C433","v":"LossSaleDisposalFixedAssets"},"N",0,"",0,"",0,0,0,0]
["in-gaap","Other expenditure","OtherExpenditure",1,{"$f":"C350","v":"AdministrativeSellingOtherExpenses"},"N",0,"",0,"",0,0,0,0]
["in-gaap","Allowances administration selling expenses","AllowancesAdministrationSellingExpenses",-1,{"$f":"C350","v":"AdministrativeSellingOtherExpenses"},"N",0,"",0,"",0,0,0,0]
["in-gaap","Capitalisation administration selling expenses","CapitalisationAdministrationSellingExpenses",-1,{"$f":"C350","v":"AdministrativeSellingOtherExpenses"},"N",0,"",0,"",0,0,0,0]
["in-gaap","Share administration selling expenses joint ventures","ShareAdministrationSellingExpensesJointVentures",1,{"$f":"C350","v":"AdministrativeSellingOtherExpenses"},"N",0,"",0,"",0,0,0,0]
["in-gaap","Contract cost","ContractCost",null,null,"Y",0,0,0,0,0,0,0,0]
["in-gaap","Site labour supervision cost contracts","SiteLabourSupervisionCostContracts",1,{"$f":"C440","v":"ContractCost"},"N",0,"",0,"",0,0,0,0]
["in-gaap","Material cost contract","MaterialCostContract",1,{"$f":"C440","v":"ContractCost"},"N",0,"",0,"",0,0,0,0]
["in-gaap","Depreciation assets contracts","DepreciationAssetsContracts",1,{"$f":"C440","v":"ContractCost"},"N",0,"",0,"",0,0,0,0]
["in-gaap","Cost transportation assets contracts","CostTransportationAssetsContracts",1,{"$f":"C440","v":"ContractCost"},"N",0,"",0,"",0,0,0,0]
["in-gaap","Hire charges assets contracts","HireChargesAssetsContracts",1,{"$f":"C440","v":"ContractCost"},"N",0,"",0,"",0,0,0,0]
["in-gaap","Cost design technical assistance contracts","CostDesignTechnicalAssistanceContracts",1,{"$f":"C440","v":"ContractCost"},"N",0,"",0,"",0,0,0,0]
["in-gaap","Warranty cost contracts","WarrantycostContracts",1,{"$f":"C440","v":"ContractCost"},"N",0,"",0,"",0,0,0,0]
["in-gaap","Other claims contracts","OtherClaimsContracts",1,{"$f":"C440","v":"ContractCost"},"N",0,"",0,"",0,0,0,0]
["in-gaap","Sale material scrap other assets contracts","SaleMaterialScrapOtherAssetsContracts",-1,{"$f":"C440","v":"ContractCost"},"N",0,"",0,"",0,0,0,0]
["in-gaap","Overhead costs apportioned contracts","OverheadCostsApportionedContracts",1,{"$f":"C440","v":"ContractCost"},"Y",0,0,0,0,0,0,0,0]
["in-gaap","Insurance cost apportioned contract","InsurancecostApportionedContract",1,{"$f":"C450","v":"OverheadCostsApportionedContracts"},"N",0,"",0,"",0,0,0,0]
["in-gaap","Design technical assistance apportioned contracts","DesignTechnicalAssistanceApportionedContracts",1,{"$f":"C450","v":"OverheadCostsApportionedContracts"},"N",0,"",0,"",0,0,0,0]
["in-gaap","Other overheads apportioned contracts","OtherOverheadsApportionedContracts",1,{"$f":"C450","v":"OverheadCostsApportionedContracts"},"N",0,"",0,"",0,0,0,0]
["in-gaap","Research development expenditure","ResearchDevelopmentExpenditure",null,null,"Y",0,0,0,0,0,0,0,0]
["in-gaap","Cost material research development","CostMaterialResearchDevelopment",1,{"$f":"C454","v":"ResearchDevelopmentExpenditure"},"N",0,"",0,"",0,0,0,0]
["in-gaap","Cost labour research development","CostLabourResearchDevelopment",1,{"$f":"C454","v":"ResearchDevelopmentExpenditure"},"N",0,"",0,"",0,0,0,0]
["in-gaap","Cost testing trial research development","CostTestingTrialResearchDevelopment",1,{"$f":"C454","v":"ResearchDevelopmentExpenditure"},"N",0,"",0,"",0,0,0,0]
["in-gaap","Administration general expenses research development","AdministrationGeneralExpensesResearchDevelopment",1,{"$f":"C454","v":"ResearchDevelopmentExpenditure"},"N",0,"",0,"",0,0,0,0]
["in-gaap","Depreciation amortisation research development","DepreciationAmortisationResearchDevelopment",1,{"$f":"C454","v":"ResearchDevelopmentExpenditure"},"N",0,"",0,"",0,0,0,0]
["in-gaap","Other adjustments research development","OtherAdjustmentsResearchDevelopment",1,{"$f":"C454","v":"ResearchDevelopmentExpenditure"},"N",0,"",0,"",0,0,0,0]
["in-gaap","Capitalisation research development expenditure","CapitalisationResearchDevelopmentExpenditure",-1,{"$f":"C454","v":"ResearchDevelopmentExpenditure"},"N",0,"",0,"",0,0,0,0]
["in-gaap","Depreciation amortisation impairment","DepreciationAmortisationImpairment",null,null,"Y",{"$f":"IF(VLOOKUP(C462,PLID,2,)=\"\",0,VLOOKUP(C462,PLID,2,))","v":0},0,0,0,0,0,0,0]
["in-gaap","Depreciation amortisation expenses","DepreciationAmortisationExpenses",1,{"$f":"C462","v":"DepreciationAmortisationImpairment"},"Y",0,0,0,0,0,0,0,0]
["in-gaap","Depreciation tangible assets","DepreciationTangibleAssets",1,{"$f":"C463","v":"DepreciationAmortisationExpenses"},"N",0,"",0,"",0,0,0,0]
["in-gaap","Amortisation intangible assets","AmortisationIntangibleAssets",1,{"$f":"C463","v":"DepreciationAmortisationExpenses"},"N",0,"",0,"",0,0,0,0]
["in-gaap","Depreciation adjusted against revaluation reserve","DepreciationAdjustedAgainstRevaluationReserve",-1,{"$f":"C463","v":"DepreciationAmortisationExpenses"},"N",0,"",0,"",0,0,0,0]
["in-gaap","Depreciation amortisation written back","DepreciationAmortisationWrittenback",-1,{"$f":"C462","v":"DepreciationAmortisationImpairment"},"N",0,"",0,"",0,0,0,0]
["in-gaap","Impairment fixed assets","ImpairmentFixedAssets",1,{"$f":"C462","v":"DepreciationAmortisationImpairment"},"Y",0,0,0,0,0,0,0,0]
["in-gaap","Impairment tangible fixed assets","ImpairmentTangibleFixedAssets",1,{"$f":"C468","v":"ImpairmentFixedAssets"},"N",0,"",0,"",0,0,0,0]
["in-gaap","Impairment intangible fixed assets","ImpairmentIntangibleFixedAssets",1,{"$f":"C468","v":"ImpairmentFixedAssets"},"N",0,"",0,"",0,0,0,0]
["in-gaap","Reversal impairment fixed assets","ReversalImpairmentFixedAssets",-1,{"$f":"C462","v":"DepreciationAmortisationImpairment"},"Y",0,0,0,0,0,0,0,0]
["in-gaap","Reversal impairment tangible fixed assets","ReversalImpairmentTangibleFixedAssets",1,{"$f":"C471","v":"ReversalImpairmentFixedAssets"},"N",0,"",0,"",0,0,0,0]
["in-gaap","Reversal impairment intangible fixed assets","ReversalImpairmentIntangibleFixedAssets",1,{"$f":"C471","v":"ReversalImpairmentFixedAssets"},"N",0,"",0,"",0,0,0,0]
["in-gaap","Other write-down assets","OtherWritedownAssets",1,{"$f":"C462","v":"DepreciationAmortisationImpairment"},"N",0,"",0,"",0,0,0,0]
["in-gaap","Reversal other write-down assets","ReversalOtherWritedownAssets",-1,{"$f":"C462","v":"DepreciationAmortisationImpairment"},"N",0,"",0,"",0,0,0,0]
["in-gaap","Share depreciation amortisation impairment joint ventures","ShareDepreciationAmortisationImpairmentJointVentures",1,{"$f":"C462","v":"DepreciationAmortisationImpairment"},"N",0,"",0,"",0,0,0,0]
["in-gaap","Interest financial charges","InterestFinancialCharges",null,null,"Y",0,0,0,0,0,0,0,0]
["in-gaap","Interest expense borrowings","InterestExpenseBorrowings",1,{"$f":"C477","v":"InterestFinancialCharges"},{"$f":"IF(COUNTIF(CALPL5,C478)>0,\"Y\",\"N\")","v":"Y"},{"$f":"IF(VLOOKUP(C478,PLID,2,)=\"\",0,VLOOKUP(C478,PLID,2,))","v":0},{"$f":"IF(F478=\"Y\",SUMIF(CALPL5,C478,CALPL5CY),\"\")","v":0},{"$f":"IF(VLOOKUP(C478,PLID,3,)=\"\",0,VLOOKUP(C478,PLID,3,))","v":0},{"$f":"IF(F478=\"Y\",SUMIF(CALPL5,C478,CALPL5PY),\"\")","v":0},0,0,{"$f":"IF(OR(D478=\"\",G478=\"\"),0,D478*G478)","v":0},{"$f":"IF(OR(D478=\"\",I478=\"\"),0,D478*I478)","v":0}]
["in-gaap","Interest expense long-term loans","InterestExpenseLongTermLoans",1,{"$f":"C478","v":"InterestExpenseBorrowings"},"Y",0,0,0,0,{"$f":"IF(F479=\"Y\",IF(G479=H479,0,1),0)","v":0},{"$f":"IF(F479=\"Y\",IF(I479=J479,0,1),0)","v":0},0,0]
["in-gaap","Interest expense long-term loans banks","InterestExpenseLongTermLoansBanks",1,{"$f":"C479","v":"InterestExpenseLongTermLoans"},"N",0,"",0,"",0,0,0,0]
["in-gaap","Interest expense long-term loans others","InterestExpenseLongTermLoansOthers",1,{"$f":"C479","v":"InterestExpenseLongTermLoans"},"N",0,"",0,"",0,0,0,0]
["in-gaap","Interest expense short-term loans","InterestExpenseShortTermLoans",1,{"$f":"C478","v":"InterestExpenseBorrowings"},"Y",0,0,0,0,0,0,0,0]
["in-gaap","Interest expense short-term loans banks","InterestExpenseShortTermLoansBanks",1,{"$f":"C482","v":"InterestExpenseShortTermLoans"},"N",0,"",0,"",0,0,0,0]
["in-gaap","Interest expense short-term loans others","InterestExpenseShortTermLoansOthers",1,{"$f":"C482","v":"InterestExpenseShortTermLoans"},"N",0,"",0,"",0,0,0,0]
["in-gaap","Interest expense deposits","InterestExpenseDeposits",1,{"$f":"C478","v":"InterestExpenseBorrowings"},"N",0,"",0,"",0,0,0,0]
["in-gaap","Interest expense debt securities","InterestExpenseDebtSecurities",1,{"$f":"C478","v":"InterestExpenseBorrowings"},"N",0,"",0,"",0,0,0,0]
["in-gaap","Interest expense other borrowings","InterestExpenseOtherBorrowings",1,{"$f":"C478","v":"InterestExpenseBorrowings"},"N",0,"",0,"",0,0,0,0]
["in-gaap","Interest lease financing","InterestLeaseFinancing",1,{"$f":"C477","v":"InterestFinancialCharges"},"N",0,"",0,"",0,0,0,0]
["in-gaap","Other interest charges","OtherInterestCharges",1,{"$f":"C477","v":"InterestFinancialCharges"},"N",0,"",0,"",0,0,0,0]
["in-gaap","Discounting charges","DiscountingCharges",1,{"$f":"C477","v":"InterestFinancialCharges"},"N",0,"",0,"",0,0,0,0]
["in-gaap","Guarantee commission","GuaranteeCommission",1,{"$f":"C477","v":"InterestFinancialCharges"},"N",0,"",0,"",0,0,0,0]
["in-gaap","Other financing charges","OtherFinancingCharges",1,{"$f":"C477","v":"InterestFinancialCharges"},"N",0,"",0,"",0,0,0,0]
["in-gaap","Exchange difference interest financial charges","ExchangeDifferenceInterestFinancialCharges",1,{"$f":"C477","v":"InterestFinancialCharges"},"N",0,"",0,"",0,0,0,0]
["in-gaap","Capitalisation interest financial expenses","CapitalisationInterestFinancialExpenses",-1,{"$f":"C477","v":"InterestFinancialCharges"},"Y",0,0,0,0,0,0,0,0]
["in-gaap","Capitalisation specific interest financial expenses","CapitalisationSpecificInterestFinancialExpenses",1,"CapitalisationInterestFinancialExpenses","N",0,"",0,"",0,0,0,0]
["in-gaap","Capitalisation general interest financial expenses","CapitalisationGeneralInterestFinancialExpenses",1,"CapitalisationInterestFinancialExpenses","N",0,"",0,"",0,0,0,0]
["in-gaap","Share interest financial charges joint ventures","ShareInterestFinancialChargesJointVentures",1,{"$f":"C477","v":"InterestFinancialCharges"},"N",0,"",0,"",0,0,0,0]
["in-gaap","Provision taxation","ProvisionTaxation",null,null,"Y",0,0,0,0,0,0,0,0]
["in-gaap","Provision current tax","ProvisionCurrentTax",1,{"$f":"C498","v":"ProvisionTaxation"},"N",0,"",0,"",0,0,0,0]
["in-gaap","Provision deferred tax","ProvisionDeferredTax",1,{"$f":"C498","v":"ProvisionTaxation"},"N",0,"",0,"",0,0,0,0]
["in-gaap","Provision wealth tax","ProvisionWealthTax",1,{"$f":"C498","v":"ProvisionTaxation"},"N",0,"",0,"",0,0,0,0]
["in-gaap","MAT credit entitlement","MATCreditEntitlement",-1,{"$f":"C498","v":"ProvisionTaxation"},"N",0,"",0,"",0,0,0,0]
["in-gaap","Provision tax earlier years","ProvisionTaxEarlierYears",1,{"$f":"C498","v":"ProvisionTaxation"},"N",0,"",0,"",0,0,0,0]
["in-gaap","Other adjustments tax","OtherAdjustmentsTax",1,{"$f":"C498","v":"ProvisionTaxation"},"N",0,"",0,"",0,0,0,0]
["in-gaap","Provision fringe benefit tax","ProvisionFringeBenefitTax",1,{"$f":"C498","v":"ProvisionTaxation"},"N",0,"",0,"",0,0,0,0]
["in-gaap","Tax effect of extraordinary items","TaxEffectOfExtraordinaryItems",1,{"$f":"C498","v":"ProvisionTaxation"},"N",0,"",0,"",0,0,0,0]
["in-gaap","Tax effect of prior period items","TaxEffectOfPriorPeriodItems",1,{"$f":"C498","v":"ProvisionTaxation"},"N",0,"",0,"",0,0,0,0]
[""]
[""]
["ELR","[402400] Notes - Auditors Remuneration","NotesAuditorsRemuneration",null,null,{"$f":"IF(COUNTIF(CALPL1,C510)>0,\"Y\",\"N\")","v":"N"}]
["Prefix","Element Label","Element Name","Weight","Parent",{"$f":"IF(COUNTIF(CALPL6,C511)>0,\"Y\",\"N\")","v":"N"}]
["in-gaap","Auditors remuneration","AuditorsRemuneration",null,null,"Y",{"$f":"IF(VLOOKUP(C512,PLID,2,)=\"\",0,VLOOKUP(C512,PLID,2,))","v":0},{"$f":"IF(F512=\"Y\",SUMIF(CALPL6,C512,CALPL6CY),\"\")","v":0},{"$f":"IF(VLOOKUP(C512,PLID,3,)=\"\",0,VLOOKUP(C512,PLID,3,))","v":0},{"$f":"IF(F512=\"Y\",SUMIF(CALPL6,C512,CALPL6PY),\"\")","v":0},{"$f":"IF(F512=\"Y\",IF(G512=H512,0,1),0)","v":0},{"$f":"IF(F512=\"Y\",IF(I512=J512,0,1),0)","v":0},{"$f":"IF(OR(D512=\"\",G512=\"\"),0,D512*G512)","v":0},{"$f":"IF(OR(D512=\"\",I512=\"\"),0,D512*I512)","v":0}]
["in-gaap","Audit fees","AuditFees",1,{"$f":"C512","v":"AuditorsRemuneration"},"N",{"$f":"IF(VLOOKUP(C513,PLID,2,)=\"\",0,VLOOKUP(C513,PLID,2,))","v":0},"",{"$f":"IF(VLOOKUP(C513,PLID,3,)=\"\",0,VLOOKUP(C513,PLID,3,))","v":0},"",{"$f":"IF(F513=\"Y\",IF(G513=H513,0,1),0)","v":0},{"$f":"IF(F513=\"Y\",IF(I513=J513,0,1),0)","v":0},{"$f":"IF(OR(D513=\"\",G513=\"\"),0,D513*G513)","v":0},{"$f":"IF(OR(D513=\"\",I513=\"\"),0,D513*I513)","v":0}]
["in-gaap","Consultancy fees auditors","ConsultancyFeesAuditors",1,{"$f":"C512","v":"AuditorsRemuneration"},"Y",0,0,0,0,0,0,0,0]
["in-gaap","Legal consultancy fees","LegalConsultancyFees",1,{"$f":"C514","v":"ConsultancyFeesAuditors"},"N",0,"",0,"",0,0,0,0]
["in-gaap","Tax consultancy fees","TaxConsultancyFees",1,{"$f":"C514","v":"ConsultancyFeesAuditors"},"N",0,"",0,"",0,0,0,0]
["in-gaap","Management consultancy fees","ManagementConsultancyFees",1,{"$f":"C514","v":"ConsultancyFeesAuditors"},"N",0,"",0,"",0,0,0,0]
["in-gaap","Other consultancy fees","OtherConsultancyFees",1,{"$f":"C514","v":"ConsultancyFeesAuditors"},"N",0,"",0,"",0,0,0,0]
["in-gaap","Certification fees","CertificationFees",1,{"$f":"C512","v":"AuditorsRemuneration"},"N",0,"",0,"",0,0,0,0]
["in-gaap","Reimbursement auditors expenses","ReimbursementAuditorsExpenses",1,{"$f":"C512","v":"AuditorsRemuneration"},"N",0,"",0,"",0,0,0,0]
[""]
[""]
["ELR","[400400] Notes - Prior period and extra-ordinary items","NotesPriorPeriodAndExtraordinaryItems",null,null,{"$f":"IF(COUNTIF(CALPL7,C523)>0,\"Y\",\"N\")","v":"N"}]
["Prefix","Element Label","Element Name","Weight","Parent","N"]
["in-gaap","Extraordinary items, net tax","ExtraordinaryItemsNetTax",null,null,"Y",{"$f":"IF(VLOOKUP(C525,PLID,2,)=\"\",0,VLOOKUP(C525,PLID,2,))","v":0},{"$f":"IF(F525=\"Y\",SUMIF(CALPL7,C525,CALPL7CY),\"\")","v":0},{"$f":"IF(VLOOKUP(C525,PLID,3,)=\"\",0,VLOOKUP(C525,PLID,3,))","v":0},{"$f":"IF(F525=\"Y\",SUMIF(CALPL7,C525,CALPL7PY),\"\")","v":0},{"$f":"IF(F525=\"Y\",IF(G525=H525,0,1),0)","v":0},{"$f":"IF(F525=\"Y\",IF(I525=J525,0,1),0)","v":0},{"$f":"IF(OR(D525=\"\",G525=\"\"),0,D525*G525)","v":0},{"$f":"IF(OR(D525=\"\",I525=\"\"),0,D525*I525)","v":0}]
["in-gaap","Extraordinary items before tax","ExtraordinaryItemsBeforeTax",1,{"$f":"C525","v":"ExtraordinaryItemsNetTax"},"Y",0,0,{"$f":"IF(VLOOKUP(C526,PLID,3,)=\"\",0,VLOOKUP(C526,PLID,3,))","v":0},0,0,0,0,0]
["in-gaap","Loss attachment property extraordinary","LossAttachmentPropertyExtraordinary",1,{"$f":"C526","v":"ExtraordinaryItemsBeforeTax"},"N",0,"",0,"",0,0,0,0]
["in-gaap","Loss natural calamity extraordinary","LossNaturalCalamityExtraordinary",1,{"$f":"C526","v":"ExtraordinaryItemsBeforeTax"},"N",0,"",0,"",0,0,0,0]
["in-gaap","Reversal government grants extraordinary","ReversalGovernmentGrantsExtraordinary",1,{"$f":"C526","v":"ExtraordinaryItemsBeforeTax"},"N",0,"",0,"",0,0,0,0]
["in-gaap","Other items extraordinary","OtherItemsExtraordinary",1,{"$f":"C526","v":"ExtraordinaryItemsBeforeTax"},"N",0,"",0,"",0,0,0,0]
["in-gaap","Tax effect of extraordinary items","TaxEffectOfExtraordinaryItems",-1,{"$f":"C525","v":"ExtraordinaryItemsNetTax"},"N",0,"",0,"",0,0,0,0]
["in-gaap","Prior period items, net tax","PriorPeriodItemsNetTax",null,null,"Y",0,0,0,0,0,0,0,0]
["in-gaap","Prior period items before tax","PriorPeriodItemsBeforeTax",1,{"$f":"C532","v":"PriorPeriodItemsNetTax"},"Y",0,0,0,0,0,0,0,0]
["in-gaap","Prior period income","PriorPeriodIncome",1,{"$f":"C533","v":"PriorPeriodItemsBeforeTax"},"N",0,"",0,"",0,0,0,0]
["in-gaap","Prior period expenses","PriorPeriodExpenses",-1,{"$f":"C533","v":"PriorPeriodItemsBeforeTax"},"N",0,"",0,"",0,0,0,0]
["in-gaap","Tax effect of prior period items","TaxEffectOfPriorPeriodItems",-1,{"$f":"C532","v":"PriorPeriodItemsNetTax"},"N",0,"",0,"",0,0,0,0]
["in-gaap","Exceptional items net of tax","ExceptionalItemsNetOfTax",null,null,"Y",0,0,0,0,0,0,0,0]
["in-gaap","Exceptional income expense, net","ExceptionalIncomeExpenseNet",1,{"$f":"C537","v":"ExceptionalItemsNetOfTax"},"Y",0,0,0,0,0,0,0,0]
["in-gaap","Exceptional income","ExceptionalIncome",1,{"$f":"C538","v":"ExceptionalIncomeExpenseNet"},"N",0,"",0,"",0,0,0,0]
["in-gaap","Exceptional expenses","ExceptionalExpenses",-1,{"$f":"C538","v":"ExceptionalIncomeExpenseNet"},"N",0,"",0,"",0,0,0,0]
["in-gaap","Tax effect of exceptional items","TaxEffectOfExceptionalItems",-1,{"$f":"C537","v":"ExceptionalItemsNetOfTax"},"N",0,"",0,"",0,0,0,0]

{"sheet":"PL","index":8,"n_rows":167,"n_cols":15,"rows_kept":167,"hidden":true,"merged":[[0,3,0,4],[2,0,2,2],[3,0,3,2],[4,0,4,2],[5,0,5,2],[6,0,6,2],[7,0,7,2],[8,0,8,2],[9,0,9,2],[10,0,10,2],[11,0,11,2],[12,0,12,2],[16,0,16,2],[17,0,17,1],[18,0,18,1],[19,0,19,1],[20,0,20,1],[21,0,21,1],[22,0,22,1],[23,0,23,1],[24,0,24,1],[25,0,25,1],[26,0,26,1],[27,0,27,1],[28,0,28,1],[29,0,29,1],[30,0,30,1],[31,0,31,1],[32,0,32,1],[33,0,33,1],[34,0,34,1],[35,0,35,1],[36,0,36,1],[37,0,37,1],[38,0,38,1],[39,0,39,1],[40,0,40,1],[41,0,41,1],[42,0,42,1],[43,0,43,1],[44,0,44,1],[45,0,45,1],[46,0,46,1],[47,0,47,1],[48,0,48,1],[49,0,49,1],[50,0,50,1],[51,0,51,1],[52,0,52,1],[53,0,53,1],[54,0,54,1],[55,0,55,1],[56,0,56,1],[57,0,57,1],[58,0,58,1],[59,0,59,1],[60,0,60,1],[61,0,61,1],[62,0,62,1],[63,0,63,1],[64,0,64,1],[68,0,68,2],[69,0,69,1],[70,0,70,1],[71,0,71,1],[72,0,72,1],[73,0,73,1],[74,0,74,1],[75,0,75,1],[76,0,76,1],[77,0,77,1],[78,0,78,1],[79,0,79,1],[80,0,80,1],[81,0,81,1],[82,0,82,1],[83,0,83,1],[84,0,84,1],[85,0,85,1],[86,0,86,1],[87,0,87,1],[88,0,88,1],[89,0,89,1],[90,0,90,1],[91,0,91,1],[92,0,92,1],[93,0,93,1],[94,0,94,1],[95,0,95,1],[96,0,96,1],[97,0,97,1],[98,0,98,1],[99,0,99,1],[100,0,100,1],[101,0,101,1],[102,0,102,1],[103,0,103,1],[104,0,104,1],[105,0,105,1],[106,0,106,1],[107,0,107,1],[108,0,108,1],[109,0,109,1],[110,0,110,1],[111,0,111,1],[112,0,112,1],[113,0,113,1],[114,0,114,1],[115,0,115,1],[119,2,119,4],[120,0,120,2],[121,0,121,2],[122,0,122,2],[123,0,123,2],[124,0,124,2],[125,0,125,2],[126,0,126,2],[127,0,127,2],[128,0,128,2],[129,0,129,2],[130,0,130,2],[131,0,131,2],[132,0,132,2],[133,0,133,2],[134,0,134,2],[135,0,135,2],[136,0,136,2],[137,0,137,2],[138,0,138,2],[139,0,139,2],[140,0,140,2],[141,0,141,2],[142,0,142,2],[143,0,143,2],[144,0,144,2],[145,0,145,2],[146,0,146,2],[147,0,147,2],[148,0,148,2],[149,0,149,2],[150,0,150,2],[151,0,151,2],[152,0,152,2],[153,0,153,2],[154,0,154,2],[155,0,155,2],[156,0,156,2],[157,0,157,2],[158,0,158,2],[159,0,159,2],[160,0,160,2],[161,0,161,2],[162,0,162,2],[163,0,163,2],[164,0,164,2],[165,0,165,2],[166,0,166,2]]}
["PL - MAIN","PL - ALTERNATIVE",{"$nulls":4},{"$f":"SUM(G2:H119)+J1","v":0},null,2,{"$f":"IF(D7<>E56,5,0)","v":0}]
[{"$nulls":8},2,3]
["COMMON FIELDS FOR PL - MAIN & ALTERNATIVE [FOR ENTRY]",null,null,{"$f":"CYEND1","v":"2011-03-31"},{"$f":"PYEND1","v":"2010-03-31"},{"$nulls":3},2,120]
[{"$f":"UPPER(\"Restructuring charges\")","v":"RESTRUCTURING CHARGES"},{"$nulls":5},{"$f":"IF(AND(OR((ISNUMBER(D4)=TRUE),ISBLANK(D4)=TRUE),ISERROR(D4)=FALSE),0,1)","v":0},{"$f":"IF(AND(OR((ISNUMBER(E4)=TRUE),ISBLANK(E4)=TRUE),ISERROR(E4)=FALSE),0,1)","v":0},0,{"$nulls":3},132]
[{"$f":"UPPER(\"Reversal of restructuring charges\")","v":"REVERSAL OF RESTRUCTURING CHARGES"},{"$nulls":5},0,0,0,{"$nulls":3},133]
[{"$f":"UPPER(\"Adjustments related to merger and acquisitions\")","v":"ADJUSTMENTS RELATED TO MERGER AND ACQUISITIONS"},{"$nulls":11},150]
[{"$f":"UPPER(\"Profit (Loss) Brought Forward\")","v":"PROFIT (LOSS) BROUGHT FORWARD"},{"$nulls":5},0,0,0,{"$nulls":3},156]
[{"$f":"UPPER(\"Basic earnings per share before extraordinary items\")&\" [INR PER SHARE]\"","v":"BASIC EARNINGS PER SHARE BEFORE EXTRAORDINARY ITEMS [INR PER SHARE]"},{"$nulls":5},0,0,0,{"$nulls":3},157]
[{"$f":"UPPER(\"Extraordinary adjustment basic earnings per share\")&\" [INR PER SHARE]\"","v":"EXTRAORDINARY ADJUSTMENT BASIC EARNINGS PER SHARE [INR PER SHARE]"},{"$nulls":5},0,0,0,{"$nulls":3},158]
[{"$f":"UPPER(\"Diluted earnings per share before extraordinary items\")&\" [INR PER SHARE]\"","v":"DILUTED EARNINGS PER SHARE BEFORE EXTRAORDINARY ITEMS [INR PER SHARE]"},{"$nulls":5},0,0,0,{"$nulls":3},160]
[{"$f":"UPPER(\"Extraordinary adjustment diluted earnings per share\")&\" [INR PER SHARE]\"","v":"EXTRAORDINARY ADJUSTMENT DILUTED EARNINGS PER SHARE [INR PER SHARE]"},{"$nulls":5},0,0,0,{"$nulls":3},161]
[{"$f":"UPPER(\"Average number of shares for basic earnings per share\")&\" [SHARES]\"","v":"AVERAGE NUMBER OF SHARES FOR BASIC EARNINGS PER SHARE [SHARES]"},{"$nulls":5},0,0,0,{"$nulls":3},163]
[{"$f":"UPPER(\"Adjustments to average number of shares\") &\" [SHARES]\"","v":"ADJUSTMENTS TO AVERAGE NUMBER OF SHARES [SHARES]"},{"$nulls":5},0,0,0,{"$nulls":3},164]
[{"$nulls":8},2]
["PL - MAIN",null,"[VIEW ONLY]",{"$nulls":5},2]
[{"$nulls":8},2]
["PARTICULARS",null,null,{"$f":"CYEND1","v":"2011-03-31"},{"$f":"PYEND1","v":"2010-03-31"},{"$nulls":3},2]
[{"$f":"UPPER(\"Operating revenue, net\")","v":"OPERATING REVENUE, NET"},null,"(1)",{"$f":"'14-OperatingRevenue'!D11","v":0},{"$f":"'14-OperatingRevenue'!E11","v":0},null,{"$f":"IF(AND(OR((ISNUMBER(D18)=TRUE),ISBLANK(D18)=TRUE),ISERROR(D18)=FALSE),0,1)","v":0},0,1,{"$nulls":3},122]
[{"$f":"UPPER(\"Other income\")","v":"OTHER INCOME"},null,"(2)",{"$f":"'15-OtherIncome'!D28","v":0},{"$f":"'15-OtherIncome'!E28","v":0},null,0,0,1,{"$nulls":3},123]
[{"$f":"UPPER(\"Total income\")","v":"TOTAL INCOME"},null,"(3)=(1)+(2)",{"$f":"SUM(D18:D19)","v":0},{"$f":"SUM(E18:E19)","v":0},null,0,0,1,{"$nulls":3},124]
[{"$f":"UPPER(\"Consumption of materials and changes inventories\")","v":"CONSUMPTION OF MATERIALS AND CHANGES INVENTORIES"},null,"(4)",{"$f":"'16-Expenditure'!D4","v":0},{"$f":"'16-Expenditure'!E4","v":0},null,0,0,1,{"$nulls":3},125]
[{"$f":"UPPER(\"Manufacturing and service costs\")","v":"MANUFACTURING AND SERVICE COSTS"},null,"(5)",{"$f":"'16-Expenditure'!D6","v":0},{"$f":"'16-Expenditure'!E6","v":0},null,{"$f":"IF(AND(OR((ISNUMBER(D22)=TRUE),ISBLANK(D22)=TRUE),ISERROR(D22)=FALSE),0,1)","v":0},{"$f":"IF(AND(OR((ISNUMBER(E22)=TRUE),ISBLANK(E22)=TRUE),ISERROR(E22)=FALSE),0,1)","v":0},1,{"$nulls":3},126]
[{"$f":"UPPER(\"Contract cost\")","v":"CONTRACT COST"},null,"(6)",{"$f":"'16-Expenditure'!D5","v":0},{"$f":"'16-Expenditure'!E5","v":0},null,0,0,1,{"$nulls":3},127]
[{"$f":"UPPER(\"Employee related expenses\")","v":"EMPLOYEE RELATED EXPENSES"},null,"(7)",{"$f":"'16-Expenditure'!D11","v":0},{"$f":"'16-Expenditure'!E11","v":0},null,0,0,1,{"$nulls":3},0,"16-Expenditure",710]
[{"$f":"UPPER(\"Administrative, selling and other expenses\")","v":"ADMINISTRATIVE, SELLING AND OTHER EXPENSES"},null,"(8)",{"$f":"'16-Expenditure'!D7","v":0},{"$f":"'16-Expenditure'!E7","v":0},null,0,0,1,{"$nulls":3},128]
[{"$f":"UPPER(\"Manufacturing and other operating expenses\")","v":"MANUFACTURING AND OTHER OPERATING EXPENSES"},null,"(9)=(5)+(6)+(7)+(8)",{"$f":"SUM(D22:D25)","v":0},{"$f":"SUM(E22:E25)","v":0},null,0,0,1,{"$nulls":3},129]
[{"$f":"UPPER(\"Research and development expenditure\")","v":"RESEARCH AND DEVELOPMENT EXPENDITURE"},null,"(10)",{"$f":"'16-Expenditure'!D12","v":0},{"$f":"'16-Expenditure'!E12","v":0},null,0,0,1,{"$nulls":3},131]
[{"$f":"UPPER(\"Depreciation, amortisation and impairment\")","v":"DEPRECIATION, AMORTISATION AND IMPAIRMENT"},null,"(11)",{"$f":"'16-Expenditure'!D8","v":0},{"$f":"'16-Expenditure'!E8","v":0},null,0,0,1,{"$nulls":3},0,"16-Expenditure",662]
[{"$f":"UPPER(\"Interest and financial charges\")","v":"INTEREST AND FINANCIAL CHARGES"},null,"(12)",{"$f":"'16-Expenditure'!D9","v":0},{"$f":"'16-Expenditure'!E9","v":0},null,0,0,1,{"$nulls":3},0,"16-Expenditure",683]
[{"$f":"UPPER(\"Restructuring charges\")","v":"RESTRUCTURING CHARGES"},null,"(13)",{"$f":"D4","v":0},{"$f":"E4","v":0},null,0,0,1,{"$nulls":3},132]
[{"$f":"UPPER(\"Reversal of restructuring charges\")","v":"REVERSAL OF RESTRUCTURING CHARGES"},null,"(14)",{"$f":"D5","v":0},{"$f":"E5","v":0},null,0,0,1,{"$nulls":3},133]
[{"$f":"UPPER(\"Total expenditure\")","v":"TOTAL EXPENDITURE"},null,"(15)=(4)+(9)+[(10)to(13)]-[14]",{"$f":"D21+D26+SUM(D27:D30)-D31","v":0},{"$f":"E21+E26+SUM(E27:E30)-E31","v":0},null,0,0,1,{"$nulls":3},130]
[{"$f":"UPPER(\"Exceptional income (expense), net\")","v":"EXCEPTIONAL INCOME (EXPENSE), NET"},null,"(16)",{"$f":"+'Notes-PL'!D49","v":0},{"$f":"+'Notes-PL'!E49","v":0},null,0,0,1,{"$nulls":3},134]
[{"$f":"UPPER(\"Net profit (loss) from continuing operations\")","v":"NET PROFIT (LOSS) FROM CONTINUING OPERATIONS"},null,"(17)=(3)-(15)+(16)",{"$f":"D20-D32+D33","v":0},{"$f":"E20-E32+E33","v":0},null,0,0,1,{"$nulls":3},135]
[{"$f":"UPPER(\"Revenues related to discontinuing operations\")","v":"REVENUES RELATED TO DISCONTINUING OPERATIONS"},null,"(18)",{"$f":"'17-AddlDetInStat'!D89","v":0},{"$f":"'17-AddlDetInStat'!E89","v":0},null,0,0,1,{"$nulls":3},136]
[{"$f":"UPPER(\"Expenses related to discontinuing operations\")","v":"EXPENSES RELATED TO DISCONTINUING OPERATIONS"},null,"(19)",{"$f":"'17-AddlDetInStat'!D90","v":0},{"$f":"'17-AddlDetInStat'!E90","v":0},null,0,0,1,{"$nulls":3},137]
[{"$f":"UPPER(\"Income (loss) discontinuing operations\")","v":"INCOME (LOSS) DISCONTINUING OPERATIONS"},null,"(20)=(18)-(19)",{"$f":"D35-D36","v":0},{"$f":"E35-E36","v":0},null,0,0,1,{"$nulls":3},138]
[{"$f":"UPPER(\"Income (loss) form disposal or sale of discontinuing operations\")","v":"INCOME (LOSS) FORM DISPOSAL OR SALE OF DISCONTINUING OPERATIONS"},null,"(21)",{"$f":"'17-AddlDetInStat'!D84","v":0},{"$f":"'17-AddlDetInStat'!E84","v":0},null,0,0,1,{"$nulls":3},139]
[{"$f":"UPPER(\"Net profit (loss) before tax, prior period and extraordinary items\")","v":"NET PROFIT (LOSS) BEFORE TAX, PRIOR PERIOD AND EXTRAORDINARY ITEMS"},null,"(22)=(17)+(20)+(21)",{"$f":"D34+D37+D38","v":0},{"$f":"E34+E37+E38","v":0},null,0,0,1,{"$nulls":3},140]
[{"$f":"UPPER(\"Extraordinary items before tax\")","v":"EXTRAORDINARY ITEMS BEFORE TAX"},null,"(23)",{"$f":"+'Notes-PL'!D37","v":0},{"$f":"+'Notes-PL'!E37","v":0},null,0,0,1,{"$nulls":3},141]
[{"$f":"UPPER(\"Prior period items before tax\")","v":"PRIOR PERIOD ITEMS BEFORE TAX"},null,"(24)",{"$f":"+'Notes-PL'!D23","v":0},{"$f":"+'Notes-PL'!E23","v":0},null,0,0,1,{"$nulls":3},142]
[{"$f":"UPPER(\"Net profit (loss) before tax\")","v":"NET PROFIT (LOSS) BEFORE TAX"},null,"(25)=(22)+(23)+24)",{"$f":"D39+D40+D41","v":0},{"$f":"E39+E40+E41","v":0},null,0,0,1,{"$nulls":3},143]
[{"$f":"UPPER(\"Provision for taxation\")","v":"PROVISION FOR TAXATION"},null,"(26)",{"$f":"'16-Expenditure'!D10","v":0},{"$f":"'16-Expenditure'!E10","v":0},null,0,0,1,{"$nulls":3},144]
[{"$f":"UPPER(\"Tax effect of discontinuing operations\")","v":"TAX EFFECT OF DISCONTINUING OPERATIONS"},null,"(27)",{"$f":"'16-Expenditure'!D13","v":0},{"$f":"'16-Expenditure'!E13","v":0},null,0,0,1,{"$nulls":3},145]
[{"$f":"UPPER(\"Net profit (loss) before minority interest & share from joint venture\")","v":"NET PROFIT (LOSS) BEFORE MINORITY INTEREST & SHARE FROM JOINT VENTURE"},null,"(28)=(25)-(26)-(27)",{"$f":"D42-D43-D44","v":0},{"$f":"E42-E43-E44","v":0},null,0,0,1,{"$nulls":3},146]
[{"$f":"UPPER(\"Share in earnings of associates\")","v":"SHARE IN EARNINGS OF ASSOCIATES"},null,"(29)",{"$f":"'Notes-PL'!D59","v":0},{"$f":"'Notes-PL'!E59","v":0},null,0,0,1,{"$f":"CONSOLCHECK","v":"S"},null,null,147]
[{"$f":"UPPER(\"Share in earnings of joint ventures\")","v":"SHARE IN EARNINGS OF JOINT VENTURES"},null,"(30)",{"$f":"'Notes-PL'!D60","v":0},{"$f":"'Notes-PL'!E60","v":0},null,0,0,1,{"$f":"CONSOLCHECK","v":"S"},null,null,148]
[{"$f":"UPPER(\"Share in earnings of associates and joint ventures\")","v":"SHARE IN EARNINGS OF ASSOCIATES AND JOINT VENTURES"},null,"(31)=(29)+(30)",{"$f":"D46+D47","v":0},{"$f":"E46+E47","v":0},null,0,0,1,{"$f":"CONSOLCHECK","v":"S"},null,null,149]
[{"$f":"UPPER(\"Share of minority interest in profit (loss)\")","v":"SHARE OF MINORITY INTEREST IN PROFIT (LOSS)"},null,"(32)",{"$f":"'Notes-PL'!D61","v":0},{"$f":"'Notes-PL'!E61","v":0},null,0,0,1,{"$f":"CONSOLCHECK","v":"S"},null,null,150]
[{"$f":"UPPER(\"Adjustments related to merger and acquisitions\")","v":"ADJUSTMENTS RELATED TO MERGER AND ACQUISITIONS"},null,"(33)",{"$f":"D6","v":0},{"$f":"E6","v":0},null,0,0,1,{"$nulls":3},151]
[{"$f":"UPPER(\"Net profit (loss)\")","v":"NET PROFIT (LOSS)"},null,"(34)=(28)+(31)-(32)+(33)",{"$f":"D45+D48-D49+D50","v":0},{"$f":"E45+E48-E49+E50","v":0},null,0,0,1,{"$nulls":3},152]
[{"$f":"UPPER(\"Amounts transferred from reserves\")","v":"AMOUNTS TRANSFERRED FROM RESERVES"},null,"(35)",{"$f":"'17-AddlDetInStat'!D113","v":0},{"$f":"'17-AddlDetInStat'!E113","v":0},null,0,0,1,{"$nulls":3},153]
[{"$f":"UPPER(\"Profit (Loss) Brought Forward\")","v":"PROFIT (LOSS) BROUGHT FORWARD"},null,"(36)",{"$f":"+D7","v":0},{"$f":"E7","v":0},null,0,0,1,{"$nulls":3},156]
[{"$f":"UPPER(\"Amount available appropriations\")","v":"AMOUNT AVAILABLE APPROPRIATIONS"},null,"(37)=(34)+(35)+(36)",{"$f":"D51+D52+D53","v":0},{"$f":"E51+E52+E53","v":0},null,0,0,1,{"$nulls":3},154]
[{"$f":"UPPER(\"Appropriations\")","v":"APPROPRIATIONS"},null,"(38)",{"$f":"'17-AddlDetInStat'!D119","v":0},{"$f":"'17-AddlDetInStat'!E119","v":0},null,0,0,1,{"$nulls":3},155]
[{"$f":"UPPER(\"Profit (Loss) Carried to Balance Sheet\")","v":"PROFIT (LOSS) CARRIED TO BALANCE SHEET"},null,"(39)=(37)-(38)",{"$f":"D54-D55","v":0},{"$f":"E54-E55","v":0},null,0,0,1,{"$nulls":3},156]
[{"$f":"UPPER(\"Basic earnings per share before extraordinary items\")","v":"BASIC EARNINGS PER SHARE BEFORE EXTRAORDINARY ITEMS"},null,"(40)",{"$f":"D8","v":0},{"$f":"E8","v":0},null,0,0,1,{"$nulls":3},157]
[{"$f":"UPPER(\"Extraordinary adjustment basic earnings per share\")","v":"EXTRAORDINARY ADJUSTMENT BASIC EARNINGS PER SHARE"},null,"(41)",{"$f":"D9","v":0},{"$f":"E9","v":0},null,0,0,1,{"$nulls":3},158]
[{"$f":"UPPER(\"Basic earnings per share\")","v":"BASIC EARNINGS PER SHARE"},null,"(42)=(40)+(41)",{"$f":"D57+D58","v":0},{"$f":"E57+E58","v":0},null,0,0,1,{"$nulls":3},159]
[{"$f":"UPPER(\"Diluted earnings per share before extraordinary items\")","v":"DILUTED EARNINGS PER SHARE BEFORE EXTRAORDINARY ITEMS"},null,"(43)",{"$f":"D10","v":0},{"$f":"E10","v":0},null,0,0,1,{"$nulls":3},160]
[{"$f":"UPPER(\"Extraordinary adjustment diluted earnings per share\")","v":"EXTRAORDINARY ADJUSTMENT DILUTED EARNINGS PER SHARE"},null,"(44)",{"$f":"D11","v":0},{"$f":"E11","v":0},null,0,0,1,{"$nulls":3},161]
[{"$f":"UPPER(\"Diluted earnings per share\")","v":"DILUTED EARNINGS PER SHARE"},null,"(45)=(43)+(44)",{"$f":"D60+D61","v":0},{"$f":"E60+E61","v":0},null,0,0,1,{"$nulls":3},162]
[{"$f":"UPPER(\"Average number of shares for basic earnings per share\")","v":"AVERAGE NUMBER OF SHARES FOR BASIC EARNINGS PER SHARE"},null,"(46)",{"$f":"D12","v":0},{"$f":"E12","v":0},null,0,0,1,{"$nulls":3},163]
[{"$f":"UPPER(\"Adjustments to average number of shares\")","v":"ADJUSTMENTS TO AVERAGE NUMBER OF SHARES"},null,"(47)",{"$f":"D13","v":0},{"$f":"E13","v":0},null,0,0,1,{"$nulls":3},164]
[{"$f":"UPPER(\"Average number of shares for diluted earnings per share\")","v":"AVERAGE NUMBER OF SHARES FOR DILUTED EARNINGS PER SHARE"},null,"(48)=(46)+(47)",{"$f":"D63+D64","v":0},{"$f":"E63+E64","v":0},null,0,0,1,{"$nulls":3},165]
[{"$nulls":8},2]
[{"$nulls":8},2]
["PL - ALTERNATIVE",null,"[VIEW ONLY]",{"$nulls":5},2]
["PARTICULARS",null,null,{"$f":"CYEND1","v":"2011-03-31"},{"$f":"PYEND1","v":"2010-03-31"},{"$nulls":3},2]
[{"$f":"UPPER(\"Operating revenue, net\")","v":"OPERATING REVENUE, NET"},null,"(1)",{"$f":"'14-OperatingRevenue'!D11","v":0},{"$f":"'14-OperatingRevenue'!E11","v":0},null,{"$f":"IF(AND(OR((ISNUMBER(D70)=TRUE),ISBLANK(D70)=TRUE),ISERROR(D70)=FALSE),0,1)","v":0},{"$f":"IF(AND(OR((ISNUMBER(E70)=TRUE),ISBLANK(E70)=TRUE),ISERROR(E70)=FALSE),0,1)","v":0},1,{"$nulls":3},122]
[{"$f":"UPPER(\"Consumption of materials and changes inventories\")","v":"CONSUMPTION OF MATERIALS AND CHANGES INVENTORIES"},null,"(2)",{"$f":"'16-Expenditure'!D4","v":0},{"$f":"'16-Expenditure'!E4","v":0},null,0,0,1,{"$nulls":3},125]
[{"$f":"UPPER(\"Contract cost\")","v":"CONTRACT COST"},null,"(3)",{"$f":"'16-Expenditure'!D5","v":0},{"$f":"'16-Expenditure'!E5","v":0},null,0,0,1,{"$nulls":3},127]
[{"$f":"UPPER(\"Manufacturing and service costs\")","v":"MANUFACTURING AND SERVICE COSTS"},null,"(4)",{"$f":"'16-Expenditure'!D6","v":0},{"$f":"'16-Expenditure'!E6","v":0},null,0,0,1,{"$nulls":3},126]
[{"$f":"UPPER(\"Employee related expenses\")","v":"EMPLOYEE RELATED EXPENSES"},null,"(5)",{"$f":"'16-Expenditure'!D11","v":0},{"$f":"'16-Expenditure'!E11","v":0},null,0,0,1,{"$nulls":3},0,"16-Expenditure",710]
[{"$f":"UPPER(\"Cost of goods and services\")","v":"COST OF GOODS AND SERVICES"},null,"(6)=(2)+(3)+(4)+(5)",{"$f":"D71+D72+D73+D74","v":0},{"$f":"E71+E72+E73+E74","v":0},null,0,0,1,{"$nulls":3},167]
[{"$f":"UPPER(\"Gross profit\")","v":"GROSS PROFIT"},null,"(7)=(1)-(6)",{"$f":"D70-D75","v":0},{"$f":"E70-E75","v":0},null,0,0,1,{"$nulls":3},166]
[{"$f":"UPPER(\"Other income\")","v":"OTHER INCOME"},null,"(8)",{"$f":"'15-OtherIncome'!D28","v":0},{"$f":"'15-OtherIncome'!E28","v":0},null,0,0,1,{"$nulls":3},123]
[{"$f":"UPPER(\"Administrative, selling and other expenses\")","v":"ADMINISTRATIVE, SELLING AND OTHER EXPENSES"},null,"(9)",{"$f":"'16-Expenditure'!D7","v":0},{"$f":"'16-Expenditure'!E7","v":0},null,0,0,1,{"$nulls":3},128]
[{"$f":"UPPER(\"Research and development expenditure\")","v":"RESEARCH AND DEVELOPMENT EXPENDITURE"},null,"(10)",{"$f":"'16-Expenditure'!D12","v":0},{"$f":"'16-Expenditure'!E12","v":0},null,0,0,1,{"$nulls":3},131]
[{"$f":"UPPER(\"Depreciation, amortisation and impairment\")","v":"DEPRECIATION, AMORTISATION AND IMPAIRMENT"},null,"(11)",{"$f":"'16-Expenditure'!D8","v":0},{"$f":"'16-Expenditure'!E8","v":0},null,0,0,1,{"$nulls":3},0,"16-Expenditure",662]
[{"$f":"UPPER(\"Interest and financial charges\")","v":"INTEREST AND FINANCIAL CHARGES"},null,"(12)",{"$f":"'16-Expenditure'!D9","v":0},{"$f":"'16-Expenditure'!E9","v":0},null,0,0,1,{"$nulls":3},0,"16-Expenditure",683]
[{"$f":"UPPER(\"Restructuring charges\")","v":"RESTRUCTURING CHARGES"},null,"(13)",{"$f":"D4","v":0},{"$f":"E4","v":0},null,0,0,1,{"$nulls":3},132]
[{"$f":"UPPER(\"Reversal of restructuring charges\")","v":"REVERSAL OF RESTRUCTURING CHARGES"},null,"(14)",{"$f":"D5","v":0},{"$f":"E5","v":0},null,0,0,1,{"$nulls":3},133]
[{"$f":"UPPER(\"Exceptional income (expense), net\")","v":"EXCEPTIONAL INCOME (EXPENSE), NET"},null,"(15)",{"$f":"+'Notes-PL'!D49","v":0},{"$f":"+'Notes-PL'!E49","v":0},null,0,0,1,{"$nulls":3},134]
[{"$f":"UPPER(\"Net profit (loss) from continuing operations\")","v":"NET PROFIT (LOSS) FROM CONTINUING OPERATIONS"},null,"(16)=(7)+(8)-[(9)to(13)+(15)-(14)",{"$f":"D76+D77+D84+D83+-SUM(D78:D82)","v":0},{"$f":"E76+E77+E84+E83+-SUM(E78:E82)","v":0},null,0,0,1,{"$nulls":3},135]
[{"$f":"UPPER(\"Revenues related to discontinuing operations\")","v":"REVENUES RELATED TO DISCONTINUING OPERATIONS"},null,"(18)",{"$f":"'17-AddlDetInStat'!D89","v":0},{"$f":"'17-AddlDetInStat'!E89","v":0},null,0,0,1,{"$nulls":3},136]
[{"$f":"UPPER(\"Expenses related to discontinuing operations\")","v":"EXPENSES RELATED TO DISCONTINUING OPERATIONS"},null,"(19)",{"$f":"'17-AddlDetInStat'!D90","v":0},{"$f":"'17-AddlDetInStat'!E90","v":0},null,0,0,1,{"$nulls":3},137]
[{"$f":"UPPER(\"Income (loss) discontinuing operations\")","v":"INCOME (LOSS) DISCONTINUING OPERATIONS"},null,"(20)=(18)-(19)",{"$f":"D86-D87","v":0},{"$f":"E86-E87","v":0},null,0,0,1,{"$nulls":3},138]
[{"$f":"UPPER(\"Income (loss) form disposal or sale of discontinuing operations\")","v":"INCOME (LOSS) FORM DISPOSAL OR SALE OF DISCONTINUING OPERATIONS"},null,"(21)",{"$f":"'17-AddlDetInStat'!D84","v":0},{"$f":"'17-AddlDetInStat'!E84","v":0},null,0,0,1,{"$nulls":3},139]
[{"$f":"UPPER(\"Net profit (loss) before tax, prior period and extraordinary items\")","v":"NET PROFIT (LOSS) BEFORE TAX, PRIOR PERIOD AND EXTRAORDINARY ITEMS"},null,"(22)=(16)+(20)+(21)",{"$f":"D85+D88+D89","v":0},{"$f":"E85+E88+E89","v":0},null,0,0,1,{"$nulls":3},140]
[{"$f":"UPPER(\"Extraordinary items before tax\")","v":"EXTRAORDINARY ITEMS BEFORE TAX"},null,"(23)",{"$f":"+'Notes-PL'!D37","v":0},{"$f":"+'Notes-PL'!E37","v":0},null,0,0,1,{"$nulls":3},141]
[{"$f":"UPPER(\"Prior period items before tax\")","v":"PRIOR PERIOD ITEMS BEFORE TAX"},null,"(24)",{"$f":"+'Notes-PL'!D23","v":0},{"$f":"+'Notes-PL'!E23","v":0},null,0,0,1,{"$nulls":3},142]
[{"$f":"UPPER(\"Net profit (loss) before tax\")","v":"NET PROFIT (LOSS) BEFORE TAX"},null,"(25)=(22)+(23)+24)",{"$f":"D90+D91+D92","v":0},{"$f":"E90+E91+E92","v":0},null,0,0,1,{"$nulls":3},143]
[{"$f":"UPPER(\"Provision for taxation\")","v":"PROVISION FOR TAXATION"},null,"(26)",{"$f":"'16-Expenditure'!D10","v":0},{"$f":"'16-Expenditure'!E10","v":0},null,0,0,1,{"$nulls":3},144]
[{"$f":"UPPER(\"Tax effect of discontinuing operations\")","v":"TAX EFFECT OF DISCONTINUING OPERATIONS"},null,"(27)",{"$f":"'16-Expenditure'!D13","v":0},{"$f":"'16-Expenditure'!E13","v":0},null,0,0,1,{"$nulls":3},145]
[{"$f":"UPPER(\"Net profit (loss) before minority interest & share from joint venture\")","v":"NET PROFIT (LOSS) BEFORE MINORITY INTEREST & SHARE FROM JOINT VENTURE"},null,"(28)=(25)-(26)-(27)",{"$f":"D93-D94-D95","v":0},{"$f":"E93-E94-E95","v":0},null,0,0,1,{"$nulls":3},146]
[{"$f":"UPPER(\"Share in earnings of associates\")","v":"SHARE IN EARNINGS OF ASSOCIATES"},null,"(29)",{"$f":"'Notes-PL'!D59","v":0},{"$f":"'Notes-PL'!E59","v":0},null,0,0,1,{"$nulls":3},147]
[{"$f":"UPPER(\"Share in earnings of joint ventures\")","v":"SHARE IN EARNINGS OF JOINT VENTURES"},null,"(30)",{"$f":"'Notes-PL'!D60","v":0},{"$f":"'Notes-PL'!E60","v":0},null,0,0,1,{"$nulls":3},148]
[{"$f":"UPPER(\"Share in earnings of associates and joint ventures\")","v":"SHARE IN EARNINGS OF ASSOCIATES AND JOINT VENTURES"},null,"(31)=(29)+(30)",{"$f":"D97+D98","v":0},{"$f":"E97+E98","v":0},null,0,0,1,{"$nulls":3},149]
[{"$f":"UPPER(\"Share of minority interest in profit (loss)\")","v":"SHARE OF MINORITY INTEREST IN PROFIT (LOSS)"},null,"(32)",{"$f":"'Notes-PL'!D61","v":0},{"$f":"'Notes-PL'!E61","v":0},null,0,0,1,{"$nulls":3},150]
[{"$f":"UPPER(\"Adjustments related to merger and acquisitions\")","v":"ADJUSTMENTS RELATED TO MERGER AND ACQUISITIONS"},null,"(33)",{"$f":"D6","v":0},{"$f":"E6","v":0},null,0,0,1,{"$nulls":3},151]
[{"$f":"UPPER(\"Net profit (loss)\")","v":"NET PROFIT (LOSS)"},null,"(34)=(28)+(31)-(32)+(33)",{"$f":"D96+D99-D100+D101","v":0},{"$f":"E96+E99-E100+E101","v":0},null,0,0,1,{"$nulls":3},152]
[{"$f":"UPPER(\"Amounts transferred from reserves\")","v":"AMOUNTS TRANSFERRED FROM RESERVES"},null,"(35)",{"$f":"'17-AddlDetInStat'!D113","v":0},{"$f":"'17-AddlDetInStat'!E113","v":0},null,0,0,1,{"$nulls":3},153]
[{"$f":"UPPER(\"Profit (Loss) Brought Forward\")","v":"PROFIT (LOSS) BROUGHT FORWARD"},null,"(36)",{"$f":"D53","v":0},{"$f":"E53","v":0},null,0,0,1,{"$nulls":3},156]
[{"$f":"UPPER(\"Amount available appropriations\")","v":"AMOUNT AVAILABLE APPROPRIATIONS"},null,"(37)=(34)+(35)+(36)",{"$f":"D102+D103+D104","v":0},{"$f":"E102+E103+E104","v":0},null,0,0,1,{"$nulls":3},154]
[{"$f":"UPPER(\"Appropriations\")","v":"APPROPRIATIONS"},null,"(38)",{"$f":"'17-AddlDetInStat'!D119","v":0},{"$f":"'17-AddlDetInStat'!E119","v":0},null,0,0,1,{"$nulls":3},155]
[{"$f":"UPPER(\"Profit (Loss) Carried to Balance Sheet\")","v":"PROFIT (LOSS) CARRIED TO BALANCE SHEET"},null,"(39)=(37)-(38)",{"$f":"D105-D106","v":0},{"$f":"E105-E106","v":0},null,0,0,1,{"$nulls":3},156]
[{"$f":"UPPER(\"Basic earnings per share before extraordinary items\")","v":"BASIC EARNINGS PER SHARE BEFORE EXTRAORDINARY ITEMS"},null,"(40)",{"$f":"D57","v":0},{"$f":"E57","v":0},null,0,0,1,{"$nulls":3},157]
[{"$f":"UPPER(\"Extraordinary adjustment basic earnings per share\")","v":"EXTRAORDINARY ADJUSTMENT BASIC EARNINGS PER SHARE"},null,"(41)",{"$f":"D58","v":0},{"$f":"E58","v":0},null,0,0,1,{"$nulls":3},158]
[{"$f":"UPPER(\"Basic earnings per share\")","v":"BASIC EARNINGS PER SHARE"},null,"(42)=(40)+(41)",{"$f":"D108+D109","v":0},{"$f":"E108+E109","v":0},null,0,0,1,{"$nulls":3},159]
[{"$f":"UPPER(\"Diluted earnings per share before extraordinary items\")","v":"DILUTED EARNINGS PER SHARE BEFORE EXTRAORDINARY ITEMS"},null,"(43)",{"$f":"D10","v":0},{"$f":"E10","v":0},null,0,0,1,{"$nulls":3},160]
[{"$f":"UPPER(\"Extraordinary adjustment diluted earnings per share\")","v":"EXTRAORDINARY ADJUSTMENT DILUTED EARNINGS PER SHARE"},null,"(44)",{"$f":"D11","v":0},{"$f":"E11","v":0},null,0,0,1,{"$nulls":3},161]
[{"$f":"UPPER(\"Diluted earnings per share\")","v":"DILUTED EARNINGS PER SHARE"},null,"(45)=(43)+(44)",{"$f":"D111+D112","v":0},{"$f":"E111+E112","v":0},null,0,0,1,{"$nulls":3},162]
[{"$f":"UPPER(\"Average number of shares for basic earnings per share\")","v":"AVERAGE NUMBER OF SHARES FOR BASIC EARNINGS PER SHARE"},null,"(46)",{"$f":"D12","v":0},{"$f":"E12","v":0},null,0,0,1,{"$nulls":3},163]
[{"$f":"UPPER(\"Adjustments to average number of shares\")","v":"ADJUSTMENTS TO AVERAGE NUMBER OF SHARES"},null,"(47)",{"$f":"D13","v":0},{"$f":"E13","v":0},null,0,0,1,{"$nulls":3},164]
[{"$f":"UPPER(\"Average number of shares for diluted earnings per share\")","v":"AVERAGE NUMBER OF SHARES FOR DILUTED EARNINGS PER SHARE"},null,"(48)=(46)+(47)",{"$f":"D114+D115","v":0},{"$f":"E114+E115","v":0},null,0,0,1,{"$nulls":3},165]
[{"$nulls":8},2]
[{"$nulls":8},2]
[{"$nulls":8},2]
["FOOTNOTES",null,"PROFIT AND LOSS STATEMENT (MAIN & ALTERNATIVE)",{"$nulls":5},2]
["ELEMENT LABEL",null,null,{"$f":"CYEND1","v":"2011-03-31"},{"$f":"PYEND1","v":"2010-03-31"},{"$f":"PYEND3","v":"2009-03-31"},null,null,2]
["Operating revenue, net",{"$nulls":7},0,{"$nulls":3},18]
["Other income",{"$nulls":7},0,{"$nulls":3},19]
[{"$f":"IF(INTYPCHECK=\"M\",\"Total income\",\"\")","v":"Total income"},{"$nulls":7},0,{"$nulls":3},20]
["Consumption materials changes inventories",{"$nulls":7},0,{"$nulls":3},21]
["Manufacturing service costs",{"$nulls":7},0,{"$nulls":3},22]
["Contract cost",{"$nulls":7},0,{"$nulls":3},23]
["Administrative selling other expenses",{"$nulls":7},0,{"$nulls":3},25]
[{"$f":"IF(INTYPCHECK=\"M\",\"Manufacturing other operating expenses\",\"\")","v":"Manufacturing other operating expenses"},{"$nulls":11},26]
[{"$f":"IF(INTYPCHECK=\"M\",\"Total Expenditure\",\"\")","v":"Total Expenditure"},{"$nulls":7},0,{"$nulls":3},32]
["Research development expenditure",{"$nulls":7},0,{"$nulls":3},27]
["Restructuring charges",{"$nulls":7},0,{"$nulls":3},4]
["Reversal restructuring charges",{"$nulls":7},0,{"$nulls":3},5]
["Exceptional income expense, net",{"$nulls":7},0,{"$nulls":3},33]
["Net profit loss continuing operations",{"$nulls":7},0,{"$nulls":3},34]
["Revenues related discontinuing operations",{"$nulls":7},0,{"$nulls":3},35]
["Expenses related discontinuing operations",{"$nulls":7},0,{"$nulls":3},36]
["Income loss discontinuing operations",{"$nulls":7},0,{"$nulls":3},37]
["Income loss disposal sale discontinuing operations",{"$nulls":7},0,{"$nulls":3},38]
["Net profit (loss) before tax, prior period and extraordinary items",{"$nulls":7},0,{"$nulls":3},39]
["Extraordinary items before tax",{"$nulls":7},0,{"$nulls":3},40]
["Prior period items before tax",{"$nulls":7},0,{"$nulls":3},41]
["Net profit loss before tax",{"$nulls":7},0,{"$nulls":3},42]
["Provision taxation",{"$nulls":7},0,{"$nulls":3},43]
["Tax effect discontinuing operations",{"$nulls":7},0,{"$nulls":3},44]
["Net profit loss before minority interest share joint venture",{"$nulls":7},0,{"$nulls":3},45]
["Share earnings associates",{"$nulls":7},0,{"$nulls":3},46]
["Share earnings joint ventures",{"$nulls":7},0,{"$nulls":3},47]
["Share earnings associates joint ventures",{"$nulls":7},0,{"$nulls":3},48]
["Share minority interest profit loss",{"$nulls":7},0,{"$nulls":3},49]
["Adjustments related merger acquisitions",{"$nulls":7},0,{"$nulls":3},50]
["Net profit loss",{"$nulls":7},0,{"$nulls":3},51]
["Amounts transferred reserves",{"$nulls":7},0,{"$nulls":3},52]
["Amount available appropriations",{"$nulls":7},0,{"$nulls":3},54]
["Appropriations",{"$nulls":7},0,{"$nulls":3},55]
["Profit (Loss) Carried to Balance Sheet",{"$nulls":7},0,{"$nulls":3},56]
["Basic earnings per share before extraordinary items",{"$nulls":7},0,{"$nulls":3},57]
["Extraordinary adjustment basic earnings per share",{"$nulls":7},0,{"$nulls":3},58]
["Basic earnings per share",{"$nulls":7},0,{"$nulls":3},59]
["Diluted earnings per share before extraordinary items",{"$nulls":7},0,{"$nulls":3},60]
["Extraordinary adjustment diluted earnings per share",{"$nulls":7},0,{"$nulls":3},61]
["Diluted earnings per share",{"$nulls":7},0,{"$nulls":3},62]
["Average number shares for basic earnings per share",{"$nulls":7},0,{"$nulls":3},63]
["Adjustment average number shares",{"$nulls":7},0,{"$nulls":3},64]
["Average number shares for diluted earnings per share",{"$nulls":7},0,{"$nulls":3},65]
[{"$f":"IF(INTYPCHECK=\"A\",\"Gross profit\",\"\")","v":""},{"$nulls":7},0,{"$nulls":3},76]
[{"$f":"IF(INTYPCHECK=\"A\",\"Cost goods services\",\"\")","v":""},{"$nulls":7},0,{"$nulls":3},75]

{"sheet":"14-OperatingRevenue","index":9,"n_rows":166,"n_cols":15,"rows_kept":166,"hidden":true,"merged":[[2,0,2,2],[3,0,3,2],[4,0,4,2],[5,0,5,2],[6,0,6,2],[7,0,7,2],[8,0,8,2],[9,0,9,2],[10,0,10,2],[14,0,14,2],[15,0,15,2],[16,0,16,2],[17,0,17,2],[18,0,18,2],[19,0,19,2],[20,0,20,2],[21,0,21,2],[22,0,22,2],[23,0,23,2],[26,0,26,2],[27,0,27,2],[28,0,28,2],[29,0,29,2],[30,0,30,2],[33,0,33,2],[34,0,34,2],[35,0,35,2],[36,0,36,2],[39,0,39,2],[40,0,40,2],[41,0,41,2],[42,0,42,2],[45,0,45,2],[46,0,46,2],[47,0,47,2],[48,0,48,2],[49,0,49,2],[50,0,50,2],[51,0,51,2],[52,0,52,2],[53,0,53,2],[54,0,54,2],[55,0,55,2],[56,0,56,2],[57,0,57,2],[58,0,58,2],[59,0,59,2],[60,0,60,2],[61,0,61,2],[62,0,62,2],[63,0,63,2],[64,0,64,2],[67,0,67,2],[68,0,68,2],[69,0,69,2],[70,0,70,2],[71,0,71,2],[75,0,75,2],[76,0,76,2],[77,0,77,2],[78,0,78,2],[79,0,79,2],[82,0,82,2],[83,0,83,2],[84,0,84,2],[85,0,85,2],[88,0,88,2],[89,0,89,2],[90,0,90,2],[91,0,91,2],[92,0,92,2],[93,0,93,2],[94,0,94,2],[97,0,97,2],[98,0,98,2],[99,0,99,2],[100,0,100,2],[101,0,101,2],[104,2,104,4],[105,0,105,2],[106,0,106,2],[107,0,107,2],[108,0,108,2],[109,0,109,2],[110,0,110,2],[111,0,111,2],[112,0,112,2],[113,0,113,2],[114,0,114,2],[115,0,115,2],[116,0,116,2],[117,0,117,2],[118,0,118,2],[119,0,119,2],[120,0,120,2],[121,0,121,2],[122,0,122,2],[123,0,123,2],[124,0,124,2],[125,0,125,2],[126,0,126,2],[127,0,127,2],[128,0,128,2],[129,0,129,2],[130,0,130,2],[131,0,131,2],[132,0,132,2],[133,0,133,2],[134,0,134,2],[135,0,135,2],[136,0,136,2],[137,0,137,2],[138,0,138,2],[139,0,139,2],[140,0,140,2],[141,0,141,2],[142,0,142,2],[143,0,143,2],[144,0,144,2],[145,0,145,2],[146,0,146,2],[147,0,147,2],[148,0,148,2],[149,0,149,2],[150,0,150,2],[151,0,151,2],[152,0,152,2],[153,0,153,2],[154,0,154,2],[155,0,155,2],[156,0,156,2],[157,0,157,2],[158,0,158,2],[159,0,159,2],[160,0,160,2],[161,0,161,2],[162,0,162,2],[163,0,163,2],[164,0,164,2],[165,0,165,2]]}
["SCHEDULE - 14","OPERATING REVENUE",{"$nulls":4},{"$f":"IF(SUM(G4:H102)=0,0,1)+J1","v":0},null,"F",{"$f":"J65+K65","v":0}]
[{"$nulls":8},2,3]
["PARTICULARS",null,null,{"$f":"CYEND1","v":"2011-03-31"},{"$f":"PYEND1","v":"2010-03-31"},{"$nulls":3},2,103]
["GROSS: OPERATING REVENUE",null,null,{"$f":"D24","v":0},{"$f":"E24","v":0},null,{"$f":"IF(AND(OR((ISNUMBER(D4)=TRUE),ISBLANK(D4)=TRUE),ISERROR(D4)=FALSE),0,1)","v":0},{"$f":"IF(AND(OR((ISNUMBER(E4)=TRUE),ISBLANK(E4)=TRUE),ISERROR(E4)=FALSE),0,1)","v":0},1,166,null,null,133]
[{"$f":"UPPER(\"Less: Duties and Taxes Collected\")","v":"LESS: DUTIES AND TAXES COLLECTED"},null,null,{"$f":"D102","v":0},{"$f":"E102","v":0},null,{"$f":"IF(AND(OR((ISNUMBER(D5)=TRUE),ISBLANK(D5)=TRUE),ISERROR(D5)=FALSE),0,1)","v":0},0,1,{"$nulls":3},137]
[{"$f":"UPPER(\"Less: Interdivision transfers\")","v":"LESS: INTERDIVISION TRANSFERS"},{"$nulls":5},0,0,0,{"$nulls":3},138]
[{"$f":"UPPER(\"less: Brokerage discounts rebates\")","v":"LESS: BROKERAGE DISCOUNTS REBATES"},{"$nulls":5},0,0,0,{"$nulls":3},139]
[{"$f":"UPPER(\"less: Sales returns\")","v":"LESS: SALES RETURNS"},{"$nulls":5},0,0,0,{"$nulls":3},140]
[{"$f":"UPPER(\"less: Other allowances deductions sales\")","v":"LESS: OTHER ALLOWANCES DEDUCTIONS SALES"},{"$nulls":5},0,0,0,{"$nulls":3},141]
[{"$f":"UPPER(\"ADD: Share operating revenue joint ventures\")","v":"ADD: SHARE OPERATING REVENUE JOINT VENTURES"},null,null,{"$f":"'Notes-PL'!D62","v":0},{"$f":"'Notes-PL'!E62","v":0},null,0,{"$f":"IF(AND(OR((ISNUMBER(E10)=TRUE),ISBLANK(E10)=TRUE),ISERROR(E10)=FALSE),0,1)","v":0},1,{"$f":"CONSOLCHECK","v":"S"},null,null,142]
[{"$f":"UPPER(\"Net - Operating Revenue\")","v":"NET - OPERATING REVENUE"},null,null,{"$f":"D10+D4-SUM(D5:D9)","v":0},{"$f":"E10+E4-SUM(E5:E9)","v":0},null,0,0,1,{"$nulls":3},0,"PL",122]
[{"$nulls":8},2]
["SCHEDULE - 14A","OPERATING REVENUE GROSS",{"$nulls":6},2]
[{"$nulls":8},2]
["PARTICULARS",null,null,{"$f":"CYEND1","v":"2011-03-31"},{"$f":"PYEND1","v":"2010-03-31"},{"$nulls":3},2]
["REVENUE - SALE OF GOODS",null,null,{"$f":"D31","v":0},{"$f":"E31","v":0},null,{"$f":"IF(AND(OR((ISNUMBER(D16)=TRUE),ISBLANK(D16)=TRUE),ISERROR(D16)=FALSE),0,1)","v":0},0,1,{"$nulls":3},116]
["REVENUE - RENDERING OF SERVICES",null,null,{"$f":"D65","v":0},{"$f":"E65","v":0},null,0,0,1,{"$nulls":3},117]
["REVENUE - CONTRACT",null,null,{"$f":"D86","v":0},{"$f":"E86","v":0},null,0,0,1,{"$nulls":3},122]
["REVENUE - LEASE RENTALS",{"$nulls":5},0,0,0,{"$nulls":3},123]
["REVENUE - HIRE CHARGES",{"$nulls":5},0,0,0,{"$nulls":3},124]
["REVENUE - JOB WORK",{"$nulls":5},0,0,0,{"$nulls":3},125]
["REVENUE - INTANGIBLE ASSETS",null,null,{"$f":"D95","v":0},{"$f":"E95","v":0},null,0,0,1,{"$nulls":3},131]
["REVENUE - OTHERS",{"$nulls":5},0,0,0,{"$nulls":3},132]
["TOTAL",null,null,{"$f":"SUM(D16:D23)","v":0},{"$f":"SUM(E16:E23)","v":0},null,0,0,1,{"$nulls":3},133]
[{"$nulls":8},2]
["SCHEDULE - 14 A 1","REVENUE - SALE OF GOODS' GROSS",{"$nulls":6},2]
["PARTICULARS",null,null,{"$f":"CYEND1","v":"2011-03-31"},{"$f":"PYEND1","v":"2010-03-31"},{"$nulls":3},2]
["SALE OF MANUFACTURED GOODS",null,null,{"$f":"D37","v":0},{"$f":"E37","v":0},null,{"$f":"IF(AND(OR((ISNUMBER(D28)=TRUE),ISBLANK(D28)=TRUE),ISERROR(D28)=FALSE),0,1)","v":0},0,1,{"$nulls":3},107]
["SALE OF TRADED GOODS",null,null,{"$f":"D43","v":0},{"$f":"E43","v":0},null,0,0,1,{"$nulls":3},108]
["SALE OF OTHER GOODS",{"$nulls":5},0,0,1,{"$nulls":3},109]
["TOTAL",null,null,{"$f":"SUM(D28:D30)","v":0},{"$f":"SUM(E28:E30)","v":0},null,0,0,1,{"$nulls":3},116]
[{"$nulls":8},2]
["SCHEDULE - 14 A 1 A","REVENUE - SALE OF MANUFACTURED GOODS",{"$nulls":6},2]
["PARTICULARS",null,null,{"$f":"CYEND1","v":"2011-03-31"},{"$f":"PYEND1","v":"2010-03-31"},{"$nulls":3},2]
["DOMESTIC SALES",{"$nulls":5},{"$f":"IF(AND(OR((ISNUMBER(D35)=TRUE),ISBLANK(D35)=TRUE),ISERROR(D35)=FALSE),0,1)","v":0},0,0,{"$nulls":3},110]
["EXPORT SALES",{"$nulls":5},0,0,0,{"$nulls":3},113]
["TOTAL",null,null,{"$f":"SUM(D35:D36)","v":0},{"$f":"SUM(E35:E36)","v":0},null,0,0,1,{"$nulls":3},107]
[{"$nulls":8},2]
["SCHEDULE - 14 A 1 B","REVENUE - SALE OF TRADED GOODS",{"$nulls":6},2]
["PARTICULARS",null,null,{"$f":"CYEND1","v":"2011-03-31"},{"$f":"PYEND1","v":"2010-03-31"},{"$nulls":3},2]
["DOMESTIC SALES",{"$nulls":5},{"$f":"IF(AND(OR((ISNUMBER(D41)=TRUE),ISBLANK(D41)=TRUE),ISERROR(D41)=FALSE),0,1)","v":0},0,0,{"$nulls":3},111]
["EXPORT SALES",{"$nulls":5},0,0,0,{"$nulls":3},114]
["TOTAL",null,null,{"$f":"SUM(D41:D42)","v":0},{"$f":"SUM(E41:E42)","v":0},null,0,0,1,{"$nulls":3},108]
[{"$nulls":8},2]
["SCHEDULE - 14 A 2","REVENUE - RENDERING OF SERVICES",{"$nulls":6},2]
["PARTICULARS",null,null,{"$f":"CYEND1","v":"2011-03-31"},{"$f":"PYEND1","v":"2010-03-31"},{"$nulls":3},2]
["COMMUNICATION SERVICES",{"$nulls":5},{"$f":"IF(AND(OR((ISNUMBER(D47)=TRUE),ISBLANK(D47)=TRUE),ISERROR(D47)=FALSE),0,1)","v":0},0,0,{"$nulls":3},143]
["TRANSPORT AND LOGISTIC SERVICES",null,null,{"$f":"D72","v":0},{"$f":"E72","v":0},null,0,0,1,{"$nulls":3},147]
["COURIER SERVICES",{"$nulls":5},0,0,0,{"$nulls":3},148]
["INFRASTRUCTURE SERVICES",{"$nulls":5},0,0,0,{"$nulls":3},149]
["INFORMATION TECHNOLOGY SERVICES",null,null,{"$f":"D80","v":0},{"$f":"E80","v":0},null,0,0,1,{"$nulls":3},150]
["HOTELS",{"$nulls":5},0,0,0,{"$nulls":3},154]
["HOSPITALS HEALTHCARE CLINICS",{"$nulls":5},0,0,0,{"$nulls":3},155]
["ENTERTAINMENT",{"$nulls":5},0,0,0,{"$nulls":3},156]
["REPAIRS AND MAINTAINENCE",{"$nulls":5},0,0,0,{"$nulls":3},157]
["EDUCATIONAL ACTIVITIES",{"$nulls":5},0,0,0,{"$nulls":3},158]
["MEMBERSHIP AND SUBSCRIPTION FEES",{"$nulls":5},0,0,0,{"$nulls":3},159]
["ADMISSION FEES",{"$nulls":5},0,0,0,{"$nulls":3},160]
["ERECTIONING COMMISSION",{"$nulls":5},0,0,0,{"$nulls":3},161]
["AGENCIES",{"$nulls":5},0,0,0,{"$nulls":3},162]
["ADVERTISING AND PUBLICITY",{"$nulls":5},0,0,0,{"$nulls":3},163]
["VALUE ADDED SERVICES",{"$nulls":5},0,0,0,{"$nulls":3},164]
["REAL ESTATE AND PROPERTY DEVELOPMENT",{"$nulls":5},0,0,0,{"$nulls":3},165]
["OTHER SERVICES",{"$nulls":5},0,0,0,{"$nulls":3},166]
["TOTAL",null,null,{"$f":"SUM(D47:D64)","v":0},{"$f":"SUM(E47:E64)","v":0},null,0,0,1,{"$f":"IF(D65<>'17-AddlDetInStat'!D44,1,0)","v":0},{"$f":"IF(E65<>'17-AddlDetInStat'!E44,1,0)","v":0},null,117]
[{"$nulls":8},2]
["SCHEDULE - 14 A 2 I",{"$f":"A48 & \" \" &B45","v":"TRANSPORT AND LOGISTIC SERVICES REVENUE - RENDERING OF SERVICES"},{"$nulls":6},2]
["PARTICULARS",null,null,{"$f":"CYEND1","v":"2011-03-31"},{"$f":"PYEND1","v":"2010-03-31"},{"$nulls":3},2]
[{"$f":"UPPER(\"Revenue roadway operations\")","v":"REVENUE ROADWAY OPERATIONS"},{"$nulls":5},{"$f":"IF(AND(OR((ISNUMBER(D69)=TRUE),ISBLANK(D69)=TRUE),ISERROR(D69)=FALSE),0,1)","v":0},0,0,{"$nulls":3},144]
[{"$f":"UPPER(\"Revenue waterway operations\")","v":"REVENUE WATERWAY OPERATIONS"},{"$nulls":5},0,0,0,{"$nulls":3},145]
[{"$f":"UPPER(\"Revenue airway operations\")","v":"REVENUE AIRWAY OPERATIONS"},{"$nulls":5},0,0,0,{"$nulls":3},146]
["TOTAL",null,null,{"$f":"SUM(D69:D71)","v":0},{"$f":"SUM(E69:E71)","v":0},null,0,0,1,{"$nulls":3},147]
[{"$nulls":8},2]
[{"$nulls":8},2]
["SCHEDULE - 14 A 2 II",{"$f":"A51 & \" \" &B45","v":"INFORMATION TECHNOLOGY SERVICES REVENUE - RENDERING OF SERVICES"},{"$nulls":6},2]
["PARTICULARS",null,null,{"$f":"CYEND1","v":"2011-03-31"},{"$f":"PYEND1","v":"2010-03-31"},{"$nulls":3},2]
[{"$f":"UPPER(\"Revenue software development\")","v":"REVENUE SOFTWARE DEVELOPMENT"},{"$nulls":5},{"$f":"IF(AND(OR((ISNUMBER(D77)=TRUE),ISBLANK(D77)=TRUE),ISERROR(D77)=FALSE),0,1)","v":0},0,0,{"$nulls":3},150]
[{"$f":"UPPER(\"Revenue hardware maintenance\")","v":"REVENUE HARDWARE MAINTENANCE"},{"$nulls":5},0,0,0,{"$nulls":3},151]
[{"$f":"UPPER(\"Revenue information technology consultancy\")","v":"REVENUE INFORMATION TECHNOLOGY CONSULTANCY"},{"$nulls":5},0,0,0,{"$nulls":3},152]
["TOTAL",null,null,{"$f":"SUM(D77:D79)","v":0},{"$f":"SUM(E77:E79)","v":0},null,0,0,1,{"$nulls":3},153]
[{"$nulls":8},2]
["SCHEDULE - 14 A 3","REVENUE - CONTRACT",{"$nulls":6},2]
["PARTICULARS",null,null,{"$f":"CYEND1","v":"2011-03-31"},{"$f":"PYEND1","v":"2010-03-31"},{"$nulls":3},2]
["DOMESTIC CONTRACT",{"$nulls":5},{"$f":"IF(AND(OR((ISNUMBER(D84)=TRUE),ISBLANK(D84)=TRUE),ISERROR(D84)=FALSE),0,1)","v":0},0,0,{"$nulls":3},120]
["EXPORT CONTRACT",{"$nulls":5},0,0,0,{"$nulls":3},121]
["TOTAL",null,null,{"$f":"SUM(D84:D85)","v":0},{"$f":"SUM(E84:E85)","v":0},null,0,0,1,{"$nulls":3},122]
[{"$nulls":8},2]
["SCHEDULE - 14 A 3",{"$f":"A22","v":"REVENUE - INTANGIBLE ASSETS"},{"$nulls":6},2]
["PARTICULARS",null,null,{"$f":"CYEND1","v":"2011-03-31"},{"$f":"PYEND1","v":"2010-03-31"},{"$nulls":3},2]
[{"$f":"UPPER(\"Revenue royalties\")","v":"REVENUE ROYALTIES"},{"$nulls":5},{"$f":"IF(AND(OR((ISNUMBER(D90)=TRUE),ISBLANK(D90)=TRUE),ISERROR(D90)=FALSE),0,1)","v":0},0,0,{"$nulls":3},126]
[{"$f":"UPPER(\"Revenue technical knowhow\")","v":"REVENUE TECHNICAL KNOWHOW"},{"$nulls":5},0,0,0,{"$nulls":3},127]
[{"$f":"UPPER(\"Revenue franchise\")","v":"REVENUE FRANCHISE"},{"$nulls":5},0,0,0,{"$nulls":3},128]
[{"$f":"UPPER(\"Revenue licences\")","v":"REVENUE LICENCES"},{"$nulls":5},0,0,0,{"$nulls":3},129]
[{"$f":"UPPER(\"Revenue contractual rights\")","v":"REVENUE CONTRACTUAL RIGHTS"},{"$nulls":5},0,0,0,{"$nulls":3},130]
["TOTAL",null,null,{"$f":"SUM(D90:D94)","v":0},{"$f":"SUM(E90:E94)","v":0},null,0,0,1,{"$nulls":3},131]
[{"$nulls":8},2]
["SCHEDULE - 14 B","DUTIES AND TAXES COLLECTED",{"$nulls":6},2]
["PARTICULARS",null,null,{"$f":"CYEND1","v":"2011-03-31"},{"$f":"PYEND1","v":"2010-03-31"},{"$nulls":3},2]
[{"$f":"UPPER(\"Excise duty collected\")","v":"EXCISE DUTY COLLECTED"},{"$nulls":5},{"$f":"IF(AND(OR((ISNUMBER(D99)=TRUE),ISBLANK(D99)=TRUE),ISERROR(D99)=FALSE),0,1)","v":0},0,0,{"$nulls":3},134]
[{"$f":"UPPER(\"Service tax collected\")","v":"SERVICE TAX COLLECTED"},{"$nulls":5},0,0,0,{"$nulls":3},135]
[{"$f":"UPPER(\"Other duties taxes collected\")","v":"OTHER DUTIES TAXES COLLECTED"},{"$nulls":5},0,0,0,{"$nulls":3},136]
["TOTAL",null,null,{"$f":"SUM(D99:D101)","v":0},{"$f":"SUM(E99:E101)","v":0},null,0,0,1,{"$nulls":3},137]
[{"$nulls":8},2]
[]
["FOOTNOTES",null,"SCHEDULE - 14 OPERATING REVENUE"]
["ELEMENT LABEL",null,null,{"$f":"CYEND1","v":"2011-03-31"},{"$f":"PYEND1","v":"2010-03-31"}]
["Revenue sale manufactured goods",{"$nulls":11},28]
["Revenue sale traded goods",{"$nulls":11},29]
["Revenue sale other goods",{"$nulls":11},30]
["Domestic sale manufactured goods",{"$nulls":11},35]
["Domestic sale traded goods",{"$nulls":11},41]
["Domestic turnover goods, gross",{"$nulls":11},0,"17-AddlDetInStat",24]
["Export sale manufactured goods",{"$nulls":11},36]
["Export sale traded goods",{"$nulls":11},42]
["Export turnover goods, gross",{"$nulls":11},0,"17-AddlDetInStat",25]
["Revenue sale goods, gross",{"$nulls":11},31]
["Domestic revenue services",{"$nulls":11},65]
["Export revenue services",{"$nulls":11},0,"17-AddlDetInStat",42]
["Revenue services, gross",{"$nulls":11},0,"17-AddlDetInStat",43]
["Revenue domestic contracts",{"$nulls":11},84]
["Revenue foreign contracts",{"$nulls":11},85]
["Revenue contract",{"$nulls":11},86]
["Revenue lease rentals",{"$nulls":11},19]
["Revenue hire charges",{"$nulls":11},20]
["Revenue job work",{"$nulls":11},21]
["Revenue royalties",{"$nulls":11},90]
["Revenue technical knowhow",{"$nulls":11},91]
["Revenue franchise",{"$nulls":11},92]
["Revenue licences",{"$nulls":11},93]
["Revenue contractual rights",{"$nulls":11},94]
["Revenue intangible assets",{"$nulls":11},95]
["Other operating revenues",{"$nulls":11},23]
["Operating revenue, gross",{"$nulls":11},24]
["Excise duty collected",{"$nulls":11},99]
["Service tax collected",{"$nulls":11},100]
["Other duties taxes collected",{"$nulls":11},101]
["Duties taxes collected",{"$nulls":11},102]
["Interdivision transfers",{"$nulls":11},6]
["Brokerage discounts rebates",{"$nulls":11},7]
["Sales returns",{"$nulls":11},8]
["Other allowances deductions sales",{"$nulls":11},9]
["Share operating revenue joint ventures",{"$nulls":11},10]
["Revenue communication services",{"$nulls":11},47]
["Revenue roadway operations",{"$nulls":11},69]
["Revenue waterway operations",{"$nulls":11},70]
["Revenue airway operations",{"$nulls":11},71]
["Revenue logistics transport services",{"$nulls":11},72]
["Revenue courier services",{"$nulls":11},49]
["Revenue infrastructure services",{"$nulls":11},50]
["Revenue software development",{"$nulls":11},77]
["Revenue hardware maintenance",{"$nulls":11},78]
["Revenue information technology consultancy",{"$nulls":11},79]
["Revenue information technology services",{"$nulls":11},80]
["Revenue hotels",{"$nulls":11},52]
["Revenue hospitals healthcare clinics",{"$nulls":11},53]
["Revenue entertainment",{"$nulls":11},54]
["Revenue repairs maintenance",{"$nulls":11},55]
["Revenue educational activities",{"$nulls":11},56]
["Revenue membership subscriptions fees",{"$nulls":11},57]
["Revenue admission fees",{"$nulls":11},58]
["Revenue erectioning commissioning",{"$nulls":11},59]
["Revenue agencies",{"$nulls":11},60]
["Revenue advertising publicity",{"$nulls":11},61]
["Revenue value added services",{"$nulls":11},62]
["Revenue real estate property development",{"$nulls":11},63]
["Revenue other services",{"$nulls":11},64]

{"sheet":"15-OtherIncome","index":10,"n_rows":168,"n_cols":15,"rows_kept":168,"hidden":true,"merged":[[2,0,2,2],[3,0,3,2],[4,0,4,2],[5,0,5,2],[6,0,6,2],[7,0,7,2],[8,0,8,2],[9,0,9,2],[10,0,10,2],[11,0,11,2],[12,0,12,2],[13,0,13,2],[14,0,14,2],[15,0,15,2],[16,0,16,2],[17,0,17,2],[18,0,18,2],[19,0,19,2],[20,0,20,2],[21,0,21,2],[22,0,22,2],[23,0,23,2],[24,0,24,2],[25,0,25,2],[26,0,26,2],[27,0,27,2],[30,0,30,2],[31,0,31,2],[32,0,32,2],[33,0,33,2],[34,0,34,2],[37,0,37,2],[38,0,38,2],[39,0,39,2],[40,0,40,2],[41,0,41,2],[45,0,45,2],[46,0,46,2],[47,0,47,2],[48,0,48,2],[51,0,51,2],[52,0,52,2],[53,0,53,2],[54,0,54,2],[55,0,55,2],[56,0,56,2],[57,0,57,2],[60,0,60,2],[61,0,61,2],[62,0,62,2],[63,0,63,2],[64,0,64,2],[67,0,67,2],[68,0,68,2],[69,0,69,2],[70,0,70,2],[73,0,73,2],[74,0,74,2],[75,0,75,2],[76,0,76,2],[77,0,77,2],[78,0,78,2],[79,0,79,2],[82,0,82,2],[83,0,83,2],[84,0,84,2],[85,0,85,2],[86,0,86,2],[89,0,89,2],[90,0,90,2],[91,0,91,2],[92,0,92,2],[95,0,95,2],[96,0,96,2],[97,0,97,2],[98,0,98,2],[101,0,101,2],[102,0,102,2],[103,0,103,2],[104,0,104,2],[105,0,105,2],[106,0,106,2],[107,0,107,2],[109,2,109,4],[110,0,110,2],[111,0,111,2],[112,0,112,2],[113,0,113,2],[114,0,114,2],[115,0,115,2],[116,0,116,2],[117,0,117,2],[118,0,118,2],[119,0,119,2],[120,0,120,2],[121,0,121,2],[122,0,122,2],[123,0,123,2],[124,0,124,2],[125,0,125,2],[126,0,126,2],[127,0,127,2],[128,0,128,2],[129,0,129,2],[130,0,130,2],[131,0,131,2],[132,0,132,2],[133,0,133,2],[134,0,134,2],[135,0,135,2],[136,0,136,2],[137,0,137,2],[138,0,138,2],[139,0,139,2],[140,0,140,2],[141,0,141,2],[142,0,142,2],[143,0,143,2],[144,0,144,2],[145,0,145,2],[146,0,146,2],[147,0,147,2],[148,0,148,2],[149,0,149,2],[150,0,150,2],[151,0,151,2],[152,0,152,2],[153,0,153,2],[154,0,154,2],[155,0,155,2],[156,0,156,2],[157,0,157,2],[158,0,158,2],[159,0,159,2],[160,0,160,2],[161,0,161,2],[162,0,162,2],[163,0,163,2],[164,0,164,2],[165,0,165,2],[166,0,166,2],[167,0,167,2]]}
["SCHEDULE - 15","OTHER INCOME",{"$nulls":4},{"$f":"IF((SUM(G4:H110)+SUM(J39:K40))=0,0,1)","v":0},null,2]
[{"$nulls":8},2,3]
["PARTICULARS",null,null,{"$f":"CYEND1","v":"2011-03-31"},{"$f":"PYEND1","v":"2010-03-31"},{"$nulls":3},2,110]
[{"$f":"UPPER(\"Receipt government grants subsidies\")","v":"RECEIPT GOVERNMENT GRANTS SUBSIDIES"},{"$nulls":5},{"$f":"IF(AND(OR((ISNUMBER(D4)=TRUE),ISBLANK(D4)=TRUE),ISERROR(D4)=FALSE),0,1)","v":0},{"$f":"IF(AND(OR((ISNUMBER(E4)=TRUE),ISBLANK(E4)=TRUE),ISERROR(E4)=FALSE),0,1)","v":0},0,168,null,null,112]
[{"$f":"UPPER(\"Receipt export incentives\")","v":"RECEIPT EXPORT INCENTIVES"},{"$nulls":5},{"$f":"IF(AND(OR((ISNUMBER(D5)=TRUE),ISBLANK(D5)=TRUE),ISERROR(D5)=FALSE),0,1)","v":0},0,0,{"$nulls":3},113]
[{"$f":"UPPER(\"Receipt import entitlements\")","v":"RECEIPT IMPORT ENTITLEMENTS"},{"$nulls":5},0,0,0,{"$nulls":3},114]
[{"$f":"UPPER(\"Receipt insurance claims\")","v":"RECEIPT INSURANCE CLAIMS"},{"$nulls":5},0,0,0,{"$nulls":3},115]
[{"$f":"UPPER(\"Receipt income investments\")","v":"RECEIPT INCOME INVESTMENTS"},null,null,{"$f":"D35","v":0},{"$f":"E35","v":0},null,0,0,1,{"$nulls":3},119]
[{"$f":"UPPER(\"Receipt income subsidiaries\")","v":"RECEIPT INCOME SUBSIDIARIES"},{"$nulls":5},0,0,0,{"$nulls":3},142]
[{"$f":"UPPER(\"Receipt interest income tax refund\")","v":"RECEIPT INTEREST INCOME TAX REFUND"},{"$nulls":5},0,0,0,{"$nulls":3},143]
[{"$f":"UPPER(\"Receipts brokerage commission\")","v":"RECEIPTS BROKERAGE COMMISSION"},{"$nulls":5},0,0,0,{"$nulls":3},144]
[{"$f":"UPPER(\"Sales tax benefit\")","v":"SALES TAX BENEFIT"},{"$nulls":5},0,0,0,{"$nulls":3},145]
[{"$f":"UPPER(\"Foreign exchange difference income\")","v":"FOREIGN EXCHANGE DIFFERENCE INCOME"},{"$nulls":5},0,0,0,{"$nulls":3},146]
[{"$f":"UPPER(\"Profit ON sale AND redemption investments\")","v":"PROFIT ON SALE AND REDEMPTION INVESTMENTS"},null,null,{"$f":"D93","v":0},{"$f":"E93","v":0},null,0,0,1,{"$nulls":3},149]
["PROFIT ON SALE / DISPOSAL OF FIXED ASSETS",null,null,{"$f":"D99","v":0},{"$f":"E99","v":0},null,0,0,1,{"$nulls":3},152]
["RECEIPTS - JOB WORK",{"$nulls":5},0,0,0,{"$nulls":3},153]
["RECEIPTS - HIRE CHARGES",{"$nulls":5},0,0,0,{"$nulls":3},154]
["RECEIPTS - INTANGIBLE ASSETS",null,null,{"$f":"D108","v":0},{"$f":"E108","v":0},null,0,0,1,{"$nulls":3},160]
[{"$f":"UPPER(\"Receipts - repairs maintenance\")","v":"RECEIPTS - REPAIRS MAINTENANCE"},{"$nulls":5},0,0,0,{"$nulls":3},161]
[{"$f":"UPPER(\"Receipts - membership subscriptions fees\")","v":"RECEIPTS - MEMBERSHIP SUBSCRIPTIONS FEES"},{"$nulls":5},0,0,0,{"$nulls":3},162]
[{"$f":"UPPER(\"Receipts - erectioning commissioning\")","v":"RECEIPTS - ERECTIONING COMMISSIONING"},{"$nulls":5},0,0,0,{"$nulls":3},163]
[{"$f":"UPPER(\"Excess provisions written back\")","v":"EXCESS PROVISIONS WRITTEN BACK"},{"$nulls":5},0,0,0,{"$nulls":3},164]
[{"$f":"UPPER(\"Other receipts\")","v":"OTHER RECEIPTS"},{"$nulls":5},0,0,0,{"$nulls":3},165]
["SHARE OF OTHER INCOME FROM JOINT VENTURES",null,null,{"$f":"'Notes-PL'!D63","v":0},{"$f":"'Notes-PL'!E63","v":0},null,0,0,1,{"$f":"CONSOLCHECK","v":"S"},{"$f":"IF(CONSOLCHECK=\"C\",IF(ISBLANK(D24)=TRUE,0,1),0)","v":0},null,168]
["SUB - TOTAL",null,null,{"$f":"SUM(D4:D24)","v":0},{"$f":"SUM(E4:E24)","v":0},null,0,0,1]
["LESS: TAX DEDUCTED AT SOURCE OTHER INCOME",{"$nulls":5},0,0,0,{"$nulls":3},166]
["LESS: OTHER ALLOWANCES AND DEDUCTIONS FROM OTHER INCOME",{"$nulls":5},0,0,0,{"$nulls":3},167]
[{"$f":"UPPER(\"Total\")","v":"TOTAL"},null,null,{"$f":"D25-SUM(D26:D27)","v":0},{"$f":"E25-SUM(E26:E27)","v":0},null,0,0,1,{"$nulls":3},0,"PL",123]
[{"$nulls":8},2]
["SCHEDULE - 14 A",{"$f":"UPPER(A8)","v":"RECEIPT INCOME INVESTMENTS"},{"$nulls":6},2]
["PARTICULARS",null,null,{"$f":"CYEND1","v":"2011-03-31"},{"$f":"PYEND1","v":"2010-03-31"},{"$nulls":3},2]
["LONG TERM INVESTMENTS",null,null,{"$f":"D49","v":0},{"$f":"E49","v":0},null,{"$f":"IF(AND(OR((ISNUMBER(D32)=TRUE),ISBLANK(D32)=TRUE),ISERROR(D32)=FALSE),0,1)","v":0},0,1,{"$nulls":3},130]
["CURRENT INVESTMENTS",null,null,{"$f":"D71","v":0},{"$f":"E71","v":0},null,0,0,1,{"$nulls":3},141]
["RENT INVESTMENT PROPERTY",{"$nulls":5},0,0,0,{"$nulls":3},118]
[{"$f":"UPPER(\"Total\")","v":"TOTAL"},null,null,{"$f":"SUM(D32:D34)","v":0},{"$f":"SUM(E32:E34)","v":0},null,0,0,1,{"$nulls":3},119]
[{"$nulls":8},2]
["SCHEDULE - 14 A *","RECEIPT - INCOME INVESTMENTS",{"$nulls":6},2]
["PARTICULARS",null,null,{"$f":"CYEND1","v":"2011-03-31"},{"$f":"PYEND1","v":"2010-03-31"},{"$nulls":3},2]
["TRADE INVESTMENTS",{"$nulls":5},{"$f":"IF(AND(OR((ISNUMBER(D39)=TRUE),ISBLANK(D39)=TRUE),ISERROR(D39)=FALSE),0,1)","v":0},0,0,{"$f":"IF(D39<>'17-AddlDetInStat'!D70,1,0)","v":0},{"$f":"IF(E39<>'17-AddlDetInStat'!E70,1,0)","v":0},null,116]
["NON-TRADE INVESTMENTS **",null,null,{"$f":"D42-D39-D41","v":0},{"$f":"E42-E39-E41","v":0},null,0,0,1,{"$f":"IF(D40<>'17-AddlDetInStat'!D71,1,0)","v":0},{"$f":"IF(E40<>'17-AddlDetInStat'!E71,1,0)","v":0},null,117]
["RENT INVESTMENT PROPERTY",null,null,{"$f":"D34","v":0},{"$f":"E34","v":0},null,0,0,1,{"$nulls":3},118]
[{"$f":"UPPER(\"Total\")","v":"TOTAL"},null,null,{"$f":"D35","v":0},{"$f":"E35","v":0},null,0,0,1,{"$nulls":3},119]
["* CLASSIFICATION AS PER TRADE AND NON-TRADE INVESTMENTS",null,null,"** BALANCING FIGURE",{"$nulls":4},2]
[{"$nulls":8},2]
["SCHEDULE - 14 A 1",{"$f":"A32& \" - \"  &UPPER(A8)","v":"LONG TERM INVESTMENTS - RECEIPT INCOME INVESTMENTS"},{"$nulls":6},2]
["PARTICULARS",null,null,{"$f":"CYEND1","v":"2011-03-31"},{"$f":"PYEND1","v":"2010-03-31"},{"$nulls":3},2]
["INTEREST",null,null,{"$f":"D58","v":0},{"$f":"E58","v":0},null,{"$f":"IF(AND(OR((ISNUMBER(D47)=TRUE),ISBLANK(D47)=TRUE),ISERROR(D47)=FALSE),0,1)","v":0},0,1,{"$nulls":3},125]
["DIVIDEND",null,null,{"$f":"D65","v":0},{"$f":"E65","v":0},null,0,0,1,{"$nulls":3},129]
[{"$f":"UPPER(\"Total\")","v":"TOTAL"},null,null,{"$f":"SUM(D47:D48)","v":0},{"$f":"SUM(E47:E48)","v":0},null,0,0,1,{"$nulls":3},130]
[{"$nulls":8},2]
["SCHEDULE - 14 A 1 A",{"$f":"A47 & \"-\" & B45","v":"INTEREST-LONG TERM INVESTMENTS - RECEIPT INCOME INVESTMENTS"},{"$nulls":6},2]
["PARTICULARS",null,null,{"$f":"CYEND1","v":"2011-03-31"},{"$f":"PYEND1","v":"2010-03-31"},{"$nulls":3},2]
[{"$f":"UPPER(\"bank deposits\")","v":"BANK DEPOSITS"},{"$nulls":5},{"$f":"IF(AND(OR((ISNUMBER(D53)=TRUE),ISBLANK(D53)=TRUE),ISERROR(D53)=FALSE),0,1)","v":0},{"$f":"IF(AND(OR((ISNUMBER(E53)=TRUE),ISBLANK(E53)=TRUE),ISERROR(E53)=FALSE),0,1)","v":0},0,{"$nulls":3},120]
[{"$f":"UPPER(\"intercorporate deposits\")","v":"INTERCORPORATE DEPOSITS"},{"$nulls":5},0,0,0,{"$nulls":3},121]
[{"$f":"UPPER(\"debt securities\")","v":"DEBT SECURITIES"},{"$nulls":5},0,0,0,{"$nulls":3},122]
[{"$f":"UPPER(\"government securities\")","v":"GOVERNMENT SECURITIES"},{"$nulls":5},0,{"$f":"IF(AND(OR((ISNUMBER(E56)=TRUE),ISBLANK(E56)=TRUE),ISERROR(E56)=FALSE),0,1)","v":0},0,{"$nulls":3},123]
[{"$f":"UPPER(\"other long-term investments\")","v":"OTHER LONG-TERM INVESTMENTS"},{"$nulls":5},0,0,0,{"$nulls":3},124]
[{"$f":"UPPER(\"Total\")","v":"TOTAL"},null,null,{"$f":"SUM(D53:D57)","v":0},{"$f":"SUM(E53:E57)","v":0},null,0,0,1,{"$nulls":3},125]
[{"$nulls":8},2]
["SCHEDULE - 14 A 1 A",{"$f":"A48 & \"-\" & B45","v":"DIVIDEND-LONG TERM INVESTMENTS - RECEIPT INCOME INVESTMENTS"},{"$nulls":6},2]
["PARTICULARS",null,null,{"$f":"CYEND1","v":"2011-03-31"},{"$f":"PYEND1","v":"2010-03-31"},{"$nulls":3},2]
[{"$f":"UPPER(\"equity securities\")","v":"EQUITY SECURITIES"},{"$nulls":5},{"$f":"IF(AND(OR((ISNUMBER(D62)=TRUE),ISBLANK(D62)=TRUE),ISERROR(D62)=FALSE),0,1)","v":0},0,0,{"$nulls":3},126]
[{"$f":"UPPER(\"mutual funds\")","v":"MUTUAL FUNDS"},{"$nulls":5},0,0,0,{"$nulls":3},127]
[{"$f":"UPPER(\"other long term investments\")","v":"OTHER LONG TERM INVESTMENTS"},{"$nulls":5},0,0,0,{"$nulls":3},128]
[{"$f":"UPPER(\"Total\")","v":"TOTAL"},null,null,{"$f":"SUM(D62:D64)","v":0},{"$f":"SUM(E62:E64)","v":0},null,0,0,1,{"$nulls":3},129]
[{"$nulls":8},2]
["SCHEDULE - 14 A 2","CURRENT INVESTMENTS",{"$nulls":6},2]
["PARTICULARS",null,null,{"$f":"CYEND1","v":"2011-03-31"},{"$f":"PYEND1","v":"2010-03-31"},{"$nulls":3},2]
["INTEREST",null,null,{"$f":"D80","v":0},{"$f":"E80","v":0},null,{"$f":"IF(AND(OR((ISNUMBER(D69)=TRUE),ISBLANK(D69)=TRUE),ISERROR(D69)=FALSE),0,1)","v":0},0,1,{"$nulls":3},136]
["DIVIDEND",null,null,{"$f":"D87","v":0},{"$f":"E87","v":0},null,0,0,1,{"$nulls":3},140]
[{"$f":"UPPER(\"Total\")","v":"TOTAL"},null,null,{"$f":"SUM(D69:D70)","v":0},{"$f":"SUM(E69:E70)","v":0},null,0,0,1,{"$nulls":3},141]
[{"$nulls":8},2]
["SCHEDULE - 14 A 2 A",{"$f":"A69 & \"-\" & B67","v":"INTEREST-CURRENT INVESTMENTS"},{"$nulls":6},2]
["PARTICULARS",null,null,{"$f":"CYEND1","v":"2011-03-31"},{"$f":"PYEND1","v":"2010-03-31"},{"$nulls":3},2]
[{"$f":"UPPER(\"bank deposits\")","v":"BANK DEPOSITS"},{"$nulls":5},{"$f":"IF(AND(OR((ISNUMBER(D75)=TRUE),ISBLANK(D75)=TRUE),ISERROR(D75)=FALSE),0,1)","v":0},0,0,{"$nulls":3},131]
[{"$f":"UPPER(\"intercorporate deposits\")","v":"INTERCORPORATE DEPOSITS"},{"$nulls":5},0,0,0,{"$nulls":3},132]
[{"$f":"UPPER(\"debt securities\")","v":"DEBT SECURITIES"},{"$nulls":5},0,0,0,{"$nulls":3},133]
[{"$f":"UPPER(\"government securities\")","v":"GOVERNMENT SECURITIES"},{"$nulls":5},0,0,0,{"$nulls":3},134]
[{"$f":"UPPER(\"other long-term investments\")","v":"OTHER LONG-TERM INVESTMENTS"},{"$nulls":5},0,0,0,{"$nulls":3},135]
[{"$f":"UPPER(\"Total\")","v":"TOTAL"},null,null,{"$f":"SUM(D75:D79)","v":0},{"$f":"SUM(E75:E79)","v":0},null,0,0,1,{"$nulls":3},136]
[{"$nulls":8},2]
["SCHEDULE - 14 A 2 B",{"$f":"A70 & \"-\" & B67","v":"DIVIDEND-CURRENT INVESTMENTS"},{"$nulls":6},2]
["PARTICULARS",null,null,{"$f":"CYEND1","v":"2011-03-31"},{"$f":"PYEND1","v":"2010-03-31"},{"$nulls":3},2]
[{"$f":"UPPER(\"equity securities\")","v":"EQUITY SECURITIES"},{"$nulls":5},{"$f":"IF(AND(OR((ISNUMBER(D84)=TRUE),ISBLANK(D84)=TRUE),ISERROR(D84)=FALSE),0,1)","v":0},0,0,{"$nulls":3},137]
[{"$f":"UPPER(\"mutual funds\")","v":"MUTUAL FUNDS"},{"$nulls":5},0,0,0,{"$nulls":3},138]
[{"$f":"UPPER(\"other long term investments\")","v":"OTHER LONG TERM INVESTMENTS"},{"$nulls":5},0,0,0,{"$nulls":3},139]
[{"$f":"UPPER(\"Total\")","v":"TOTAL"},null,null,{"$f":"SUM(D84:D86)","v":0},{"$f":"SUM(E84:E86)","v":0},null,0,0,1,{"$nulls":3},140]
[{"$nulls":8},2]
["SCHEDULE - 14 B",{"$f":"A14","v":"PROFIT ON SALE AND REDEMPTION INVESTMENTS"},{"$nulls":6},2]
["PARTICULARS",null,null,{"$f":"CYEND1","v":"2011-03-31"},{"$f":"PYEND1","v":"2010-03-31"},{"$nulls":3},2]
["LONG TERM INVESTMENTS",{"$nulls":5},{"$f":"IF(AND(OR((ISNUMBER(D91)=TRUE),ISBLANK(D91)=TRUE),ISERROR(D91)=FALSE),0,1)","v":0},0,0,{"$nulls":3},147]
["CURRENT INVESTMENTS",{"$nulls":5},0,0,0,{"$nulls":3},148]
[{"$f":"UPPER(\"Total\")","v":"TOTAL"},null,null,{"$f":"SUM(D91:D92)","v":0},{"$f":"SUM(E91:E92)","v":0},null,{"$f":"IF(AND(OR((ISNUMBER(D93)=TRUE),ISBLANK(D93)=TRUE),ISERROR(D93)=FALSE),0,1)","v":0},0,1,{"$nulls":3},149]
[{"$nulls":8},2]
["SCHEDULE - 14 C","PROFIT ON SALE / DISPOSAL OF FIXED ASSETS",{"$nulls":6},2]
["PARTICULARS",null,null,{"$f":"CYEND1","v":"2011-03-31"},{"$f":"PYEND1","v":"2010-03-31"},{"$nulls":3},2]
["TANGIBLE FIXED ASSETS",{"$nulls":5},{"$f":"IF(AND(OR((ISNUMBER(D97)=TRUE),ISBLANK(D97)=TRUE),ISERROR(D97)=FALSE),0,1)","v":0},0,0,{"$nulls":3},150]
["INTANGIBLE FIXED ASSETS",{"$nulls":5},0,0,0,{"$nulls":3},151]
[{"$f":"UPPER(\"Total\")","v":"TOTAL"},null,null,{"$f":"SUM(D97:D98)","v":0},{"$f":"SUM(E97:E98)","v":0},null,0,0,1,{"$nulls":3},152]
[{"$nulls":8},2]
["SCHEDULE - 14 D","RECEIPTS - INTANGIBLE ASSETS",{"$nulls":6},2]
["PARTICULARS",null,null,{"$f":"CYEND1","v":"2011-03-31"},{"$f":"PYEND1","v":"2010-03-31"},{"$nulls":3},2]
[{"$f":"UPPER(\"technical knowhow\")","v":"TECHNICAL KNOWHOW"},{"$nulls":5},{"$f":"IF(AND(OR((ISNUMBER(D103)=TRUE),ISBLANK(D103)=TRUE),ISERROR(D103)=FALSE),0,1)","v":0},0,0,{"$nulls":3},155]
[{"$f":"UPPER(\"franchise\")","v":"FRANCHISE"},{"$nulls":5},0,0,0,{"$nulls":3},156]
[{"$f":"UPPER(\"licences\")","v":"LICENCES"},{"$nulls":5},0,0,0,{"$nulls":3},157]
[{"$f":"UPPER(\"contractual rights\")","v":"CONTRACTUAL RIGHTS"},{"$nulls":5},0,0,0,{"$nulls":3},158]
[{"$f":"UPPER(\"royalties\")","v":"ROYALTIES"},{"$nulls":5},0,0,0,{"$nulls":3},159]
[{"$f":"UPPER(\"Total\")","v":"TOTAL"},null,null,{"$f":"SUM(D103:D107)","v":0},{"$f":"SUM(E103:E107)","v":0},null,0,0,1,{"$nulls":3},160]
[{"$nulls":8},2]
["FOOTNOTES",null,"SCHEDULE - 15 OTHER INCOME",{"$nulls":5},2]
["ELEMENT LABEL",null,null,{"$f":"CYEND1","v":"2011-03-31"},{"$f":"PYEND1","v":"2010-03-31"},{"$nulls":3},2]
["Receipt government grants subsidies",{"$nulls":7},0,{"$nulls":3},4]
["Receipt export incentives",{"$nulls":7},0,{"$nulls":3},5]
["Receipt import entitlements",{"$nulls":7},0,{"$nulls":3},6]
["Receipt insurance claims",{"$nulls":7},0,{"$nulls":3},7]
["Receipt income investments trade",{"$nulls":7},0,{"$nulls":3},39]
["Receipt income investments non-trade",{"$nulls":7},0,{"$nulls":3},40]
["Receipt rent investment properties",{"$nulls":7},0,{"$nulls":3},41]
["Receipt income investments",{"$nulls":7},0,{"$nulls":3},42]
["Receipt interest long-term bank deposits",{"$nulls":7},0,{"$nulls":3},53]
["Receipt interest long-term intercorporate deposits",{"$nulls":7},0,{"$nulls":3},54]
["Receipt interest long-term debt securities",{"$nulls":7},0,{"$nulls":3},55]
["Receipt interest long-term government securities",{"$nulls":7},0,{"$nulls":3},56]
["Receipt interest other long-term investments",{"$nulls":7},0,{"$nulls":3},57]
["Receipt interest long-term investments",{"$nulls":7},0,{"$nulls":3},58]
["Receipt dividend long-term equity securities",{"$nulls":7},0,{"$nulls":3},62]
["Receipt dividend long-term mutual funds",{"$nulls":7},0,{"$nulls":3},63]
["Receipt dividend other long-term investments",{"$nulls":7},0,{"$nulls":3},64]
["Receipt dividend long-term investments",{"$nulls":7},0,{"$nulls":3},65]
["Receipt income long-term investments",{"$nulls":7},0,{"$nulls":3},49]
["Receipt interest current bank deposits",{"$nulls":7},0,{"$nulls":3},75]
["Receipt interest current intercorporate deposits",{"$nulls":7},0,{"$nulls":3},76]
["Receipt interest current debt securities",{"$nulls":7},0,{"$nulls":3},77]
["Receipt interest current government securities",{"$nulls":7},0,{"$nulls":3},78]
["Receipt interest other current investments",{"$nulls":7},0,{"$nulls":3},79]
["Receipt interest current investments",{"$nulls":7},0,{"$nulls":3},80]
["Receipt dividend current equity securities",{"$nulls":7},0,{"$nulls":3},84]
["Receipt dividend current mutual funds",{"$nulls":7},0,{"$nulls":3},85]
["Receipt dividend other current investments",{"$nulls":7},0,{"$nulls":3},86]
["Receipts dividend current investments",{"$nulls":7},0,{"$nulls":3},87]
["Receipt income current investments",{"$nulls":7},0,{"$nulls":3},71]
["Receipt income subsidiaries",{"$nulls":7},0,{"$nulls":3},9]
["Receipt interest income tax refund",{"$nulls":7},0,{"$nulls":3},10]
["Receipts brokerage commission",{"$nulls":7},0,{"$nulls":3},11]
["Sales tax benefit",{"$nulls":7},0,{"$nulls":3},12]
["Foreign exchange difference income",{"$nulls":7},0,{"$nulls":3},13]
["Profit sale redemption long-term investments",{"$nulls":7},0,{"$nulls":3},91]
["Profit sale redemption current investments",{"$nulls":7},0,{"$nulls":3},92]
["Profit sale redemption investments",{"$nulls":7},0,{"$nulls":3},93]
["Profit sale disposal tangible fixed assets",{"$nulls":7},0,{"$nulls":3},97]
["Profit sale disposal intangible fixed assets",{"$nulls":7},0,{"$nulls":3},98]
["Profit sale disposal fixed assets",{"$nulls":7},0,{"$nulls":3},99]
["Receipts job work",{"$nulls":7},0,{"$nulls":3},16]
["Receipts hire charges",{"$nulls":7},0,{"$nulls":3},17]
["Receipts technical knowhow",{"$nulls":7},0,{"$nulls":3},103]
["Receipts franchise",{"$nulls":7},0,{"$nulls":3},104]
["Receipts licences",{"$nulls":7},0,{"$nulls":3},105]
["Receipts contractual rights",{"$nulls":7},0,{"$nulls":3},106]
["Receipts royalties",{"$nulls":7},0,{"$nulls":3},107]
["Receipts intangible assets",{"$nulls":7},0,{"$nulls":3},108]
["Receipts repairs maintenance",{"$nulls":7},0,{"$nulls":3},19]
["Receipts membership subscriptions fees",{"$nulls":7},0,{"$nulls":3},20]
["Receipts erectioning commissioning",{"$nulls":7},0,{"$nulls":3},21]
["Excess provisions written back",{"$nulls":7},0,{"$nulls":3},22]
["Other receipts",{"$nulls":7},0,{"$nulls":3},23]
["Tax deducted at sources other income",{"$nulls":7},0,{"$nulls":3},26]
["Other allowances deduction other income",{"$nulls":7},0,{"$nulls":3},27]
["Share other income joint ventures",{"$nulls":7},0,{"$nulls":3},24]

{"sheet":"16-Expenditure","index":11,"n_rows":720,"n_cols":15,"rows_kept":720,"hidden":true,"merged":[[2,0,2,2],[3,0,3,2],[4,0,4,2],[5,0,5,2],[6,0,6,2],[7,0,7,2],[8,0,8,2],[9,0,9,2],[10,0,10,2],[11,0,11,2],[12,0,12,2],[13,0,13,2],[16,0,16,2],[17,0,17,2],[18,0,18,2],[19,0,19,2],[20,0,20,2],[21,0,21,2],[24,0,24,2],[25,0,25,2],[26,0,26,2],[27,0,27,2],[28,0,28,2],[29,0,29,2],[30,0,30,2],[31,0,31,2],[34,0,34,2],[35,0,35,2],[36,0,36,2],[37,0,37,2],[38,0,38,2],[39,0,39,2],[40,0,40,2],[41,0,41,2],[42,0,42,2],[43,0,43,2],[46,0,46,2],[47,0,47,2],[48,0,48,2],[49,0,49,2],[50,0,50,2],[51,0,51,2],[54,0,54,2],[55,0,55,2],[56,0,56,2],[57,0,57,2],[58,0,58,2],[59,0,59,2],[62,0,62,2],[63,0,63,2],[64,0,64,2],[65,0,65,2],[66,0,66,2],[67,0,67,2],[70,0,70,2],[71,0,71,2],[72,0,72,2],[73,0,73,2],[74,0,74,2],[75,0,75,2],[78,0,78,2],[79,0,79,2],[80,0,80,2],[81,0,81,2],[82,0,82,2],[83,0,83,2],[86,0,86,2],[87,0,87,2],[88,0,88,2],[89,0,89,2],[90,0,90,2],[93,0,93,2],[94,0,94,2],[95,0,95,2],[96,0,96,2],[99,0,99,2],[100,0,100,2],[101,0,101,2],[102,0,102,2],[105,0,105,2],[106,0,106,2],[107,0,107,2],[108,0,108,2],[109,0,109,2],[110,0,110,2],[111,0,111,2],[112,0,112,2],[113,0,113,2],[114,0,114,2],[115,0,115,2],[116,0,116,2],[119,0,119,2],[120,0,120,2],[121,0,121,2],[122,0,122,2],[123,0,123,2],[126,0,126,2],[127,0,127,2],[128,0,128,2],[129,0,129,2],[130,0,130,2],[131,0,131,2],[132,0,132,2],[133,0,133,2],[134,0,134,2],[135,0,135,2],[136,0,136,2],[137,0,137,2],[138,0,138,2],[139,0,139,2],[140,0,140,2],[141,0,141,2],[142,0,142,2],[143,0,143,2],[144,0,144,2],[145,0,145,2],[146,0,146,2],[149,0,149,2],[150,0,150,2],[151,0,151,2],[152,0,152,2],[153,0,153,2],[156,0,156,2],[157,0,157,2],[158,0,158,2],[159,0,159,2],[160,0,160,2],[163,0,163,2],[164,0,164,2],[165,0,165,2],[166,0,166,2],[167,0,167,2],[168,0,168,2],[171,0,171,2],[172,0,172,2],[173,0,173,2],[174,0,174,2],[175,0,175,2],[178,0,178,2],[179,0,179,2],[180,0,180,2],[181,0,181,2],[182,0,182,2],[183,0,183,2],[184,0,184,2],[185,0,185,2],[186,0,186,2],[187,0,187,2],[188,0,188,2],[189,0,189,2],[190,0,190,2],[191,0,191,2],[194,0,194,2],[195,0,195,2],[196,0,196,2],[197,0,197,2],[198,0,198,2],[199,0,199,2],[200,0,200,2],[201,0,201,2],[202,0,202,2],[203,0,203,2],[204,0,204,2],[205,0,205,2],[206,0,206,2],[207,0,207,2],[208,0,208,2],[209,0,209,2],[210,0,210,2],[211,0,211,2],[212,0,212,2],[213,0,213,2],[214,0,214,2],[215,0,215,2],[216,0,216,2],[217,0,217,2],[218,0,218,2],[219,0,219,2],[220,0,220,2],[223,0,223,2],[224,0,224,2],[225,0,225,2],[226,0,226,2],[229,0,229,2],[230,0,230,2],[231,0,231,2],[232,0,232,2],[235,0,235,2],[236,0,236,2],[237,0,237,2],[238,0,238,2],[239,0,239,2],[242,0,242,2],[243,0,243,2],[244,0,244,2],[245,0,245,2],[246,0,246,2],[249,0,249,2],[250,0,250,2],[251,0,251,2],[252,0,252,2],[253,0,253,2],[254,0,254,2],[255,0,255,2],[256,0,256,2],[257,0,257,2],[258,0,258,2],[261,0,261,2],[262,0,262,2],[263,0,263,2],[264,0,264,2],[265,0,265,2],[266,0,266,2],[267,0,267,2],[268,0,268,2],[269,0,269,2],[270,0,270,2],[271,0,271,2],[272,0,272,2],[275,0,275,2],[276,0,276,2],[277,0,277,2],[278,0,278,2],[279,0,279,2],[280,0,280,2],[283,0,283,2],[284,0,284,2],[285,0,285,2],[286,0,286,2],[287,0,287,2],[288,0,288,2],[289,0,289,2],[290,0,290,2],[291,0,291,2],[292,0,292,2],[295,0,295,2],[296,0,296,2],[297,0,297,2],[298,0,298,2],[299,0,299,2],[300,0,300,2],[301,0,301,2],[302,0,302,2],[303,0,303,2],[304,0,304,2],[305,0,305,2],[308,0,308,2],[309,0,309,2],[310,0,310,2],[311,0,311,2],[314,0,314,2],[315,0,315,2],[316,0,316,2],[317,0,317,2],[320,0,320,2],[321,0,321,2],[322,0,322,2],[323,0,323,2],[326,0,326,2],[327,0,327,2],[328,0,328,2],[329,0,329,2],[332,0,332,2],[333,0,333,2],[334,0,334,2],[335,0,335,2],[336,0,336,2],[337,0,337,2],[338,0,338,2],[339,0,339,2],[340,0,340,2],[341,0,341,2],[344,0,344,2],[345,0,345,2],[346,0,346,2],[347,0,347,2],[348,0,348,2],[349,0,349,2],[352,0,352,2],[353,0,353,2],[354,0,354,2],[355,0,355,2],[358,0,358,2],[359,0,359,2],[360,0,360,2],[361,0,361,2],[364,0,364,2],[365,0,365,2],[366,0,366,2],[367,0,367,2],[368,0,368,2],[369,0,369,2],[370,0,370,2],[371,0,371,2],[372,0,372,2],[373,0,373,2],[374,0,374,2],[375,0,375,2],[378,0,378,2],[379,0,379,2],[380,0,380,2],[381,0,381,2],[382,0,382,2],[383,0,383,2],[384,0,384,2],[385,0,385,2],[388,0,388,2],[389,0,389,2],[390,0,390,2],[391,0,391,2],[394,0,394,2],[395,0,395,2],[396,0,396,2],[397,0,397,2],[400,0,400,2],[401,0,401,2],[402,0,402,2],[403,0,403,2],[406,0,406,2],[407,0,407,2],[408,0,408,2],[409,0,409,2],[410,0,410,2],[411,0,411,2],[412,0,412,2],[413,0,413,2],[414,0,414,2],[415,0,415,2],[416,0,416,2],[417,0,417,2],[420,0,420,2],[421,0,421,2],[422,0,422,2],[423,0,423,2],[424,0,424,2],[425,0,425,2],[426,0,426,2],[427,0,427,2],[428,0,428,2],[431,0,431,2],[432,0,432,2],[433,0,433,2],[434,0,434,2],[435,0,435,2],[436,0,436,2],[437,0,437,2],[438,0,438,2],[441,0,441,2],[442,0,442,2],[443,0,443,2],[444,0,444,2],[445,0,445,2],[446,0,446,2],[447,0,447,2],[450,0,450,2],[451,0,451,2],[452,0,452,2],[453,0,453,2],[454,0,454,2],[455,0,455,2],[456,0,456,2],[457,0,457,2],[458,0,458,2],[459,0,459,2],[462,0,462,2],[463,0,463,2],[464,0,464,2],[465,0,465,2],[467,1,467,4],[468,0,468,2],[469,0,469,2],[470,0,470,2],[471,0,471,2],[472,0,472,2],[473,0,473,2],[476,0,476,2],[477,0,477,2],[478,0,478,2],[479,0,479,2],[480,0,480,2],[481,0,481,2],[483,2,483,4],[484,0,484,2],[485,0,485,2],[486,0,486,2],[487,0,487,2],[488,0,488,2],[489,0,489,2],[490,0,490,2],[491,0,491,2],[492,0,492,2],[493,0,493,2],[494,0,494,2],[495,0,495,2],[496,0,496,2],[497,0,497,2],[498,0,498,2],[499,0,499,2],[500,0,500,2],[501,0,501,2],[502,0,502,2],[503,0,503,2],[504,0,504,2],[505,0,505,2],[506,0,506,2],[507,0,507,2],[508,0,508,2],[509,0,509,2],[510,0,510,2],[511,0,511,2],[512,0,512,2],[513,0,513,2],[514,0,514,2],[515,0,515,2],[516,0,516,2],[517,0,517,2],[518,0,518,2],[519,0,519,2],[520,0,520,2],[521,0,521,2],[522,0,522,2],[523,0,523,2],[524,0,524,2],[525,0,525,2],[526,0,526,2],[527,0,527,2],[528,0,528,2],[529,0,529,2],[530,0,530,2],[531,0,531,2],[532,0,532,2],[533,0,533,2],[534,0,534,2],[535,0,535,2],[536,0,536,2],[537,0,537,2],[538,0,538,2],[539,0,539,2],[540,0,540,2],[541,0,541,2],[542,0,542,2],[543,0,543,2],[544,0,544,2],[545,0,545,2],[546,0,546,2],[547,0,547,2],[548,0,548,2],[549,0,549,2],[550,0,550,2],[551,0,551,2],[552,0,552,2],[553,0,553,2],[554,0,554,2],[555,0,555,2],[556,0,556,2],[557,0,557,2],[558,0,558,2],[559,0,559,2],[560,0,560,2],[561,0,561,2],[562,0,562,2],[563,0,563,2],[564,0,564,2],[565,0,565,2],[566,0,566,2],[567,0,567,2],[568,0,568,2],[569,0,569,2],[570,0,570,2],[571,0,571,2],[572,0,572,2],[573,0,573,2],[574,0,574,2],[575,0,575,2],[576,0,576,2],[577,0,577,2],[578,0,578,2],[579,0,579,2],[580,0,580,2],[581,0,581,2],[582,0,582,2],[583,0,583,2],[584,0,584,2],[585,0,585,2],[586,0,586,2],[587,0,587,2],[588,0,588,2],[589,0,589,2],[590,0,590,2],[591,0,591,2],[592,0,592,2],[593,0,593,2],[594,0,594,2],[595,0,595,2],[596,0,596,2],[597,0,597,2],[598,0,598,2],[599,0,599,2],[600,0,600,2],[601,0,601,2],[602,0,602,2],[603,0,603,2],[604,0,604,2],[605,0,605,2],[606,0,606,2],[607,0,607,2],[608,0,608,2],[609,0,609,2],[610,0,610,2],[611,0,611,2],[612,0,612,2],[613,0,613,2],[614,0,614,2],[615,0,615,2],[616,0,616,2],[617,0,617,2],[618,0,618,2],[619,0,619,2],[620,0,620,2],[621,0,621,2],[622,0,622,2],[623,0,623,2],[624,0,624,2],[625,0,625,2],[626,0,626,2],[627,0,627,2],[628,0,628,2],[629,0,629,2],[630,0,630,2],[631,0,631,2],[632,0,632,2],[633,0,633,2],[634,0,634,2],[635,0,635,2],[636,0,636,2],[637,0,637,2],[638,0,638,2],[639,0,639,2],[640,0,640,2],[641,0,641,2],[642,0,642,2],[643,0,643,2],[644,0,644,2],[645,0,645,2],[646,0,646,2],[647,0,647,2],[648,0,648,2],[649,0,649,2],[650,0,650,2],[651,0,651,2],[652,0,652,2],[653,0,653,2],[654,0,654,2],[655,0,655,2],[656,0,656,2],[657,0,657,2],[658,0,658,2],[659,0,659,2],[660,0,660,2],[661,0,661,2],[662,0,662,2],[663,0,663,2],[664,0,664,2],[665,0,665,2],[666,0,666,2],[667,0,667,2],[668,0,668,2],[669,0,669,2],[670,0,670,2],[671,0,671,2],[672,0,672,2],[673,0,673,2],[674,0,674,2],[675,0,675,2],[676,0,676,2],[677,0,677,2],[678,0,678,2],[679,0,679,2],[680,0,680,2],[681,0,681,2],[682,0,682,2],[683,0,683,2],[684,0,684,2],[685,0,685,2],[686,0,686,2],[687,0,687,2],[688,0,688,2],[689,0,689,2],[690,0,690,2],[691,0,691,2],[692,0,692,2],[693,0,693,2],[694,0,694,2],[695,0,695,2],[696,0,696,2],[697,0,697,2],[698,0,698,2],[699,0,699,2],[700,0,700,2],[701,0,701,2],[702,0,702,2],[703,0,703,2],[704,0,704,2],[705,0,705,2],[706,0,706,2],[707,0,707,2],[708,0,708,2],[709,0,709,2],[710,0,710,2],[711,0,711,2],[712,0,712,2],[713,0,713,2],[714,0,714,2],[715,0,715,2],[716,0,716,2]]}
["SCHEDULE - 16","EXPENDITURE",{"$nulls":4},{"$f":"SUM(G2:H467)+J1","v":0},null,2,{"$f":"J36+J48+J56+J64+J72+J88+J95+J101","v":0}]
[{"$nulls":8},2,3]
["PARTICULARS",null,null,{"$f":"CYEND1","v":"2011-03-31"},{"$f":"PYEND1","v":"2010-03-31"},{"$nulls":3},2,467]
["CONSUMPTION OF MATERIALS AND CHANGES IN INVENTORIES",null,null,{"$f":"D22","v":0},{"$f":"E22","v":0},null,{"$f":"IF(AND(OR((ISNUMBER(D4)=TRUE),ISBLANK(D4)=TRUE),ISERROR(D4)=FALSE),0,1)","v":0},{"$f":"IF(AND(OR((ISNUMBER(E4)=TRUE),ISBLANK(E4)=TRUE),ISERROR(E4)=FALSE),0,1)","v":0},1,720,null,null,0,"PL",125]
["CONTRACT COST",null,null,{"$f":"D117","v":0},{"$f":"E117","v":0},null,{"$f":"IF(AND(OR((ISNUMBER(D5)=TRUE),ISBLANK(D5)=TRUE),ISERROR(D5)=FALSE),0,1)","v":0},0,1,{"$nulls":3},0,"PL",127]
["MANUFACTURING AND SERVICE COSTS",null,null,{"$f":"D147","v":0},{"$f":"E147","v":0},null,0,0,1,{"$nulls":3},0,"PL",126]
["ADMINISTRATIVE, SELLING AND OTHER EXPENSES",null,null,{"$f":"D192","v":0},{"$f":"E192","v":0},null,0,0,1,{"$nulls":3},0,"PL",128]
["DEPRECIATION, AMORTISATION AND IMPAIRMENT",null,null,{"$f":"D342","v":0},{"$f":"E342","v":0},null,0,0,1,{"$nulls":3},662]
["INTEREST AND FINANCIAL CHARGES",null,null,{"$f":"D376","v":0},{"$f":"E376","v":0},null,0,0,1,{"$nulls":3},683]
["PROVISION FOR TAXATION",null,null,{"$f":"D418","v":0},{"$f":"E418","v":0},null,0,0,1,{"$nulls":3},0,"PL",144]
["EMPLOYEE RELATED EXPENSES",null,null,{"$f":"D429","v":0},{"$f":"E429","v":0},null,0,0,1,{"$nulls":3},710]
["RESEARCH AND DEVELOPMENT EXPENDITURE",null,null,{"$f":"D460","v":0},{"$f":"E460","v":0},null,0,0,1,{"$nulls":3},0,"PL",130]
["TAX EFFECT OF DISCONTINUING OPERATIONS",null,null,{"$f":"D466","v":0},{"$f":"E466","v":0},null,0,0,1,{"$nulls":3},0,"PL",145]
["TOTAL",null,null,{"$f":"SUM(D4:D13)","v":0},{"$f":"SUM(E4:E13)","v":0},null,0,0,1]
[{"$nulls":8},2]
["SCHEDULE - 16 A",{"$f":"A4","v":"CONSUMPTION OF MATERIALS AND CHANGES IN INVENTORIES"},{"$nulls":6},2]
["PARTICULARS",null,null,{"$f":"CYEND1","v":"2011-03-31"},{"$f":"PYEND1","v":"2010-03-31"},{"$nulls":3},2]
["CONSUMPTION OF RAW AND OTHER MATERIAL",null,null,{"$f":"D32","v":0},{"$f":"E32","v":0},null,{"$f":"IF(AND(OR((ISNUMBER(D18)=TRUE),ISBLANK(D18)=TRUE),ISERROR(D18)=FALSE),0,1)","v":0},0,1,{"$nulls":3},503]
["COST OF TRADED GOODS",null,null,{"$f":"D76","v":0},{"$f":"E76","v":0},null,0,0,1,{"$nulls":3},506]
["(INCREASE) / DECREASE IN INVENTORIES",null,null,{"$f":"D84","v":0},{"$f":"E84","v":0},null,0,0,1,{"$nulls":3},515]
["SHARE IN CONSUMPTION OF MATERIAL FROM JOINT VENTURES",null,null,{"$f":"'Notes-PL'!D64","v":0},{"$f":"'Notes-PL'!E64","v":0},null,0,0,1,{"$f":"CONSOLCHECK","v":"S"},null,null,516]
["TOTAL",null,null,{"$f":"SUM(D18:D21)","v":0},{"$f":"SUM(E18:E21)","v":0},null,0,0,1,{"$nulls":3},0,"PL",125]
[{"$nulls":8},2]
["SCHEDULE - 16 A 1",{"$f":"A18","v":"CONSUMPTION OF RAW AND OTHER MATERIAL"},{"$nulls":6},2]
["PARTICULARS",null,null,{"$f":"CYEND1","v":"2011-03-31"},{"$f":"PYEND1","v":"2010-03-31"},{"$nulls":3},2]
["CONSUMPTION OF RAW MATERIAL",null,null,{"$f":"D44","v":0},{"$f":"E44","v":0},null,{"$f":"IF(AND(OR((ISNUMBER(D26)=TRUE),ISBLANK(D26)=TRUE),ISERROR(D26)=FALSE),0,1)","v":0},0,1,{"$nulls":3},492]
["CONSUMPTION OF PACKING MATERIAL",null,null,{"$f":"D52","v":0},{"$f":"E52","v":0},null,0,0,1,{"$nulls":3},495]
["CONSUMPTION OF STORES AND SPARE PARTS",null,null,{"$f":"D60","v":0},{"$f":"E60","v":0},null,0,0,1,{"$nulls":3},498]
["CONSUMPTION OF OTHER MATERIALS",null,null,{"$f":"D68","v":0},{"$f":"E68","v":0},null,0,0,1,{"$nulls":3},501]
["SUB TOTAL",null,null,{"$f":"SUM(D26:D29)","v":0},{"$f":"SUM(E26:E29)","v":0},null,0,0,1]
["LESS: CAPITALISATION - RAW MATERIALS",{"$nulls":5},0,0,0,{"$nulls":3},502]
["BALANCE - CONSUMPTION OF RAW AND OTHER MATERIAL",null,null,{"$f":"D30-D31","v":0},{"$f":"E30-E31","v":0},null,0,0,1,{"$nulls":3},503]
[{"$nulls":8},2]
["SCHEDULE - 16 A 1 A",{"$f":"A26","v":"CONSUMPTION OF RAW MATERIAL"},{"$nulls":6},2]
["PARTICULARS",null,null,{"$f":"CYEND1","v":"2011-03-31"},{"$f":"PYEND1","v":"2010-03-31"},{"$nulls":3},2]
[{"$f":"UPPER(\"Stock of Raw Materials, Opening Balance\")","v":"STOCK OF RAW MATERIALS, OPENING BALANCE"},{"$nulls":5},{"$f":"IF(AND(OR((ISNUMBER(D36)=TRUE),ISBLANK(D36)=TRUE),ISERROR(D36)=FALSE),0,1)","v":0},0,0,{"$f":"IF(D36<>E43,2,0)","v":0},null,null,491]
[{"$f":"UPPER(\"Purchase raw materials during year\")","v":"PURCHASE RAW MATERIALS DURING YEAR"},{"$nulls":5},0,0,0,{"$nulls":3},486]
[{"$f":"UPPER(\"Incidental expenses purchase raw material\")","v":"INCIDENTAL EXPENSES PURCHASE RAW MATERIAL"},{"$nulls":5},0,0,0,{"$nulls":3},487]
[{"$f":"UPPER(\"Adjustments raw materials\")","v":"ADJUSTMENTS RAW MATERIALS"},{"$nulls":5},0,0,0,{"$nulls":3},488]
["SUB TOTAL",null,null,{"$f":"SUM(D36:D39)","v":0},{"$f":"SUM(E36:E39)","v":0},null,0,0,1]
[{"$f":"UPPER(\"less: Transfer sale raw materials\")","v":"LESS: TRANSFER SALE RAW MATERIALS"},{"$nulls":5},0,0,0,{"$nulls":3},489]
[{"$f":"UPPER(\"LESS: Return raw materials purchased\")","v":"LESS: RETURN RAW MATERIALS PURCHASED"},{"$nulls":5},0,0,0,{"$nulls":3},490]
[{"$f":"\"LESS: \"&UPPER(\"Stock of Raw Materials, Closing Balance\")","v":"LESS: STOCK OF RAW MATERIALS, CLOSING BALANCE"},{"$nulls":5},0,0,0,{"$nulls":3},491]
["BALANCE - CONSUMPTION OF RAW MATERIAL",null,null,{"$f":"D40-SUM(D41:D43)","v":0},{"$f":"E40-SUM(E41:E43)","v":0},null,0,0,1,{"$nulls":3},492]
[{"$nulls":8},2]
["SCHEDULE - 16 A 1 B",{"$f":"A27","v":"CONSUMPTION OF PACKING MATERIAL"},{"$nulls":6},2]
["PARTICULARS",null,null,{"$f":"CYEND1","v":"2011-03-31"},{"$f":"PYEND1","v":"2010-03-31"},{"$nulls":3},2]
[{"$f":"UPPER(\"Stock of Packing Materials, Opening Balance\")","v":"STOCK OF PACKING MATERIALS, OPENING BALANCE"},{"$nulls":5},{"$f":"IF(AND(OR((ISNUMBER(D48)=TRUE),ISBLANK(D48)=TRUE),ISERROR(D48)=FALSE),0,1)","v":0},0,0,{"$f":"IF(D48<>E51,2,0)","v":0},null,null,494]
[{"$f":"UPPER(\"Purchase packing materials during year\")","v":"PURCHASE PACKING MATERIALS DURING YEAR"},{"$nulls":5},0,0,0,{"$nulls":3},493]
["SUB TOTAL",null,null,{"$f":"SUM(D48:D49)","v":0},{"$f":"SUM(E48:E49)","v":0},null,0,0,1]
[{"$f":"UPPER(\"LESS: Stock of Packing Materials, Closing Balance\")","v":"LESS: STOCK OF PACKING MATERIALS, CLOSING BALANCE"},{"$nulls":5},0,0,0,{"$nulls":3},494]
[{"$f":"UPPER(\"BALANCE - Consumption packing materials\")","v":"BALANCE - CONSUMPTION PACKING MATERIALS"},null,null,{"$f":"D50-D51","v":0},{"$f":"E50-E51","v":0},null,0,0,1,{"$nulls":3},495]
[{"$nulls":8},2]
["SCHEDULE - 16 A 1 C",{"$f":"A28","v":"CONSUMPTION OF STORES AND SPARE PARTS"},{"$nulls":6},2]
["PARTICULARS",null,null,{"$f":"CYEND1","v":"2011-03-31"},{"$f":"PYEND1","v":"2010-03-31"},{"$nulls":3},2]
[{"$f":"UPPER(\"Stock of Stores and Spares, Opening Balance\")","v":"STOCK OF STORES AND SPARES, OPENING BALANCE"},{"$nulls":5},{"$f":"IF(AND(OR((ISNUMBER(D56)=TRUE),ISBLANK(D56)=TRUE),ISERROR(D56)=FALSE),0,1)","v":0},0,0,{"$f":"IF(D56<>E59,2,0)","v":0},null,null,497]
[{"$f":"UPPER(\"Purchase stores spares during year\")","v":"PURCHASE STORES SPARES DURING YEAR"},{"$nulls":5},0,0,0,{"$nulls":3},496]
["SUB TOTAL",null,null,{"$f":"SUM(D56:D57)","v":0},{"$f":"SUM(E56:E57)","v":0},null,0,0,1]
[{"$f":"UPPER(\"Stock of Stores and Spares, Closing Balance\")","v":"STOCK OF STORES AND SPARES, CLOSING BALANCE"},{"$nulls":5},0,0,0,{"$nulls":3},497]
[{"$f":"UPPER(\"BALANCE - Consumption stores spares\")","v":"BALANCE - CONSUMPTION STORES SPARES"},null,null,{"$f":"D58-D59","v":0},{"$f":"E58-E59","v":0},null,0,0,1,{"$nulls":3},498]
[{"$nulls":8},2]
["SCHEDULE - 16 A 1 D",{"$f":"A29","v":"CONSUMPTION OF OTHER MATERIALS"},{"$nulls":6},2]
["PARTICULARS",null,null,{"$f":"CYEND1","v":"2011-03-31"},{"$f":"PYEND1","v":"2010-03-31"},{"$nulls":3},2]
[{"$f":"UPPER(\"Stock of Other Materials, Opening Balance\")","v":"STOCK OF OTHER MATERIALS, OPENING BALANCE"},{"$nulls":5},{"$f":"IF(AND(OR((ISNUMBER(D64)=TRUE),ISBLANK(D64)=TRUE),ISERROR(D64)=FALSE),0,1)","v":0},0,0,{"$f":"IF(D64<>E67,2,0)","v":0},null,null,500]
[{"$f":"UPPER(\"Purchase other materials during year\")","v":"PURCHASE OTHER MATERIALS DURING YEAR"},{"$nulls":5},0,0,0,{"$nulls":3},499]
["SUB TOTAL",null,null,{"$f":"SUM(D64:D65)","v":0},{"$f":"SUM(E64:E65)","v":0},null,0,0,1]
[{"$f":"UPPER(\"Stock of Other Materials, Closing Balance\")","v":"STOCK OF OTHER MATERIALS, CLOSING BALANCE"},{"$nulls":5},0,0,0,{"$nulls":3},500]
[{"$f":"UPPER(\"BALANCE - Consumption other materials\")","v":"BALANCE - CONSUMPTION OTHER MATERIALS"},null,null,{"$f":"D66-D67","v":0},{"$f":"E66-E67","v":0},null,0,0,1,{"$nulls":3},501]
[{"$nulls":8},2]
["SCHEDULE - 16 A 2",{"$f":"A19","v":"COST OF TRADED GOODS"},{"$nulls":6},2]
["PARTICULARS",null,null,{"$f":"CYEND1","v":"2011-03-31"},{"$f":"PYEND1","v":"2010-03-31"},{"$nulls":3},2]
[{"$f":"UPPER(\"Stock of Traded Goods, Opening Balance\")","v":"STOCK OF TRADED GOODS, OPENING BALANCE"},{"$nulls":5},{"$f":"IF(AND(OR((ISNUMBER(D72)=TRUE),ISBLANK(D72)=TRUE),ISERROR(D72)=FALSE),0,1)","v":0},0,0,{"$f":"IF(D72<>E75,2,0)","v":0},null,null,505]
[{"$f":"UPPER(\"Purchase traded goods during year\")","v":"PURCHASE TRADED GOODS DURING YEAR"},{"$nulls":5},0,0,0,{"$nulls":3},504]
["SUB TOTAL",null,null,{"$f":"SUM(D72:D73)","v":0},{"$f":"SUM(E72:E73)","v":0},null,0,0,1]
[{"$f":"UPPER(\"Stock of Traded Goods, Closing Balance\")","v":"STOCK OF TRADED GOODS, CLOSING BALANCE"},{"$nulls":5},0,0,0,{"$nulls":3},505]
[{"$f":"UPPER(\"BALANCE - Cost traded goods\")","v":"BALANCE - COST TRADED GOODS"},null,null,{"$f":"D74-D75","v":0},{"$f":"E74-E75","v":0},null,0,0,1,{"$nulls":3},506]
[{"$nulls":8},2]
["SCHEDULE - 16 A 3",{"$f":"A20","v":"(INCREASE) / DECREASE IN INVENTORIES"},{"$nulls":6},2]
["PARTICULARS",null,null,{"$f":"CYEND1","v":"2011-03-31"},{"$f":"PYEND1","v":"2010-03-31"},{"$nulls":3},2]
["FINISHED GOODS",null,null,{"$f":"D91","v":0},{"$f":"E91","v":0},null,{"$f":"IF(AND(OR((ISNUMBER(D80)=TRUE),ISBLANK(D80)=TRUE),ISERROR(D80)=FALSE),0,1)","v":0},0,1,{"$nulls":3},509]
["WORK IN PROGRESS",null,null,{"$f":"D97","v":0},{"$f":"E97","v":0},null,0,0,1,{"$nulls":3},511]
["OTHERS INVENTORIES",null,null,{"$f":"D103","v":0},{"$f":"E103","v":0},null,0,0,1,{"$nulls":3},513]
["EXCISE DUTY ON INVENTORIES",{"$nulls":5},0,0,0,{"$nulls":3},514]
["TOTAL",null,null,{"$f":"SUM(D80:D83)","v":0},{"$f":"SUM(E80:E83)","v":0},null,0,0,1,{"$nulls":3},515]
[{"$nulls":8},2]
["SCHEDULE - 16 A 3 A",{"$f":"B78 & \" OF \" & A80","v":"(INCREASE) / DECREASE IN INVENTORIES OF FINISHED GOODS"},{"$nulls":6},2]
["PARTICULARS",null,null,{"$f":"CYEND1","v":"2011-03-31"},{"$f":"PYEND1","v":"2010-03-31"},{"$nulls":3},2]
[{"$f":"UPPER(\"Stock of Finished Goods, Opening Balance\")","v":"STOCK OF FINISHED GOODS, OPENING BALANCE"},{"$nulls":5},{"$f":"IF(AND(OR((ISNUMBER(D88)=TRUE),ISBLANK(D88)=TRUE),ISERROR(D88)=FALSE),0,1)","v":0},0,0,{"$f":"IF(D88<>E90,2,0)","v":0},null,null,508]
["PURCHASE OF FINISHED GOODS DURING THE PERIOD",{"$nulls":5},{"$f":"IF(AND(OR((ISNUMBER(D89)=TRUE),ISBLANK(D89)=TRUE),ISERROR(D89)=FALSE),0,1)","v":0},{"$f":"IF(AND(OR((ISNUMBER(E89)=TRUE),ISBLANK(E89)=TRUE),ISERROR(E89)=FALSE),0,1)","v":0},0,{"$nulls":3},507]
[{"$f":"UPPER(\"Stock of Finished Goods, Closing Balance\")","v":"STOCK OF FINISHED GOODS, CLOSING BALANCE"},{"$nulls":5},0,0,0,{"$nulls":3},508]
["BALANCE",null,null,{"$f":"D88+D89-D90","v":0},{"$f":"E88+E89-E90","v":0},null,0,0,1,{"$nulls":3},509]
[{"$nulls":8},2]
["SCHEDULE - 16 A 3 B",{"$f":"B78 & \" OF \" & A81","v":"(INCREASE) / DECREASE IN INVENTORIES OF WORK IN PROGRESS"},{"$nulls":6},2]
["PARTICULARS",null,null,{"$f":"CYEND1","v":"2011-03-31"},{"$f":"PYEND1","v":"2010-03-31"},{"$nulls":3},2]
[{"$f":"UPPER(\"Stock of WORK IN PROGRESS, Opening Balance\")","v":"STOCK OF WORK IN PROGRESS, OPENING BALANCE"},{"$nulls":5},{"$f":"IF(AND(OR((ISNUMBER(D95)=TRUE),ISBLANK(D95)=TRUE),ISERROR(D95)=FALSE),0,1)","v":0},0,0,{"$f":"IF(D95<>E96,2,0)","v":0},null,null,510]
[{"$f":"UPPER(\"Stock of WORK IN PROGRESS, Closing Balance\")","v":"STOCK OF WORK IN PROGRESS, CLOSING BALANCE"},{"$nulls":5},0,0,0,{"$nulls":3},510]
["BALANCE",null,null,{"$f":"D95-D96","v":0},{"$f":"E95-E96","v":0},null,0,0,1,{"$nulls":3},511]
[{"$nulls":8},2]
["SCHEDULE - 16 A 3 C",{"$f":"B78 & \" OF \" & A82","v":"(INCREASE) / DECREASE IN INVENTORIES OF OTHERS INVENTORIES"},{"$nulls":6},2]
["PARTICULARS",null,null,{"$f":"CYEND1","v":"2011-03-31"},{"$f":"PYEND1","v":"2010-03-31"},{"$nulls":3},2]
[{"$f":"UPPER(\"Stock of OTHER INVENTORIES, Opening Balance\")","v":"STOCK OF OTHER INVENTORIES, OPENING BALANCE"},{"$nulls":5},{"$f":"IF(AND(OR((ISNUMBER(D101)=TRUE),ISBLANK(D101)=TRUE),ISERROR(D101)=FALSE),0,1)","v":0},0,0,{"$f":"IF(D101<>E102,2,0)","v":0},null,null,512]
[{"$f":"UPPER(\"Stock of OTHER INVENTORIES, Closing Balance\")","v":"STOCK OF OTHER INVENTORIES, CLOSING BALANCE"},{"$nulls":5},0,0,0,{"$nulls":3},512]
["BALANCE",null,null,{"$f":"D101-D102","v":0},{"$f":"E101-E102","v":0},null,0,0,1,{"$nulls":3},513]
[{"$nulls":8},2]
["SCHEDULE - 16 B",{"$f":"A5","v":"CONTRACT COST"},{"$nulls":6},2]
["PARTICULARS",null,null,{"$f":"CYEND1","v":"2011-03-31"},{"$f":"PYEND1","v":"2010-03-31"},{"$nulls":3},2]
[{"$f":"UPPER(\"Site labour supervision cost contracts\")","v":"SITE LABOUR SUPERVISION COST CONTRACTS"},{"$nulls":5},{"$f":"IF(AND(OR((ISNUMBER(D107)=TRUE),ISBLANK(D107)=TRUE),ISERROR(D107)=FALSE),0,1)","v":0},0,0,{"$nulls":3},517]
[{"$f":"UPPER(\"Material cost contract\")","v":"MATERIAL COST CONTRACT"},{"$nulls":5},0,0,0,{"$nulls":3},518]
[{"$f":"UPPER(\"Depreciation assets contracts\")","v":"DEPRECIATION ASSETS CONTRACTS"},{"$nulls":5},0,0,0,{"$nulls":3},519]
[{"$f":"UPPER(\"Cost transportation assets contracts\")","v":"COST TRANSPORTATION ASSETS CONTRACTS"},{"$nulls":5},0,0,0,{"$nulls":3},520]
[{"$f":"UPPER(\"Hire charges assets contracts\")","v":"HIRE CHARGES ASSETS CONTRACTS"},{"$nulls":5},0,0,0,{"$nulls":3},521]
[{"$f":"UPPER(\"Cost design technical assistance contracts\")","v":"COST DESIGN TECHNICAL ASSISTANCE CONTRACTS"},{"$nulls":5},0,0,0,{"$nulls":3},522]
[{"$f":"UPPER(\"Warranty cost contracts\")","v":"WARRANTY COST CONTRACTS"},{"$nulls":5},0,0,0,{"$nulls":3},523]
[{"$f":"UPPER(\"Other claims contracts\")","v":"OTHER CLAIMS CONTRACTS"},{"$nulls":5},0,0,0,{"$nulls":3},524]
[{"$f":"UPPER(\"LESS: Sale material scrap other assets contracts\")","v":"LESS: SALE MATERIAL SCRAP OTHER ASSETS CONTRACTS"},{"$nulls":5},0,0,0,{"$nulls":3},525]
[{"$f":"UPPER(\"Overhead costs apportioned contracts\")","v":"OVERHEAD COSTS APPORTIONED CONTRACTS"},null,null,{"$f":"D124","v":0},{"$f":"E124","v":0},null,0,0,1,{"$nulls":3},529]
["TOTAL",null,null,{"$f":"SUM(D107:D116)-2*D115","v":0},{"$f":"SUM(E107:E116)-2*E115","v":0},null,0,0,1,{"$nulls":3},0,"PL",127]
[{"$nulls":8},2]
["SCHEDULE - 16 B 1",{"$f":"A116","v":"OVERHEAD COSTS APPORTIONED CONTRACTS"},{"$nulls":6},2]
["PARTICULARS",null,null,{"$f":"CYEND1","v":"2011-03-31"},{"$f":"PYEND1","v":"2010-03-31"},{"$nulls":3},2]
[{"$f":"UPPER(\"Insurance cost apportioned contract\")","v":"INSURANCE COST APPORTIONED CONTRACT"},{"$nulls":5},{"$f":"IF(AND(OR((ISNUMBER(D121)=TRUE),ISBLANK(D121)=TRUE),ISERROR(D121)=FALSE),0,1)","v":0},0,0,{"$nulls":3},526]
[{"$f":"UPPER(\"Design technical assistance apportioned contracts\")","v":"DESIGN TECHNICAL ASSISTANCE APPORTIONED CONTRACTS"},{"$nulls":5},0,0,0,{"$nulls":3},527]
[{"$f":"UPPER(\"Other overheads apportioned contracts\")","v":"OTHER OVERHEADS APPORTIONED CONTRACTS"},{"$nulls":5},0,0,0,{"$nulls":3},528]
["TOTAL",null,null,{"$f":"SUM(D121:D123)","v":0},{"$f":"SUM(E121:E123)","v":0},null,0,0,1,{"$nulls":3},529]
[{"$nulls":8},2]
["SCHEDULE - 16 C",{"$f":"A6","v":"MANUFACTURING AND SERVICE COSTS"},{"$nulls":6},2]
["PARTICULARS",null,null,{"$f":"CYEND1","v":"2011-03-31"},{"$f":"PYEND1","v":"2010-03-31"},{"$nulls":3},2]
["POWER AND FUEL",{"$nulls":5},{"$f":"IF(AND(OR((ISNUMBER(D128)=TRUE),ISBLANK(D128)=TRUE),ISERROR(D128)=FALSE),0,1)","v":0},0,0,{"$nulls":3},530]
["REPAIRS AND MAINTAINENCE",null,null,{"$f":"D154","v":0},{"$f":"E154","v":0},null,0,0,1,{"$nulls":3},534]
["INFORMATION TECHNOLOGY",null,null,{"$f":"D161","v":0},{"$f":"E161","v":0},null,0,0,1,{"$nulls":3},538]
["INSURANCE",{"$nulls":5},0,0,0,{"$nulls":3},539]
["TRANSPORTATION",null,null,{"$f":"D169","v":0},{"$f":"E169","v":0},null,0,0,1,{"$nulls":3},544]
["LEASE RENTALS",{"$nulls":5},0,0,0,{"$nulls":3},545]
["EFFLUENT DISPOSAL",{"$nulls":5},0,0,0,{"$nulls":3},546]
["SITE RESTORATION AND RECLAMATION",{"$nulls":5},0,0,0,{"$nulls":3},547]
["WAREHOUSING",{"$nulls":5},0,0,0,{"$nulls":3},548]
["TAXES AND OTHER LEVIES BY GOVERNMENT AND LOCAL AUTHORITIES",null,null,{"$f":"D176","v":0},{"$f":"E176","v":0},null,0,0,1,{"$nulls":3},552]
["WATER CHARGES",{"$nulls":5},0,0,0,{"$nulls":3},553]
["REIMBURSEABLE EXPENSES - COST",{"$nulls":5},0,0,0,{"$nulls":3},554]
["TECHNICAL SERVICES - COST",{"$nulls":5},0,0,0,{"$nulls":3},555]
["ROYALTY - COST",{"$nulls":5},{"$f":"IF(AND(OR((ISNUMBER(D141)=TRUE),ISBLANK(D141)=TRUE),ISERROR(D141)=FALSE),0,1)","v":0},{"$f":"IF(AND(OR((ISNUMBER(E141)=TRUE),ISBLANK(E141)=TRUE),ISERROR(E141)=FALSE),0,1)","v":0},0,{"$nulls":3},556]
["OTHER MANUFACTURING AND SERVICE COSTS",{"$nulls":5},0,0,0,{"$nulls":3},557]
["SHARE IN MANUFACTURING AND SERVICE COST - JOINT VENTURES",null,null,{"$f":"'Notes-PL'!D65","v":0},{"$f":"'Notes-PL'!E65","v":0},null,0,0,1,{"$f":"CONSOLCHECK","v":"S"},null,null,559]
["SUB TOTAL",null,null,{"$f":"SUM(D128:D143)","v":0},{"$f":"SUM(E128:E143)","v":0},null,0,0,1]
["LESS: ALLOWANCE - MANUFACTURING AND SERVICE COSTS",{"$nulls":5},0,0,0,{"$nulls":3},558]
["LESS: CAPITALISATION - MANUFACTURING AND SERVICE COSTS",{"$nulls":5},0,0,0,{"$nulls":3},0,"17-AddlDetInStat",157]
["TOTAL",null,null,{"$f":"D144-SUM(D145:D146)","v":0},{"$f":"E144-SUM(E145:E146)","v":0},null,0,0,1,{"$nulls":3},0,"PL",126]
[{"$nulls":8},2]
["SCHEDULE - 16 C 1",{"$f":"A129","v":"REPAIRS AND MAINTAINENCE"},{"$nulls":6},2]
["PARTICULARS",null,null,{"$f":"CYEND1","v":"2011-03-31"},{"$f":"PYEND1","v":"2010-03-31"},{"$nulls":3},2]
["FACTORY BUILDING",{"$nulls":5},{"$f":"IF(AND(OR((ISNUMBER(D151)=TRUE),ISBLANK(D151)=TRUE),ISERROR(D151)=FALSE),0,1)","v":0},0,0,{"$nulls":3},531]
["PLANT AND MACHINERY",{"$nulls":5},0,0,0,{"$nulls":3},532]
["OTHER ASSETS",{"$nulls":5},0,0,0,{"$nulls":3},533]
["TOTAL",null,null,{"$f":"SUM(D151:D153)","v":0},{"$f":"SUM(E151:E153)","v":0},null,0,0,1,{"$nulls":3},534]
[{"$nulls":8},2]
["SCHEDULE - 16 C 2",{"$f":"A130","v":"INFORMATION TECHNOLOGY"},{"$nulls":6},2]
["PARTICULARS",null,null,{"$f":"CYEND1","v":"2011-03-31"},{"$f":"PYEND1","v":"2010-03-31"},{"$nulls":3},2]
["SOFTWARE",{"$nulls":5},{"$f":"IF(AND(OR((ISNUMBER(D158)=TRUE),ISBLANK(D158)=TRUE),ISERROR(D158)=FALSE),0,1)","v":0},0,0,{"$nulls":3},535]
["HARDWARE",{"$nulls":5},0,0,0,{"$nulls":3},536]
["COMMUNICATION CONNECTIVITY",{"$nulls":5},0,0,0,{"$nulls":3},537]
["TOTAL",null,null,{"$f":"SUM(D158:D160)","v":0},{"$f":"SUM(E158:E160)","v":0},null,0,0,1,{"$nulls":3},538]
[{"$nulls":8},2]
["SCHEDULE - 16 C 3 ",{"$f":"A132","v":"TRANSPORTATION"},{"$nulls":6},2]
["PARTICULARS",null,null,{"$f":"CYEND1","v":"2011-03-31"},{"$f":"PYEND1","v":"2010-03-31"},{"$nulls":3},2]
["FREIGHT",{"$nulls":5},{"$f":"IF(AND(OR((ISNUMBER(D165)=TRUE),ISBLANK(D165)=TRUE),ISERROR(D165)=FALSE),0,1)","v":0},0,0,{"$nulls":3},540]
["OCTROI",{"$nulls":5},0,0,0,{"$nulls":3},541]
["LOADING AND UNLOADING",{"$nulls":5},0,0,0,{"$nulls":3},542]
["OTHER TRANSPORTATION EXPENSES",{"$nulls":5},0,0,0,{"$nulls":3},543]
["TOTAL",null,null,{"$f":"SUM(D165:D168)","v":0},{"$f":"SUM(E165:E168)","v":0},null,0,0,1,{"$nulls":3},544]
[{"$nulls":8},2]
["SCHEDULE - 16 C 4",{"$f":"A137","v":"TAXES AND OTHER LEVIES BY GOVERNMENT AND LOCAL AUTHORITIES"},{"$nulls":6},2]
["PARTICULARS",null,null,{"$f":"CYEND1","v":"2011-03-31"},{"$f":"PYEND1","v":"2010-03-31"},{"$nulls":3},2]
["CENTRAL EXCISE DUTY",{"$nulls":5},{"$f":"IF(AND(OR((ISNUMBER(D173)=TRUE),ISBLANK(D173)=TRUE),ISERROR(D173)=FALSE),0,1)","v":0},0,0,{"$nulls":3},549]
["PURCHASE TAX",{"$nulls":5},0,0,0,{"$nulls":3},550]
["OTHER CESS, DUTIES AND TAXES",{"$nulls":5},0,0,0,{"$nulls":3},551]
["TOTAL",null,null,{"$f":"SUM(D173:D175)","v":0},{"$f":"SUM(E173:E175)","v":0},null,0,0,1,{"$nulls":3},552]
[{"$nulls":8},2]
["SCHEDULE - 16 D",{"$f":"A7","v":"ADMINISTRATIVE, SELLING AND OTHER EXPENSES"},{"$nulls":6},2]
["PARTICULARS",null,null,{"$f":"CYEND1","v":"2011-03-31"},{"$f":"PYEND1","v":"2010-03-31"},{"$nulls":3},2]
["ADMINISTRATIVE AND GENERAL EXPENSES",null,null,{"$f":"D221","v":0},{"$f":"E221","v":0},null,{"$f":"IF(AND(OR((ISNUMBER(D180)=TRUE),ISBLANK(D180)=TRUE),ISERROR(D180)=FALSE),0,1)","v":0},0,1,{"$nulls":3},595]
["SELLING EXPENSES",null,null,{"$f":"D259","v":0},{"$f":"E259","v":0},null,0,0,1,{"$nulls":3},604]
["NET PROVISIONS CHARGED",null,null,{"$f":"D273","v":0},{"$f":"E273","v":0},null,0,0,1,{"$nulls":3},617]
["WRITE OFF ASSETS AND LIBILITIES ABSTRACT",null,null,{"$f":"D293","v":0},{"$f":"E293","v":0},null,0,0,1,{"$nulls":3},637]
["FOREIGN EXCHANGE DIFFERENCE EXPENSE",{"$nulls":5},0,0,0,{"$nulls":3},638]
["LOSS ON REDEMPTION OF INVESTMENTS",null,null,{"$f":"D324","v":0},{"$f":"E324","v":0},null,0,0,1,{"$nulls":3},641]
["LOSS ON SALE OR DISPOSAL OF FIXED ASSETS",null,null,{"$f":"D330","v":0},{"$f":"E330","v":0},null,0,0,1,{"$nulls":3},644]
["OTHER EXPENDITURE",{"$nulls":5},0,0,0,{"$nulls":3},645]
["SHARE IN ADMINISTRATIVE, SELLING AND OTHER EXPENSES FROM JOINT VENTURES",null,null,{"$f":"'Notes-PL'!D66","v":0},{"$f":"'Notes-PL'!E66","v":0},null,0,0,1,{"$f":"CONSOLCHECK","v":"S"},null,null,647]
["SUB TOTAL",null,null,{"$f":"SUM(D180:D188)","v":0},{"$f":"SUM(E180:E188)","v":0},null,0,0,1]
["LESS: ALLOWANCE - ADMINISTRATIVE, SELLING AND OTHER EXPENSES",{"$nulls":5},0,0,0,{"$nulls":3},646]
["LESS: CAPITALISATION - ADMINISTRATIVE, SELLING AND OTHER EXPENSES",{"$nulls":5},0,0,0,{"$nulls":3},0,"17-AddlDetInStat",158]
["TOTAL",null,null,{"$f":"D189-SUM(D190:D191)","v":0},{"$f":"E189-SUM(E190:E191)","v":0},null,0,0,1,{"$nulls":3},0,"PL",128]
[{"$nulls":8},2]
["SCHEDULE - 16 D 1 ",{"$f":"A180","v":"ADMINISTRATIVE AND GENERAL EXPENSES"},{"$nulls":6},2]
["PARTICULARS",null,null,{"$f":"CYEND1","v":"2011-03-31"},{"$f":"PYEND1","v":"2010-03-31"},{"$nulls":3},2]
[{"$f":"UPPER(\"Subscriptions membership fees\")","v":"SUBSCRIPTIONS MEMBERSHIP FEES"},{"$nulls":5},{"$f":"IF(AND(OR((ISNUMBER(D196)=TRUE),ISBLANK(D196)=TRUE),ISERROR(D196)=FALSE),0,1)","v":0},0,0,{"$nulls":3},560]
[{"$f":"UPPER(\"Electricity expenses\")","v":"ELECTRICITY EXPENSES"},{"$nulls":5},0,0,0,{"$nulls":3},561]
[{"$f":"UPPER(\"Telephone postage\")","v":"TELEPHONE POSTAGE"},{"$nulls":5},0,0,0,{"$nulls":3},562]
[{"$f":"UPPER(\"Printing stationery\")","v":"PRINTING STATIONERY"},{"$nulls":5},0,0,0,{"$nulls":3},563]
[{"$f":"UPPER(\"Information technology expenses\")","v":"INFORMATION TECHNOLOGY EXPENSES"},{"$nulls":5},0,0,0,{"$nulls":3},564]
[{"$f":"UPPER(\"Travelling conveyance\")","v":"TRAVELLING CONVEYANCE"},{"$nulls":5},0,0,0,{"$nulls":3},565]
[{"$f":"UPPER(\"Catering canteen expenses\")","v":"CATERING CANTEEN EXPENSES"},{"$nulls":5},0,0,0,{"$nulls":3},566]
[{"$f":"UPPER(\"Entertainment expenses\")","v":"ENTERTAINMENT EXPENSES"},{"$nulls":5},0,0,0,{"$nulls":3},567]
[{"$f":"UPPER(\"Legal professional charges\")","v":"LEGAL PROFESSIONAL CHARGES"},{"$nulls":5},0,0,0,{"$nulls":3},568]
[{"$f":"UPPER(\"Insurance expenses\")","v":"INSURANCE EXPENSES"},{"$nulls":5},0,0,0,{"$nulls":3},569]
[{"$f":"UPPER(\"Repairs maintenance expenses\")","v":"REPAIRS MAINTENANCE EXPENSES"},{"$nulls":5},0,0,0,{"$nulls":3},570]
[{"$f":"UPPER(\"Vehicle running expenses\")","v":"VEHICLE RUNNING EXPENSES"},{"$nulls":5},0,0,0,{"$nulls":3},571]
[{"$f":"UPPER(\"Rent rates and taxes\")","v":"RENT RATES AND TAXES"},null,null,{"$f":"D227","v":0},{"$f":"E227","v":0},null,0,0,1,{"$nulls":3},574]
[{"$f":"UPPER(\"Safety security expenses\")","v":"SAFETY SECURITY EXPENSES"},{"$nulls":5},0,0,0,{"$nulls":3},575]
["AUDITORS REMUNERATION",null,null,{"$f":"D474","v":0},{"$f":"E474","v":0},null,0,0,1,{"$nulls":3},576]
[{"$f":"UPPER(\"Directors sitting fees\")","v":"DIRECTORS SITTING FEES"},{"$nulls":5},0,0,0,{"$nulls":3},577]
[{"$f":"UPPER(\"Managerial remuneration\")","v":"MANAGERIAL REMUNERATION"},null,null,{"$f":"D233","v":0},{"$f":"E233","v":0},null,0,0,1,{"$nulls":3},586]
[{"$f":"UPPER(\"Donations subscriptions\")","v":"DONATIONS SUBSCRIPTIONS"},{"$nulls":5},0,0,0,{"$nulls":3},587]
[{"$f":"UPPER(\"Books periodicals\")","v":"BOOKS PERIODICALS"},{"$nulls":5},0,0,0,{"$nulls":3},588]
[{"$f":"UPPER(\"Seminars conference expenses\")","v":"SEMINARS CONFERENCE EXPENSES"},{"$nulls":5},0,0,0,{"$nulls":3},589]
[{"$f":"UPPER(\"Registration filing fees\")","v":"REGISTRATION FILING FEES"},{"$nulls":5},0,0,0,{"$nulls":3},590]
[{"$f":"UPPER(\"Custodial fees\")","v":"CUSTODIAL FEES"},{"$nulls":5},0,0,0,{"$nulls":3},591]
[{"$f":"UPPER(\"Bank charges\")","v":"BANK CHARGES"},{"$nulls":5},0,0,0,{"$nulls":3},592]
[{"$f":"UPPER(\"Guest house expenses\")","v":"GUEST HOUSE EXPENSES"},{"$nulls":5},0,0,0,{"$nulls":3},593]
[{"$f":"UPPER(\"Other administrative AND general expenses\")","v":"OTHER ADMINISTRATIVE AND GENERAL EXPENSES"},{"$nulls":5},0,0,0,{"$nulls":3},594]
["TOTAL",null,null,{"$f":"SUM(D196:D220)","v":0},{"$f":"SUM(E196:E220)","v":0},null,0,0,1,{"$nulls":3},595]
[{"$nulls":8},2]
["SCHEDULE - 16 D 1 A",{"$f":"A208","v":"RENT RATES AND TAXES"},{"$nulls":6},2]
["PARTICULARS",null,null,{"$f":"CYEND1","v":"2011-03-31"},{"$f":"PYEND1","v":"2010-03-31"},{"$nulls":3},2]
["RENT",{"$nulls":5},{"$f":"IF(AND(OR((ISNUMBER(D225)=TRUE),ISBLANK(D225)=TRUE),ISERROR(D225)=FALSE),0,1)","v":0},0,0,{"$nulls":3},572]
["RATES AND TAXES",{"$nulls":5},0,0,0,{"$nulls":3},573]
["TOTAL",null,null,{"$f":"SUM(D225:D226)","v":0},{"$f":"SUM(E225:E226)","v":0},null,0,0,1,{"$nulls":3},574]
[{"$nulls":8},2]
["SCHEDULE - 16 D 1 B",{"$f":"A212","v":"MANAGERIAL REMUNERATION"},{"$nulls":6},2]
["PARTICULARS",null,null,{"$f":"CYEND1","v":"2011-03-31"},{"$f":"PYEND1","v":"2010-03-31"},{"$nulls":3},2]
[{"$f":"UPPER(\"Remuneration to directors \")","v":"REMUNERATION TO DIRECTORS "},null,null,{"$f":"D240","v":0},{"$f":"E240","v":0},null,{"$f":"IF(AND(OR((ISNUMBER(D231)=TRUE),ISBLANK(D231)=TRUE),ISERROR(D231)=FALSE),0,1)","v":0},0,1,{"$nulls":3},581]
[{"$f":"UPPER(\"Remuneration to managers\")","v":"REMUNERATION TO MANAGERS"},null,null,{"$f":"D247","v":0},{"$f":"E247","v":0},null,0,0,1,{"$nulls":3},585]
["TOTAL",null,null,{"$f":"SUM(D231:D232)","v":0},{"$f":"SUM(E231:E232)","v":0},null,0,0,1,{"$nulls":3},586]
[{"$nulls":8},2]
["SCHEDULE - 16 D 1 B 1",{"$f":"A231","v":"REMUNERATION TO DIRECTORS "},{"$nulls":6},2]
["PARTICULARS",null,null,{"$f":"CYEND1","v":"2011-03-31"},{"$f":"PYEND1","v":"2010-03-31"},{"$nulls":3},2]
[{"$f":"UPPER(\"Salary to directors\")","v":"SALARY TO DIRECTORS"},{"$nulls":5},{"$f":"IF(AND(OR((ISNUMBER(D237)=TRUE),ISBLANK(D237)=TRUE),ISERROR(D237)=FALSE),0,1)","v":0},0,0,{"$nulls":3},578]
[{"$f":"UPPER(\"Commission to directors\")","v":"COMMISSION TO DIRECTORS"},{"$nulls":5},0,0,0,{"$nulls":3},579]
[{"$f":"UPPER(\"Other benefits directors\")","v":"OTHER BENEFITS DIRECTORS"},{"$nulls":5},0,0,0,{"$nulls":3},580]
["TOTAL",null,null,{"$f":"SUM(D237:D239)","v":0},{"$f":"SUM(E237:E239)","v":0},null,0,0,1,{"$nulls":3},581]
[{"$nulls":8},2]
["SCHEDULE - 16 D 1 B 2",{"$f":"A232","v":"REMUNERATION TO MANAGERS"},{"$nulls":6},2]
["PARTICULARS",null,null,{"$f":"CYEND1","v":"2011-03-31"},{"$f":"PYEND1","v":"2010-03-31"},{"$nulls":3},2]
[{"$f":"UPPER(\"Salary to managers\")","v":"SALARY TO MANAGERS"},{"$nulls":5},{"$f":"IF(AND(OR((ISNUMBER(D244)=TRUE),ISBLANK(D244)=TRUE),ISERROR(D244)=FALSE),0,1)","v":0},0,0,{"$nulls":3},582]
[{"$f":"UPPER(\"Commission to managers\")","v":"COMMISSION TO MANAGERS"},{"$nulls":5},0,0,0,{"$nulls":3},583]
[{"$f":"UPPER(\"Other benefits to managers\")","v":"OTHER BENEFITS TO MANAGERS"},{"$nulls":5},0,0,0,{"$nulls":3},584]
["TOTAL",null,null,{"$f":"SUM(D244:D246)","v":0},{"$f":"SUM(E244:E246)","v":0},null,0,0,1,{"$nulls":3},585]
[{"$nulls":8},2]
["SCHEDULE - 16 D 2",{"$f":"A181","v":"SELLING EXPENSES"},{"$nulls":6},2]
["PARTICULARS",null,null,{"$f":"CYEND1","v":"2011-03-31"},{"$f":"PYEND1","v":"2010-03-31"},{"$nulls":3},2]
[{"$f":"UPPER(\"Advertising promotional expenses\")","v":"ADVERTISING PROMOTIONAL EXPENSES"},{"$nulls":5},{"$f":"IF(AND(OR((ISNUMBER(D251)=TRUE),ISBLANK(D251)=TRUE),ISERROR(D251)=FALSE),0,1)","v":0},0,0,{"$nulls":3},596]
[{"$f":"UPPER(\"After sales service expenses\")","v":"AFTER SALES SERVICE EXPENSES"},{"$nulls":5},0,0,0,{"$nulls":3},597]
[{"$f":"UPPER(\"Warranty claim expenses\")","v":"WARRANTY CLAIM EXPENSES"},{"$nulls":5},0,0,0,{"$nulls":3},598]
[{"$f":"UPPER(\"Commission paid sole selling agents\")","v":"COMMISSION PAID SOLE SELLING AGENTS"},{"$nulls":5},0,0,0,{"$nulls":3},599]
[{"$f":"UPPER(\"Commission paid other selling agents\")","v":"COMMISSION PAID OTHER SELLING AGENTS"},{"$nulls":5},0,0,0,{"$nulls":3},600]
[{"$f":"UPPER(\"Transportation distribution expenses\")","v":"TRANSPORTATION DISTRIBUTION EXPENSES"},{"$nulls":5},0,0,0,{"$nulls":3},601]
[{"$f":"UPPER(\"Secondary packing expenses\")","v":"SECONDARY PACKING EXPENSES"},{"$nulls":5},0,0,0,{"$nulls":3},602]
[{"$f":"UPPER(\"Other selling distribution expenses\")","v":"OTHER SELLING DISTRIBUTION EXPENSES"},{"$nulls":5},0,0,0,{"$nulls":3},603]
["TOTAL",null,null,{"$f":"SUM(D251:D258)","v":0},{"$f":"SUM(E251:E258)","v":0},null,0,0,1,{"$nulls":3},604]
[{"$nulls":8},2]
["SCHEDULE - 16 D 3",{"$f":"A182","v":"NET PROVISIONS CHARGED"},{"$nulls":6},2]
["PARTICULARS",null,null,{"$f":"CYEND1","v":"2011-03-31"},{"$f":"PYEND1","v":"2010-03-31"},{"$nulls":3},2]
[{"$f":"UPPER(\"Provision bad doubtful debts advances created\")","v":"PROVISION BAD DOUBTFUL DEBTS ADVANCES CREATED"},{"$nulls":5},{"$f":"IF(AND(OR((ISNUMBER(D263)=TRUE),ISBLANK(D263)=TRUE),ISERROR(D263)=FALSE),0,1)","v":0},0,0,{"$nulls":3},605]
[{"$f":"UPPER(\"Provision diminution value investments created\")","v":"PROVISION DIMINUTION VALUE INVESTMENTS CREATED"},null,null,{"$f":"D281","v":0},{"$f":"E281","v":0},null,0,0,1,{"$nulls":3},610]
[{"$f":"UPPER(\"Provision contingencies created\")","v":"PROVISION CONTINGENCIES CREATED"},{"$nulls":5},0,0,0,{"$nulls":3},611]
[{"$f":"UPPER(\"Provision warranty claims created\")","v":"PROVISION WARRANTY CLAIMS CREATED"},{"$nulls":5},0,0,0,{"$nulls":3},612]
[{"$f":"UPPER(\"Provision statutory liabilities created\")","v":"PROVISION STATUTORY LIABILITIES CREATED"},{"$nulls":5},0,0,0,{"$nulls":3},613]
[{"$f":"UPPER(\"Provision restructuring created\")","v":"PROVISION RESTRUCTURING CREATED"},{"$nulls":5},0,0,0,{"$nulls":3},614]
[{"$f":"UPPER(\"Other provisions created\")","v":"OTHER PROVISIONS CREATED"},{"$nulls":5},0,0,0,{"$nulls":3},615]
["SUB TOTAL",null,null,{"$f":"SUM(D263:D269)","v":0},{"$f":"SUM(E263:E269)","v":0},null,0,0,1]
[{"$f":"UPPER(\"LESS: Excess provisions bad doubtful debts advances written back\")","v":"LESS: EXCESS PROVISIONS BAD DOUBTFUL DEBTS ADVANCES WRITTEN BACK"},{"$nulls":5},{"$f":"IF(AND(OR((ISNUMBER(D271)=TRUE),ISBLANK(D271)=TRUE),ISERROR(D271)=FALSE),0,1)","v":0},{"$f":"IF(AND(OR((ISNUMBER(E271)=TRUE),ISBLANK(E271)=TRUE),ISERROR(E271)=FALSE),0,1)","v":0},0,{"$nulls":3},606]
[{"$f":"UPPER(\"LESS: Other excess provisions written back\")","v":"LESS: OTHER EXCESS PROVISIONS WRITTEN BACK"},{"$nulls":5},0,0,0,{"$nulls":3},616]
["TOTAL",null,null,{"$f":"D270-SUM(D271:D272)","v":0},{"$f":"E270-SUM(E271:E272)","v":0},null,0,0,1,{"$nulls":3},617]
[{"$nulls":8},2]
["SCHEDULE - 16 D 3 A",{"$f":"A264","v":"PROVISION DIMINUTION VALUE INVESTMENTS CREATED"},{"$nulls":6},2]
["PARTICULARS",null,null,{"$f":"CYEND1","v":"2011-03-31"},{"$f":"PYEND1","v":"2010-03-31"},{"$nulls":3},2]
[{"$f":"UPPER(\"Provision diminution value current investments created\")","v":"PROVISION DIMINUTION VALUE CURRENT INVESTMENTS CREATED"},{"$nulls":5},{"$f":"IF(AND(OR((ISNUMBER(D277)=TRUE),ISBLANK(D277)=TRUE),ISERROR(D277)=FALSE),0,1)","v":0},0,0,{"$nulls":3},607]
[{"$f":"UPPER(\"Provision diminution value long-term investments created\")","v":"PROVISION DIMINUTION VALUE LONG-TERM INVESTMENTS CREATED"},{"$nulls":5},0,0,0,{"$nulls":3},608]
["SUB TOTAL",null,null,{"$f":"SUM(D277:D278)","v":0},{"$f":"SUM(E277:E278)","v":0},null,0,0,1]
[{"$f":"UPPER(\"LESS: Excess provision diminution in value investment written back\")","v":"LESS: EXCESS PROVISION DIMINUTION IN VALUE INVESTMENT WRITTEN BACK"},{"$nulls":5},0,0,0,{"$nulls":3},609]
["TOTAL",null,null,{"$f":"D279-D280","v":0},{"$f":"E279-E280","v":0},null,0,0,1,{"$nulls":3},610]
[{"$nulls":8},2]
["SCHEDULE - 16 D 4",{"$f":"A183","v":"WRITE OFF ASSETS AND LIBILITIES ABSTRACT"},{"$nulls":6},2]
["PARTICULARS",null,null,{"$f":"CYEND1","v":"2011-03-31"},{"$f":"PYEND1","v":"2010-03-31"},{"$nulls":3},2]
[{"$f":"UPPER(\"Miscellaneous expenditure written off \")","v":"MISCELLANEOUS EXPENDITURE WRITTEN OFF "},null,null,{"$f":"D306","v":0},{"$f":"E306","v":0},null,{"$f":"IF(AND(OR((ISNUMBER(D285)=TRUE),ISBLANK(D285)=TRUE),ISERROR(D285)=FALSE),0,1)","v":0},0,1,{"$nulls":3},630]
[{"$f":"UPPER(\"Fixed assets written off\")","v":"FIXED ASSETS WRITTEN OFF"},{"$nulls":5},0,0,0,{"$nulls":3},631]
[{"$f":"UPPER(\"Inventories written off\")","v":"INVENTORIES WRITTEN OFF"},{"$nulls":5},0,0,0,{"$nulls":3},632]
[{"$f":"UPPER(\"Investments written off\")","v":"INVESTMENTS WRITTEN OFF"},{"$nulls":5},0,0,0,{"$nulls":3},633]
[{"$f":"UPPER(\"Bad debts advances written off\")","v":"BAD DEBTS ADVANCES WRITTEN OFF"},{"$nulls":5},0,0,0,{"$nulls":3},634]
[{"$f":"UPPER(\"Other assets written off\")","v":"OTHER ASSETS WRITTEN OFF"},{"$nulls":5},0,0,0,{"$nulls":3},635]
["SUB TOTAL",null,null,{"$f":"SUM(D285:D290)","v":0},{"$f":"SUM(E285:E290)","v":0},null,0,0,1]
[{"$f":"UPPER(\"LESS: Liabilities written off\")","v":"LESS: LIABILITIES WRITTEN OFF"},{"$nulls":5},0,0,0,{"$nulls":3},636]
["TOTAL",null,null,{"$f":"D291-D292","v":0},{"$f":"E291-E292","v":0},null,0,0,1,{"$nulls":3},637]
[{"$nulls":8},2]
["SCHEDULE - 16 D 4 A",{"$f":"A285","v":"MISCELLANEOUS EXPENDITURE WRITTEN OFF "},{"$nulls":6},2]
["PARTICULARS",null,null,{"$f":"CYEND1","v":"2011-03-31"},{"$f":"PYEND1","v":"2010-03-31"},{"$nulls":3},2]
[{"$f":"UPPER(\"Deferred revenue expenditure written off\")","v":"DEFERRED REVENUE EXPENDITURE WRITTEN OFF"},{"$nulls":5},{"$f":"IF(AND(OR((ISNUMBER(D297)=TRUE),ISBLANK(D297)=TRUE),ISERROR(D297)=FALSE),0,1)","v":0},0,0,{"$nulls":3},618]
[{"$f":"UPPER(\"Preliminary expenses written off\")","v":"PRELIMINARY EXPENSES WRITTEN OFF"},{"$nulls":5},0,0,0,{"$nulls":3},619]
[{"$f":"UPPER(\"Shares debentures issue EXPENSES written off\")","v":"SHARES DEBENTURES ISSUE EXPENSES WRITTEN OFF"},null,null,{"$f":"D312","v":0},{"$f":"E312","v":0},null,0,0,1,{"$nulls":3},622]
[{"$f":"UPPER(\"Discount issue shares debentures written off \")","v":"DISCOUNT ISSUE SHARES DEBENTURES WRITTEN OFF "},null,null,{"$f":"D318","v":0},{"$f":"E318","v":0},null,0,0,1,{"$nulls":3},625]
[{"$f":"UPPER(\"Financing charges written off\")","v":"FINANCING CHARGES WRITTEN OFF"},{"$nulls":5},0,0,0,{"$nulls":3},626]
[{"$f":"UPPER(\"Voluntary retirement compensation written off\")","v":"VOLUNTARY RETIREMENT COMPENSATION WRITTEN OFF"},{"$nulls":5},0,0,0,{"$nulls":3},627]
[{"$f":"UPPER(\"Technical knowhow written off\")","v":"TECHNICAL KNOWHOW WRITTEN OFF"},{"$nulls":5},0,0,0,{"$nulls":3},628]
[{"$f":"UPPER(\"Other miscellaneous expenditure written off\")","v":"OTHER MISCELLANEOUS EXPENDITURE WRITTEN OFF"},{"$nulls":5},0,0,0,{"$nulls":3},629]
[{"$nulls":6},0,0,0]
["TOTAL",null,null,{"$f":"SUM(D297:D304)","v":0},{"$f":"SUM(E297:E304)","v":0},null,0,0,1,{"$nulls":3},630]
[{"$nulls":8},2]
["SCHEDULE - 16 D 4 A",{"$f":"A299","v":"SHARES DEBENTURES ISSUE EXPENSES WRITTEN OFF"},{"$nulls":6},2]
["PARTICULARS",null,null,{"$f":"CYEND1","v":"2011-03-31"},{"$f":"PYEND1","v":"2010-03-31"},{"$nulls":3},2]
[{"$f":"UPPER(\"Share issue expenses written off\")","v":"SHARE ISSUE EXPENSES WRITTEN OFF"},{"$nulls":5},{"$f":"IF(AND(OR((ISNUMBER(D310)=TRUE),ISBLANK(D310)=TRUE),ISERROR(D310)=FALSE),0,1)","v":0},0,0,{"$nulls":3},620]
[{"$f":"UPPER(\"Debenture issue expenses written off\")","v":"DEBENTURE ISSUE EXPENSES WRITTEN OFF"},{"$nulls":5},0,0,0,{"$nulls":3},621]
["TOTAL",null,null,{"$f":"SUM(D310:D311)","v":0},{"$f":"SUM(E310:E311)","v":0},null,0,0,1,{"$nulls":3},622]
[{"$nulls":8},2]
["SCHEDULE - 16 D 4 B",{"$f":"A300","v":"DISCOUNT ISSUE SHARES DEBENTURES WRITTEN OFF "},{"$nulls":6},2]
["PARTICULARS",null,null,{"$f":"CYEND1","v":"2011-03-31"},{"$f":"PYEND1","v":"2010-03-31"},{"$nulls":3},2]
[{"$f":"UPPER(\"Discount issue shares written off\")","v":"DISCOUNT ISSUE SHARES WRITTEN OFF"},{"$nulls":5},{"$f":"IF(AND(OR((ISNUMBER(D316)=TRUE),ISBLANK(D316)=TRUE),ISERROR(D316)=FALSE),0,1)","v":0},0,0,{"$nulls":3},623]
[{"$f":"UPPER(\"Discount issue debentures written off\")","v":"DISCOUNT ISSUE DEBENTURES WRITTEN OFF"},{"$nulls":5},0,0,0,{"$nulls":3},624]
["TOTAL",null,null,{"$f":"SUM(D316:D317)","v":0},{"$f":"SUM(E316:E317)","v":0},null,0,0,1,{"$nulls":3},625]
[{"$nulls":8},2]
["SCHEDULE - 16 D 5",{"$f":"'16-Expenditure'!A185","v":"LOSS ON REDEMPTION OF INVESTMENTS"},{"$nulls":6},2]
["PARTICULARS",null,null,{"$f":"CYEND1","v":"2011-03-31"},{"$f":"PYEND1","v":"2010-03-31"},{"$nulls":3},2]
[{"$f":"UPPER(\"long-term investments\")","v":"LONG-TERM INVESTMENTS"},{"$nulls":5},{"$f":"IF(AND(OR((ISNUMBER(D322)=TRUE),ISBLANK(D322)=TRUE),ISERROR(D322)=FALSE),0,1)","v":0},0,0,{"$nulls":3},639]
[{"$f":"UPPER(\"current investments\")","v":"CURRENT INVESTMENTS"},{"$nulls":5},0,0,0,{"$nulls":3},640]
["TOTAL",null,null,{"$f":"SUM(D322:D323)","v":0},{"$f":"SUM(E322:E323)","v":0},null,0,0,1,{"$nulls":3},641]
[{"$nulls":8},2]
["SCHEDULE - 16 D 6",{"$f":"'16-Expenditure'!A186","v":"LOSS ON SALE OR DISPOSAL OF FIXED ASSETS"},{"$nulls":6},2]
["PARTICULARS",null,null,{"$f":"CYEND1","v":"2011-03-31"},{"$f":"PYEND1","v":"2010-03-31"},{"$nulls":3},2]
[{"$f":"UPPER(\"tangible fixed assets\")","v":"TANGIBLE FIXED ASSETS"},{"$nulls":5},{"$f":"IF(AND(OR((ISNUMBER(D328)=TRUE),ISBLANK(D328)=TRUE),ISERROR(D328)=FALSE),0,1)","v":0},0,0,{"$nulls":3},642]
[{"$f":"UPPER(\"intangible fixed assets\")","v":"INTANGIBLE FIXED ASSETS"},{"$nulls":5},0,0,0,{"$nulls":3},643]
["TOTAL",null,null,{"$f":"SUM(D328:D329)","v":0},{"$f":"SUM(E328:E329)","v":0},null,0,0,1,{"$nulls":3},644]
[{"$nulls":8},2]
["SCHEDULE - 16 E",{"$f":"A8","v":"DEPRECIATION, AMORTISATION AND IMPAIRMENT"},{"$nulls":6},2]
["PARTICULARS",null,null,{"$f":"CYEND1","v":"2011-03-31"},{"$f":"PYEND1","v":"2010-03-31"},{"$nulls":3},2]
[{"$f":"UPPER(\"Depreciation amortisation expenses\")","v":"DEPRECIATION AMORTISATION EXPENSES"},null,null,{"$f":"D350","v":0},{"$f":"E350","v":0},null,{"$f":"IF(AND(OR((ISNUMBER(D334)=TRUE),ISBLANK(D334)=TRUE),ISERROR(D334)=FALSE),0,1)","v":0},0,1,{"$nulls":3},651]
[{"$f":"UPPER(\"Impairment fixed assets\")","v":"IMPAIRMENT FIXED ASSETS"},null,null,{"$f":"D356","v":0},{"$f":"E356","v":0},null,0,0,1,{"$nulls":3},655]
[{"$f":"UPPER(\"Other write-down assets\")","v":"OTHER WRITE-DOWN ASSETS"},{"$nulls":5},0,0,0,{"$nulls":3},659]
[{"$f":"UPPER(\"Share OF depreciation AND amortisation AND impairment IN joint ventures\")","v":"SHARE OF DEPRECIATION AND AMORTISATION AND IMPAIRMENT IN JOINT VENTURES"},null,null,{"$f":"'Notes-PL'!D67","v":0},{"$f":"'Notes-PL'!E67","v":0},null,0,0,1,{"$f":"CONSOLCHECK","v":"S"},null,null,661]
["SUB TOTAL",null,null,{"$f":"SUM(D334:D337)","v":0},{"$f":"SUM(E334:E337)","v":0},null,0,0,1]
[{"$f":"UPPER(\"LESS: Depreciation amortisation written back\")","v":"LESS: DEPRECIATION AMORTISATION WRITTEN BACK"},{"$nulls":5},0,0,0,{"$nulls":3},652]
[{"$f":"UPPER(\"LESS: Reversal impairment fixed assets\")","v":"LESS: REVERSAL IMPAIRMENT FIXED ASSETS"},null,null,{"$f":"D362","v":0},{"$f":"E362","v":0},null,0,0,1,{"$nulls":3},658]
[{"$f":"UPPER(\"LESS: Reversal other write-down assets\")","v":"LESS: REVERSAL OTHER WRITE-DOWN ASSETS"},{"$nulls":5},0,0,0,{"$nulls":3},660]
["TOTAL",null,null,{"$f":"D338-SUM(D339:D341)","v":0},{"$f":"E338-SUM(E339:E341)","v":0},null,0,0,1,{"$nulls":3},662]
[{"$nulls":8},2]
["SCHEDULE - 16 E 1",{"$f":"A334","v":"DEPRECIATION AMORTISATION EXPENSES"},{"$nulls":6},2]
["PARTICULARS",null,null,{"$f":"CYEND1","v":"2011-03-31"},{"$f":"PYEND1","v":"2010-03-31"},{"$nulls":3},2]
[{"$f":"UPPER(\"Depreciation tangible assets\")","v":"DEPRECIATION TANGIBLE ASSETS"},{"$nulls":5},{"$f":"IF(AND(OR((ISNUMBER(D346)=TRUE),ISBLANK(D346)=TRUE),ISERROR(D346)=FALSE),0,1)","v":0},0,0,{"$nulls":3},648]
[{"$f":"UPPER(\"Amortisation intangible assets\")","v":"AMORTISATION INTANGIBLE ASSETS"},{"$nulls":5},0,0,0,{"$nulls":3},649]
["SUB TOTAL",null,null,{"$f":"SUM(D346:D347)","v":0},{"$f":"SUM(E346:E347)","v":0},null,0,0,1]
[{"$f":"UPPER(\"LESS: Depreciation adjusted against revaluation reserve\")","v":"LESS: DEPRECIATION ADJUSTED AGAINST REVALUATION RESERVE"},{"$nulls":5},0,0,0,{"$nulls":3},650]
["TOTAL",null,null,{"$f":"D348-D349","v":0},{"$f":"E348-E349","v":0},null,0,0,1,{"$nulls":3},651]
[{"$nulls":8},2]
["SCHEDULE - 16 E 2",{"$f":"A335","v":"IMPAIRMENT FIXED ASSETS"},{"$nulls":6},2]
["PARTICULARS",null,null,{"$f":"CYEND1","v":"2011-03-31"},{"$f":"PYEND1","v":"2010-03-31"},{"$nulls":3},2]
[{"$f":"UPPER(\"Impairment tangible fixed assets\")","v":"IMPAIRMENT TANGIBLE FIXED ASSETS"},{"$nulls":5},{"$f":"IF(AND(OR((ISNUMBER(D354)=TRUE),ISBLANK(D354)=TRUE),ISERROR(D354)=FALSE),0,1)","v":0},0,0,{"$nulls":3},653]
[{"$f":"UPPER(\"Impairment intangible fixed assets\")","v":"IMPAIRMENT INTANGIBLE FIXED ASSETS"},{"$nulls":5},0,0,0,{"$nulls":3},654]
["TOTAL",null,null,{"$f":"SUM(D354:D355)","v":0},{"$f":"SUM(E354:E355)","v":0},null,0,0,1,{"$nulls":3},655]
[{"$nulls":8},2]
["SCHEDULE - 16 E 3","REVERSAL OF IMPAIRMENT OF FIXED ASSETS",{"$nulls":6},2]
["PARTICULARS",null,null,{"$f":"CYEND1","v":"2011-03-31"},{"$f":"PYEND1","v":"2010-03-31"},{"$nulls":3},2]
[{"$f":"UPPER(\"Reversal impairment tangible fixed assets\")","v":"REVERSAL IMPAIRMENT TANGIBLE FIXED ASSETS"},{"$nulls":5},{"$f":"IF(AND(OR((ISNUMBER(D360)=TRUE),ISBLANK(D360)=TRUE),ISERROR(D360)=FALSE),0,1)","v":0},0,0,{"$nulls":3},656]
[{"$f":"UPPER(\"Reversal impairment intangible fixed assets\")","v":"REVERSAL IMPAIRMENT INTANGIBLE FIXED ASSETS"},{"$nulls":5},0,0,0,{"$nulls":3},657]
["TOTAL",null,null,{"$f":"SUM(D360:D361)","v":0},{"$f":"SUM(E360:E361)","v":0},null,0,0,1,{"$nulls":3},658]
[{"$nulls":8},2]
["SCHEDULE - 16 F",{"$f":"A9","v":"INTEREST AND FINANCIAL CHARGES"},{"$nulls":6},2]
["PARTICULARS",null,null,{"$f":"CYEND1","v":"2011-03-31"},{"$f":"PYEND1","v":"2010-03-31"},{"$nulls":3},2]
["INTEREST EXPENSE BORROWINGS",null,null,{"$f":"D386","v":0},{"$f":"E386","v":0},null,{"$f":"IF(AND(OR((ISNUMBER(D366)=TRUE),ISBLANK(D366)=TRUE),ISERROR(D366)=FALSE),0,1)","v":0},0,1,{"$nulls":3},672]
[{"$f":"UPPER(\"Interest lease financing\")","v":"INTEREST LEASE FINANCING"},{"$nulls":5},0,0,0,{"$nulls":3},673]
[{"$f":"UPPER(\"Other interest charges\")","v":"OTHER INTEREST CHARGES"},{"$nulls":5},0,0,0,{"$nulls":3},674]
[{"$f":"UPPER(\"Discounting charges\")","v":"DISCOUNTING CHARGES"},{"$nulls":5},0,0,0,{"$nulls":3},675]
[{"$f":"UPPER(\"Guarantee commission\")","v":"GUARANTEE COMMISSION"},{"$nulls":5},0,0,0,{"$nulls":3},676]
[{"$f":"UPPER(\"Other financing charges\")","v":"OTHER FINANCING CHARGES"},{"$nulls":5},0,0,0,{"$nulls":3},677]
[{"$f":"UPPER(\"Exchange difference interest financial charges\")","v":"EXCHANGE DIFFERENCE INTEREST FINANCIAL CHARGES"},{"$nulls":5},0,0,0,{"$nulls":3},678]
["SHARE OF INTEREST FINANCIAL CHARGES IN JOINT VENTURES",null,null,{"$f":"'Notes-PL'!D68","v":0},{"$f":"'Notes-PL'!E68","v":0},null,0,0,1,{"$f":"CONSOLCHECK","v":"S"},null,null,682]
["SUB TOTAL",null,null,{"$f":"SUM(D366:D373)","v":0},{"$f":"SUM(E366:E373)","v":0},null,0,0,1]
["LESS: CAPITALISATION OF INTEREST AND FINANCIAL CHARGES",null,null,{"$f":"D404","v":0},{"$f":"E404","v":0},null,0,0,1,{"$nulls":3},681]
["TOTAL",null,null,{"$f":"D374-D375","v":0},{"$f":"E374-E375","v":0},null,0,0,1,{"$nulls":3},683]
[{"$nulls":8},2]
["SCHEDULE - 16 F 1","INTEREST EXPENSE BORROWINGS",{"$nulls":6},2]
["PARTICULARS",null,null,{"$f":"CYEND1","v":"2011-03-31"},{"$f":"PYEND1","v":"2010-03-31"},{"$nulls":3},2]
["INTEREST EXPENSE - BORROWINGS - LONG TERM",null,null,{"$f":"D392","v":0},{"$f":"E392","v":0},null,{"$f":"IF(AND(OR((ISNUMBER(D380)=TRUE),ISBLANK(D380)=TRUE),ISERROR(D380)=FALSE),0,1)","v":0},0,1,{"$nulls":3},665]
["INTEREST EXPENSE - BORROWINGS - SHORT TERM",null,null,{"$f":"D398","v":0},{"$f":"E398","v":0},null,0,0,1,{"$nulls":3},668]
["TOTAL - INTEREST EXPENSE - BORROWINGS",null,null,{"$f":"SUM(D380:D381)","v":0},{"$f":"SUM(E380:E381)","v":0},null,0,0,1]
[{"$f":"UPPER(\"Interest expense deposits\")","v":"INTEREST EXPENSE DEPOSITS"},{"$nulls":5},0,0,0,{"$nulls":3},669]
[{"$f":"UPPER(\"Interest expense debt securities\")","v":"INTEREST EXPENSE DEBT SECURITIES"},{"$nulls":5},0,0,0,{"$nulls":3},670]
[{"$f":"UPPER(\"Interest expense other borrowings\")","v":"INTEREST EXPENSE OTHER BORROWINGS"},{"$nulls":5},0,0,0,{"$nulls":3},671]
["TOTAL",null,null,{"$f":"SUM(D382:D385)","v":0},{"$f":"SUM(E382:E385)","v":0},null,0,0,1,{"$nulls":3},672]
[{"$nulls":8},2]
["SCHEDULE - 16 F 1 A",{"$f":"A380","v":"INTEREST EXPENSE - BORROWINGS - LONG TERM"},{"$nulls":6},2]
["PARTICULARS",null,null,{"$f":"CYEND1","v":"2011-03-31"},{"$f":"PYEND1","v":"2010-03-31"},{"$nulls":3},2]
["FROM BANKS",{"$nulls":5},{"$f":"IF(AND(OR((ISNUMBER(D390)=TRUE),ISBLANK(D390)=TRUE),ISERROR(D390)=FALSE),0,1)","v":0},0,0,{"$nulls":3},663]
["FROM OTHERS",{"$nulls":5},0,0,0,{"$nulls":3},664]
["TOTAL",null,null,{"$f":"SUM(D390:D391)","v":0},{"$f":"SUM(E390:E391)","v":0},null,0,0,1,{"$nulls":3},665]
[{"$nulls":8},2]
["SCHEDULE - 16 F 1 B",{"$f":"A381","v":"INTEREST EXPENSE - BORROWINGS - SHORT TERM"},{"$nulls":6},2]
["PARTICULARS",null,null,{"$f":"CYEND1","v":"2011-03-31"},{"$f":"PYEND1","v":"2010-03-31"},{"$nulls":3},2]
["FROM BANKS",{"$nulls":5},{"$f":"IF(AND(OR((ISNUMBER(D396)=TRUE),ISBLANK(D396)=TRUE),ISERROR(D396)=FALSE),0,1)","v":0},0,0,{"$nulls":3},666]
["FROM OTHERS",{"$nulls":5},0,0,0,{"$nulls":3},667]
["TOTAL",null,null,{"$f":"SUM(D396:D397)","v":0},{"$f":"SUM(E396:E397)","v":0},null,0,0,1,{"$nulls":3},668]
[{"$nulls":8},2]
["SCHEDULE - 16 F 2",{"$f":"MID(A375,7,100)","v":"CAPITALISATION OF INTEREST AND FINANCIAL CHARGES"},{"$nulls":6},2]
["PARTICULARS",null,null,{"$f":"CYEND1","v":"2011-03-31"},{"$f":"PYEND1","v":"2010-03-31"},{"$nulls":3},2]
[{"$f":"UPPER(\"At Specific Rates - Funds borrowed specifically\")","v":"AT SPECIFIC RATES - FUNDS BORROWED SPECIFICALLY"},{"$nulls":5},{"$f":"IF(AND(OR((ISNUMBER(D402)=TRUE),ISBLANK(D402)=TRUE),ISERROR(D402)=FALSE),0,1)","v":0},0,0,{"$nulls":3},679]
[{"$f":"UPPER(\"At General Rates - Funds borrowed generally\")","v":"AT GENERAL RATES - FUNDS BORROWED GENERALLY"},{"$nulls":5},0,0,0,{"$nulls":3},680]
["TOTAL",null,null,{"$f":"SUM(D402:D403)","v":0},{"$f":"SUM(E402:E403)","v":0},null,0,0,1,{"$nulls":3},681]
[{"$nulls":8},2]
["SCHEDULE - 16 G ","PROVISION FOR TAXATION",{"$nulls":6},2]
["PARTICULARS",null,null,{"$f":"CYEND1","v":"2011-03-31"},{"$f":"PYEND1","v":"2010-03-31"},{"$nulls":3},2]
[{"$f":"UPPER(\"Provision current tax\")","v":"PROVISION CURRENT TAX"},{"$nulls":5},{"$f":"IF(AND(OR((ISNUMBER(D408)=TRUE),ISBLANK(D408)=TRUE),ISERROR(D408)=FALSE),0,1)","v":0},0,0,{"$nulls":3},684]
[{"$f":"UPPER(\"Provision deferred tax\")","v":"PROVISION DEFERRED TAX"},{"$nulls":5},0,0,0,{"$nulls":3},685]
[{"$f":"UPPER(\"Provision wealth tax\")","v":"PROVISION WEALTH TAX"},{"$nulls":5},0,0,0,{"$nulls":3},686]
[{"$f":"UPPER(\"Provision tax earlier years\")","v":"PROVISION TAX EARLIER YEARS"},{"$nulls":5},0,0,0,{"$nulls":3},688]
[{"$f":"UPPER(\"Provision fringe benefit tax\")","v":"PROVISION FRINGE BENEFIT TAX"},{"$nulls":5},0,0,0,{"$nulls":3},689]
["TAX EFFECT OF EXTRAORDINARY ITEMS",null,null,{"$f":"+'Notes-PL'!D38","v":0},{"$f":"+'Notes-PL'!E38","v":0},null,{"$f":"IF(AND(OR((ISNUMBER(D413)=TRUE),ISBLANK(D413)=TRUE),ISERROR(D413)=FALSE),0,1)","v":0},{"$f":"IF(AND(OR((ISNUMBER(E413)=TRUE),ISBLANK(E413)=TRUE),ISERROR(E413)=FALSE),0,1)","v":0},1,{"$nulls":3},690]
["TAX EFFECT OF PRIOR PERIOD ITEMS",null,null,{"$f":"+'Notes-PL'!D24","v":0},{"$f":"+'Notes-PL'!E24","v":0},null,{"$f":"IF(AND(OR((ISNUMBER(D414)=TRUE),ISBLANK(D414)=TRUE),ISERROR(D414)=FALSE),0,1)","v":0},{"$f":"IF(AND(OR((ISNUMBER(E414)=TRUE),ISBLANK(E414)=TRUE),ISERROR(E414)=FALSE),0,1)","v":0},1,{"$nulls":3},691]
[{"$f":"UPPER(\"Other adjustments tax\")","v":"OTHER ADJUSTMENTS TAX"},{"$nulls":5},0,0,0,{"$nulls":3},692]
["SUB TOTAL",null,null,{"$f":"SUM(D408:D415)","v":0},{"$f":"SUM(E408:E415)","v":0},null,0,0,1]
[{"$f":"UPPER(\"LESS: MAT credit entitlement\")","v":"LESS: MAT CREDIT ENTITLEMENT"},{"$nulls":5},0,0,0,{"$nulls":3},687]
["TOTAL",null,null,{"$f":"D416-D417","v":0},{"$f":"E416-E417","v":0},null,0,0,1,{"$nulls":3},0,"PL",144]
[{"$nulls":8},2]
["SCHEDULE - 16 H","EMPLOYEE RELATED EXPENSES",{"$nulls":6},2]
["PARTICULARS",null,null,{"$f":"CYEND1","v":"2011-03-31"},{"$f":"PYEND1","v":"2010-03-31"},{"$nulls":3},2]
["EMPLOYEE REMUNERATION BENEFITS",null,null,{"$f":"D439","v":0},{"$f":"E439","v":0},null,{"$f":"IF(AND(OR((ISNUMBER(D422)=TRUE),ISBLANK(D422)=TRUE),ISERROR(D422)=FALSE),0,1)","v":0},0,1,{"$nulls":3},704]
[{"$f":"UPPER(\"Staff welfare expenses\")","v":"STAFF WELFARE EXPENSES"},{"$nulls":5},0,0,0,{"$nulls":3},705]
[{"$f":"UPPER(\"Training recruitment expenses\")","v":"TRAINING RECRUITMENT EXPENSES"},{"$nulls":5},0,0,0,{"$nulls":3},706]
[{"$f":"UPPER(\"Other employee related expenses\")","v":"OTHER EMPLOYEE RELATED EXPENSES"},{"$nulls":5},0,0,0,{"$nulls":3},707]
["SHARE OF EMPLOYEE RELATED EXPENSES IN JOINT VENTURES",null,null,{"$f":"'Notes-PL'!D69","v":0},{"$f":"'Notes-PL'!E69","v":0},null,0,0,1,{"$f":"CONSOLCHECK","v":"S"},null,null,708]
["SUB TOTAL",null,null,{"$f":"SUM(D422:D426)","v":0},{"$f":"SUM(E422:E426)","v":0},null,0,0,1]
["LESS: CAPITALISATION OF EMPLOYEE RELATED EXPENSES",{"$nulls":5},0,0,0,{"$nulls":3},709]
["TOTAL",null,null,{"$f":"D427-D428","v":0},{"$f":"E427-E428","v":0},null,0,0,1,{"$nulls":3},710]
[{"$nulls":8},2]
["SCHEDULE - 16 H 1",{"$f":"A422","v":"EMPLOYEE REMUNERATION BENEFITS"},{"$nulls":6},2]
["PARTICULARS",null,null,{"$f":"CYEND1","v":"2011-03-31"},{"$f":"PYEND1","v":"2010-03-31"},{"$nulls":3},2]
[{"$f":"UPPER(\"Salary wages bonus\")","v":"SALARY WAGES BONUS"},{"$nulls":5},{"$f":"IF(AND(OR((ISNUMBER(D433)=TRUE),ISBLANK(D433)=TRUE),ISERROR(D433)=FALSE),0,1)","v":0},0,0,{"$nulls":3},693]
[{"$f":"UPPER(\"Commission employees\")","v":"COMMISSION EMPLOYEES"},{"$nulls":5},0,0,0,{"$nulls":3},694]
[{"$f":"UPPER(\"Employee stock compensation expenses\")","v":"EMPLOYEE STOCK COMPENSATION EXPENSES"},{"$nulls":5},0,0,0,{"$nulls":3},695]
[{"$f":"UPPER(\"Employee medical insurance expenses\")","v":"EMPLOYEE MEDICAL INSURANCE EXPENSES"},{"$nulls":5},0,0,0,{"$nulls":3},696]
[{"$f":"UPPER(\"Leave encashment expenses\")","v":"LEAVE ENCASHMENT EXPENSES"},{"$nulls":5},0,0,0,{"$nulls":3},697]
[{"$f":"UPPER(\"Retirement benefits\")","v":"RETIREMENT BENEFITS"},null,null,{"$f":"D448","v":0},{"$f":"E448","v":0},null,0,0,1,{"$nulls":3},703]
["TOTAL",null,null,{"$f":"SUM(D433:D438)","v":0},{"$f":"SUM(E433:E438)","v":0},null,0,0,1,{"$nulls":3},704]
[{"$nulls":8},2]
["SCHEDULE - 16 H 1 A",{"$f":"A438","v":"RETIREMENT BENEFITS"},{"$nulls":6},2]
["PARTICULARS",null,null,{"$f":"CYEND1","v":"2011-03-31"},{"$f":"PYEND1","v":"2010-03-31"},{"$nulls":3},2]
[{"$f":"UPPER(\"Gratuity\")","v":"GRATUITY"},{"$nulls":5},{"$f":"IF(AND(OR((ISNUMBER(D443)=TRUE),ISBLANK(D443)=TRUE),ISERROR(D443)=FALSE),0,1)","v":0},0,0,{"$nulls":3},698]
[{"$f":"UPPER(\"Pension schemes\")","v":"PENSION SCHEMES"},{"$nulls":5},0,0,0,{"$nulls":3},699]
[{"$f":"UPPER(\"Provident fund\")","v":"PROVIDENT FUND"},{"$nulls":5},0,0,0,{"$nulls":3},700]
[{"$f":"UPPER(\"Voluntary retirement compensation\")","v":"VOLUNTARY RETIREMENT COMPENSATION"},{"$nulls":5},0,0,0,{"$nulls":3},701]
[{"$f":"UPPER(\"Other retirement benefits\")","v":"OTHER RETIREMENT BENEFITS"},{"$nulls":5},0,0,0,{"$nulls":3},702]
["TOTAL",null,null,{"$f":"SUM(D443:D447)","v":0},{"$f":"SUM(E443:E447)","v":0},null,0,0,1,{"$nulls":3},703]
[{"$nulls":8},2]
["SCHEDULE - 16 I","RESEARCH AND DEVELOPMENT EXPENDITURE",{"$nulls":6},2]
["PARTICULARS",null,null,{"$f":"CYEND1","v":"2011-03-31"},{"$f":"PYEND1","v":"2010-03-31"},{"$nulls":3},2]
[{"$f":"UPPER(\"Cost material research development\")","v":"COST MATERIAL RESEARCH DEVELOPMENT"},{"$nulls":5},{"$f":"IF(AND(OR((ISNUMBER(D452)=TRUE),ISBLANK(D452)=TRUE),ISERROR(D452)=FALSE),0,1)","v":0},0,0,{"$nulls":3},711]
[{"$f":"UPPER(\"Cost labour research development\")","v":"COST LABOUR RESEARCH DEVELOPMENT"},{"$nulls":5},0,0,0,{"$nulls":3},712]
[{"$f":"UPPER(\"Cost testing trial research development\")","v":"COST TESTING TRIAL RESEARCH DEVELOPMENT"},{"$nulls":5},0,0,0,{"$nulls":3},713]
[{"$f":"UPPER(\"Administration general expenses research development\")","v":"ADMINISTRATION GENERAL EXPENSES RESEARCH DEVELOPMENT"},{"$nulls":5},0,0,0,{"$nulls":3},714]
[{"$f":"UPPER(\"Depreciation amortisation research development\")","v":"DEPRECIATION AMORTISATION RESEARCH DEVELOPMENT"},{"$nulls":5},0,0,0,{"$nulls":3},715]
[{"$f":"UPPER(\"Other adjustments research development\")","v":"OTHER ADJUSTMENTS RESEARCH DEVELOPMENT"},{"$nulls":5},0,0,0,{"$nulls":3},716]
["SUB TOTAL",null,null,{"$f":"SUM(D452:D457)","v":0},{"$f":"SUM(E452:E457)","v":0},null,0,0,1]
[{"$f":"UPPER(\"LESS: Capitalisation research development expenditure\")","v":"LESS: CAPITALISATION RESEARCH DEVELOPMENT EXPENDITURE"},{"$nulls":5},0,0,0,{"$nulls":3},717]
["TOTAL",null,null,{"$f":"D458-D459","v":0},{"$f":"E458-E459","v":0},null,0,0,1,{"$nulls":3},0,"PL",130]
[{"$nulls":8},2]
["SCHEDULE - 16 J","TAX EFFECT DISCONTINUING OPERATIONS",{"$nulls":6},2]
["PARTICULARS",null,null,{"$f":"CYEND1","v":"2011-03-31"},{"$f":"PYEND1","v":"2010-03-31"},{"$nulls":3},2]
["TAX EFFECT - INCOME / LOSS FROM DISCONTINUING OPERATIONS",{"$nulls":5},{"$f":"IF(AND(OR((ISNUMBER(D464)=TRUE),ISBLANK(D464)=TRUE),ISERROR(D464)=FALSE),0,1)","v":0},0,0,{"$nulls":3},0]
["TAX EFFECT - SALE / DISPOSAL OF DISCONTINUING OPERATIONS",{"$nulls":5},0,0,0,{"$nulls":3},0]
["TOTAL",null,null,{"$f":"SUM(D464:D465)","v":0},{"$f":"SUM(E464:E465)","v":0},null,0,0,1,{"$nulls":3},0]
[{"$nulls":8},2]
["SCHEDULE - NOTES","AUDITORS' REMUNERATION [DATA TRANSFERRED FROM SHEET - NOTES-PL]",{"$nulls":6},2]
["PARTICULARS",null,null,{"$f":"CYEND1","v":"2011-03-31"},{"$f":"PYEND1","v":"2010-03-31"},{"$nulls":3},2]
[{"$f":"UPPER(\"Audit fees\")","v":"AUDIT FEES"},null,null,{"$f":"+'Notes-PL'!D5","v":0},{"$f":"+'Notes-PL'!E5","v":0},null,{"$f":"IF(AND(OR((ISNUMBER(D470)=TRUE),ISBLANK(D470)=TRUE),ISERROR(D470)=FALSE),0,1)","v":0},0,1]
[{"$f":"UPPER(\"Consultancy fees auditors \")","v":"CONSULTANCY FEES AUDITORS "},null,null,{"$f":"D482","v":0},{"$f":"E482","v":0},null,0,0,1]
[{"$f":"UPPER(\"Certification fees\")","v":"CERTIFICATION FEES"},null,null,{"$f":"+'Notes-PL'!D7","v":0},{"$f":"+'Notes-PL'!E7","v":0},null,0,0,1]
[{"$f":"UPPER(\"Reimbursement auditors expenses\")","v":"REIMBURSEMENT AUDITORS EXPENSES"},null,null,{"$f":"+'Notes-PL'!D8","v":0},{"$f":"+'Notes-PL'!E8","v":0},null,0,0,1]
[{"$f":"\"TOTAL \" & UPPER(\"auditors' REMUNERATION\")","v":"TOTAL AUDITORS' REMUNERATION"},null,null,{"$f":"SUM(D470:D473)","v":0},{"$f":"SUM(E470:E473)","v":0},null,0,0,1]
[{"$nulls":8},2]
["SCHEDULE - NOTES","AUDITORS' REMUNERATION - CONSULTANCY FEES AUDITORS",{"$nulls":6},2]
["PARTICULARS",null,null,{"$f":"CYEND1","v":"2011-03-31"},{"$f":"PYEND1","v":"2010-03-31"},{"$nulls":3},2]
[{"$f":"UPPER(\"Legal consultancy fees\")","v":"LEGAL CONSULTANCY FEES"},null,null,{"$f":"+'Notes-PL'!D13","v":0},{"$f":"+'Notes-PL'!E13","v":0},null,{"$f":"IF(AND(OR((ISNUMBER(D478)=TRUE),ISBLANK(D478)=TRUE),ISERROR(D478)=FALSE),0,1)","v":0},0,1]
[{"$f":"UPPER(\"Tax consultancy fees\")","v":"TAX CONSULTANCY FEES"},null,null,{"$f":"+'Notes-PL'!D14","v":0},{"$f":"+'Notes-PL'!E14","v":0},null,0,0,1]
[{"$f":"UPPER(\"Management consultancy fees\")","v":"MANAGEMENT CONSULTANCY FEES"},null,null,{"$f":"+'Notes-PL'!D15","v":0},{"$f":"+'Notes-PL'!E15","v":0},null,0,0,1]
[{"$f":"UPPER(\"Other consultancy fees\")","v":"OTHER CONSULTANCY FEES"},null,null,{"$f":"+'Notes-PL'!D16","v":0},{"$f":"+'Notes-PL'!E16","v":0},null,0,0,1]
[{"$f":"\"TOTAL \" & UPPER(\"Consultancy fees auditors\")","v":"TOTAL CONSULTANCY FEES AUDITORS"},null,null,{"$f":"SUM(D478:D481)","v":0},{"$f":"SUM(E478:E481)","v":0},null,0,0,1]
[{"$nulls":8},2]
["FOOTNOTES",null,"SCHEDULE - 16 EXPENDITURE",{"$nulls":5},2]
["ELEMENT LABEL",null,null,{"$f":"CYEND1","v":"2011-03-31"},{"$f":"PYEND1","v":"2010-03-31"},{"$f":"PYEND3","v":"2009-03-31"},null,null,2]
["Purchase raw materials during year",{"$nulls":7},0,{"$nulls":3},37]
["Incidental expenses purchase raw material",{"$nulls":7},0,{"$nulls":3},38]
["Transfer sale raw materials",{"$nulls":7},0,{"$nulls":3},39]
["Return raw materials purchased",{"$nulls":7},0,{"$nulls":3},41]
["Adjustments raw materials",{"$nulls":7},0,{"$nulls":3},42]
["Stock of Raw Materials, Closing Balance",{"$nulls":7},0,{"$nulls":3},43]
["Consumption raw materials",{"$nulls":7},0,{"$nulls":3},44]
["Purchase packing materials during year",{"$nulls":7},0,{"$nulls":3},49]
["Stock of Packing Materials, Closing Balance",{"$nulls":7},0,{"$nulls":3},51]
["Consumption packing materials",{"$nulls":7},0,{"$nulls":3},52]
["Purchase stores spares during year",{"$nulls":7},0,{"$nulls":3},57]
["Stock of Stores and Spares, Closing Balance",{"$nulls":7},0,{"$nulls":3},59]
["Consumption stores spares",{"$nulls":7},0,{"$nulls":3},60]
["Purchase other materials during year",{"$nulls":7},0,{"$nulls":3},65]
["Stock of Other Materials, Closing Balance",{"$nulls":7},0,{"$nulls":3},67]
["Consumption other materials",{"$nulls":7},0,{"$nulls":3},68]
["Capitalisation raw other materials",{"$nulls":7},0,{"$nulls":3},31]
["Consumption raw other materials",{"$nulls":7},0,{"$nulls":3},32]
["Purchase traded goods during year",{"$nulls":7},0,{"$nulls":3},73]
["Stock of Traded Goods, Closing Balance",{"$nulls":7},0,{"$nulls":3},75]
["Cost traded goods",{"$nulls":7},0,{"$nulls":3},76]
["Purchase of finished goods during period",{"$nulls":7},0,{"$nulls":3},89]
["Stock of Finished Goods, Closing Balance",{"$nulls":7},0,{"$nulls":3},90]
["Increase decrease finished goods",{"$nulls":7},0,{"$nulls":3},91]
["Stock of Work-in-Progress, Closing Balance",{"$nulls":7},0,{"$nulls":3},96]
["Increase decrease work-in progress",{"$nulls":7},0,{"$nulls":3},97]
["Stock of Other Inventories, Closing Balance",{"$nulls":7},0,{"$nulls":3},102]
["Increase decrease other inventories",{"$nulls":7},0,{"$nulls":3},103]
["Increase decrease excise duty inventories",{"$nulls":7},0,{"$nulls":3},83]
["Increase decrease inventories",{"$nulls":7},0,{"$nulls":3},84]
["Share materials stocks joint ventures",{"$nulls":7},0,{"$nulls":3},21]
["Site labour supervision cost contracts",{"$nulls":7},0,{"$nulls":3},107]
["Material cost contract",{"$nulls":7},0,{"$nulls":3},108]
["Depreciation assets contracts",{"$nulls":7},0,{"$nulls":3},109]
["Cost transportation assets contracts",{"$nulls":7},0,{"$nulls":3},110]
["Hire charges assets contracts",{"$nulls":7},0,{"$nulls":3},111]
["Cost design technical assistance contracts",{"$nulls":7},0,{"$nulls":3},112]
["Warranty cost contracts",{"$nulls":7},0,{"$nulls":3},113]
["Other claims contracts",{"$nulls":7},0,{"$nulls":3},114]
["Sale material scrap other assets contracts",{"$nulls":7},0,{"$nulls":3},115]
["Insurance cost apportioned contract",{"$nulls":7},0,{"$nulls":3},121]
["Design technical assistance apportioned contracts",{"$nulls":7},0,{"$nulls":3},122]
["Other overheads apportioned contracts",{"$nulls":7},0,{"$nulls":3},123]
["Overhead costs apportioned contracts",{"$nulls":7},0,{"$nulls":3},124]
["Cost power fuel",{"$nulls":7},0,{"$nulls":3},128]
["Cost repairs maintenance factory building",{"$nulls":7},0,{"$nulls":3},151]
["Cost repairs maintenance plant machinery",{"$nulls":7},0,{"$nulls":3},152]
["Cost repairs maintenance other assets",{"$nulls":7},0,{"$nulls":3},153]
["Cost repairs maintenance",{"$nulls":7},0,{"$nulls":3},154]
["Cost software",{"$nulls":7},0,{"$nulls":3},158]
["Cost hardware",{"$nulls":7},0,{"$nulls":3},159]
["Cost communication connectivity",{"$nulls":7},0,{"$nulls":3},160]
["Cost information technology",{"$nulls":7},0,{"$nulls":3},161]
["Cost insurance",{"$nulls":7},0,{"$nulls":3},131]
["Cost freight",{"$nulls":7},0,{"$nulls":3},165]
["Cost octroi",{"$nulls":7},0,{"$nulls":3},166]
["Cost loading unloading",{"$nulls":7},0,{"$nulls":3},167]
["Cost other transporting",{"$nulls":7},0,{"$nulls":3},168]
["Cost transportation",{"$nulls":7},0,{"$nulls":3},169]
["Cost lease rentals",{"$nulls":7},0,{"$nulls":3},133]
["Cost effluent disposal",{"$nulls":7},0,{"$nulls":3},134]
["Cost site restoration reclamation",{"$nulls":7},0,{"$nulls":3},135]
["Cost warehousing",{"$nulls":7},0,{"$nulls":3},136]
["Central excise duty",{"$nulls":7},0,{"$nulls":3},173]
["Purchase tax",{"$nulls":7},0,{"$nulls":3},174]
["Other cess taxes",{"$nulls":7},0,{"$nulls":3},175]
["Cost taxes other levies by government local authorities",{"$nulls":7},0,{"$nulls":3},176]
["Cost water charges",{"$nulls":7},0,{"$nulls":3},138]
["Cost reimbursable expenses",{"$nulls":7},0,{"$nulls":3},139]
["Cost technical services",{"$nulls":7},0,{"$nulls":3},140]
["Cost Royalty",{"$nulls":7},0,{"$nulls":3},141]
["Other manufacturing service costs",{"$nulls":7},0,{"$nulls":3},142]
["Allowances manufacturing service cost",{"$nulls":7},0,{"$nulls":3},145]
["Share manufacturing service cost joint ventures",{"$nulls":7},0,{"$nulls":3},143]
["Subscriptions membership fees",{"$nulls":7},0,{"$nulls":3},196]
["Electricity expenses",{"$nulls":7},0,{"$nulls":3},197]
["Telephone postage",{"$nulls":7},0,{"$nulls":3},198]
["Printing stationery",{"$nulls":7},0,{"$nulls":3},199]
["Information technology expenses",{"$nulls":7},0,{"$nulls":3},200]
["Travelling conveyance",{"$nulls":7},0,{"$nulls":3},201]
["Catering canteen expenses",{"$nulls":7},0,{"$nulls":3},202]
["Entertainment expenses",{"$nulls":7},0,{"$nulls":3},203]
["Legal professional charges",{"$nulls":7},0,{"$nulls":3},204]
["Insurance expenses",{"$nulls":7},0,{"$nulls":3},205]
["Repairs maintenance expenses",{"$nulls":7},0,{"$nulls":3},206]
["Vehicle running expenses",{"$nulls":7},0,{"$nulls":3},207]
["Rent",{"$nulls":7},0,{"$nulls":3},225]
["Rates and taxes",{"$nulls":7},0,{"$nulls":3},226]
["Rent rates taxes",{"$nulls":7},0,{"$nulls":3},227]
["Safety security expenses",{"$nulls":7},0,{"$nulls":3},209]
["Auditors remuneration",{"$nulls":7},0,{"$nulls":3},210]
["Directors sitting fees",{"$nulls":7},0,{"$nulls":3},211]
["Salary to directors",{"$nulls":7},0,{"$nulls":3},237]
["Commission to directors",{"$nulls":7},0,{"$nulls":3},238]
["Other benefits directors",{"$nulls":7},0,{"$nulls":3},239]
["Remuneration to directors",{"$nulls":7},0,{"$nulls":3},240]
["Salary to managers",{"$nulls":7},0,{"$nulls":3},244]
["Commission to managers",{"$nulls":7},0,{"$nulls":3},245]
["Other benefits to managers",{"$nulls":7},0,{"$nulls":3},246]
["Remuneration to managers",{"$nulls":7},0,{"$nulls":3},247]
["Managerial remuneration",{"$nulls":7},0,{"$nulls":3},233]
["Donations subscriptions",{"$nulls":7},0,{"$nulls":3},213]
["Books periodicals",{"$nulls":7},0,{"$nulls":3},214]
["Seminars conference expenses",{"$nulls":7},0,{"$nulls":3},215]
["Registration filing fees",{"$nulls":7},0,{"$nulls":3},216]
["Custodial fees",{"$nulls":7},0,{"$nulls":3},217]
["Bank charges",{"$nulls":7},0,{"$nulls":3},218]
["Guest house expenses",{"$nulls":7},0,{"$nulls":3},219]
["Other administrative general expenses",{"$nulls":7},0,{"$nulls":3},220]
["Administrative general expenses",{"$nulls":7},0,{"$nulls":3},221]
["Advertising promotional expenses",{"$nulls":7},0,{"$nulls":3},251]
["After sales service expenses",{"$nulls":7},0,{"$nulls":3},252]
["Warranty claim expenses",{"$nulls":7},0,{"$nulls":3},253]
["Commission paid sole selling agents",{"$nulls":7},0,{"$nulls":3},254]
["Commission paid other selling agents",{"$nulls":7},0,{"$nulls":3},255]
["Transportation distribution expenses",{"$nulls":7},0,{"$nulls":3},256]
["Secondary packing expenses",{"$nulls":7},0,{"$nulls":3},257]
["Other selling distribution expenses",{"$nulls":7},0,{"$nulls":3},258]
["Selling distribution expenses",{"$nulls":7},0,{"$nulls":3},259]
["Provision bad doubtful debts advances created",{"$nulls":7},0,{"$nulls":3},263]
["Excess provisions bad doubtful debts advances written back",{"$nulls":7},0,{"$nulls":3},271]
["Provision diminution value current investments created",{"$nulls":7},0,{"$nulls":3},277]
["Provision diminution value long-term investments created",{"$nulls":7},0,{"$nulls":3},278]
["Excess provision diminution in value investment written back",{"$nulls":7},0,{"$nulls":3},280]
["Provision diminution value investments created",{"$nulls":7},0,{"$nulls":3},281]
["Provision contingencies created",{"$nulls":7},0,{"$nulls":3},265]
["Provision warranty claims created",{"$nulls":7},0,{"$nulls":3},266]
["Provision statutory liabilities created",{"$nulls":7},0,{"$nulls":3},267]
["Provision restructuring created",{"$nulls":7},0,{"$nulls":3},268]
["Other provisions created",{"$nulls":7},0,{"$nulls":3},269]
["Other excess provisions written back",{"$nulls":7},0,{"$nulls":3},272]
["Net provisions charged",{"$nulls":7},0,{"$nulls":3},273]
["Deferred revenue expenditure written off",{"$nulls":7},0,{"$nulls":3},297]
["Preliminary expenses written off",{"$nulls":7},0,{"$nulls":3},298]
["Share issue expenses written off",{"$nulls":7},0,{"$nulls":3},310]
["Debenture issue expenses written off",{"$nulls":7},0,{"$nulls":3},311]
["Shares debentures issue written off",{"$nulls":7},0,{"$nulls":3},312]
["Discount issue shares written off",{"$nulls":7},0,{"$nulls":3},316]
["Discount issue debentures written off",{"$nulls":7},0,{"$nulls":3},317]
["Discount issue shares debentures written off",{"$nulls":7},0,{"$nulls":3},318]
["Financing charges written off",{"$nulls":7},0,{"$nulls":3},301]
["Voluntary retirement compensation written off",{"$nulls":7},0,{"$nulls":3},302]
["Technical knowhow written off",{"$nulls":7},0,{"$nulls":3},303]
["Other miscellaneous expenditure written off",{"$nulls":7},0,{"$nulls":3},304]
["Miscellaneous expenditure written off",{"$nulls":7},0,{"$nulls":3},306]
["Fixed assets written off",{"$nulls":7},0,{"$nulls":3},286]
["Inventories written off",{"$nulls":7},0,{"$nulls":3},287]
["Investments written off",{"$nulls":7},0,{"$nulls":3},288]
["Bad debts advances written off",{"$nulls":7},0,{"$nulls":3},289]
["Other assets written off",{"$nulls":7},0,{"$nulls":3},290]
["Liabilities written off",{"$nulls":7},0,{"$nulls":3},292]
["Write-off assets liabilities",{"$nulls":7},0,{"$nulls":3},293]
["Foreign exchange difference expense",{"$nulls":7},0,{"$nulls":3},184]
["Loss sale long-term investments",{"$nulls":7},0,{"$nulls":3},322]
["Loss sale current investments",{"$nulls":7},0,{"$nulls":3},323]
["Loss sale redemption investments",{"$nulls":7},0,{"$nulls":3},324]
["Loss sale disposal tangible fixed assets",{"$nulls":7},0,{"$nulls":3},328]
["Loss sale disposal intangible fixed assets",{"$nulls":7},0,{"$nulls":3},329]
["Loss sale disposal fixed assets",{"$nulls":7},0,{"$nulls":3},330]
["Other expenditure",{"$nulls":7},0,{"$nulls":3},187]
["Allowances administration selling expenses",{"$nulls":7},0,{"$nulls":3},190]
["Share administration selling expenses joint ventures",{"$nulls":7},0,{"$nulls":3},188]
["Depreciation tangible assets",{"$nulls":7},0,{"$nulls":3},346]
["Amortisation intangible assets",{"$nulls":7},0,{"$nulls":3},347]
["Depreciation adjusted against revaluation reserve",{"$nulls":7},0,{"$nulls":3},349]
["Depreciation amortisation expenses",{"$nulls":7},0,{"$nulls":3},350]
["Depreciation amortisation written back",{"$nulls":7},0,{"$nulls":3},339]
["Impairment tangible fixed assets",{"$nulls":7},0,{"$nulls":3},354]
["Impairment intangible fixed assets",{"$nulls":7},0,{"$nulls":3},355]
["Impairment fixed assets",{"$nulls":7},0,{"$nulls":3},356]
["Reversal impairment tangible fixed assets",{"$nulls":7},0,{"$nulls":3},360]
["Reversal impairment intangible fixed assets",{"$nulls":7},0,{"$nulls":3},361]
["Reversal impairment fixed assets",{"$nulls":7},0,{"$nulls":3},362]
["Other write-down assets",{"$nulls":7},0,{"$nulls":3},336]
["Reversal other write-down assets",{"$nulls":7},0,{"$nulls":3},341]
["Share depreciation amortisation impairment joint ventures",{"$nulls":7},0,{"$nulls":3},337]
["Depreciation amortisation impairment",{"$nulls":7},0,{"$nulls":3},342]
["Interest expense long-term loans banks",{"$nulls":7},0,{"$nulls":3},390]
["Interest expense long-term loans others",{"$nulls":7},0,{"$nulls":3},391]
["Interest expense long-term loans",{"$nulls":7},0,{"$nulls":3},392]
["Interest expense short-term loans banks",{"$nulls":7},0,{"$nulls":3},396]
["Interest expense short-term loans others",{"$nulls":7},0,{"$nulls":3},397]
["Interest expense short-term loans",{"$nulls":7},0,{"$nulls":3},398]
["Interest expense deposits",{"$nulls":7},0,{"$nulls":3},383]
["Interest expense debt securities",{"$nulls":7},0,{"$nulls":3},384]
["Interest expense other borrowings",{"$nulls":7},0,{"$nulls":3},385]
["Interest expense borrowings",{"$nulls":7},0,{"$nulls":3},386]
["Interest lease financing",{"$nulls":7},0,{"$nulls":3},367]
["Other interest charges",{"$nulls":7},0,{"$nulls":3},368]
["Discounting charges",{"$nulls":7},0,{"$nulls":3},369]
["Guarantee commission",{"$nulls":7},0,{"$nulls":3},370]
["Other financing charges",{"$nulls":7},0,{"$nulls":3},371]
["Exchange difference interest financial charges",{"$nulls":7},0,{"$nulls":3},372]
["Capitalisation specific interest financial expenses",{"$nulls":7},0,{"$nulls":3},402]
["Capitalisation general interest financial expenses",{"$nulls":7},0,{"$nulls":3},403]
["Capitalisation interest financial expenses",{"$nulls":7},0,{"$nulls":3},404]
["Share interest financial charges joint ventures",{"$nulls":7},0,{"$nulls":3},373]
["Interest financial charges",{"$nulls":7},0,{"$nulls":3},9]
["Provision current tax",{"$nulls":7},0,{"$nulls":3},408]
["Provision deferred tax",{"$nulls":7},0,{"$nulls":3},409]
["Provision wealth tax",{"$nulls":7},0,{"$nulls":3},410]
["MAT credit entitlement",{"$nulls":7},0,{"$nulls":3},417]
["Provision tax earlier years",{"$nulls":7},0,{"$nulls":3},411]
["Provision fringe benefit tax",{"$nulls":7},0,{"$nulls":3},412]
["Tax effect of extraordinary items",{"$nulls":7},0,{"$nulls":3},413]
["Tax effect of prior period items",{"$nulls":7},0,{"$nulls":3},414]
["Other adjustments tax",{"$nulls":7},0,{"$nulls":3},415]
["Salary wages bonus",{"$nulls":7},0,{"$nulls":3},433]
["Commission employees",{"$nulls":7},0,{"$nulls":3},434]
["Employee stock compensation expenses",{"$nulls":7},0,{"$nulls":3},435]
["Employee medical insurance expenses",{"$nulls":7},0,{"$nulls":3},436]
["Leave encashment expenses",{"$nulls":7},0,{"$nulls":3},437]
["Gratuity",{"$nulls":7},0,{"$nulls":3},443]
["Pension schemes",{"$nulls":7},0,{"$nulls":3},444]
["Provident fund",{"$nulls":7},0,{"$nulls":3},445]
["Voluntary retirement compensation",{"$nulls":7},0,{"$nulls":3},446]
["Other retirement benefits",{"$nulls":7},0,{"$nulls":3},447]
["Retirement benefits",{"$nulls":7},0,{"$nulls":3},448]
["Employees remuneration benefits",{"$nulls":7},0,{"$nulls":3},439]
["Staff welfare expenses",{"$nulls":7},0,{"$nulls":3},423]
["Training recruitment expenses",{"$nulls":7},0,{"$nulls":3},424]
["Other employee related expenses",{"$nulls":7},0,{"$nulls":3},425]
["Capitalisation employee expenses",{"$nulls":7},0,{"$nulls":3},428]
["Share employee related expenses joint ventures",{"$nulls":7},0,{"$nulls":3},426]
["Employee related expenses",{"$nulls":7},0,{"$nulls":3},429]
["Cost material research development",{"$nulls":7},0,{"$nulls":3},452]
["Cost labour research development",{"$nulls":7},0,{"$nulls":3},453]
["Cost testing trial research development",{"$nulls":7},0,{"$nulls":3},454]
["Administration general expenses research development",{"$nulls":7},0,{"$nulls":3},455]
["Depreciation amortisation research development",{"$nulls":7},0,{"$nulls":3},456]
["Other adjustments research development",{"$nulls":7},0,{"$nulls":3},457]
["Capitalisation research development expenditure",{"$nulls":7},0,{"$nulls":3},459]
[{"$nulls":8},2]
[{"$nulls":8},2]
[{"$nulls":8},2]

{"sheet":"17-AddlDetInStat","index":12,"n_rows":180,"n_cols":15,"rows_kept":180,"hidden":true,"merged":[[3,0,3,2],[4,0,4,2],[5,0,5,2],[6,0,6,2],[7,0,7,2],[8,0,8,2],[9,0,9,2],[10,0,10,2],[11,0,11,2],[12,0,12,2],[13,0,13,2],[14,0,14,2],[15,0,15,2],[16,0,16,2],[17,0,17,2],[18,0,18,2],[19,0,19,2],[22,0,22,2],[23,0,23,2],[24,0,24,2],[25,0,25,2],[28,0,28,2],[29,0,29,2],[30,0,30,2],[31,0,31,2],[34,0,34,2],[35,0,35,2],[36,0,36,2],[37,0,37,2],[40,0,40,2],[41,0,41,2],[42,0,42,2],[43,0,43,2],[46,0,46,2],[47,0,47,2],[48,0,48,2],[49,0,49,2],[52,0,52,2],[53,0,53,2],[54,0,54,2],[55,0,55,2],[56,0,56,2],[57,0,57,2],[58,0,58,2],[61,0,61,2],[62,0,62,2],[63,0,63,2],[64,0,64,2],[65,0,65,2],[68,0,68,2],[69,0,69,2],[70,0,70,2],[71,0,71,2],[72,0,72,2],[75,0,75,2],[76,0,76,2],[77,0,77,2],[78,0,78,2],[81,0,81,2],[82,0,82,2],[83,0,83,2],[84,0,84,2],[87,0,87,2],[88,0,88,2],[89,0,89,2],[90,0,90,2],[93,0,93,2],[94,0,94,2],[95,0,95,2],[96,0,96,2],[99,0,99,2],[100,0,100,2],[101,0,101,2],[102,0,102,2],[103,0,103,2],[104,0,104,2],[107,0,107,2],[108,0,108,2],[109,0,109,2],[110,0,110,2],[111,0,111,2],[112,0,112,2],[115,0,115,2],[116,0,116,2],[117,0,117,2],[118,0,118,2],[121,0,121,2],[122,0,122,2],[123,0,123,2],[124,0,124,2],[125,0,125,2],[126,0,126,2],[127,0,127,2],[128,0,128,2],[131,0,131,2],[132,0,132,2],[133,0,133,2],[134,0,134,2],[135,0,135,2],[136,0,136,2],[139,0,139,2],[140,0,140,2],[141,0,141,2],[142,0,142,2],[145,0,145,2],[146,0,146,2],[147,0,147,2],[148,0,148,2],[150,1,150,4],[151,0,151,2],[152,0,152,2],[153,0,153,2],[154,0,154,2],[155,0,155,2],[156,0,156,2],[157,0,157,2],[158,0,158,2],[159,0,159,2],[160,0,160,2],[161,0,161,2],[162,0,162,2],[163,0,163,2],[164,0,164,2],[165,0,165,2],[166,0,166,2],[167,0,167,2],[168,0,168,2],[169,0,169,2],[170,0,170,2],[171,0,171,2],[172,0,172,2],[173,0,173,2],[174,0,174,2],[175,0,175,2],[176,0,176,2],[177,0,177,2]]}
["SCHEDULE - 17","ADDITIONAL DETAILS INCOME STATEMENT",{"$nulls":4},{"$f":"SUM(G4:H150)","v":0},null,2,{"$f":"SUM(J26+K26+J44+K44+J50+K50)","v":0}]
[{"$nulls":8},2,3]
["SCHEDULE - 17 A","OPERATING REVENUE",{"$nulls":6},2,150]
["PARTICULARS",null,null,{"$f":"CYEND1","v":"2011-03-31"},{"$f":"PYEND1","v":"2010-03-31"},{"$nulls":3},2,180]
[{"$f":"B22","v":"REVENUE - SALE OF GOODS (GROSS)"},null,null,{"$f":"'14-OperatingRevenue'!D16","v":0},{"$f":"'14-OperatingRevenue'!E16","v":0},null,{"$f":"IF(AND(OR((ISNUMBER(D5)=TRUE),ISBLANK(D5)=TRUE),ISERROR(D5)=FALSE),0,1)","v":0},{"$f":"IF(AND(OR((ISNUMBER(E5)=TRUE),ISBLANK(E5)=TRUE),ISERROR(E5)=FALSE),0,1)","v":0},1,{"$nulls":3},0,"14-OperatingRevenue",133]
["SERVICES",null,null,{"$f":"'14-OperatingRevenue'!D17","v":0},{"$f":"'14-OperatingRevenue'!E17","v":0},null,0,0,1,{"$nulls":3},0,"14-OperatingRevenue",119]
["CONTRACT REVENUE",null,null,{"$f":"'14-OperatingRevenue'!D18","v":0},{"$f":"'14-OperatingRevenue'!E18","v":0},null,0,0,1,{"$nulls":3},0,"14-OperatingRevenue",122]
["LEASE RENTALS",null,null,{"$f":"'14-OperatingRevenue'!D19","v":0},{"$f":"'14-OperatingRevenue'!E19","v":0},null,0,0,1,{"$nulls":3},0,"14-OperatingRevenue",123]
["HIRE CHARGES",null,null,{"$f":"'14-OperatingRevenue'!D20","v":0},{"$f":"'14-OperatingRevenue'!E20","v":0},null,0,0,1,{"$nulls":3},0,"14-OperatingRevenue",124]
["JOBWORK",null,null,{"$f":"'14-OperatingRevenue'!D21","v":0},{"$f":"'14-OperatingRevenue'!E21","v":0},null,0,0,1,{"$nulls":3},0,"14-OperatingRevenue",125]
["REVENUE FROM INTANGIBLE ASSETS",null,null,{"$f":"'14-OperatingRevenue'!D22","v":0},{"$f":"'14-OperatingRevenue'!E22","v":0},null,0,0,1,{"$nulls":3},0,"14-OperatingRevenue",131]
["OTHER REVENUE",null,null,{"$f":"'14-OperatingRevenue'!D23","v":0},{"$f":"'14-OperatingRevenue'!E23","v":0},null,0,0,1,{"$nulls":3},0,"14-OperatingRevenue",132]
["TOTAL (GROSS OPERATING REVENUE)",null,null,{"$f":"'14-OperatingRevenue'!D24","v":0},{"$f":"'14-OperatingRevenue'!E24","v":0},null,0,0,1,{"$nulls":3},0,"14-OperatingRevenue",133]
[{"$f":"UPPER(\"Less: Duties and Taxes Collected\")","v":"LESS: DUTIES AND TAXES COLLECTED"},null,null,{"$f":"'14-OperatingRevenue'!D5","v":0},{"$f":"'14-OperatingRevenue'!E5","v":0},null,0,0,1,{"$nulls":3},0,"14-OperatingRevenue",137]
[{"$f":"UPPER(\"Less: Interdivision transfers\")","v":"LESS: INTERDIVISION TRANSFERS"},null,null,{"$f":"'14-OperatingRevenue'!D6","v":0},{"$f":"'14-OperatingRevenue'!E6","v":0},null,0,0,1,{"$nulls":3},0,"14-OperatingRevenue",138]
[{"$f":"UPPER(\"less: Brokerage discounts rebates\")","v":"LESS: BROKERAGE DISCOUNTS REBATES"},null,null,{"$f":"'14-OperatingRevenue'!D7","v":0},{"$f":"'14-OperatingRevenue'!E7","v":0},null,0,0,1,{"$nulls":3},0,"14-OperatingRevenue",139]
[{"$f":"UPPER(\"less: Sales returns\")","v":"LESS: SALES RETURNS"},null,null,{"$f":"'14-OperatingRevenue'!D8","v":0},{"$f":"'14-OperatingRevenue'!E8","v":0},null,0,0,1,{"$nulls":3},0,"14-OperatingRevenue",140]
[{"$f":"UPPER(\"less: Other allowances deductions sales\")","v":"LESS: OTHER ALLOWANCES DEDUCTIONS SALES"},null,null,{"$f":"'14-OperatingRevenue'!D9","v":0},{"$f":"'14-OperatingRevenue'!E9","v":0},null,0,0,1,{"$nulls":3},0,"14-OperatingRevenue",141]
[{"$f":"UPPER(\"ADD: Share operating revenue joint ventures\")","v":"ADD: SHARE OPERATING REVENUE JOINT VENTURES"},null,null,{"$f":"'14-OperatingRevenue'!D10","v":0},{"$f":"'14-OperatingRevenue'!E10","v":0},null,0,0,1,{"$nulls":3},0,"14-OperatingRevenue",142]
[{"$f":"UPPER(\"Net - Operating Revenue\")","v":"NET - OPERATING REVENUE"},null,null,{"$f":"'14-OperatingRevenue'!D11","v":0},{"$f":"'14-OperatingRevenue'!E11","v":0},null,0,0,1,{"$nulls":3},0,"PL",12]
[{"$nulls":8},2]
["SCHEDULE - 17 A 1","REVENUE - SALE OF GOODS (GROSS)",{"$nulls":6},2]
["PARTICULARS",null,null,{"$f":"CYEND1","v":"2011-03-31"},{"$f":"PYEND1","v":"2010-03-31"},{"$nulls":3},2]
["DOMESTIC SALES",null,null,{"$f":"D32","v":0},{"$f":"E32","v":0},null,{"$f":"IF(AND(OR((ISNUMBER(D24)=TRUE),ISBLANK(D24)=TRUE),ISERROR(D24)=FALSE),0,1)","v":0},0,1,{"$nulls":3},0,"14-OperatingRevenue",112]
["EXPORT SALES",null,null,{"$f":"D38","v":0},{"$f":"E38","v":0},null,0,0,1,{"$nulls":3},0,"14-OperatingRevenue",115]
["TOTAL",null,null,{"$f":"SUM(D24:D25)","v":0},{"$f":"SUM(E24:E25)","v":0},null,0,0,1,{"$f":"IF(D26<>('14-OperatingRevenue'!D28+'14-OperatingRevenue'!D29+'14-OperatingRevenue'!D30),1,0)","v":0},{"$f":"IF(E26<>('14-OperatingRevenue'!E28+'14-OperatingRevenue'!E29+'14-OperatingRevenue'!E30),1,0)","v":0},null,0,"14-OperatingRevenue",116]
[{"$nulls":8},2]
["SCHEDULE - 17 A 1 A","REVENUE - DOMESTIC SALE OF GOODS",{"$nulls":6},2]
["PARTICULARS",null,null,{"$f":"CYEND1","v":"2011-03-31"},{"$f":"PYEND1","v":"2010-03-31"},{"$nulls":3},2]
["TRADED GOODS",null,null,{"$f":"'14-OperatingRevenue'!D41","v":0},{"$f":"'14-OperatingRevenue'!E41","v":0},null,{"$f":"IF(AND(OR((ISNUMBER(D30)=TRUE),ISBLANK(D30)=TRUE),ISERROR(D30)=FALSE),0,1)","v":0},0,1]
["MANUFACTURED GOODS",null,null,{"$f":"'14-OperatingRevenue'!D35","v":0},{"$f":"'14-OperatingRevenue'!E35","v":0},null,0,0,1]
["TOTAL",null,null,{"$f":"SUM(D30:D31)","v":0},{"$f":"SUM(E30:E31)","v":0},null,0,0,1,{"$nulls":3},0,"14-OperatingRevenue",112]
[{"$nulls":8},2]
["SCHEDULE - 17 A 1 B","REVENUE - EXPORT SALE OF GOODS",{"$nulls":6},2]
["PARTICULARS",null,null,{"$f":"CYEND1","v":"2011-03-31"},{"$f":"PYEND1","v":"2010-03-31"},{"$nulls":3},2]
["TRADED GOODS",null,null,{"$f":"'14-OperatingRevenue'!D42","v":0},{"$f":"'14-OperatingRevenue'!E42","v":0},null,{"$f":"IF(AND(OR((ISNUMBER(D36)=TRUE),ISBLANK(D36)=TRUE),ISERROR(D36)=FALSE),0,1)","v":0},0,1]
["MANUFACTURED GOODS",null,null,{"$f":"'14-OperatingRevenue'!D36","v":0},{"$f":"'14-OperatingRevenue'!E36","v":0},null,0,0,1]
["TOTAL",null,null,{"$f":"SUM(D36:D37)","v":0},{"$f":"SUM(E36:E37)","v":0},null,0,0,1,{"$nulls":3},0,"14-OperatingRevenue",115]
[{"$nulls":8},2]
["SCHEDULE - 17 B ","REVENUE - SERVICES",{"$nulls":6},2]
["PARTICULARS",null,null,{"$f":"CYEND1","v":"2011-03-31"},{"$f":"PYEND1","v":"2010-03-31"},{"$nulls":3},2]
["DOMESTIC SERVICES",{"$nulls":5},{"$f":"IF(AND(OR((ISNUMBER(D42)=TRUE),ISBLANK(D42)=TRUE),ISERROR(D42)=FALSE),0,1)","v":0},0,0,{"$nulls":3},0,"14-OperatingRevenue",117]
["EXPORT SERVICES",{"$nulls":5},0,0,0,{"$nulls":3},0,"14-OperatingRevenue",118]
["TOTAL",null,null,{"$f":"SUM(D42:D43)","v":0},{"$f":"SUM(E42:E43)","v":0},null,0,0,1,{"$f":"IF(D44<>'14-OperatingRevenue'!D17,1,0)","v":0},{"$f":"IF(E44<>'14-OperatingRevenue'!E17,1,0)","v":0},null,0,"14-OperatingRevenue",119]
[{"$nulls":8},2]
["SCHEDULE - 17 C","REVENUE - CONTRACT",{"$nulls":6},2]
["PARTICULARS",null,null,{"$f":"CYEND1","v":"2011-03-31"},{"$f":"PYEND1","v":"2010-03-31"},{"$nulls":3},2]
["DOMESTIC CONTRACTS",null,null,{"$f":"'14-OperatingRevenue'!D84","v":0},{"$f":"'14-OperatingRevenue'!E84","v":0},null,{"$f":"IF(AND(OR((ISNUMBER(D48)=TRUE),ISBLANK(D48)=TRUE),ISERROR(D48)=FALSE),0,1)","v":0},0,1,{"$nulls":3},0,"14-OperatingRevenue",120]
["FOREIGN CONTRACTS",null,null,{"$f":"'14-OperatingRevenue'!D85","v":0},{"$f":"'14-OperatingRevenue'!E85","v":0},null,0,0,1,{"$nulls":3},0,"14-OperatingRevenue",121]
["TOTAL",null,null,{"$f":"'14-OperatingRevenue'!D86","v":0},{"$f":"'14-OperatingRevenue'!E86","v":0},null,0,0,1,{"$f":"IF(D50<>'14-OperatingRevenue'!D18,1,0)","v":0},{"$f":"IF(E50<>'14-OperatingRevenue'!E18,1,0)","v":0},null,0,"14-OperatingRevenue",122]
[{"$nulls":8},2]
["SCHEDULE - 17 D","REVENUE FROM INTANGIBLE ASSETS",{"$nulls":6},2]
["PARTICULARS",null,null,{"$f":"CYEND1","v":"2011-03-31"},{"$f":"PYEND1","v":"2010-03-31"},{"$nulls":3},2]
[{"$f":"UPPER(\"Revenue royalties\")","v":"REVENUE ROYALTIES"},null,null,{"$f":"'14-OperatingRevenue'!D90","v":0},{"$f":"'14-OperatingRevenue'!E90","v":0},null,{"$f":"IF(AND(OR((ISNUMBER(D54)=TRUE),ISBLANK(D54)=TRUE),ISERROR(D54)=FALSE),0,1)","v":0},0,1,{"$nulls":3},0,"14-OperatingRevenue",126]
[{"$f":"UPPER(\"Revenue technical knowhow\")","v":"REVENUE TECHNICAL KNOWHOW"},null,null,{"$f":"'14-OperatingRevenue'!D91","v":0},{"$f":"'14-OperatingRevenue'!E91","v":0},null,0,0,1,{"$nulls":3},0,"14-OperatingRevenue",127]
[{"$f":"UPPER(\"Revenue franchise\")","v":"REVENUE FRANCHISE"},null,null,{"$f":"'14-OperatingRevenue'!D92","v":0},{"$f":"'14-OperatingRevenue'!E92","v":0},null,0,0,1,{"$nulls":3},0,"14-OperatingRevenue",128]
[{"$f":"UPPER(\"Revenue licences\")","v":"REVENUE LICENCES"},null,null,{"$f":"'14-OperatingRevenue'!D93","v":0},{"$f":"'14-OperatingRevenue'!E93","v":0},null,0,0,1,{"$nulls":3},0,"14-OperatingRevenue",129]
[{"$f":"UPPER(\"Revenue contractual rights\")","v":"REVENUE CONTRACTUAL RIGHTS"},null,null,{"$f":"'14-OperatingRevenue'!D94","v":0},{"$f":"'14-OperatingRevenue'!E94","v":0},null,0,0,1,{"$nulls":3},0,"14-OperatingRevenue",130]
["TOTAL",null,null,{"$f":"'14-OperatingRevenue'!D95","v":0},{"$f":"'14-OperatingRevenue'!E95","v":0},null,0,0,1,{"$nulls":3},0,"14-OperatingRevenue",131]
[{"$nulls":8},2]
["SCHEDULE - 17 E","DUTIES AND TAXES COLLECTED",{"$nulls":6},2]
["PARTICULARS",null,null,{"$f":"CYEND1","v":"2011-03-31"},{"$f":"PYEND1","v":"2010-03-31"},{"$nulls":3},2]
[{"$f":"UPPER(\"Excise duty collected\")","v":"EXCISE DUTY COLLECTED"},null,null,{"$f":"'14-OperatingRevenue'!D99","v":0},{"$f":"'14-OperatingRevenue'!E99","v":0},null,{"$f":"IF(AND(OR((ISNUMBER(D63)=TRUE),ISBLANK(D63)=TRUE),ISERROR(D63)=FALSE),0,1)","v":0},0,1,{"$nulls":3},0,"14-OperatingRevenue",134]
[{"$f":"UPPER(\"Service tax collected\")","v":"SERVICE TAX COLLECTED"},null,null,{"$f":"'14-OperatingRevenue'!D100","v":0},{"$f":"'14-OperatingRevenue'!E100","v":0},null,0,0,1,{"$nulls":3},0,"14-OperatingRevenue",135]
[{"$f":"UPPER(\"Other duties taxes collected\")","v":"OTHER DUTIES TAXES COLLECTED"},null,null,{"$f":"'14-OperatingRevenue'!D101","v":0},{"$f":"'14-OperatingRevenue'!E101","v":0},null,0,0,1,{"$nulls":3},0,"14-OperatingRevenue",136]
["TOTAL",null,null,{"$f":"'14-OperatingRevenue'!D102","v":0},{"$f":"'14-OperatingRevenue'!E102","v":0},null,0,0,1,{"$nulls":3},0,"14-OperatingRevenue",137]
[{"$nulls":8},2]
["SCHEDULE - 17 B","RECEIPT - INCOME INVESTMENTS",{"$nulls":6},2]
["PARTICULARS",null,null,{"$f":"CYEND1","v":"2011-03-31"},{"$f":"PYEND1","v":"2010-03-31"},{"$nulls":3},2]
["TRADE INVESTMENTS",null,null,{"$f":"'15-OtherIncome'!D39","v":0},{"$f":"'15-OtherIncome'!E39","v":0},null,{"$f":"IF(AND(OR((ISNUMBER(D70)=TRUE),ISBLANK(D70)=TRUE),ISERROR(D70)=FALSE),0,1)","v":0},0,1,{"$nulls":3},0,"15-OtherIncome",116]
["NON-TRADE INVESTMENTS",null,null,{"$f":"'15-OtherIncome'!D40","v":0},{"$f":"'15-OtherIncome'!E40","v":0},null,0,0,1,{"$nulls":3},0,"15-OtherIncome",117]
["RENT INVESTMENT PROPERTY",null,null,{"$f":"'15-OtherIncome'!D41","v":0},{"$f":"'15-OtherIncome'!E41","v":0},null,0,0,1,{"$nulls":3},0,"15-OtherIncome",118]
[{"$f":"UPPER(\"Total\")","v":"TOTAL"},null,null,{"$f":"'15-OtherIncome'!D42","v":0},{"$f":"'15-OtherIncome'!E42","v":0},null,0,0,1,{"$f":"IF(SUM(D73)<>'15-OtherIncome'!D8,1,0)","v":0},{"$f":"IF(SUM(E73)<>'15-OtherIncome'!E8,1,0)","v":0},null,0,"15-OtherIncome",119]
[{"$nulls":8},2]
["SCHEDULE - 17 C","DISCONTINUING OPERATIONS",{"$nulls":6},2]
["PARTICULARS",null,null,{"$f":"CYEND1","v":"2011-03-31"},{"$f":"PYEND1","v":"2010-03-31"},{"$nulls":3},2]
[{"$f":"UPPER(\"Profit loss discontinuing operations, gross \")","v":"PROFIT LOSS DISCONTINUING OPERATIONS, GROSS "},null,null,{"$f":"D85","v":0},{"$f":"E85","v":0},null,{"$f":"IF(AND(OR((ISNUMBER(D77)=TRUE),ISBLANK(D77)=TRUE),ISERROR(D77)=FALSE),0,1)","v":0},0,1,{"$nulls":3},153]
[{"$f":"UPPER(\"Tax effect discontinuing operations \")","v":"TAX EFFECT DISCONTINUING OPERATIONS "},null,null,{"$f":"D97","v":0},{"$f":"E97","v":0},null,0,0,1,{"$nulls":3},0,"PL",145]
[{"$f":"UPPER(\"Profit loss discontinuing operations, net\")","v":"PROFIT LOSS DISCONTINUING OPERATIONS, NET"},null,null,{"$f":"D77-D78","v":0},{"$f":"E77-E78","v":0},null,0,0,1,{"$nulls":3},156]
[{"$nulls":8},2]
["SCHEDULE - 17 C 1",{"$f":"A77","v":"PROFIT LOSS DISCONTINUING OPERATIONS, GROSS "},{"$nulls":6},2]
["PARTICULARS",null,null,{"$f":"CYEND1","v":"2011-03-31"},{"$f":"PYEND1","v":"2010-03-31"},{"$nulls":3},2]
[{"$f":"UPPER(\"Income (loss) discontinuing operations\")","v":"INCOME (LOSS) DISCONTINUING OPERATIONS"},null,null,{"$f":"D91","v":0},{"$f":"E91","v":0},null,{"$f":"IF(AND(OR((ISNUMBER(D83)=TRUE),ISBLANK(D83)=TRUE),ISERROR(D83)=FALSE),0,1)","v":0},0,1,{"$nulls":3},0,"PL",138]
[{"$f":"UPPER(\"Income (loss) disposal sale discontinuing operations\")","v":"INCOME (LOSS) DISPOSAL SALE DISCONTINUING OPERATIONS"},{"$nulls":5},0,0,0,{"$nulls":3},0,"PL",139]
[{"$f":"UPPER(\"Profit (loss) discontinuing operations, GROSS\")","v":"PROFIT (LOSS) DISCONTINUING OPERATIONS, GROSS"},null,null,{"$f":"SUM(D83:D84)","v":0},{"$f":"SUM(E83:E84)","v":0},null,0,0,1,{"$nulls":3},153]
[{"$nulls":8},2]
["SCHEDULE - 17 C 1 A",{"$f":"A83","v":"INCOME (LOSS) DISCONTINUING OPERATIONS"},{"$nulls":6},2]
["PARTICULARS",null,null,{"$f":"CYEND1","v":"2011-03-31"},{"$f":"PYEND1","v":"2010-03-31"},{"$nulls":3},2]
[{"$f":"UPPER(\"Revenues related discontinuing operations\")","v":"REVENUES RELATED DISCONTINUING OPERATIONS"},{"$nulls":5},{"$f":"IF(AND(OR((ISNUMBER(D89)=TRUE),ISBLANK(D89)=TRUE),ISERROR(D89)=FALSE),0,1)","v":0},0,0,{"$nulls":3},0,"PL",136]
[{"$f":"UPPER(\"Expenses related discontinuing operations\")","v":"EXPENSES RELATED DISCONTINUING OPERATIONS"},{"$nulls":5},0,0,0,{"$nulls":3},0,"PL",137]
[{"$f":"UPPER(\"Income loss discontinuing operations\")","v":"INCOME LOSS DISCONTINUING OPERATIONS"},null,null,{"$f":"D89-D90","v":0},{"$f":"E89-E90","v":0},null,0,0,1,{"$nulls":3},0,"PL",138]
[{"$nulls":8},2]
["SCHEDULE - 17 C 2",{"$f":"A78","v":"TAX EFFECT DISCONTINUING OPERATIONS "},{"$nulls":6},2]
["PARTICULARS",null,null,{"$f":"CYEND1","v":"2011-03-31"},{"$f":"PYEND1","v":"2010-03-31"},{"$nulls":3},2]
[{"$f":"UPPER(\"Tax effect income (loss) discontinuing operations\")","v":"TAX EFFECT INCOME (LOSS) DISCONTINUING OPERATIONS"},null,null,{"$f":"'16-Expenditure'!D464","v":0},{"$f":"'16-Expenditure'!E464","v":0},null,{"$f":"IF(AND(OR((ISNUMBER(D95)=TRUE),ISBLANK(D95)=TRUE),ISERROR(D95)=FALSE),0,1)","v":0},0,1,{"$nulls":5},154]
[{"$f":"UPPER(\"Tax effect sale or disposal discontinuing operations\")","v":"TAX EFFECT SALE OR DISPOSAL DISCONTINUING OPERATIONS"},null,null,{"$f":"'16-Expenditure'!D465","v":0},{"$f":"'16-Expenditure'!E465","v":0},null,0,0,1,{"$nulls":5},155]
[{"$f":"UPPER(\"TOTAL : Tax effect discontinuing operations\")","v":"TOTAL : TAX EFFECT DISCONTINUING OPERATIONS"},null,null,{"$f":"SUM(D95:D96)","v":0},{"$f":"SUM(E95:E96)","v":0},null,0,0,1,{"$nulls":3},0,"PL",145]
[{"$nulls":8},2]
["SCHEDULE - 17 D","CAPITALISATION OF EXPENSES",{"$nulls":6},2]
["PARTICULARS",null,null,{"$f":"CYEND1","v":"2011-03-31"},{"$f":"PYEND1","v":"2010-03-31"},{"$nulls":3},2]
[{"$f":"UPPER(\"Capitalisation OF raw & other materials\")","v":"CAPITALISATION OF RAW & OTHER MATERIALS"},null,null,{"$f":"'16-Expenditure'!D31","v":0},{"$f":"'16-Expenditure'!E31","v":0},null,{"$f":"IF(AND(OR((ISNUMBER(D101)=TRUE),ISBLANK(D101)=TRUE),ISERROR(D101)=FALSE),0,1)","v":0},0,1,{"$nulls":3},0,"16-Expenditure",502]
[{"$f":"UPPER(\"Capitalisation OF manufacturing AND service cost\")","v":"CAPITALISATION OF MANUFACTURING AND SERVICE COST"},null,null,{"$f":"'16-Expenditure'!D146","v":0},{"$f":"'16-Expenditure'!E146","v":0},null,0,0,1,{"$nulls":3},157]
[{"$f":"UPPER(\"Capitalisation OF employee expenses\")","v":"CAPITALISATION OF EMPLOYEE EXPENSES"},null,null,{"$f":"'16-Expenditure'!D428","v":0},{"$f":"'16-Expenditure'!E428","v":0},null,0,0,1,{"$nulls":3},0,"16-Expenditure",708]
[{"$f":"UPPER(\"Capitalisation OF administration AND selling expenses\")","v":"CAPITALISATION OF ADMINISTRATION AND SELLING EXPENSES"},null,null,{"$f":"'16-Expenditure'!D191","v":0},{"$f":"'16-Expenditure'!E191","v":0},null,0,0,1,{"$nulls":3},158]
[{"$f":"UPPER(\"TOTAL : Capitalisation OF expenses\")","v":"TOTAL : CAPITALISATION OF EXPENSES"},null,null,{"$f":"SUM(D101:D104)","v":0},{"$f":"SUM(E101:E104)","v":0},null,0,0,1,{"$nulls":3},159]
[{"$nulls":8},2]
["SCHEDULE - 17 E","AMOUNT TRANSFERRED FROM RESERVES",{"$nulls":6},2]
["PARTICULARS",null,null,{"$f":"CYEND1","v":"2011-03-31"},{"$f":"PYEND1","v":"2010-03-31"},{"$nulls":3},2]
["AMOUNT TRANSFERRED FROM GENERAL RESERVE",{"$nulls":5},{"$f":"IF(AND(OR((ISNUMBER(D109)=TRUE),ISBLANK(D109)=TRUE),ISERROR(D109)=FALSE),0,1)","v":0},0,0,{"$nulls":3},160]
["AMOUNT TRANSFERRED FROM CAPITAL RESERVES",{"$nulls":5},0,0,0,{"$nulls":3},161]
["AMOUNT TRANSFERRED FROM SPECIAL SOURCE",{"$nulls":5},0,0,0,{"$nulls":3},162]
["AMOUNT TRANSFERRED FROM OTHER RESERVES",{"$nulls":5},0,0,0,{"$nulls":3},163]
[{"$f":"UPPER(\"TOTAL : AMOUNT TRANSFERRED FROM RESERVES\")","v":"TOTAL : AMOUNT TRANSFERRED FROM RESERVES"},null,null,{"$f":"SUM(D109:D112)","v":0},{"$f":"SUM(E109:E112)","v":0},null,0,0,1,{"$nulls":3},0,"PL",153]
[{"$nulls":8},2]
["SCHEDULE - 17 F","APPROPRIATIONS",{"$nulls":6},2]
["PARTICULARS",null,null,{"$f":"CYEND1","v":"2011-03-31"},{"$f":"PYEND1","v":"2010-03-31"},{"$nulls":3},2]
["TO RESERVES",null,null,{"$f":"D129","v":0},{"$f":"E129","v":0},null,{"$f":"IF(AND(OR((ISNUMBER(D117)=TRUE),ISBLANK(D117)=TRUE),ISERROR(D117)=FALSE),0,1)","v":0},0,1,{"$nulls":3},170]
["TO DIVIDEND & DIVIDEND DISTRIBUTION TAX",null,null,{"$f":"D137","v":0},{"$f":"E137","v":0},null,0,0,1]
["TOTAL : APPROPRIATIONS",null,null,{"$f":"SUM(D117:D118)","v":0},{"$f":"SUM(E117:E118)","v":0},null,0,0,1,{"$nulls":3},0,"PL",154]
[{"$nulls":8},2]
["SCHEDULE - 17 F 1","APPROPRIATIONS TO RESERVES",{"$nulls":6},2]
["PARTICULARS",null,null,{"$f":"CYEND1","v":"2011-03-31"},{"$f":"PYEND1","v":"2010-03-31"},{"$nulls":3},2]
["GENERAL RESERVE",{"$nulls":5},{"$f":"IF(AND(OR((ISNUMBER(D123)=TRUE),ISBLANK(D123)=TRUE),ISERROR(D123)=FALSE),0,1)","v":0},0,0,{"$nulls":3},164]
["STATUTORY RESERVE",{"$nulls":5},0,0,0,{"$nulls":3},165]
["CAPITAL RESERVE",{"$nulls":5},0,0,0,{"$nulls":3},166]
["CAPITAL REDEMPTION RESERVE",{"$nulls":5},0,0,0,{"$nulls":3},167]
["DEBENTURE REDEMPTION RESERVE",{"$nulls":5},0,0,0,{"$nulls":3},168]
["OTHER RESERVE",{"$nulls":5},0,0,0,{"$nulls":3},169]
["TOTAL : APPROPRIATIONS TO RESERVES",null,null,{"$f":"SUM(D123:D128)","v":0},{"$f":"SUM(E123:E128)","v":0},null,0,0,1,{"$nulls":3},170]
[{"$nulls":8},2]
["SCHEDULE - 17 F 2","APPROPRIATIONS TO DIVIDEND AND DIVIDEND DISTRIBUTION TAX",{"$nulls":6},2]
["PARTICULARS",null,null,{"$f":"CYEND1","v":"2011-03-31"},{"$f":"PYEND1","v":"2010-03-31"},{"$nulls":3},2]
["EQUITY DIVIDEND",null,null,{"$f":"D143","v":0},{"$f":"E143","v":0},null,{"$f":"IF(AND(OR((ISNUMBER(D133)=TRUE),ISBLANK(D133)=TRUE),ISERROR(D133)=FALSE),0,1)","v":0},0,1,{"$nulls":3},173]
["PREFERENCE DIVIDEND",{"$nulls":5},0,0,0,{"$nulls":3},174]
["SPECIAL DIVIDEND",{"$nulls":5},0,0,0,{"$nulls":3},175]
["DIVIDEND DISTRIBUTION TAX",null,null,{"$f":"D149","v":0},{"$f":"E149","v":0},null,0,0,1,{"$nulls":3},178]
["TOTAL : APPROPRIATIONS TO DIVIDEND AND DIVIDEND DISTRIBUTION TAX",null,null,{"$f":"SUM(D133:D136)","v":0},{"$f":"SUM(E133:E136)","v":0},null,0,0,1]
[{"$nulls":8},2]
["SCHEDULE - 17 F 2 A","APPROPRIATIONS TO EQUITY DIVIDEND",{"$nulls":6},2]
["PARTICULARS",null,null,{"$f":"CYEND1","v":"2011-03-31"},{"$f":"PYEND1","v":"2010-03-31"},{"$nulls":3},2]
["INTERIM DIVIDEND",{"$nulls":5},{"$f":"IF(AND(OR((ISNUMBER(D141)=TRUE),ISBLANK(D141)=TRUE),ISERROR(D141)=FALSE),0,1)","v":0},0,0,{"$nulls":3},171]
["FINAL DIVIDEND",{"$nulls":5},0,0,0,{"$nulls":3},172]
["TOTAL : APPROPRIATIONS TO EQUITY DIVIDEND",null,null,{"$f":"SUM(D141:D142)","v":0},{"$f":"SUM(E141:E142)","v":0},null,0,0,1,{"$nulls":3},173]
[{"$nulls":8},2]
["SCHEDULE - 17 F","APPROPRIATIONS TO DIVIDEND DISTRIBUTION TAX",{"$nulls":6},2]
["PARTICULARS",null,null,{"$f":"CYEND1","v":"2011-03-31"},{"$f":"PYEND1","v":"2010-03-31"},{"$nulls":3},2]
["EQUITY DIVIDEND DISTRIBUTION TAX",{"$nulls":5},{"$f":"IF(AND(OR((ISNUMBER(D147)=TRUE),ISBLANK(D147)=TRUE),ISERROR(D147)=FALSE),0,1)","v":0},0,0,{"$nulls":3},176]
["PREFERENCE DIVIDEND DISTRIBUTION TAX",{"$nulls":5},0,0,0,{"$nulls":3},177]
["TOTAL : APPROPRIATIONS TO DIVIDEND DISTRIBUTION TAX",null,null,{"$f":"SUM(D147:D148)","v":0},{"$f":"SUM(E147:E148)","v":0},null,0,0,1,{"$nulls":3},178]
[{"$nulls":8},2]
["FOOTNOTES","SCHEDULE - 17 ADDITIONAL DETAILS OF INCOME STATEMENT",{"$nulls":6},2]
["ELEMENT LABEL",null,null,{"$f":"CYEND1","v":"2011-03-31"},{"$f":"PYEND1","v":"2010-03-31"},{"$nulls":3},2]
["Profit loss discontinuing operations, gross",{"$nulls":7},0,{"$nulls":3},77]
["Tax effect income loss discontinuing operations",{"$nulls":7},0,{"$nulls":3},95]
["Tax effect sale disposal discontinuing operations",{"$nulls":7},0,{"$nulls":3},96]
["Profit loss discontinuing operations, net",{"$nulls":7},0,{"$nulls":3},79]
["Capitalisation manufacturing service cost",{"$nulls":7},0,{"$nulls":3},0,"16-Expenditure",146]
["Capitalisation administration selling expenses",{"$nulls":7},0,{"$nulls":3},0,"16-Expenditure",191]
["Capitalisation expenses",{"$nulls":7},0,{"$nulls":3},105]
["Amount transferred from general reserve",{"$nulls":7},0,{"$nulls":3},109]
["Amount transferred from capital reserves",{"$nulls":7},0,{"$nulls":3},110]
["Amount transferred special source",{"$nulls":7},0,{"$nulls":3},111]
["Amounts transferred from other reserves",{"$nulls":7},0,{"$nulls":3},112]
["Appropriations general reserve",{"$nulls":7},0,{"$nulls":3},123]
["Appropriations statutory reserve",{"$nulls":7},0,{"$nulls":3},124]
["Appropriations capital reserve",{"$nulls":7},0,{"$nulls":3},125]
["Appropriations capital redemption reserve",{"$nulls":7},0,{"$nulls":3},126]
["Appropriations debenture redemption reserve",{"$nulls":7},0,{"$nulls":3},127]
["Appropriations other reserves",{"$nulls":7},0,{"$nulls":3},128]
["Appropriations reserves",{"$nulls":7},0,{"$nulls":3},129]
["Appropriations interim dividend",{"$nulls":7},0,{"$nulls":3},141]
["Appropriations final dividend",{"$nulls":7},0,{"$nulls":3},142]
["Appropriations equity dividend",{"$nulls":7},0,{"$nulls":3},143]
["Appropriations preferred dividend",{"$nulls":7},0,{"$nulls":3},134]
["Appropriations special dividend",{"$nulls":7},0,{"$nulls":3},135]
["Appropriations equity dividend distribution tax",{"$nulls":7},0,{"$nulls":3},147]
["Appropriations preference dividend distribution tax",{"$nulls":7},0,{"$nulls":3},148]
["Appropriations dividend distribution tax",{"$nulls":7},0,{"$nulls":3},149]
[{"$nulls":8},2]
[{"$nulls":8},2]

{"sheet":"Notes-PL","index":13,"n_rows":95,"n_cols":17,"rows_kept":95,"hidden":true,"merged":[[0,1,0,2],[3,0,3,2],[4,0,4,2],[5,0,5,2],[6,0,6,2],[7,0,7,2],[8,0,8,2],[11,0,11,2],[12,0,12,2],[13,0,13,2],[14,0,14,2],[15,0,15,2],[16,0,16,2],[19,0,19,2],[20,0,20,2],[21,0,21,2],[22,0,22,2],[23,0,23,2],[24,0,24,2],[26,0,26,4],[27,1,27,4],[28,1,28,4],[31,0,31,2],[32,0,32,2],[33,0,33,2],[34,0,34,2],[35,0,35,2],[36,0,36,2],[37,0,37,2],[38,0,38,2],[40,0,40,4],[41,1,41,4],[42,1,42,4],[45,0,45,2],[46,0,46,2],[47,0,47,2],[48,0,48,2],[49,0,49,2],[50,0,50,2],[52,0,52,4],[53,1,53,4],[54,1,54,4],[57,0,57,2],[58,0,58,2],[59,0,59,2],[60,0,60,2],[61,0,61,2],[62,0,62,2],[63,0,63,2],[64,0,64,2],[65,0,65,2],[66,0,66,2],[67,0,67,2],[68,0,68,2],[70,2,70,4],[71,0,71,2],[72,0,72,2],[73,0,73,2],[74,0,74,2],[75,0,75,2],[76,0,76,2],[77,0,77,2],[78,0,78,2],[79,0,79,2],[80,0,80,2],[81,0,81,2],[82,0,82,2],[83,0,83,2],[84,0,84,2],[85,0,85,2],[86,0,86,2],[87,0,87,2],[88,0,88,2],[89,0,89,2],[90,0,90,2],[91,0,91,2]]}
["NOTES ON ACCOUNTS","PL INSTANCE DOCUMENT",{"$nulls":4},{"$f":"(SUM(G3:H70))","v":0},null,"F"]
[{"$nulls":8},2,3]
["SCHEDULE - NOTES","AUDITORS' REMUNERATION",{"$nulls":6},2,70]
["PARTICULARS",null,null,{"$f":"CYEND1","v":"2011-03-31"},{"$f":"PYEND1","v":"2010-03-31"},{"$nulls":3},2,95]
["AUDIT FEES",{"$nulls":5},{"$f":"IF(AND(OR((ISNUMBER(D5)=TRUE),ISBLANK(D5)=TRUE),ISERROR(D5)=FALSE),0,1)","v":0},0,0,{"$nulls":3},85]
["CONSULTANCY FEES AUDITORS",null,null,{"$f":"D17","v":0},{"$f":"E17","v":0},null,0,0,1,{"$nulls":3},90]
["CERTIFICATION FEES",{"$nulls":5},0,0,0,{"$nulls":3},91]
["REIMBURSEMENT AUDITORS EXPENSES",{"$nulls":5},0,0,0,{"$nulls":3},92]
["TOTAL AUDITORS' REMUNERATION",null,null,{"$f":"SUM(D5:D8)","v":0},{"$f":"SUM(E5:E8)","v":0},null,0,0,1,{"$nulls":3},0,"16-Expenditure",576]
[{"$nulls":8},2]
["SCHEDULE - NOTES","AUDITORS' REMUNERATION - CONSULTANCY FEES AUDITORS",{"$nulls":6},2]
["PARTICULARS",null,null,{"$f":"CYEND1","v":"2011-03-31"},{"$f":"PYEND1","v":"2010-03-31"},{"$nulls":3},2]
["LEGAL CONSULTANCY FEES",{"$nulls":5},{"$f":"IF(AND(OR((ISNUMBER(D13)=TRUE),ISBLANK(D13)=TRUE),ISERROR(D13)=FALSE),0,1)","v":0},0,0,{"$nulls":3},86]
["TAX CONSULTANCY FEES",{"$nulls":5},0,0,0,{"$nulls":3},87]
["MANAGEMENT CONSULTANCY FEES",{"$nulls":5},0,0,0,{"$nulls":3},88]
["OTHER CONSULTANCY FEES",{"$nulls":5},0,0,0,{"$nulls":3},89]
["TOTAL CONSULTANCY FEES AUDITORS",null,null,{"$f":"SUM(D13:D16)","v":0},{"$f":"SUM(E13:E16)","v":0},null,0,0,1,{"$nulls":3},90]
[{"$nulls":8},2]
["SCHEDULE - NOTES","PRIOR PERIOD ITEMS",{"$nulls":6},2]
["PARTICULARS",null,null,{"$f":"CYEND1","v":"2011-03-31"},{"$f":"PYEND1","v":"2010-03-31"},{"$nulls":3},2]
[{"$f":"UPPER(\"Prior period income\")","v":"PRIOR PERIOD INCOME"},{"$nulls":5},{"$f":"IF(AND(OR((ISNUMBER(D21)=TRUE),ISBLANK(D21)=TRUE),ISERROR(D21)=FALSE),0,1)","v":0},0,0,{"$nulls":3},73]
[{"$f":"UPPER(\"Prior period expenses\")","v":"PRIOR PERIOD EXPENSES"},{"$nulls":5},0,0,0,{"$nulls":3},74]
[{"$f":"UPPER(\"Prior period items before tax\")","v":"PRIOR PERIOD ITEMS BEFORE TAX"},null,null,{"$f":"D21-D22","v":0},{"$f":"E21-E22","v":0},null,0,0,1,{"$nulls":3},0,"PL",142]
[{"$f":"UPPER(\"Tax effect of prior period items\")","v":"TAX EFFECT OF PRIOR PERIOD ITEMS"},{"$nulls":5},0,0,0,{"$nulls":3},0,"16-Expenditure",691]
[{"$f":"UPPER(\"Prior period items, net tax\")","v":"PRIOR PERIOD ITEMS, NET TAX"},null,null,{"$f":"D23-D24","v":0},{"$f":"E23-E24","v":0},null,0,0,1,{"$nulls":3},75]
[{"$nulls":8},2]
["DETAILS OF PRIOR PERIOD ITEMS",{"$nulls":7},2]
[{"$f":"CYEND1","v":"2011-03-31"},{"$nulls":7},0]
[{"$f":"PYEND1","v":"2010-03-31"},{"$nulls":7},0]
[{"$nulls":8},2]
["SCHEDULE - NOTES","EXTRAORDINARY ITEMS",{"$nulls":6},2]
["PARTICULARS",null,null,{"$f":"CYEND1","v":"2011-03-31"},{"$f":"PYEND1","v":"2010-03-31"},{"$nulls":3},2]
[{"$f":"UPPER(\"Loss attachment property extraordinary\")","v":"LOSS ATTACHMENT PROPERTY EXTRAORDINARY"},{"$nulls":5},{"$f":"IF(AND(OR((ISNUMBER(D33)=TRUE),ISBLANK(D33)=TRUE),ISERROR(D33)=FALSE),0,1)","v":0},0,0,{"$nulls":3},76]
[{"$f":"UPPER(\"Loss natural calamity extraordinary\")","v":"LOSS NATURAL CALAMITY EXTRAORDINARY"},{"$nulls":5},0,0,0,{"$nulls":3},77]
[{"$f":"UPPER(\"Reversal government grants extraordinary\")","v":"REVERSAL GOVERNMENT GRANTS EXTRAORDINARY"},{"$nulls":5},0,0,0,{"$nulls":3},78]
[{"$f":"UPPER(\"Other items extraordinary\")","v":"OTHER ITEMS EXTRAORDINARY"},{"$nulls":5},0,0,0,{"$nulls":3},79]
[{"$f":"UPPER(\"Extraordinary items before tax\")","v":"EXTRAORDINARY ITEMS BEFORE TAX"},null,null,{"$f":"SUM(D33:D36)","v":0},{"$f":"SUM(E33:E36)","v":0},null,0,0,1,{"$nulls":3},0,"PL",141]
[{"$f":"UPPER(\"Tax effect of extraordinary items\")","v":"TAX EFFECT OF EXTRAORDINARY ITEMS"},{"$nulls":5},0,0,0,{"$nulls":3},0,"16-Expenditure",690]
[{"$f":"UPPER(\"Extraordinary items, net tax\")","v":"EXTRAORDINARY ITEMS, NET TAX"},null,null,{"$f":"D37-D38","v":0},{"$f":"E37-E38","v":0},null,0,0,1,{"$nulls":3},80]
[{"$nulls":8},2]
["DETAILS OF EXTRAORDINARY ITEMS",{"$nulls":7},2]
[{"$f":"CYEND1","v":"2011-03-31"},{"$nulls":7},0]
[{"$f":"PYEND1","v":"2010-03-31"},{"$nulls":7},0]
[{"$nulls":8},2]
["SCHEDULE - NOTES","EXCEPTIONAL ITEMS",{"$nulls":6},2]
["PARTICULARS",null,null,{"$f":"CYEND1","v":"2011-03-31"},{"$f":"PYEND1","v":"2010-03-31"},{"$nulls":3},2]
[{"$f":"UPPER(\"Exceptional income\")","v":"EXCEPTIONAL INCOME"},{"$nulls":5},{"$f":"IF(AND(OR((ISNUMBER(D47)=TRUE),ISBLANK(D47)=TRUE),ISERROR(D47)=FALSE),0,1)","v":0},0,0,{"$nulls":3},81]
[{"$f":"UPPER(\"Exceptional expenses\")","v":"EXCEPTIONAL EXPENSES"},{"$nulls":5},0,0,0,{"$nulls":3},82]
[{"$f":"UPPER(\"Exceptional income expense, net\")","v":"EXCEPTIONAL INCOME EXPENSE, NET"},null,null,{"$f":"D47-D48","v":0},{"$f":"E47-E48","v":0},null,0,0,1,{"$nulls":3},0,"PL",134]
[{"$f":"UPPER(\"Tax effect of exceptional items\")","v":"TAX EFFECT OF EXCEPTIONAL ITEMS"},{"$nulls":5},0,0,0,{"$nulls":3},83]
[{"$f":"UPPER(\"Exceptional items net of tax\")","v":"EXCEPTIONAL ITEMS NET OF TAX"},null,null,{"$f":"D49-D50","v":0},{"$f":"E49-E50","v":0},null,0,0,1,{"$nulls":3},84]
[{"$nulls":8},2]
["DETAILS OF EXCEPTIONAL ITEMS",{"$nulls":7},2]
[{"$f":"CYEND1","v":"2011-03-31"},{"$nulls":7},0]
[{"$f":"PYEND1","v":"2010-03-31"},{"$nulls":7},0]
[{"$nulls":8},2]
["SCHEDULE ","CONSOLIDATED ACCOUNTS - LINE ITEMS",null,{"$f":"IF(CONSOLCHECK=\"C\",\"[APPLICABLE]\",\"[NOT-APPLICABLE]\")","v":"[NOT-APPLICABLE]"},{"$nulls":4},2]
["PARTICULARS",null,null,{"$f":"CYEND1","v":"2011-03-31"},{"$f":"PYEND1","v":"2010-03-31"},{"$nulls":3},2]
[{"$f":"UPPER(\"Share in earnings of associates\")","v":"SHARE IN EARNINGS OF ASSOCIATES"},{"$nulls":5},{"$f":"IF(J59+P59>0,1,0)","v":0},{"$f":"IF(K59+Q59>0,1,0)","v":0},0,{"$f":"IF(AND(OR((ISNUMBER(D59)=TRUE),ISBLANK(D59)=TRUE),ISERROR(D59)=FALSE),0,1)","v":0},{"$f":"IF(AND(OR((ISNUMBER(E59)=TRUE),ISBLANK(E59)=TRUE),ISERROR(E59)=FALSE),0,1)","v":0},null,0,"PL",147,{"$f":"IF(CONSOLCHECK=\"S\",IF(D59<>\"\",1,0),0)","v":0},{"$f":"IF(CONSOLCHECK=\"S\",IF(E59<>\"\",1,0),0)","v":0}]
[{"$f":"UPPER(\"Share in earnings of joint ventures\")","v":"SHARE IN EARNINGS OF JOINT VENTURES"},{"$nulls":5},0,0,0,{"$f":"IF(AND(OR((ISNUMBER(D60)=TRUE),ISBLANK(D60)=TRUE),ISERROR(D60)=FALSE),0,1)","v":0},{"$f":"IF(AND(OR((ISNUMBER(E60)=TRUE),ISBLANK(E60)=TRUE),ISERROR(E60)=FALSE),0,1)","v":0},null,0,"PL",148,0,0]
[{"$f":"UPPER(\"Share of minority interest in profit (loss)\")","v":"SHARE OF MINORITY INTEREST IN PROFIT (LOSS)"},{"$nulls":5},0,0,0,0,0,null,0,"PL",150,0,0]
[{"$f":"UPPER(\"Share operating revenue joint ventures\")","v":"SHARE OPERATING REVENUE JOINT VENTURES"},{"$nulls":5},0,0,0,0,0,null,0,"14-OperatingRevenue",142,0,0]
["SHARE OF OTHER INCOME FROM JOINT VENTURES",{"$nulls":5},0,0,0,0,0,null,0,"15-OtherIncome",168,0,0]
["SHARE IN CONSUMPTION OF MATERIAL FROM JOINT VENTURES",{"$nulls":5},0,0,0,0,0,null,0,"16-Expenditure",516,0,0]
["SHARE IN MANUFACTURING AND SERVICE COST - JOINT VENTURES",{"$nulls":5},0,0,0,0,0,null,0,"16-Expenditure",559,0,0]
["SHARE IN ADMINISTRATIVE, SELLING AND OTHER EXPENSES FROM JOINT VENTURES",{"$nulls":5},0,0,0,0,0,null,0,"16-Expenditure",647,0,0]
[{"$f":"UPPER(\"Share OF depreciation AND amortisation AND impairment IN joint ventures\")","v":"SHARE OF DEPRECIATION AND AMORTISATION AND IMPAIRMENT IN JOINT VENTURES"},{"$nulls":5},0,0,0,0,0,null,0,"16-Expenditure",661,0,0]
["SHARE OF INTEREST FINANCIAL CHARGES IN JOINT VENTURES",{"$nulls":5},0,0,0,0,0,null,0,"16-Expenditure",682,0,0]
["SHARE OF EMPLOYEE RELATED EXPENSES IN JOINT VENTURES",{"$nulls":5},0,0,0,0,0,null,0,"16-Expenditure",709,0,0]
[{"$nulls":8},2]
["FOOTNOTES",null,"NOTES - PL INSTANCE DOCUMENT",{"$nulls":5},2]
["ELEMENT LABEL",null,null,{"$f":"CYEND1","v":"2011-03-31"},{"$f":"PYEND1","v":"2010-03-31"},{"$nulls":3},2]
["Prior period income",{"$nulls":7},0,{"$nulls":3},21]
["Prior period expenses",{"$nulls":7},0,{"$nulls":3},22]
["Prior period items, net tax",{"$nulls":7},0,{"$nulls":3},25]
["Loss attachment property extraordinary",{"$nulls":7},0,{"$nulls":3},33]
["Loss natural calamity extraordinary",{"$nulls":7},0,{"$nulls":3},34]
["Reversal government grants extraordinary",{"$nulls":7},0,{"$nulls":3},35]
["Other items extraordinary",{"$nulls":7},0,{"$nulls":3},36]
["Extraordinary items, net tax",{"$nulls":7},0,{"$nulls":3},38]
["Exceptional income",{"$nulls":7},0,{"$nulls":3},47]
["Exceptional expenses",{"$nulls":7},0,{"$nulls":3},48]
["Tax effect of exceptional items",{"$nulls":7},0,{"$nulls":3},50]
["Exceptional items net of tax",{"$nulls":7},0,{"$nulls":3},51]
["Audit fees",{"$nulls":7},0,{"$nulls":3},5]
["Legal consultancy fees",{"$nulls":7},0,{"$nulls":3},13]
["Tax consultancy fees",{"$nulls":7},0,{"$nulls":3},14]
["Management consultancy fees",{"$nulls":7},0,{"$nulls":3},15]
["Other consultancy fees",{"$nulls":7},0,{"$nulls":3},16]
["Consultancy fees auditors",{"$nulls":7},0,{"$nulls":3},6]
["Certification fees",{"$nulls":7},0,{"$nulls":3},7]
["Reimbursement auditors expenses",{"$nulls":7},0,{"$nulls":3},8]
[{"$nulls":8},2]
[{"$nulls":8},2]
[{"$nulls":8},2]

{"sheet":"HTML","index":14,"n_rows":9,"n_cols":1,"rows_kept":9,"hidden":true,"merged":[[0,0,0,1],[2,0,2,1],[4,0,4,1],[6,0,6,1]]}
["HTML TEXT BLOCKS"]
[]
["COPY AND PASTE HTML TEXT IN THE APPROPRIATE FIELD/ CELL"]
[]
["PROFIT & LOSS ACCOUNT"]
[]
[{"$f":"UPPER(\"Disclosure of prior period and extraordinary items [text block]\")","v":"DISCLOSURE OF PRIOR PERIOD AND EXTRAORDINARY ITEMS [TEXT BLOCK]"}]
[{"$f":"CYEND1","v":"2011-03-31"}]
[{"$f":"PYEND1","v":"2010-03-31"}]

{"sheet":"GoodsTuple","index":15,"n_rows":26,"n_cols":36,"rows_kept":26,"hidden":true,"merged":[[2,2,2,11]]}
["ROW NO. FROM 27","TO",26,{"$nulls":8},{"$f":"SUM(N1:W1)","v":0},{"$f":"IF(SUM(N1:V1)>0,1,0)","v":0},{"$f":"SUM(AA:AA)-1","v":0},0,0,0,0,0,0,0,0,0,{"$f":"COUNTIF(A:A,DLIST1)","v":0},{"$f":"COUNTIF(A:A,DLIST2)","v":0},{"$f":"IF(OR(X1>0,Y1>0),IF(OR(X1=0,Y1=0),1,0),0)","v":0}]
[]
["TUPLE - PL 1",null,"DETAILS OF GOODS"]
[]
[]
["DI Code CY",{"$f":"IF(B14=0,\"\",UPPER(TRIM(LEFT(B14))))&CYEND","v":"2011"},{"$f":"IF(C14=\"\",\"\",UPPER(TRIM(LEFT(C14))))&CYEND","v":"D2011"},"D2011","D2011","D2011","D2011","D2011","I2011","I2011","D2011",{"$f":"IF(L14=0,\"\",UPPER(TRIM(LEFT(L14))))&CYEND","v":"2011"}]
["DI Code PY",{"$f":"IF(B14=0,\"\",UPPER(TRIM(LEFT(B14))))&PYEND","v":"2010"},"D2010","D2010","D2010","D2010","D2010","D2010","I2010","I2010","D2010","2010"]
["AccountLabel","DetailsOfGoods","ClassOfGoods","NatureOfGoods","ValueOfGoodsSold","QuantityOfGoodsSold","ValueOfGoodsPurchasedOrProduced","QuantityOfGoodsPurchasedOrProduced","ValueOfStockOfGoods","QuantityOfStockOfGoods","UnitOfMeasurementOfGoods","DetailsOfGoods"]
["#",{"$f":"VLOOKUP(B8,XBRLBusinessRules,2,)","v":2871},{"$f":"VLOOKUP(C8,XBRLBusinessRules,2,)","v":2872},2873,2874,2875,2876,2877,2878,2879,2880,{"$f":"VLOOKUP(L8,XBRLBusinessRules,2,)","v":2871}]
["Prefix",{"$f":"VLOOKUP(B8,XBRLBusinessRules,3,)","v":"in-gaap"},{"$f":"VLOOKUP(C8,XBRLBusinessRules,3,)","v":"in-gaap"},"in-gaap","in-gaap","in-gaap","in-gaap","in-gaap","in-gaap","in-gaap","in-gaap",{"$f":"VLOOKUP(L8,XBRLBusinessRules,3,)","v":"in-gaap"}]
["Abstract",{"$f":"VLOOKUP(B8,XBRLBusinessRules,4,)","v":""},{"$f":"VLOOKUP(C8,XBRLBusinessRules,4,)","v":"false"},"false","false","false","false","false","false","false","false",{"$f":"VLOOKUP(L8,XBRLBusinessRules,4,)","v":""}]
["Data type",{"$f":"VLOOKUP(B8,XBRLBusinessRules,5,)","v":""},{"$f":"VLOOKUP(C8,XBRLBusinessRules,5,)","v":"string"},"in-ca-types:TypeOfGoods","monetary","decimal","monetary","decimal","monetary","decimal","string",{"$f":"VLOOKUP(L8,XBRLBusinessRules,5,)","v":""}]
["Balance",{"$f":"VLOOKUP(B8,XBRLBusinessRules,6,)","v":""},{"$f":"VLOOKUP(C8,XBRLBusinessRules,6,)","v":""},"","","","","","","","",{"$f":"VLOOKUP(L8,XBRLBusinessRules,6,)","v":""}]
["Period type",{"$f":"VLOOKUP(B8,XBRLBusinessRules,7,)","v":""},{"$f":"VLOOKUP(C8,XBRLBusinessRules,7,)","v":"duration"},"duration","duration","duration","duration","duration","instant","instant","duration",{"$f":"VLOOKUP(L8,XBRLBusinessRules,7,)","v":""}]
["Substitution Group",{"$f":"VLOOKUP(B8,XBRLBusinessRules,8,)","v":"tuple"},{"$f":"VLOOKUP(C8,XBRLBusinessRules,8,)","v":"item"},"item","item","item","item","item","item","item","item",{"$f":"VLOOKUP(L8,XBRLBusinessRules,8,)","v":"tuple"}]
["Nillable",{"$f":"VLOOKUP(B8,XBRLBusinessRules,9,)","v":"true"},{"$f":"VLOOKUP(C8,XBRLBusinessRules,9,)","v":"true"},"true","true","true","true","true","true","true","true",{"$f":"VLOOKUP(L8,XBRLBusinessRules,9,)","v":"true"}]
["Enumerations",{"$f":"VLOOKUP(B8,XBRLBusinessRules,10,)","v":""},{"$f":"VLOOKUP(C8,XBRLBusinessRules,10,)","v":""},"Produced, Traded","","","","","","","",{"$f":"VLOOKUP(L8,XBRLBusinessRules,10,)","v":""}]
["Business Rule",{"$f":"VLOOKUP(B8,XBRLBusinessRules,11,)","v":0},{"$f":"VLOOKUP(C8,XBRLBusinessRules,11,)","v":0},0,0,0,0,0,0,0,0,{"$f":"VLOOKUP(L8,XBRLBusinessRules,11,)","v":0}]
["Start Tag",{"$f":"\"<\" & B10&\":\"&B8","v":"<in-gaap:DetailsOfGoods"},"<in-gaap:ClassOfGoods","<in-gaap:NatureOfGoods","<in-gaap:ValueOfGoodsSold","<in-gaap:QuantityOfGoodsSold","<in-gaap:ValueOfGoodsPurchasedOrProduced","<in-gaap:QuantityOfGoodsPurchasedOrProduced","<in-gaap:ValueOfStockOfGoods","<in-gaap:QuantityOfStockOfGoods","<in-gaap:UnitOfMeasurementOfGoods"]
["CY Start Tag Attributes",{"$f":"\">\"","v":">"},{"$f":"\" contextRef=\" &\"\"\"\"& C6 & \"\"\"\"&\">\"","v":" contextRef=\"D2011\">"},{"$f":"\" contextRef=\" &\"\"\"\"& D6 & \"\"\"\"&\">\"","v":" contextRef=\"D2011\">"},{"$f":"\" contextRef=\" &\"\"\"\"& E6 & \"\"\"\"&\" decimals=\"& \"\"\"\" & decimals& \"\"\"\"& \" unitRef=\" & \"\"\"\" & CurrCode& \"\"\"\"&\">\"","v":" contextRef=\"D2011\" decimals=\"0\" unitRef=\"INR\">"},{"$f":"\" contextRef=\" &\"\"\"\"& F6 & \"\"\"\"&\" decimals=\"& \"\"\"\" & decimals&\"\"\"\"& \" unitRef = \"&\"\"\"\"&\"Pure\"& \"\"\"\"& \">\"","v":" contextRef=\"D2011\" decimals=\"0\" unitRef = \"Pure\">"},{"$f":"\" contextRef=\" &\"\"\"\"& G6 & \"\"\"\"&\" decimals=\"& \"\"\"\" & decimals& \"\"\"\"& \" unitRef=\" & \"\"\"\" & CurrCode& \"\"\"\"&\">\"","v":" contextRef=\"D2011\" decimals=\"0\" unitRef=\"INR\">"},{"$f":"\" contextRef=\" &\"\"\"\"& H6 & \"\"\"\"&\" decimals=\"& \"\"\"\" & decimals&\"\"\"\"& \" unitRef = \"&\"\"\"\"&\"Pure\"& \"\"\"\"& \">\"","v":" contextRef=\"D2011\" decimals=\"0\" unitRef = \"Pure\">"},{"$f":"\" contextRef=\" &\"\"\"\"& I6 & \"\"\"\"&\" decimals=\"& \"\"\"\" & decimals& \"\"\"\"& \" unitRef=\" & \"\"\"\" & CurrCode& \"\"\"\"&\">\"","v":" contextRef=\"I2011\" decimals=\"0\" unitRef=\"INR\">"},{"$f":"\" contextRef=\" &\"\"\"\"& J6 & \"\"\"\"&\" decimals=\"& \"\"\"\" & decimals&\"\"\"\"& \" unitRef = \"&\"\"\"\"&\"Pure\"& \"\"\"\"& \">\"","v":" contextRef=\"I2011\" decimals=\"0\" unitRef = \"Pure\">"},{"$f":"\" contextRef=\" &\"\"\"\"& K6 & \"\"\"\"&\">\"","v":" contextRef=\"D2011\">"}]
["PY Start Tag Attributes",{"$f":"\">\"","v":">"},{"$f":"\" contextRef=\" &\"\"\"\"& C7 & \"\"\"\"&\">\"","v":" contextRef=\"D2010\">"},{"$f":"\" contextRef=\" &\"\"\"\"& D7 & \"\"\"\"&\">\"","v":" contextRef=\"D2010\">"},{"$f":"\" contextRef=\" &\"\"\"\"& E7 & \"\"\"\"&\" decimals=\"& \"\"\"\" & decimals& \"\"\"\"& \" unitRef=\" & \"\"\"\" & CurrCode& \"\"\"\"&\">\"","v":" contextRef=\"D2010\" decimals=\"0\" unitRef=\"INR\">"},{"$f":"\" contextRef=\" &\"\"\"\"& F7 & \"\"\"\"&\" decimals=\"& \"\"\"\" & decimals&\"\"\"\"& \" unitRef = \"&\"\"\"\"&\"Pure\"& \"\"\"\"& \">\"","v":" contextRef=\"D2010\" decimals=\"0\" unitRef = \"Pure\">"},{"$f":"\" contextRef=\" &\"\"\"\"& G7 & \"\"\"\"&\" decimals=\"& \"\"\"\" & decimals& \"\"\"\"& \" unitRef=\" & \"\"\"\" & CurrCode& \"\"\"\"&\">\"","v":" contextRef=\"D2010\" decimals=\"0\" unitRef=\"INR\">"},{"$f":"\" contextRef=\" &\"\"\"\"& H7 & \"\"\"\"&\" decimals=\"& \"\"\"\" & decimals&\"\"\"\"& \" unitRef = \"&\"\"\"\"&\"Pure\"& \"\"\"\"& \">\"","v":" contextRef=\"D2010\" decimals=\"0\" unitRef = \"Pure\">"},{"$f":"\" contextRef=\" &\"\"\"\"& I7 & \"\"\"\"&\" decimals=\"& \"\"\"\" & decimals& \"\"\"\"& \" unitRef=\" & \"\"\"\" & CurrCode& \"\"\"\"&\">\"","v":" contextRef=\"I2010\" decimals=\"0\" unitRef=\"INR\">"},{"$f":"\" contextRef=\" &\"\"\"\"& J7 & \"\"\"\"&\" decimals=\"& \"\"\"\" & decimals&\"\"\"\"& \" unitRef = \"&\"\"\"\"&\"Pure\"& \"\"\"\"& \">\"","v":" contextRef=\"I2010\" decimals=\"0\" unitRef = \"Pure\">"},{"$f":"\" contextRef=\" &\"\"\"\"& K7 & \"\"\"\"&\">\"","v":" contextRef=\"D2010\">"}]
["CY Start Tag Total",{"$f":"B19&B20","v":"<in-gaap:DetailsOfGoods>"},{"$f":"C19&C20","v":"<in-gaap:ClassOfGoods contextRef=\"D2011\">"},{"$f":"D19&D20","v":"<in-gaap:NatureOfGoods contextRef=\"D2011\">"},{"$f":"E19&E20","v":"<in-gaap:ValueOfGoodsSold contextRef=\"D2011\" decimals=\"0\" unitRef=\"INR\">"},"<in-gaap:QuantityOfGoodsSold contextRef=\"D2011\" decimals=\"0\" unitRef = \"Pure\">","<in-gaap:ValueOfGoodsPurchasedOrProduced contextRef=\"D2011\" decimals=\"0\" unitRef=\"INR\">","<in-gaap:QuantityOfGoodsPurchasedOrProduced contextRef=\"D2011\" decimals=\"0\" unitRef = \"Pure\">","<in-gaap:ValueOfStockOfGoods contextRef=\"I2011\" decimals=\"0\" unitRef=\"INR\">","<in-gaap:QuantityOfStockOfGoods contextRef=\"I2011\" decimals=\"0\" unitRef = \"Pure\">","<in-gaap:UnitOfMeasurementOfGoods contextRef=\"D2011\">"]
["PY Start Tag Total",{"$f":"B19&B21","v":"<in-gaap:DetailsOfGoods>"},"<in-gaap:ClassOfGoods contextRef=\"D2010\">","<in-gaap:NatureOfGoods contextRef=\"D2010\">","<in-gaap:ValueOfGoodsSold contextRef=\"D2010\" decimals=\"0\" unitRef=\"INR\">","<in-gaap:QuantityOfGoodsSold contextRef=\"D2010\" decimals=\"0\" unitRef = \"Pure\">","<in-gaap:ValueOfGoodsPurchasedOrProduced contextRef=\"D2010\" decimals=\"0\" unitRef=\"INR\">","<in-gaap:QuantityOfGoodsPurchasedOrProduced contextRef=\"D2010\" decimals=\"0\" unitRef = \"Pure\">","<in-gaap:ValueOfStockOfGoods contextRef=\"I2010\" decimals=\"0\" unitRef=\"INR\">","<in-gaap:QuantityOfStockOfGoods contextRef=\"I2010\" decimals=\"0\" unitRef = \"Pure\">","<in-gaap:UnitOfMeasurementOfGoods contextRef=\"D2010\">"]
["End Tag",null,{"$f":"\"</\" & C10&\":\"&C8&\">\"","v":"</in-gaap:ClassOfGoods>"},"</in-gaap:NatureOfGoods>","</in-gaap:ValueOfGoodsSold>","</in-gaap:QuantityOfGoodsSold>","</in-gaap:ValueOfGoodsPurchasedOrProduced>","</in-gaap:QuantityOfGoodsPurchasedOrProduced>","</in-gaap:ValueOfStockOfGoods>","</in-gaap:QuantityOfStockOfGoods>","</in-gaap:UnitOfMeasurementOfGoods>","</in-gaap:DetailsOfGoods>"]
[null,{"$f":"IF(ISBLANK(A25),1,0)+IF(ISBLANK(C25),1,0)+IF(OR(D25=\"Produced\",D25=\"Traded\"),0,1)+IF(ISNUMBER(E25),0,1)+IF(ISNUMBER(F25),0,1)+IF(ISNUMBER(G25),0,1)+IF(ISNUMBER(H25),0,1)+IF(ISNUMBER(I25),0,1)++IF(ISNUMBER(J25),0,1)+IF(ISBLANK(K25),1,0)","v":10},{"$nulls":10},{"$f":"IF(B25=0,IF(A25=DLIST1,BST,BST),\"\")","v":""},{"$f":"IF(B25=0,IF(A25=DLIST1,CST&C25&CET,CSTP&C25&CET),\"\")","v":""},{"$f":"IF(B25=0,IF(A25=DLIST1,DST&D25&DET,DSTP&D25&DET),\"\")","v":""},{"$f":"IF(B25=0,IF(A25=DLIST1,EST&E25&EET,ESTP&E25&EET),\"\")","v":""},{"$f":"IF(B25=0,IF(A25=DLIST1,FST&F25&FET,FSTP&F25&FET),\"\")","v":""},{"$f":"IF(B25=0,IF(A25=DLIST1,GST&G25&GET,GSTP&G25&GET),\"\")","v":""},{"$f":"IF(B25=0,IF(A25=DLIST1,HST&H25&HET,HSTP&H25&HET),\"\")","v":""},{"$f":"IF(B25=0,IF(A25=DLIST1,IST&I25&IET,ISTP&I25&IET),\"\")","v":""},{"$f":"IF(B25=0,IF(A25=DLIST1,JST&J25&JET,JSTP&J25&JET),\"\")","v":""},{"$f":"IF(B25=0,IF(A25=DLIST1,KST&K25&KET,KSTP&K25&KET),\"\")","v":""},{"$f":"IF(B25=0,LET,\"\")","v":""},{"$nulls":3},{"$f":"IF(ISBLANK(A25),1,0)","v":1},{"$f":"IF(ISBLANK(C25),1,0)","v":1},{"$f":"+IF(OR(D25=\"Produced\",D25=\"Traded\"),0,1)","v":1},{"$f":"+IF(ISNUMBER(E25),0,1)","v":1},1,1,1,1,{"$f":"++IF(ISNUMBER(J25),0,1)","v":1},{"$f":"+IF(ISBLANK(K25),1,0)","v":1}]
["YEAR",null,{"$f":"UPPER(\"Class Of Goods\")","v":"CLASS OF GOODS"},{"$f":"UPPER(\"Nature Of Goods\")","v":"NATURE OF GOODS"},{"$f":"UPPER(\"Value Of Goods Sold\")","v":"VALUE OF GOODS SOLD"},{"$f":"UPPER(\"Quantity Of Goods Sold\")","v":"QUANTITY OF GOODS SOLD"},{"$f":"UPPER(\"Value Of Goods Purchased Or Produced\")","v":"VALUE OF GOODS PURCHASED OR PRODUCED"},{"$f":"UPPER(\"Quantity Of Goods Purchased Or Produced\")","v":"QUANTITY OF GOODS PURCHASED OR PRODUCED"},{"$f":"UPPER(\"Value Of Stock Of Goods\")","v":"VALUE OF STOCK OF GOODS"},{"$f":"UPPER(\"Quantity Of Stock Of Goods\")","v":"QUANTITY OF STOCK OF GOODS"},{"$f":"UPPER(\"Unit Of Measurement Of Goods\")","v":"UNIT OF MEASUREMENT OF GOODS"}]

{"sheet":"RawMaterialTuple","index":16,"n_rows":27,"n_cols":21,"rows_kept":27,"hidden":true,"merged":[[0,5,1,5],[3,1,3,6]]}
["ROW NO. FROM 28",{"$nulls":5},{"$f":"SUM(I1:M1)","v":0},{"$f":"IF(SUM(I1:L1)>0,1,0)","v":0},{"$f":"SUM(N:N)-1","v":0},{"$f":"SUM(O:O)-1","v":0},{"$f":"SUM(P:P)-1","v":0},{"$f":"SUM(Q:Q)-1","v":0},{"$f":"SUM(R:R)-1","v":0},{"$nulls":5},{"$f":"COUNTIF(A:A,DLIST1)","v":0},{"$f":"COUNTIF(A:A,DLIST2)","v":0},{"$f":"IF(OR(S1>0,T1>0),IF(OR(S1=0,T1=0),1,0),0)","v":0}]
[27]
[]
["TUPLE - PL 2","DETAILS OF RAW MATERIALS"]
[]
["DetailsOfRawMaterialsConsumedAbstract"]
["DI Code",null,{"$f":"IF(C15=\"\",\"\",UPPER(TRIM(LEFT(C15))))&CYEND","v":"D2011"},{"$f":"IF(D15=\"\",\"\",UPPER(TRIM(LEFT(D15))))&CYEND","v":"D2011"},{"$f":"IF(E15=\"\",\"\",UPPER(TRIM(LEFT(E15))))&CYEND","v":"D2011"},{"$f":"IF(F15=\"\",\"\",UPPER(TRIM(LEFT(F15))))&CYEND","v":"D2011"}]
[null,null,{"$f":"IF(C15=\"\",\"\",UPPER(TRIM(LEFT(C15))))&PYEND","v":"D2010"},{"$f":"IF(D15=\"\",\"\",UPPER(TRIM(LEFT(D15))))&PYEND","v":"D2010"},{"$f":"IF(E15=\"\",\"\",UPPER(TRIM(LEFT(E15))))&PYEND","v":"D2010"},{"$f":"IF(F15=\"\",\"\",UPPER(TRIM(LEFT(F15))))&PYEND","v":"D2010"}]
["AccountLabel","DetailsOfRawMaterialsConsumed","ClassOfRawMaterialsConsumed","ValueOfRawMaterialsConsumed","QuantityOfRawMaterialsConsumed","UnitOfMeasurementOfRawMaterialsConsumed","DetailsOfRawMaterialsConsumed"]
["#",{"$f":"VLOOKUP(B9,XBRLBusinessRules,2,)","v":2882},2883,2884,2885,2886,2882]
["Prefix",{"$f":"VLOOKUP(B9,XBRLBusinessRules,3,)","v":"in-gaap"},"in-gaap","in-gaap","in-gaap","in-gaap","in-gaap"]
["Abstract",{"$f":"VLOOKUP(B9,XBRLBusinessRules,4,)","v":""},"false","false","false","false",""]
["Data type",{"$f":"VLOOKUP(B9,XBRLBusinessRules,5,)","v":""},"string","monetary","decimal","string",""]
["Balance",{"$f":"VLOOKUP(B9,XBRLBusinessRules,6,)","v":""},"","","","",""]
["Period type",{"$f":"VLOOKUP(B9,XBRLBusinessRules,7,)","v":""},"duration","duration","duration","duration",""]
["Substitution Group",{"$f":"VLOOKUP(B9,XBRLBusinessRules,8,)","v":"tuple"},"item","item","item","item","tuple"]
["Nillable",{"$f":"VLOOKUP(B9,XBRLBusinessRules,9,)","v":"true"},"true","true","true","true","true"]
["Enumerations",{"$f":"VLOOKUP(B9,XBRLBusinessRules,10,)","v":""},"","","","",""]
["Business Rule",{"$f":"VLOOKUP(B9,XBRLBusinessRules,11,)","v":0},0,0,0,0,0]
["Start Tag",{"$f":"\"<\" & B11&\":\"&B9","v":"<in-gaap:DetailsOfRawMaterialsConsumed"},{"$f":"\"<\" & C11&\":\"&C9","v":"<in-gaap:ClassOfRawMaterialsConsumed"},{"$f":"\"<\" & D11&\":\"&D9","v":"<in-gaap:ValueOfRawMaterialsConsumed"},{"$f":"\"<\" & E11&\":\"&E9","v":"<in-gaap:QuantityOfRawMaterialsConsumed"},{"$f":"\"<\" & F11&\":\"&F9","v":"<in-gaap:UnitOfMeasurementOfRawMaterialsConsumed"}]
["CY Start Tag Attributes",{"$f":"\">\"","v":">"},{"$f":"\" contextRef=\" &\"\"\"\"& C7 & \"\"\"\"&\">\"","v":" contextRef=\"D2011\">"},{"$f":"\" contextRef=\" &\"\"\"\"& D7 & \"\"\"\"&\" decimals=\"& \"\"\"\" & decimals& \"\"\"\"& \" unitRef=\" & \"\"\"\" & CurrCode& \"\"\"\"&\">\"","v":" contextRef=\"D2011\" decimals=\"0\" unitRef=\"INR\">"},{"$f":"\" contextRef=\"&\"\"\"\"&E7&\"\"\"\"&\" decimals=\"&\"\"\"\"&decimals&\"\"\"\"&\" unitRef=\"&\"\"\"\"&\"Pure\"&\"\"\"\"&\">\"","v":" contextRef=\"D2011\" decimals=\"0\" unitRef=\"Pure\">"},{"$f":"\" contextRef=\" &\"\"\"\"& F7 & \"\"\"\"&\">\"","v":" contextRef=\"D2011\">"}]
["PY Start Tag Attributes",{"$f":"\">\"","v":">"},{"$f":"\" contextRef=\" &\"\"\"\"& C8 & \"\"\"\"&\">\"","v":" contextRef=\"D2010\">"},{"$f":"\" contextRef=\" &\"\"\"\"& D8 & \"\"\"\"&\" decimals=\"& \"\"\"\" & decimals& \"\"\"\"& \" unitRef=\" & \"\"\"\" & CurrCode& \"\"\"\"&\">\"","v":" contextRef=\"D2010\" decimals=\"0\" unitRef=\"INR\">"},{"$f":"\" contextRef=\"&\"\"\"\"&E8&\"\"\"\"&\" decimals=\"&\"\"\"\"&decimals&\"\"\"\"&\" unitRef=\"&\"\"\"\"&\"Pure\"&\"\"\"\"&\">\"","v":" contextRef=\"D2010\" decimals=\"0\" unitRef=\"Pure\">"},{"$f":"\" contextRef=\" &\"\"\"\"& F8 & \"\"\"\"&\">\"","v":" contextRef=\"D2010\">"}]
["CY Start Tag Total",{"$f":"B20&B21","v":"<in-gaap:DetailsOfRawMaterialsConsumed>"},{"$f":"C20&C21","v":"<in-gaap:ClassOfRawMaterialsConsumed contextRef=\"D2011\">"},{"$f":"D20&D21","v":"<in-gaap:ValueOfRawMaterialsConsumed contextRef=\"D2011\" decimals=\"0\" unitRef=\"INR\">"},{"$f":"E20&E21","v":"<in-gaap:QuantityOfRawMaterialsConsumed contextRef=\"D2011\" decimals=\"0\" unitRef=\"Pure\">"},{"$f":"F20&F21","v":"<in-gaap:UnitOfMeasurementOfRawMaterialsConsumed contextRef=\"D2011\">"}]
["PY Start Tag Total",{"$f":"B20&B22","v":"<in-gaap:DetailsOfRawMaterialsConsumed>"},"<in-gaap:ClassOfRawMaterialsConsumed contextRef=\"D2010\">","<in-gaap:ValueOfRawMaterialsConsumed contextRef=\"D2010\" decimals=\"0\" unitRef=\"INR\">","<in-gaap:QuantityOfRawMaterialsConsumed contextRef=\"D2010\" decimals=\"0\" unitRef=\"Pure\">","<in-gaap:UnitOfMeasurementOfRawMaterialsConsumed contextRef=\"D2010\">",""]
["End Tag",null,{"$f":"\"</\" & C11&\":\"&C9&\">\"","v":"</in-gaap:ClassOfRawMaterialsConsumed>"},{"$f":"\"</\" & D11&\":\"&D9&\">\"","v":"</in-gaap:ValueOfRawMaterialsConsumed>"},{"$f":"\"</\" & E11&\":\"&E9&\">\"","v":"</in-gaap:QuantityOfRawMaterialsConsumed>"},{"$f":"\"</\" & F11&\":\"&F9&\">\"","v":"</in-gaap:UnitOfMeasurementOfRawMaterialsConsumed>"},{"$f":"\"</\" & G11&\":\"&G9&\">\"","v":"</in-gaap:DetailsOfRawMaterialsConsumed>"}]
[null,{"$f":"IF(ISBLANK(A26),1,0)+IF(ISBLANK(C26),1,0)+IF(AND(ISNUMBER(D26)=TRUE,ISBLANK(D26)=FALSE),0,1)+IF(AND(ISNUMBER(E26)=TRUE,ISBLANK(E26)=FALSE),0,1)+IF(ISBLANK(F26),1,0)","v":5},{"$nulls":5},{"$f":"IF(B26=0,BSTRM,\"\")","v":""},{"$f":"IF(B26=0,IF(A26=DLIST1,CSTRM,CSTRMP)&C26&CETRM,\"\")","v":""},{"$f":"IF(B26=0,IF(A26=DLIST1,DSTRM,DSTRMP)&D26&DETRM,\"\")","v":""},{"$f":"IF(B26=0,IF(A26=DLIST1,ESTRM,ESTRMP)&E26&EETRM,\"\")","v":""},{"$f":"IF(B26=0,IF(A26=DLIST1,FSTRM,FSTRMP)&F26&FETRM,\"\")","v":""},{"$f":"IF(B26=0,GETRM,\"\")","v":""},{"$f":"IF(ISBLANK(A26),1,0)","v":1},{"$f":"IF(ISBLANK(C26),1,0)","v":1},{"$f":"+IF(AND(ISNUMBER(D26)=TRUE,ISBLANK(D26)=FALSE),0,1)","v":1},1,{"$f":"+IF(ISBLANK(F26),1,0)","v":1}]
["YEAR",null,{"$f":"UPPER(\"Class Of Raw Materials Consumed\")","v":"CLASS OF RAW MATERIALS CONSUMED"},{"$f":"UPPER(\"Value Of Raw Materials Consumed\")","v":"VALUE OF RAW MATERIALS CONSUMED"},{"$f":"UPPER(\"Quantity Of Raw Materials Consumed\")","v":"QUANTITY OF RAW MATERIALS CONSUMED"},{"$f":"UPPER(\"Unit Of Measurement Of Raw Materials Consumed\")","v":"UNIT OF MEASUREMENT OF RAW MATERIALS CONSUMED"}]

{"sheet":"ITCTuple","index":17,"n_rows":22,"n_cols":23,"rows_kept":22,"hidden":true,"merged":[[1,1,1,4],[1,5,1,6],[3,0,3,5]]}
["ROW NO. FROM 23 TO",null,22,{"$nulls":4},{"$f":"SUM(J1:N1)","v":0},{"$f":"IF(SUM(J1:P1)>0,1,0)","v":0},{"$f":"IF(CONSOLCHECK=\"C\",SUM(P:P)-1,SUM(P:P)-1)","v":0},{"$f":"IF(CONSOLCHECK=\"C\",SUM(Q:Q)-1,SUM(Q:Q)-1)","v":0},{"$f":"IF(CONSOLCHECK=\"C\",SUM(R:R)-1,SUM(R:R)-1)","v":0},{"$f":"IF(CONSOLCHECK=\"C\",SUM(S:S)-1,SUM(S:S)-1)","v":0},{"$f":"IF(CONSOLCHECK=\"C\",SUM(T:T)-1,SUM(T:T)-1)","v":0},{"$f":"IF(OR('14-OperatingRevenue'!D16>0,'14-OperatingRevenue'!E16>0,'14-OperatingRevenue'!D17>0,'14-OperatingRevenue'!E17>0),1,0)-IF(C1>22,1,0)","v":0}]
["TUPLE - PL 3","DETAILS OF PRINCIPAL PRODUCTS AND SERVICES",{"$nulls":3},{"$f":"IF(CONSOLCHECK=\"C\",\"[NOT-APPLICABLE]\",IF(OR('14-OperatingRevenue'!D16>0,'14-OperatingRevenue'!E16>0,'14-OperatingRevenue'!D17>0,'14-OperatingRevenue'!E17>0),\"[MANDATORY]\",\"\"))","v":""},null,{"$f":"IF(AND(CONSOLCHECK=\"C\",C1=22),0,1)","v":1}]
[]
["DisclosureOfPrincipalProductOrServicesAbstract"]
["DI Code",null,{"$f":"IF(C12=\"\",\"\",UPPER(TRIM(LEFT(C12))))&CYEND","v":"D2011"},{"$f":"IF(D12=\"\",\"\",UPPER(TRIM(LEFT(D12))))&CYEND","v":"D2011"},{"$f":"IF(E12=\"\",\"\",UPPER(TRIM(LEFT(E12))))&CYEND","v":"D2011"},{"$f":"IF(F12=\"\",\"\",UPPER(TRIM(LEFT(F12))))&CYEND","v":"D2011"},{"$f":"IF(G12=\"\",\"\",UPPER(TRIM(LEFT(G12))))&CYEND","v":"D2011"}]
["AccountLabel","DetailsOfPrincipalProductsAndServices","ITCNumberOfProduct","DescriptionOfProductOrServices","UnitOfMeasurementOfPrincipalProductOrServices","TurnoverOfPrincipalProductOrServices","QuantityOfPrincipalProductOrServices","DetailsOfPrincipalProductsAndServices"]
["#",{"$f":"VLOOKUP(B6,XBRLBusinessRules,2,)","v":3070},3131,3056,3158,3155,3067,{"$f":"VLOOKUP(H6,XBRLBusinessRules,2,)","v":3070}]
["Prefix",{"$f":"VLOOKUP(B6,XBRLBusinessRules,3,)","v":"in-ca"},"in-ca","in-ca","in-ca","in-ca","in-ca",{"$f":"VLOOKUP(H6,XBRLBusinessRules,3,)","v":"in-ca"}]
["Abstract",{"$f":"VLOOKUP(B6,XBRLBusinessRules,4,)","v":""},"false","false","false","false","false",{"$f":"VLOOKUP(H6,XBRLBusinessRules,4,)","v":""}]
["Data type",{"$f":"VLOOKUP(B6,XBRLBusinessRules,5,)","v":""},"string","string","string","monetary","decimal",{"$f":"VLOOKUP(H6,XBRLBusinessRules,5,)","v":""}]
["Balance",{"$f":"VLOOKUP(B6,XBRLBusinessRules,6,)","v":""},"","","","credit","",{"$f":"VLOOKUP(H6,XBRLBusinessRules,6,)","v":""}]
["Period type",{"$f":"VLOOKUP(B6,XBRLBusinessRules,7,)","v":""},"duration","duration","duration","duration","duration",{"$f":"VLOOKUP(H6,XBRLBusinessRules,7,)","v":""}]
["Substitution Group",{"$f":"VLOOKUP(B6,XBRLBusinessRules,8,)","v":"tuple"},"item","item","item","item","item",{"$f":"VLOOKUP(H6,XBRLBusinessRules,8,)","v":"tuple"}]
["Nillable",{"$f":"VLOOKUP(B6,XBRLBusinessRules,9,)","v":"true"},"true","true","true","true","true",{"$f":"VLOOKUP(H6,XBRLBusinessRules,9,)","v":"true"}]
["Enumerations",{"$f":"VLOOKUP(B6,XBRLBusinessRules,10,)","v":""},"","","","","",{"$f":"VLOOKUP(H6,XBRLBusinessRules,10,)","v":""}]
["Business Rule",{"$f":"VLOOKUP(B6,XBRLBusinessRules,11,)","v":"Details of atleast one product or service should be mandatory if Total turnover is greater than zero. "},0,0,0,0,"Should be greater than or equal to zero",{"$f":"VLOOKUP(H6,XBRLBusinessRules,11,)","v":"Details of atleast one product or service should be mandatory if Total turnover is greater than zero. "}]
["Start Tag",{"$f":"\"<\" & B8&\":\"&B6","v":"<in-ca:DetailsOfPrincipalProductsAndServices"},"<in-ca:ITCNumberOfProduct","<in-ca:DescriptionOfProductOrServices","<in-ca:UnitOfMeasurementOfPrincipalProductOrServices","<in-ca:TurnoverOfPrincipalProductOrServices","<in-ca:QuantityOfPrincipalProductOrServices"]
["Start Tag Attributes",{"$f":"\">\"","v":">"},{"$f":"\" contextRef=\"\"\"&E4&\"D\"&CYEND&\"\"\"\"&\">\"","v":" contextRef=\"D2011\">"},{"$f":"\" contextRef=\"\"\"&F4&\"D\"&CYEND&\"\"\"\"&\">\"","v":" contextRef=\"D2011\">"},{"$f":"\" contextRef=\"\"\"&G4&\"D\"&CYEND&\"\"\"\"&\">\"","v":" contextRef=\"D2011\">"},{"$f":"\" decimals=\"\"\"&decimals&\"\"\"\"&\" contextRef=\"\"\"&H4&\"D\"&CYEND&\"\"\"\"& \" unitRef=\"\"\"&CurrCode&\"\"\"\"&\">\"","v":" decimals=\"0\" contextRef=\"D2011\" unitRef=\"INR\">"},{"$f":"\" decimals=\"\"\"&decimals&\"\"\"\"&\" contextRef=\"\"\"&I4&\"D\"&CYEND&\"\"\"\"& \" unitRef=\"\"\"&\"Pure\"&\"\"\"\"&\">\"","v":" decimals=\"0\" contextRef=\"D2011\" unitRef=\"Pure\">"}]
["Start Tag Total",{"$f":"B17&B18","v":"<in-ca:DetailsOfPrincipalProductsAndServices>"},"<in-ca:ITCNumberOfProduct contextRef=\"D2011\">","<in-ca:DescriptionOfProductOrServices contextRef=\"D2011\">","<in-ca:UnitOfMeasurementOfPrincipalProductOrServices contextRef=\"D2011\">","<in-ca:TurnoverOfPrincipalProductOrServices decimals=\"0\" contextRef=\"D2011\" unitRef=\"INR\">","<in-ca:QuantityOfPrincipalProductOrServices decimals=\"0\" contextRef=\"D2011\" unitRef=\"Pure\">",""]
["End Tag",null,{"$f":"\"</\" & C8&\":\"&C6&\">\"","v":"</in-ca:ITCNumberOfProduct>"},"</in-ca:DescriptionOfProductOrServices>","</in-ca:UnitOfMeasurementOfPrincipalProductOrServices>","</in-ca:TurnoverOfPrincipalProductOrServices>","</in-ca:QuantityOfPrincipalProductOrServices>","</in-ca:DetailsOfPrincipalProductsAndServices>"]
["Value",{"$f":"IF(OR(C21=\"\",ISNUMBER(C21)=FALSE),1,0)+IF(ISBLANK(D21),1,0)+IF(ISBLANK(E21),1,0)+IF(OR(ISBLANK(F21),ISNUMBER(F21)=FALSE),1,0)+IF(OR(ISNUMBER(G21)=FALSE,ISBLANK(G21)=TRUE),1,0)","v":5},{"$nulls":6},{"$f":"IF(B21>0,\"\",BSTITC)","v":""},{"$f":"IF(B21>0,\"\",CSTITC&U21&CETITC)","v":""},{"$f":"IF(B21>0,\"\",DSTITC&D21&DETITC)","v":""},{"$f":"IF(B21>0,\"\",ESTITC&E21&EETITC)","v":""},{"$f":"IF(B21>0,\"\",FSTITC&F21&FETITC)","v":""},{"$f":"IF(B21>0,\"\",GSTITC&G21&GETITC)","v":""},{"$f":"IF(B21>0,\"\",HETITC)","v":""},{"$f":"IF(CONSOLCHECK=\"C\",1,IF(OR(C21=\"\",ISNUMBER(C21)=FALSE),1,0))","v":1},{"$f":"IF(CONSOLCHECK=\"C\",1,IF(ISBLANK(D21),1,0))","v":1},{"$f":"IF(CONSOLCHECK=\"C\",1,IF(ISBLANK(E21),1,0))","v":1},{"$f":"IF(CONSOLCHECK=\"C\",1,IF(OR(ISBLANK(F21),ISNUMBER(F21)=FALSE),1,0))","v":1},{"$f":"IF(CONSOLCHECK=\"C\",1,IF(OR(ISNUMBER(G21)=FALSE,ISBLANK(G21)=TRUE),1,0))","v":1},{"$f":"IF((V21)=0,\"000000\",IF((V21)<=9,\"00000\"&(V21),IF((V21)<=99,\"0000\"&(V21),IF((V21)<=999,\"000\"&(V21),IF((V21)<=9999,\"00\"&(V21),IF((V21)<=99999,\"0\"&(V21),(V21)))))))&\".\"&IF(W21=0,\"00\",IF(W21<=9,\"0\"&W21,W21))","v":"000000.00"},{"$f":"ROUND(C21,0)","v":{"v":0,"d":"0.00"}},{"$f":"(C21-ROUND(C21,0))*100","v":0}]
[null,null,"ITC Number Of Product","Description Of Product Or Services","Unit Of Measurement Of Principal Product Or Services","Turnover Of Principal Product Or Services","Quantity Of Principal Product Or Services"]